Back
From: metabase:user:d2c9f356-b46f-11df-9a90-20a83c0b7757
Subject: PASS Soar-Production-0.03 v5.18.0 SunOS/Solaris
Date: 2013-06-14T21:14:29Z
This distribution has been tested as part of the CPAN Testers
project, supporting the Perl programming language. See
http://wiki.cpantesters.org/ for more information or email
questions to cpan-testers-discuss@perl.org
--
Dear Nathan Gary Glenn,
This is a computer-generated report for Soar-Production-0.03
on perl 5.18.0, created by CPAN-Reporter-1.2010.
Thank you for uploading your work to CPAN. Congratulations!
All tests were successful.
Sections of this report:
* Tester comments
* Program output
* Prerequisites
* Environment and other context
------------------------------
TESTER COMMENTS
------------------------------
Additional comments from tester:
this report is from an automated smoke testing program
and was not reviewed by a human for accuracy
------------------------------
PROGRAM OUTPUT
------------------------------
Output from './Build test':
t/0-use.t ........................ ok
t/00-compile.t ................... ok
#
#
# Generated by Dist::Zilla::Plugin::ReportVersions::Tiny v1.08
# perl: 5.018000 (wanted 5.010) on solaris from /export/home/cpant5/perl5/perlbrew/perls/perl-5.18.0/bin/perl5.18.0
#
# Carp => 1.29 (want any version)
# Data::Diver => 1.0101 (want any version)
# Data::Dumper => 2.145 (want any version)
# Exporter::Easy => 0.16 (want any version)
# File::Find => 1.23 (want any version)
# File::Spec => 3.40 (want any version)
# File::Spec::Functions => 3.40 (want any version)
# File::Temp => 0.2301 (want any version)
# FindBin => 1.51 (want any version)
# Module::Build => 0.4005 (want 0.3601)
# Parse::RecDescent => 1.967009 (want any version)
# Path::Tiny => 0.023 (want any version)
# Pod::Coverage::TrustPod => module not found. (want any version)
# Test::Base => 0.60 (want any version)
# Test::Base::Filter => <undef> (want any version)
# Test::CPAN::Meta => module not found. (want any version)
# Test::Deep => 0.11 (want any version)
# Test::Exception => 0.32 (want any version)
# Test::LongString => 0.15 (want any version)
# Test::More => 0.98 (want 0.88)
# Test::Pod => 1.48 (want 1.41)
# Test::Pod::Coverage => module not found. (want 1.08)
# Test::Warn => 0.24 (want any version)
# strict => 1.07 (want any version)
# utf8 => 1.10 (want any version)
# version => 0.9902 (want 0.9901)
# warnings => 1.18 (want any version)
#
# Thanks for using my code. I hope it works for you.
# If not, please try and include this output in the bug report.
# That will help me reproduce the issue and solve your problem.
#
t/000-report-versions-tiny.t ..... ok
t/1-basic.t ...................... ok
t/parser/00-use.t ................ ok
t/parser/01-bad_input.t .......... ok
t/parser/01_5-comments.t ......... ok
t/parser/02-split-productions.t .. ok
Subroutine main::is redefined at t/parser/03-production-names.t line 4.
t/parser/03-production-names.t ... ok
Subroutine main::is redefined at t/parser/04-documentation.t line 5.
t/parser/04-documentation.t ...... ok
Subroutine main::is redefined at t/parser/05-Flags.t line 5.
t/parser/05-Flags.t .............. ok
Subroutine main::is redefined at t/parser/06-State.t line 6.
t/parser/06-State.t .............. ok
Subroutine main::is redefined at t/parser/07-variables.t line 6.
t/parser/07-variables.t .......... ok
Subroutine main::is redefined at t/parser/08-attributes.t line 6.
t/parser/08-attributes.t ......... ok
Subroutine main::is redefined at t/parser/09-int.t line 6.
t/parser/09-int.t ................ ok
Subroutine main::is redefined at t/parser/10-float.t line 6.
t/parser/10-float.t .............. ok
Subroutine main::is redefined at t/parser/11-string.t line 5.
t/parser/11-string.t ............. ok
Subroutine main::is redefined at t/parser/12-quoted.t line 5.
t/parser/12-quoted.t ............. ok
Subroutine main::is redefined at t/parser/13-disjunct.t line 5.
t/parser/13-disjunct.t ........... ok
Subroutine main::is redefined at t/parser/14-conjunct.t line 5.
t/parser/14-conjunct.t ........... ok
Subroutine main::is redefined at t/parser/15-predicate.t line 5.
t/parser/15-predicate.t .......... ok
Subroutine main::is redefined at t/parser/16-preference.t line 6.
t/parser/16-preference.t ......... ok
Subroutine main::is redefined at t/parser/17-function.t line 5.
t/parser/17-function.t ........... ok
Subroutine main::is redefined at t/parser/18-negative.t line 5.
t/parser/18-negative.t ........... ok
Subroutine main::is redefined at t/parser/19-conjunctiveCond.t line 5.
t/parser/19-conjunctiveCond.t .... ok
t/parser/20-test_data.t .......... ok
t/printer/0-use.t ................ ok
t/printer/1-test_data.t .......... ok
All tests successful.
Files=28, Tests=1816, 204 wallclock secs ( 0.65 usr 0.27 sys + 134.66 cusr 2.03 csys = 137.61 CPU)
Result: PASS
------------------------------
PREREQUISITES
------------------------------
Prerequisite modules loaded:
requires:
Module Need Have
--------------------- ------ --------
Carp 0 1.29
Data::Dumper 0 2.145
Exporter::Easy 0 0.16
Parse::RecDescent 0 1.967009
perl 5.010 5.018000
strict 0 1.07
warnings 0 1.18
build_requires:
Module Need Have
--------------------- ------ --------
Data::Diver 0 1.0101
File::Find 0 1.23
File::Spec 0 3.40
File::Spec::Functions 0 3.40
File::Temp 0 0.2301
FindBin 0 1.51
Module::Build 0.3601 0.4005
Path::Tiny 0 0.023
Test::Base 0 0.60
Test::Base::Filter 0 0
Test::Deep 0 0.110
Test::Exception 0 0.32
Test::LongString 0 0.15
Test::More 0.88 0.98
Test::Warn 0 0.24
utf8 0 1.10
configure_requires:
Module Need Have
--------------------- ------ --------
Module::Build 0.3601 0.4005
------------------------------
ENVIRONMENT AND OTHER CONTEXT
------------------------------
Environment variables:
AUTOMATED_TESTING = 1
LANG = C
LD_LIBRARY_PATH = /usr/local/lib:
MANPATH_WITHOUT_PERLBREW =
PATH = /export/home/cpant5/perl5/perlbrew/bin:/export/home/cpant5/perl5/perlbrew/perls/perl-5.18.0/bin:/export/home/cpant5/perl5/bin:/usr/local/bin:/usr/bin
PATH_WITHOUT_PERLBREW = /export/home/cpant5/perl5/bin:/usr/local/bin:/usr/bin
PERL5LIB = /export/home/cpant5/.cpan/build/Exporter-Easy-0.16-3NEgo9/blib/arch:/export/home/cpant5/.cpan/build/Exporter-Easy-0.16-3NEgo9/blib/lib:/export/home/cpant5/.cpan/build/Test-LongString-0.15-vZP7BV/blib/arch:/export/home/cpant5/.cpan/build/Test-LongString-0.15-vZP7BV/blib/lib:/export/home/cpant5/.cpan/build/Parse-RecDescent-1.967009-uQm2pE/blib/arch:/export/home/cpant5/.cpan/build/Parse-RecDescent-1.967009-uQm2pE/blib/lib:/export/home/cpant5/.cpan/build/Data-Diver-1.0101-hPPPqI/blib/arch:/export/home/cpant5/.cpan/build/Data-Diver-1.0101-hPPPqI/blib/lib:/export/home/cpant5/.cpan/build/Test-Base-0.60-_38zpB/blib/arch:/export/home/cpant5/.cpan/build/Test-Base-0.60-_38zpB/blib/lib:/export/home/cpant5/.cpan/build/Spiffy-0.31-ipf3Lj/blib/arch:/export/home/cpant5/.cpan/build/Spiffy-0.31-ipf3Lj/blib/lib
PERL5OPT =
PERL5_CPANPLUS_IS_RUNNING = 21569
PERL5_CPAN_IS_RUNNING = 21569
PERL5_CPAN_IS_RUNNING_IN_RECURSION = 13838,21569
PERLBREW_BASHRC_VERSION = 0.44
PERLBREW_HOME = /export/home/cpant5/.perlbrew
PERLBREW_MANPATH = /export/home/cpant5/perl5/perlbrew/perls/perl-5.18.0/man
PERLBREW_PATH = /export/home/cpant5/perl5/perlbrew/bin:/export/home/cpant5/perl5/perlbrew/perls/perl-5.18.0/bin
PERLBREW_PERL = perl-5.18.0
PERLBREW_ROOT = /export/home/cpant5/perl5/perlbrew
PERLBREW_VERSION = 0.44
PERL_CR_SMOKER_CURRENT = Soar-Production-0.03
PERL_EXTUTILS_AUTOINSTALL = --defaultdeps
PERL_MM_USE_DEFAULT = 1
SHELL = /bin/bash
TERM = xterm
Perl special variables (and OS-specific diagnostics, for MSWin32):
$^X = /export/home/cpant5/perl5/perlbrew/perls/perl-5.18.0/bin/perl5.18.0
$UID/$EUID = 105 / 105
$GID = 1 1
$EGID = 1 1
Perl module toolchain versions installed:
Module Have
------------------- --------
CPAN 2.00
CPAN::Meta 2.131560
Cwd 3.40
ExtUtils::CBuilder 0.280210
ExtUtils::Command 1.17
ExtUtils::Install 1.59
ExtUtils::MakeMaker 6.66
ExtUtils::Manifest 1.63
ExtUtils::ParseXS 3.18
File::Spec 3.40
JSON 2.59
JSON::PP 2.27202
Module::Build 0.4005
Module::Signature n/a
Parse::CPAN::Meta 1.4404
Test::Harness 3.28
Test::More 0.98
YAML 0.84
YAML::Syck 1.27
version 0.9902
--
Summary of my perl5 (revision 5 version 18 subversion 0) configuration:
Platform:
osname=solaris, osvers=2.10, archname=i86pc-solaris-64int
uname='sunos vmrz0046 5.10 generic_141445-09 i86pc i386 i86pc solaris '
config_args='-de -Dprefix=/export/home/cpant5/perl5/perlbrew/perls/perl-5.18.0 -Dcc=gcc -Duse64bitint -Dusedevel -Aeval:scriptdir=/export/home/cpant5/perl5/perlbrew/perls/perl-5.18.0/bin'
hint=recommended, useposix=true, d_sigaction=define
useithreads=undef, usemultiplicity=undef
useperlio=define, d_sfio=undef, uselargefiles=define, usesocks=undef
use64bitint=define, use64bitall=undef, uselongdouble=undef
usemymalloc=n, bincompat5005=undef
Compiler:
cc='gcc', ccflags ='-DPTR_IS_LONG -fno-strict-aliasing -pipe -I/usr/local/include -D_LARGEFILE_SOURCE -D_FILE_OFFSET_BITS=64 -DPERL_USE_SAFE_PUTENV',
optimize='-O',
cppflags='-DPTR_IS_LONG -fno-strict-aliasing -pipe -I/usr/local/include'
ccversion='', gccversion='3.4.6', gccosandvers='solaris2.10'
intsize=4, longsize=4, ptrsize=4, doublesize=8, byteorder=12345678
d_longlong=define, longlongsize=8, d_longdbl=define, longdblsize=12
ivtype='long long', ivsize=8, nvtype='double', nvsize=8, Off_t='off_t', lseeksize=8
alignbytes=4, prototype=define
Linker and Libraries:
ld='gcc', ldflags =' -L/usr/local/lib '
libpth=/usr/local/lib /usr/lib /usr/ccs/lib
libs=-lsocket -lnsl -lgdbm -ldl -lm -lc
perllibs=-lsocket -lnsl -ldl -lm -lc
libc=/lib/libc.so, so=so, useshrplib=false, libperl=libperl.a
gnulibc_version=''
Dynamic Linking:
dlsrc=dl_dlopen.xs, dlext=so, d_dlsymun=undef, ccdlflags=' '
cccdlflags='-fPIC', lddlflags='-G -L/usr/local/lib'
Characteristics of this binary (from libperl):
Compile-time options: HAS_TIMES PERLIO_LAYERS PERL_DONT_CREATE_GVSV
PERL_HASH_FUNC_ONE_AT_A_TIME_HARD PERL_MALLOC_WRAP
PERL_PRESERVE_IVUV PERL_SAWAMPERSAND PERL_USE_DEVEL
PERL_USE_SAFE_PUTENV USE_64_BIT_INT USE_LARGE_FILES
USE_LOCALE USE_LOCALE_COLLATE USE_LOCALE_CTYPE
USE_LOCALE_NUMERIC USE_PERLIO USE_PERL_ATOF
Built under solaris
Compiled at May 21 2013 08:43:42
%ENV:
PERL5LIB="/export/home/cpant5/.cpan/build/Exporter-Easy-0.16-3NEgo9/blib/arch:/export/home/cpant5/.cpan/build/Exporter-Easy-0.16-3NEgo9/blib/lib:/export/home/cpant5/.cpan/build/Test-LongString-0.15-vZP7BV/blib/arch:/export/home/cpant5/.cpan/build/Test-LongString-0.15-vZP7BV/blib/lib:/export/home/cpant5/.cpan/build/Parse-RecDescent-1.967009-uQm2pE/blib/arch:/export/home/cpant5/.cpan/build/Parse-RecDescent-1.967009-uQm2pE/blib/lib:/export/home/cpant5/.cpan/build/Data-Diver-1.0101-hPPPqI/blib/arch:/export/home/cpant5/.cpan/build/Data-Diver-1.0101-hPPPqI/blib/lib:/export/home/cpant5/.cpan/build/Test-Base-0.60-_38zpB/blib/arch:/export/home/cpant5/.cpan/build/Test-Base-0.60-_38zpB/blib/lib:/export/home/cpant5/.cpan/build/Spiffy-0.31-ipf3Lj/blib/arch:/export/home/cpant5/.cpan/build/Spiffy-0.31-ipf3Lj/blib/lib"
PERL5OPT=""
PERL5_CPANPLUS_IS_RUNNING="21569"
PERL5_CPAN_IS_RUNNING="21569"
PERL5_CPAN_IS_RUNNING_IN_RECURSION="13838,21569"
PERLBREW_BASHRC_VERSION="0.44"
PERLBREW_HOME="/export/home/cpant5/.perlbrew"
PERLBREW_MANPATH="/export/home/cpant5/perl5/perlbrew/perls/perl-5.18.0/man"
PERLBREW_PATH="/export/home/cpant5/perl5/perlbrew/bin:/export/home/cpant5/perl5/perlbrew/perls/perl-5.18.0/bin"
PERLBREW_PERL="perl-5.18.0"
PERLBREW_ROOT="/export/home/cpant5/perl5/perlbrew"
PERLBREW_VERSION="0.44"
PERL_CR_SMOKER_CURRENT="Soar-Production-0.03"
PERL_EXTUTILS_AUTOINSTALL="--defaultdeps"
PERL_MM_USE_DEFAULT="1"
@INC:
/export/home/cpant5/.cpan/build/Exporter-Easy-0.16-3NEgo9/blib/arch
/export/home/cpant5/.cpan/build/Exporter-Easy-0.16-3NEgo9/blib/lib
/export/home/cpant5/.cpan/build/Test-LongString-0.15-vZP7BV/blib/arch
/export/home/cpant5/.cpan/build/Test-LongString-0.15-vZP7BV/blib/lib
/export/home/cpant5/.cpan/build/Parse-RecDescent-1.967009-uQm2pE/blib/arch
/export/home/cpant5/.cpan/build/Parse-RecDescent-1.967009-uQm2pE/blib/lib
/export/home/cpant5/.cpan/build/Data-Diver-1.0101-hPPPqI/blib/arch
/export/home/cpant5/.cpan/build/Data-Diver-1.0101-hPPPqI/blib/lib
/export/home/cpant5/.cpan/build/Test-Base-0.60-_38zpB/blib/arch
/export/home/cpant5/.cpan/build/Test-Base-0.60-_38zpB/blib/lib
/export/home/cpant5/.cpan/build/Spiffy-0.31-ipf3Lj/blib/arch
/export/home/cpant5/.cpan/build/Spiffy-0.31-ipf3Lj/blib/lib
/export/home/cpant5/perl5/perlbrew/perls/perl-5.18.0/lib/site_perl/5.18.0/i86pc-solaris-64int
/export/home/cpant5/perl5/perlbrew/perls/perl-5.18.0/lib/site_perl/5.18.0
/export/home/cpant5/perl5/perlbrew/perls/perl-5.18.0/lib/5.18.0/i86pc-solaris-64int
/export/home/cpant5/perl5/perlbrew/perls/perl-5.18.0/lib/5.18.0
.