Back
From: metabase:user:30f4dfbe-2aae-11df-837a-5e0a49663a4f
Subject: PASS POE-1.367 v5.23.6 Windows (Cygwin)
Date: 2016-02-13T16:11:12Z
This distribution has been tested as part of the CPAN Testers
project, supporting the Perl programming language. See
http://wiki.cpantesters.org/ for more information or email
questions to cpan-testers-discuss@perl.org
--
Dear Rocco Caputo,
This is a computer-generated report for POE-1.367
on perl 5.23.6, created by CPAN-Reporter-1.2015.
Thank you for uploading your work to CPAN. Congratulations!
All tests were successful.
Sections of this report:
* Tester comments
* Program output
* Prerequisites
* Environment and other context
------------------------------
TESTER COMMENTS
------------------------------
Additional comments from tester:
none provided
------------------------------
PROGRAM OUTPUT
------------------------------
Output from '/usr/bin/make test':
"/home/Nigel/perl5/perlbrew/perls/perl-5.23.6/bin/perl.exe" mylib/gen-tests.perl lib/POE.pm
PERL_DL_NONLAZY=1 "/home/Nigel/perl5/perlbrew/perls/perl-5.23.6/bin/perl.exe" "-MExtUtils::Command::MM" "-MTest::Harness" "-e" "undef *Test::Harness::Switches; test_harness(0, 'blib/lib', 'blib/arch')" t/*.t t/*/*.t t/*/*/*.t
t/10_units/01_pod/01_pod.t ......................... skipped: enable by setting RELEASE_TESTING
t/10_units/01_pod/02_pod_coverage.t ................ skipped: enable by setting RELEASE_TESTING
t/10_units/01_pod/03_pod_no404s.t .................. skipped: enable by setting RELEASE_TESTING
t/10_units/01_pod/04_pod_linkcheck.t ............... skipped: enable by setting RELEASE_TESTING
t/10_units/02_pipes/01_base.t ...................... skipped: not implemented yet
# Testing POE 1.367, POE::Test::Loops 1.360, Perl 5.023006, /home/Nigel/perl5/perlbrew/perls/perl-5.23.6/bin/perl on cygwin
# pogomips: 56395504
t/00_info.t ........................................ ok
t/10_units/02_pipes/02_oneway.t .................... ok
t/10_units/03_base/01_poe.t ........................ ok
t/10_units/02_pipes/03_twoway.t .................... ok
t/10_units/03_base/03_component.t .................. ok
t/10_units/03_base/04_driver.t ..................... ok
t/10_units/03_base/05_filter.t ..................... ok
t/10_units/03_base/06_loop.t ....................... ok
t/10_units/03_base/07_queue.t ...................... ok
t/10_units/03_base/08_resource.t ................... ok
t/10_units/03_base/09_resources.t .................. ok
t/10_units/03_base/10_wheel.t ...................... ok
t/10_units/03_base/12_assert_retval.t .............. ok
t/10_units/03_base/13_assert_data.t ................ ok
t/10_units/03_base/14_kernel.t ..................... ok
t/10_units/03_base/11_assert_usage.t ............... ok
t/10_units/04_drivers/01_sysrw.t ................... ok
t/10_units/03_base/15_kernel_internal.t ............ ok
t/10_units/03_base/16_nfa_usage.t .................. ok
t/10_units/03_base/17_detach_start.t ............... ok
t/10_units/05_filters/01_block.t ................... ok
t/10_units/05_filters/02_grep.t .................... ok
t/10_units/05_filters/05_map.t ..................... ok
t/10_units/05_filters/04_line.t .................... ok
t/10_units/05_filters/06_recordblock.t ............. ok
t/10_units/05_filters/08_stream.t .................. ok
Downgrading wide characters in HTTP header. Consider installing Email::MIME::RFC2047::Encoder at /cygdrive/i/cpan/build/POE-1.367-mQF6Vj/blib/lib/POE/Filter/HTTPD.pm line 73.
POE::Filter::HTTPD::__ANON__("En \x{e9}t\x{e9}") called at /cygdrive/i/cpan/build/POE-1.367-mQF6Vj/blib/lib/POE/Filter/HTTPD.pm line 449
POE::Filter::HTTPD::headers_as_strings(POE::Filter::HTTPD=ARRAY(0x600734c68), HTTP::Headers=HASH(0x60068d928), "\x{d}\x{a}") called at /cygdrive/i/cpan/build/POE-1.367-mQF6Vj/blib/lib/POE/Filter/HTTPD.pm line 411
POE::Filter::HTTPD::put(POE::Filter::HTTPD=ARRAY(0x600734c68), ARRAY(0x600735010)) called at t/10_units/05_filters/03_http.t line 426
t/10_units/05_filters/03_http.t .................... ok
t/10_units/05_filters/50_stackable.t ............... ok
t/10_units/05_filters/07_reference.t ............... ok
t/10_units/05_filters/51_reference_die.t ........... ok
t/10_units/06_queues/01_array.t .................... ok
t/10_units/07_exceptions/02_turn_off.t ............. ok
t/10_units/08_loops/01_explicit_loop.t ............. ok
t/10_units/07_exceptions/03_not_handled.t .......... ok
t/10_units/08_loops/02_explicit_loop_fail.t ........ ok
t/10_units/08_loops/03_explicit_loop_poll.t ........ ok
t/10_units/07_exceptions/01_normal.t ............... ok
t/10_units/08_loops/04_explicit_loop_envvar.t ...... ok
t/10_units/08_loops/07_kernel_loop_fail.t .......... ok
t/10_units/08_loops/06_kernel_loop_poll.t .......... ok
t/10_units/08_loops/05_kernel_loop.t ............... ok
t/10_units/08_loops/08_kernel_loop_search_poll.t ... ok
t/10_units/08_loops/09_naive_loop_load.t ........... ok
t/10_units/08_loops/10_naive_loop_load_poll.t ...... ok
t/10_units/08_loops/11_double_loop.t ............... ok
t/20_resources/10_perl/aliases.t ................... ok
t/20_resources/10_perl/caller_state.t .............. ok
t/20_resources/10_perl/events.t .................... ok
t/10_units/05_filters/99_filterchange.t ............ ok
t/20_resources/10_perl/extrefs.t ................... ok
t/20_resources/10_perl/extrefs_gc.t ................ ok
t/20_resources/10_perl/sids.t ...................... ok
t/20_resources/10_perl/sessions.t .................. ok
t/30_loops/io_poll/all_errors.t .................... skipped: most of these should move into other test files
t/20_resources/10_perl/signals.t ................... ok
# Testing POE 1.367, POE::Test::Loops 1.360, Using Loop(POE::Loop::IO_Poll), Perl 5.023006, /home/Nigel/perl5/perlbrew/perls/perl-5.23.6/bin/perl on cygwin
t/30_loops/io_poll/00_info.t ....................... ok
t/30_loops/io_poll/comp_tcp.t ...................... ok
# You might see a 'disconnect' error during this test.
# It may be ignored.
t/30_loops/io_poll/comp_tcp_concurrent.t ........... ok
t/20_resources/10_perl/filehandles.t ............... ok
t/30_loops/io_poll/k_alarms.t ...................... ok
t/30_loops/io_poll/k_aliases.t ..................... ok
t/30_loops/io_poll/k_run_returns.t ................. ok
t/30_loops/io_poll/connect_errors.t ................ ok
t/30_loops/io_poll/k_detach.t ...................... ok
t/30_loops/io_poll/k_signals_rerun.t ............... ok
t/30_loops/io_poll/k_sig_child.t ................... ok
t/30_loops/io_poll/ses_nfa.t ....................... ok
t/30_loops/io_poll/k_signals.t ..................... ok
t/30_loops/io_poll/sbk_signal_init.t ............... ok
t/30_loops/io_poll/wheel_curses.t .................. skipped: IO::Pty not available
# This test generates some STDERR during trace testing.
t/30_loops/io_poll/wheel_readline.t ................ skipped: This test requires IO::Pty
t/30_loops/io_poll/wheel_accept.t .................. ok
t/30_loops/io_poll/k_selects.t ..................... ok
=== 11432 === 23 -> _start (from /cygdrive/i/cpan/build/POE-1.367-mQF6Vj/blib/lib/POE/Kernel.pm at 1497)
=== 11432 === 23 -> woot (from /home/Nigel/perl5/perlbrew/perls/perl-5.23.6/lib/site_perl/5.23.6/POE/Test/Loops/ses_session.pm at 691)
t/30_loops/io_poll/wheel_run_size.t ................ skipped: This test requires Term::Size
=== 11432 === 23 -> narf (from /home/Nigel/perl5/perlbrew/perls/perl-5.23.6/lib/site_perl/5.23.6/POE/Test/Loops/ses_session.pm at 692)
=== 11432 === 23 -> _stop (from /cygdrive/i/cpan/build/POE-1.367-mQF6Vj/blib/lib/POE/Resource/Sessions.pm at 571)
t/30_loops/io_poll/ses_session.t ................... ok
t/30_loops/io_poll/wheel_readwrite.t ............... ok
t/30_loops/io_poll/wheel_run.t ..................... ok
t/30_loops/io_poll/wheel_sf_ipv6.t ................. skipped: Socket::GetAddrInfo is needed for IPv6 tests
t/30_loops/io_poll/wheel_sf_unix.t ................. skipped: UNIX sockets on cygwin always block
t/30_loops/io_poll/wheel_sf_tcp.t .................. ok
t/30_loops/io_poll/z_kogman_sig_order.t ............ ok
# Using '/bin/true' as our thing to run under system()
t/30_loops/io_poll/z_merijn_sigchld_system.t ....... ok
t/30_loops/io_poll/wheel_sf_udp.t .................. ok
# Parent 2012 waiting 3sec for slow systems to settle.
# sending sigusr1
# sent sigusr1
t/30_loops/io_poll/wheel_tail.t .................... ok
t/30_loops/io_poll/z_rt39872_sigchld.t ............. ok
t/30_loops/io_poll/z_leolo_wheel_run.t ............. ok
t/30_loops/io_poll/z_rt39872_sigchld_stop.t ........ ok
# Testing POE 1.367, POE::Test::Loops 1.360, Using Loop(POE::Loop::Select), Perl 5.023006, /home/Nigel/perl5/perlbrew/perls/perl-5.23.6/bin/perl on cygwin
t/30_loops/select/00_info.t ........................ ok
t/30_loops/select/all_errors.t ..................... skipped: most of these should move into other test files
t/30_loops/io_poll/z_steinert_signal_integrity.t ... ok
t/30_loops/select/comp_tcp.t ....................... ok
# You might see a 'disconnect' error during this test.
# It may be ignored.
t/30_loops/select/comp_tcp_concurrent.t ............ ok
t/30_loops/io_poll/z_rt53302_fh_watchers.t ......... ok
t/30_loops/select/k_aliases.t ...................... ok
t/30_loops/select/connect_errors.t ................. ok
t/30_loops/select/k_run_returns.t .................. ok
t/30_loops/select/k_alarms.t ....................... ok
t/30_loops/select/k_detach.t ....................... ok
t/30_loops/io_poll/z_rt54319_bazerka_followtail.t .. ok
t/30_loops/select/k_signals_rerun.t ................ ok
t/30_loops/select/k_sig_child.t .................... ok
t/30_loops/select/ses_nfa.t ........................ ok
t/30_loops/select/k_signals.t ...................... ok
# This test generates some STDERR during trace testing.
t/30_loops/select/k_selects.t ...................... ok
t/30_loops/select/wheel_curses.t ................... skipped: IO::Pty not available
t/30_loops/select/wheel_readline.t ................. skipped: This test requires IO::Pty
t/30_loops/select/sbk_signal_init.t ................ ok
t/30_loops/select/wheel_readwrite.t ................ ok
t/30_loops/select/wheel_accept.t ................... ok
t/30_loops/select/wheel_run.t ...................... ok
t/30_loops/select/wheel_sf_ipv6.t .................. skipped: Socket::GetAddrInfo is needed for IPv6 tests
t/30_loops/select/wheel_run_size.t ................. skipped: This test requires Term::Size
t/30_loops/select/wheel_sf_unix.t .................. skipped: UNIX sockets on cygwin always block
t/30_loops/select/wheel_sf_tcp.t ................... ok
t/30_loops/select/z_kogman_sig_order.t ............. ok
t/30_loops/select/wheel_sf_udp.t ................... ok
# Using '/bin/true' as our thing to run under system()
t/30_loops/select/z_merijn_sigchld_system.t ........ ok
t/30_loops/select/z_rt39872_sigchld.t .............. ok
# Parent 3536 waiting 3sec for slow systems to settle.
# sending sigusr1
# sent sigusr1
t/30_loops/select/wheel_tail.t ..................... ok
t/30_loops/select/z_leolo_wheel_run.t .............. ok
t/30_loops/select/z_rt39872_sigchld_stop.t ......... ok
=== 7512 === 23 -> _start (from /cygdrive/i/cpan/build/POE-1.367-mQF6Vj/blib/lib/POE/Kernel.pm at 1497)
=== 7512 === 23 -> woot (from /home/Nigel/perl5/perlbrew/perls/perl-5.23.6/lib/site_perl/5.23.6/POE/Test/Loops/ses_session.pm at 691)
=== 7512 === 23 -> narf (from /home/Nigel/perl5/perlbrew/perls/perl-5.23.6/lib/site_perl/5.23.6/POE/Test/Loops/ses_session.pm at 692)
=== 7512 === 23 -> _stop (from /cygdrive/i/cpan/build/POE-1.367-mQF6Vj/blib/lib/POE/Resource/Sessions.pm at 571)
t/30_loops/select/ses_session.t .................... ok
t/90_regression/agaran-filter-httpd.t .............. ok
t/30_loops/select/z_steinert_signal_integrity.t .... ok
t/90_regression/averell-callback-ret.t ............. ok
t/90_regression/broeren-win32-nbio.t ............... skipped: This test examines ActiveState Perl behavior.
t/90_regression/bingos-followtail.t ................ ok
t/90_regression/cfedde-filter-httpd.t .............. ok
t/90_regression/ferrari-server-unix.t .............. ok
t/90_regression/grinnz-die-in-die.t ................ ok
t/30_loops/select/z_rt53302_fh_watchers.t .......... ok
# This test can take up to 10 seconds
# This test can take up to 10 seconds
Died at t/90_regression/hinrik-wheel-run-die.t line 21.
t/90_regression/hinrik-wheel-run-die.t ............. ok
t/90_regression/kjeldahl-stop-start-sig-nopipe.t ... ok
t/90_regression/leolo-sig-die.t .................... ok
# This test can take up to 10 seconds
t/90_regression/meh-startstop-return.t ............. ok
t/30_loops/select/z_rt54319_bazerka_followtail.t ... ok
t/90_regression/kjeldahl-stop-start-polling.t ...... ok
t/90_regression/kjeldahl-stop-start-sig-pipe.t ..... ok
t/90_regression/neyuki_detach.t .................... ok
t/90_regression/prumike-win32-stat.t ............... skipped: This test examines Strawberry/ActiveState Perl behavior.
t/90_regression/rt14444-arg1.t ..................... ok
t/90_regression/rt1648-tied-stderr.t ............... ok
t/90_regression/rt19908-merlyn-stop.t .............. ok
t/90_regression/rt23181-sigchld-rc.t ............... ok
t/90_regression/rt65460-forking.t .................. skipped: enable by setting (AUTOMATED|RELEASE)_TESTING
t/90_regression/rt47966-sigchld.t .................. skipped: enable by setting RELEASE_TESTING
t/90_regression/rt56417-wheel-run.t ................ ok
t/90_regression/socketfactory-timeout.t ............ ok
t/90_regression/steinert-passed-wheel.t ............ ok
t/90_regression/suzman_windows.t ................... ok
t/90_regression/ton-stop-corruption.t .............. ok
t/90_regression/somni-poco-server-tcp.t ............ ok
t/90_regression/whelan-dieprop.t ................... ok
t/90_regression/pipe-followtail.t .................. ok
t/90_regression/tracing-sane-exit.t ................ ok
t/90_regression/whjackson-followtail.t ............. ok
All tests successful.
Files=161, Tests=4185, 33 wallclock secs ( 0.56 usr 0.11 sys + 14.15 cusr 11.91 csys = 26.73 CPU)
Result: PASS
------------------------------
PREREQUISITES
------------------------------
Prerequisite modules loaded:
requires:
Module Need Have
---------------- ----- --------
Carp 0 1.38
Errno 1.09 1.24
Exporter 0 5.72
File::Spec 0.87 3.60
IO 1.24 1.36
IO::Handle 1.27 1.35
IO::Pipely 0.005 0.005
POE::Test::Loops 1.360 1.360
POSIX 1.02 1.59
Socket 1.7 2.020_02
Storable 2.16 2.54
Test::Harness 2.26 3.35
Time::HiRes 1.59 1.9728
build_requires:
Module Need Have
---------------- ----- --------
POE::Test::Loops 1.360 1.360
configure_requires:
Module Need Have
---------------- ----- --------
POE::Test::Loops 1.360 1.360
------------------------------
ENVIRONMENT AND OTHER CONTEXT
------------------------------
Environment variables:
COMSPEC = C:\WINDOWS\system32\cmd.exe
HARNESS_OPTIONS = c:j4
LANG = en_GB.UTF-8
NUMBER_OF_PROCESSORS = 12
PATH = /home/Nigel/perl5/perlbrew/bin:/home/Nigel/perl5/perlbrew/perls/perl-5.23.6/bin:/home/Nigel/bin::/home/Nigel/bin:/usr/local/bin:/usr/bin:/bin
PERL5LIB =
PERL5OPT =
PERL5_CPANPLUS_IS_RUNNING = 12508
PERL5_CPAN_IS_RUNNING = 12508
PERLBREW_BASHRC_VERSION = 0.74
PERLBREW_HOME = /home/Nigel/.perlbrew
PERLBREW_MANPATH = /home/Nigel/perl5/perlbrew/perls/perl-5.23.6/man
PERLBREW_PATH = /home/Nigel/perl5/perlbrew/bin:/home/Nigel/perl5/perlbrew/perls/perl-5.23.6/bin
PERLBREW_PERL = perl-5.23.6
PERLBREW_ROOT = /home/Nigel/perl5/perlbrew
PERLBREW_VERSION = 0.74
PROCESSOR_IDENTIFIER = Intel64 Family 6 Model 62 Stepping 4, GenuineIntel
SHELL = /bin/bash
TEMP = /cygdrive/i/temp
TERM = xterm
TMPDIR = /cygdrive/i/temp
Perl special variables (and OS-specific diagnostics, for MSWin32):
$^X = /home/Nigel/perl5/perlbrew/perls/perl-5.23.6/bin/perl
$UID/$EUID = 1001 / 1001
$GID = 11001 401408 1002 559 545 4 66049 11 15 68354 113 66048 262180
$EGID = 11001 401408 1002 559 545 4 66049 11 15 68354 113 66048 262180
Perl module toolchain versions installed:
Module Have
------------------- --------
CPAN 2.11
CPAN::Meta 2.150005
Cwd 3.60
ExtUtils::CBuilder 0.280224
ExtUtils::Command 7.10
ExtUtils::Install 2.04
ExtUtils::MakeMaker 7.10
ExtUtils::Manifest 1.70
ExtUtils::ParseXS 3.30
File::Spec 3.60
JSON n/a
JSON::PP 2.27300
Module::Build 0.4216
Module::Signature n/a
Parse::CPAN::Meta 1.4417
Test::Harness 3.35
Test::More 1.001014
YAML 1.15
YAML::Syck 1.29
version 0.9909
--
Summary of my perl5 (revision 5 version 23 subversion 6) configuration:
Platform:
osname=cygwin, osvers=2.4.1(0.29353), archname=cygwin-thread-multi
uname='cygwin_nt-10.0 cyberpower 2.4.1(0.29353) 2016-01-24 11:26 x86_64 cygwin '
config_args='-de -Dprefix=/home/Nigel/perl5/perlbrew/perls/perl-5.23.6 -Duseithreads -Dusemultiplicity -Dusedevel -Dusedevel -Accflags=-O2 -W -Wformat=2 -Wswitch -Wshadow -Wwrite-strings -Wuninitialized -Wall -pipe -mtune=native -march=native -fomit-frame-pointer -msse2 -msse -mmmx -mfpmath=sse -D_FORTIFY_SOURCE=2 -Wpointer-arith -Wstrict-prototypes -fstack-protector -Wstack-protector -Wextra -Wbad-function-cast -Wcast-align -Wcast-qual -Wdisabled-optimization -Wendif-labels -Wfloat-equal -Wformat-nonliteral -Winline -Wmissing-declarations -Wmissing-prototypes -Wnested-externs -Wpointer-arith -Wundef -Wformat-security -ftree-vectorize -Aeval:scriptdir=/home/Nigel/perl5/perlbrew/perls/perl-5.23.6/bin'
hint=recommended, useposix=true, d_sigaction=define
useithreads=define, usemultiplicity=define
use64bitint=define, use64bitall=define, uselongdouble=undef
usemymalloc=n, bincompat5005=undef
Compiler:
cc='gcc', ccflags ='-DPERL_USE_SAFE_PUTENV -U__STRICT_ANSI__ -O2 -W -Wformat=2 -Wswitch -Wshadow -Wwrite-strings -Wuninitialized -Wall -pipe -mtune=native -march=native -fomit-frame-pointer -msse2 -msse -mmmx -mfpmath=sse -D_FORTIFY_SOURCE=2 -Wpointer-arith -Wstrict-prototypes -fstack-protector -Wstack-protector -Wextra -Wbad-function-cast -Wcast-align -Wcast-qual -Wdisabled-optimization -Wendif-labels -Wfloat-equal -Wformat-nonliteral -Winline -Wmissing-declarations -Wmissing-prototypes -Wnested-externs -Wpointer-arith -Wundef -Wformat-security -ftree-vectorize -fwrapv -fno-strict-aliasing -fstack-protector-strong',
optimize='-O3',
cppflags='-DPERL_USE_SAFE_PUTENV -U__STRICT_ANSI__ -O2 -W -Wformat=2 -Wswitch -Wshadow -Wwrite-strings -Wuninitialized -Wall -pipe -mtune=native -march=native -fomit-frame-pointer -msse2 -msse -mmmx -mfpmath=sse -D_FORTIFY_SOURCE=2 -Wpointer-arith -Wstrict-prototypes -fstack-protector -Wstack-protector -Wextra -Wbad-function-cast -Wcast-align -Wcast-qual -Wdisabled-optimization -Wendif-labels -Wfloat-equal -Wformat-nonliteral -Winline -Wmissing-declarations -Wmissing-prototypes -Wnested-externs -Wpointer-arith -Wundef -Wformat-security -ftree-vectorize -fwrapv -fno-strict-aliasing -fstack-protector-strong'
ccversion='', gccversion='4.9.3', gccosandvers=''
intsize=4, longsize=8, ptrsize=8, doublesize=8, byteorder=12345678, doublekind=3
d_longlong=define, longlongsize=8, d_longdbl=define, longdblsize=16, longdblkind=3
ivtype='long', ivsize=8, nvtype='double', nvsize=8, Off_t='off_t', lseeksize=8
alignbytes=8, prototype=define
Linker and Libraries:
ld='g++', ldflags =' -Wl,--enable-auto-import -Wl,--export-all-symbols -Wl,--enable-auto-image-base -fstack-protector-strong -L/usr/local/lib'
libpth=/usr/lib/gcc/x86_64-pc-cygwin/4.9.3/include-fixed /usr/lib /usr/lib/gcc/x86_64-pc-cygwin/4.9.3/../../../../lib/../include/w32api /usr/local/lib /lib
libs=-lpthread -ldb -ldl -lcrypt
perllibs=-lpthread -ldl -lcrypt
libc=/usr/lib/libc.a, so=dll, useshrplib=true, libperl=cygperl5_23_6.dll
gnulibc_version=''
Dynamic Linking:
dlsrc=dl_dlopen.xs, dlext=dll, d_dlsymun=undef, ccdlflags=' '
cccdlflags=' ', lddlflags=' --shared -Wl,--enable-auto-import -Wl,--export-all-symbols -Wl,--enable-auto-image-base -L/usr/local/lib -fstack-protector-strong'
Characteristics of this binary (from libperl):
Compile-time options: HAS_TIMES MULTIPLICITY PERLIO_LAYERS
PERL_COPY_ON_WRITE PERL_DONT_CREATE_GVSV
PERL_HASH_FUNC_ONE_AT_A_TIME_HARD
PERL_IMPLICIT_CONTEXT PERL_MALLOC_WRAP
PERL_PRESERVE_IVUV PERL_USE_DEVEL
PERL_USE_SAFE_PUTENV USE_64_BIT_ALL USE_64_BIT_INT
USE_ITHREADS USE_LARGE_FILES USE_LOCALE
USE_LOCALE_COLLATE USE_LOCALE_CTYPE
USE_LOCALE_NUMERIC USE_LOCALE_TIME USE_PERLIO
USE_PERL_ATOF USE_REENTRANT_API
Built under cygwin
Compiled at Jan 31 2016 20:37:09
%ENV:
PERL5LIB=""
PERL5OPT=""
PERL5_CPANPLUS_IS_RUNNING="12508"
PERL5_CPAN_IS_RUNNING="12508"
PERLBREW_BASHRC_VERSION="0.74"
PERLBREW_HOME="/home/Nigel/.perlbrew"
PERLBREW_MANPATH="/home/Nigel/perl5/perlbrew/perls/perl-5.23.6/man"
PERLBREW_PATH="/home/Nigel/perl5/perlbrew/bin:/home/Nigel/perl5/perlbrew/perls/perl-5.23.6/bin"
PERLBREW_PERL="perl-5.23.6"
PERLBREW_ROOT="/home/Nigel/perl5/perlbrew"
PERLBREW_VERSION="0.74"
@INC:
/home/Nigel/perl5/perlbrew/perls/perl-5.23.6/lib/site_perl/5.23.6/cygwin-thread-multi
/home/Nigel/perl5/perlbrew/perls/perl-5.23.6/lib/site_perl/5.23.6
/home/Nigel/perl5/perlbrew/perls/perl-5.23.6/lib/5.23.6/cygwin-thread-multi
/home/Nigel/perl5/perlbrew/perls/perl-5.23.6/lib/5.23.6
.