Report for WWW-Google-Contacts-0.39

Back
From: metabase:user:9c36dc84-a30f-11e0-a9fc-0a18abbd4f2f
Subject: PASS WWW-Google-Contacts-0.39 v5.22.0 OpenBSD
Date: 2015-11-03T15:13:12Z

This distribution has been tested as part of the CPAN Testers
project, supporting the Perl programming language.  See
http://wiki.cpantesters.org/ for more information or email
questions to cpan-testers-discuss@perl.org


--
Dear Magnus Erixzon,

This is a computer-generated report for WWW-Google-Contacts-0.39
on perl 5.22.0, created by CPAN-Reporter-1.2015.

Thank you for uploading your work to CPAN.  Congratulations!
All tests were successful.

Sections of this report:

    * Tester comments
    * Program output
    * Prerequisites
    * Environment and other context

------------------------------
TESTER COMMENTS
------------------------------

Additional comments from tester:

this report is from an automated smoke testing program
and was not reviewed by a human for accuracy

------------------------------
PROGRAM OUTPUT
------------------------------

Output from '/usr/bin/make test':

PERL_DL_NONLAZY=1 "/home/arfreitas/perl5/perlbrew/perls/perl-5.22.0/bin/perl" "-MExtUtils::Command::MM" "-MTest::Harness" "-e" "undef *Test::Harness::Switches; test_harness(0, 'blib/lib', 'blib/arch')" t/*.t
# Testing WWW::Google::Contacts 0.39, Perl 5.022000, /home/arfreitas/perl5/perlbrew/perls/perl-5.22.0/bin/perl
t/00-load.t ....................... ok
t/01-basics.t ..................... ok
t/10-list-contacts-ONLINE.t ....... skipped: no TEST_GOOGLE_USERNAME or TEST_GOOGLE_PASSWORD set in the environment
t/20.group_members.t .............. skipped: no TEST_GOOGLE_USERNAME or TEST_GOOGLE_PASSWORD set in the environment
t/21.add_to_group.t ............... skipped: no TEST_GOOGLE_USERNAME or TEST_GOOGLE_PASSWORD set in the environment
t/22.change_email_type.t .......... skipped: no TEST_GOOGLE_USERNAME or TEST_GOOGLE_PASSWORD set in the environment
t/23.set_contact_values.t ......... skipped: no TEST_GOOGLE_USERNAME or TEST_GOOGLE_PASSWORD set in the environment
t/24.set_priority.t ............... skipped: no TEST_GOOGLE_USERNAME or TEST_GOOGLE_PASSWORD set in the environment
t/25.set_organization.t ........... skipped: no TEST_GOOGLE_USERNAME or TEST_GOOGLE_PASSWORD set in the environment
t/26.language.t ................... skipped: no TEST_GOOGLE_USERNAME or TEST_GOOGLE_PASSWORD set in the environment
t/27.relation.t ................... skipped: no TEST_GOOGLE_USERNAME or TEST_GOOGLE_PASSWORD set in the environment
t/33.photo.t ...................... skipped: no TEST_GOOGLE_USERNAME or TEST_GOOGLE_PASSWORD set in the environment
t/50.types.t ...................... ok
t/60.getting_user_defined.t ....... skipped: no TEST_GOOGLE_USERNAME or TEST_GOOGLE_PASSWORD set in the environment
t/61.utf8.t ....................... skipped: no TEST_GOOGLE_USERNAME or TEST_GOOGLE_PASSWORD set in the environment
t/9999.deprecated.get_contact.t ... ok
t/9999.deprecated.get_contacts.t .. ok
t/9999.deprecated.get_groups.t .... ok
t/release-pod-coverage.t .......... skipped: these tests are for release candidate testing
t/release-pod-syntax.t ............ skipped: these tests are for release candidate testing
t/type_relation.t ................. ok
t/yomi_name.t ..................... ok
All tests successful.
Files=22, Tests=57, 22 wallclock secs ( 0.11 usr  0.39 sys + 15.57 cusr  3.86 csys = 19.93 CPU)
Result: PASS

------------------------------
PREREQUISITES
------------------------------

Prerequisite modules loaded:

requires:

    Module                      Need Have   
    --------------------------- ---- -------
    Class::MOP                  1.09 2.1603 
  ! Crypt::SSLeay               0    n/a    
    File::Slurp                 0    9999.19
    LWP::UserAgent              0    6.13   
    Moose                       0    2.1603 
    MooseX::Role::Parameterized 0    1.08   
    MooseX::Types               0    0.46   
    Net::Google::AuthSub        0    0.5    
    Perl6::Junction             0    1.60000
    Try::Tiny                   0    0.22   
    XML::Simple                 0    2.20   

configure_requires:

    Module                      Need Have   
    --------------------------- ---- -------
    ExtUtils::MakeMaker         6.30 7.10   


------------------------------
ENVIRONMENT AND OTHER CONTEXT
------------------------------

Environment variables:

    AUTOMATED_TESTING = 1
    NONINTERACTIVE_TESTING = 1
    PATH = /home/arfreitas/perl5/perlbrew/bin:/home/arfreitas/perl5/perlbrew/perls/perl-5.22.0/bin:/usr/bin:/bin:/usr/sbin:/sbin:/usr/X11R6/bin:/usr/local/bin:/usr/local/sbin
    PERL5LIB = 
    PERL5OPT = 
    PERL5_CPANPLUS_IS_RUNNING = 1272
    PERL5_CPAN_IS_RUNNING = 1272
    PERL5_CPAN_IS_RUNNING_IN_RECURSION = 13088,1272
    PERLBREW_BASHRC_VERSION = 0.73
    PERLBREW_HOME = /home/arfreitas/.perlbrew
    PERLBREW_MANPATH = /home/arfreitas/perl5/perlbrew/perls/perl-5.22.0/man
    PERLBREW_PATH = /home/arfreitas/perl5/perlbrew/bin:/home/arfreitas/perl5/perlbrew/perls/perl-5.22.0/bin
    PERLBREW_PERL = perl-5.22.0
    PERLBREW_ROOT = /home/arfreitas/perl5/perlbrew
    PERLBREW_VERSION = 0.73
    PERL_CR_SMOKER_CURRENT = WWW-Google-Contacts-0.39
    PERL_CR_SMOKER_RUNONCE = 1
    PERL_EXTUTILS_AUTOINSTALL = --defaultdeps
    PERL_MM_USE_DEFAULT = 1
    SHELL = /usr/local/bin/bash
    TERM = vt220

Perl special variables (and OS-specific diagnostics, for MSWin32):

    $^X = /home/arfreitas/perl5/perlbrew/perls/perl-5.22.0/bin/perl
    $UID/$EUID = 1000 / 1000
    $GID = 1000 1000 0
    $EGID = 1000 1000 0

Perl module toolchain versions installed:

    Module              Have        
    ------------------- ------------
    CPAN                2.11        
    CPAN::Meta          2.150005    
    Cwd                 3.56        
    ExtUtils::CBuilder  0.280224    
    ExtUtils::Command   7.10        
    ExtUtils::Install   2.04        
    ExtUtils::MakeMaker 7.10        
    ExtUtils::Manifest  1.70        
    ExtUtils::ParseXS   3.30        
    File::Spec          3.56        
    JSON                2.90        
    JSON::PP            2.27300     
    Module::Build       0.4214      
    Module::Signature   0.79        
    Parse::CPAN::Meta   1.4417      
    Test::Harness       3.35        
    Test::More          1.302012_003
    YAML                1.15        
    YAML::Syck          1.29        
    version             0.9912      


--

Summary of my perl5 (revision 5 version 22 subversion 0) configuration:
   
  Platform:
    osname=openbsd, osvers=5.7, archname=OpenBSD.i386-openbsd
    uname='openbsd foobar.spo.virtua.com.br 5.7 generic.mp#767 i386 '
    config_args='-de -Dprefix=/home/arfreitas/perl5/perlbrew/perls/perl-5.22.0 -Aeval:scriptdir=/home/arfreitas/perl5/perlbrew/perls/perl-5.22.0/bin'
    hint=recommended, useposix=true, d_sigaction=define
    useithreads=undef, usemultiplicity=undef
    use64bitint=undef, use64bitall=undef, uselongdouble=undef
    usemymalloc=n, bincompat5005=undef
  Compiler:
    cc='cc', ccflags ='-fno-strict-aliasing -pipe -fstack-protector-strong -I/usr/local/include -D_FORTIFY_SOURCE=2',
    optimize='-O2',
    cppflags='-fno-strict-aliasing -pipe -fstack-protector-strong -I/usr/local/include'
    ccversion='', gccversion='4.2.1 20070719 ', gccosandvers='openbsd5.7'
    intsize=4, longsize=4, ptrsize=4, doublesize=8, byteorder=1234, doublekind=3
    d_longlong=define, longlongsize=8, d_longdbl=define, longdblsize=12, longdblkind=3
    ivtype='long', ivsize=4, nvtype='double', nvsize=8, Off_t='off_t', lseeksize=8
    alignbytes=4, prototype=define
  Linker and Libraries:
    ld='cc', ldflags ='-Wl,-E  -fstack-protector-strong -L/usr/local/lib'
    libpth=/usr/lib /usr/local/lib
    libs=-lpthread -lgdbm -lm -lutil -lc
    perllibs=-lpthread -lm -lutil -lc
    libc=/usr/lib/libc.so.78.1, so=so, useshrplib=false, libperl=libperl.a
    gnulibc_version=''
  Dynamic Linking:
    dlsrc=dl_dlopen.xs, dlext=so, d_dlsymun=undef, ccdlflags=' '
    cccdlflags='-DPIC -fPIC ', lddlflags='-shared -fPIC  -L/usr/local/lib -fstack-protector-strong'


Characteristics of this binary (from libperl): 
  Compile-time options: HAS_TIMES PERLIO_LAYERS PERL_DONT_CREATE_GVSV
                        PERL_HASH_FUNC_ONE_AT_A_TIME_HARD PERL_MALLOC_WRAP
                        PERL_NEW_COPY_ON_WRITE PERL_PRESERVE_IVUV
                        USE_LARGE_FILES USE_LOCALE USE_LOCALE_COLLATE
                        USE_LOCALE_CTYPE USE_LOCALE_NUMERIC USE_LOCALE_TIME
                        USE_PERLIO USE_PERL_ATOF
  Locally applied patches:
	Devel::PatchPerl 1.38
  Built under openbsd
  Compiled at Aug 20 2015 22:28:58
  %ENV:
    PERL5LIB=""
    PERL5OPT=""
    PERL5_CPANPLUS_IS_RUNNING="1272"
    PERL5_CPAN_IS_RUNNING="1272"
    PERL5_CPAN_IS_RUNNING_IN_RECURSION="13088,1272"
    PERLBREW_BASHRC_VERSION="0.73"
    PERLBREW_HOME="/home/arfreitas/.perlbrew"
    PERLBREW_MANPATH="/home/arfreitas/perl5/perlbrew/perls/perl-5.22.0/man"
    PERLBREW_PATH="/home/arfreitas/perl5/perlbrew/bin:/home/arfreitas/perl5/perlbrew/perls/perl-5.22.0/bin"
    PERLBREW_PERL="perl-5.22.0"
    PERLBREW_ROOT="/home/arfreitas/perl5/perlbrew"
    PERLBREW_VERSION="0.73"
    PERL_CR_SMOKER_CURRENT="WWW-Google-Contacts-0.39"
    PERL_CR_SMOKER_RUNONCE="1"
    PERL_EXTUTILS_AUTOINSTALL="--defaultdeps"
    PERL_MM_USE_DEFAULT="1"
  @INC:
    /home/arfreitas/perl5/perlbrew/perls/perl-5.22.0/lib/site_perl/5.22.0/OpenBSD.i386-openbsd
    /home/arfreitas/perl5/perlbrew/perls/perl-5.22.0/lib/site_perl/5.22.0
    /home/arfreitas/perl5/perlbrew/perls/perl-5.22.0/lib/5.22.0/OpenBSD.i386-openbsd
    /home/arfreitas/perl5/perlbrew/perls/perl-5.22.0/lib/5.22.0
    .