Report for Clustericious-1.22

Back
From: metabase:user:314402c4-2aae-11df-837a-5e0a49663a4f
Subject: PASS Clustericious-1.22 v5.24.0 GNU/Linux
Date: 2017-02-25T12:39:08Z

This distribution has been tested as part of the CPAN Testers
project, supporting the Perl programming language.  See
http://wiki.cpantesters.org/ for more information or email
questions to cpan-testers-discuss@perl.org


--
Dear Graham Ollis,

This is a computer-generated report for Clustericious-1.22
on perl 5.24.0, created by CPAN-Reporter-1.2018.

Thank you for uploading your work to CPAN.  Congratulations!
All tests were successful.

Sections of this report:

    * Tester comments
    * Program output
    * Prerequisites
    * Environment and other context

------------------------------
TESTER COMMENTS
------------------------------

Additional comments from tester:

none provided

------------------------------
PROGRAM OUTPUT
------------------------------

Output from '/usr/bin/make test':

Skip blib/lib/auto/share/dist/Clustericious/tmpl/1.08/app/t/01_use.t (unchanged)
Skip blib/lib/auto/share/dist/Clustericious/www/1.08/favicon.ico (unchanged)
Skip blib/lib/auto/share/dist/Clustericious/tmpl/1.08/client/lib/APPCLASS/Client.pm (unchanged)
Skip blib/lib/auto/share/dist/Clustericious/tmpl/1.08/client/bin/APPNAMEclient (unchanged)
Skip blib/lib/auto/share/dist/Clustericious/tmpl/1.08/app/lib/APPCLASS.pm (unchanged)
Skip blib/lib/auto/share/dist/Clustericious/tmpl/1.08/app/t/02_compile.t (unchanged)
Skip blib/lib/auto/share/dist/Clustericious/tmpl/1.08/client/t/02_compile.t (unchanged)
Skip blib/lib/auto/share/dist/Clustericious/tmpl/1.08/client/t/01_use.t (unchanged)
Skip blib/lib/auto/share/dist/Clustericious/tmpl/1.08/app/bin/APPNAME (unchanged)
Skip blib/lib/auto/share/dist/Clustericious/tmpl/1.08/app/t/basic.t (unchanged)
Skip blib/lib/auto/share/dist/Clustericious/README.txt (unchanged)
Skip blib/lib/auto/share/dist/Clustericious/tmpl/1.08/app/lib/APPCLASS/Routes.pm (unchanged)
Skip blib/lib/auto/share/dist/Clustericious/tmpl/1.08/app/eg/APPCLASS.conf (unchanged)
Skip blib/lib/auto/share/dist/Clustericious/tmpl/1.08/client/Build.PL (unchanged)
Skip blib/lib/auto/share/dist/Clustericious/tmpl/1.08/app/Build.PL (unchanged)
"/opt/perl-5.24.0t/bin/perl" run_test.pl
# 
# 
# 
# HARNESS_ACTIVE=1
# HARNESS_VERSION=3.36
# LANG=en_US.UTF-8
# PERL5LIB=/home/cpansand/.cpan/build/2017022509/Clustericious-1.22-4hIrxY/blib/lib:/home/cpansand/.cpan/build/2017022509/Clustericious-1.22-4hIrxY/blib/arch:/home/cpansand/.cpan/build/2017022509/Clustericious-1.22-4hIrxY/lib:/home/cpansand/.cpan/build/2017022509/Test-Clustericious-Cluster-0.33-GxTgKY/blib/arch:/home/cpansand/.cpan/build/2017022509/Test-Clustericious-Cluster-0.33-GxTgKY/blib/lib:/home/cpansand/.cpan/build/2017022509/PerlX-Maybe-XS-1.001-x3gxdv/blib/arch:/home/cpansand/.cpan/build/2017022509/PerlX-Maybe-XS-1.001-x3gxdv/blib/lib:/home/cpansand/.cpan/build/2017022509/PerlX-Maybe-1.001-HYDqgd/blib/arch:/home/cpansand/.cpan/build/2017022509/PerlX-Maybe-1.001-HYDqgd/blib/lib:/home/cpansand/.cpan/build/2017022509/Log-Log4perl-Appender-TAP-0.03-5FFkQL/blib/arch:/home/cpansand/.cpan/build/2017022509/Log-Log4perl-Appender-TAP-0.03-5FFkQL/blib/lib:/home/cpansand/.cpan/build/2017022509/MojoX-Log-Log4perl-0.11-X5z9Ux/blib/arch:/home/cpansand/.cpan/build/2017022509/MojoX-Log-Log4perl-0.11-X5z9Ux/blib/lib:/home/cpansand/.cpan/build/2017022509/Term-Prompt-1.04-ycodLX/blib/arch:/home/cpansand/.cpan/build/2017022509/Term-Prompt-1.04-ycodLX/blib/lib:/home/cpansand/.cpan/build/2017022509/DateTime-Format-DateParse-0.05-YLVzWx/blib/arch:/home/cpansand/.cpan/build/2017022509/DateTime-Format-DateParse-0.05-YLVzWx/blib/lib:/home/cpansand/.cpan/build/2017022509/DateTime-Format-ISO8601-0.08-Y0rpmt/blib/arch:/home/cpansand/.cpan/build/2017022509/DateTime-Format-ISO8601-0.08-Y0rpmt/blib/lib:/home/cpansand/.cpan/build/2017022509/DateTime-Format-Builder-0.81-740sNG/blib/arch:/home/cpansand/.cpan/build/2017022509/DateTime-Format-Builder-0.81-740sNG/blib/lib:/home/cpansand/.cpan/build/2017022509/Class-Factory-Util-1.7-7UDk3g/blib/arch:/home/cpansand/.cpan/build/2017022509/Class-Factory-Util-1.7-7UDk3g/blib/lib:/home/cpansand/.cpan/build/2017022509/Data-Rmap-0.65-0x6zfh/blib/arch:/home/cpansand/.cpan/build/2017022509/Data-Rmap-0.65-0x6zfh/blib/lib:/home/cpansand/.cpan/build/2017022509/Test-Clustericious-Cluster-0.33-GxTgKY/blib/arch:/home/cpansand/.cpan/build/2017022509/Test-Clustericious-Cluster-0.33-GxTgKY/blib/lib:/home/cpansand/.cpan/build/2017022509/PerlX-Maybe-XS-1.001-x3gxdv/blib/arch:/home/cpansand/.cpan/build/2017022509/PerlX-Maybe-XS-1.001-x3gxdv/blib/lib:/home/cpansand/.cpan/build/2017022509/PerlX-Maybe-1.001-HYDqgd/blib/arch:/home/cpansand/.cpan/build/2017022509/PerlX-Maybe-1.001-HYDqgd/blib/lib:/home/cpansand/.cpan/build/2017022509/Log-Log4perl-Appender-TAP-0.03-5FFkQL/blib/arch:/home/cpansand/.cpan/build/2017022509/Log-Log4perl-Appender-TAP-0.03-5FFkQL/blib/lib:/home/cpansand/.cpan/build/2017022509/MojoX-Log-Log4perl-0.11-X5z9Ux/blib/arch:/home/cpansand/.cpan/build/2017022509/MojoX-Log-Log4perl-0.11-X5z9Ux/blib/lib:/home/cpansand/.cpan/build/2017022509/Term-Prompt-1.04-ycodLX/blib/arch:/home/cpansand/.cpan/build/2017022509/Term-Prompt-1.04-ycodLX/blib/lib:/home/cpansand/.cpan/build/2017022509/DateTime-Format-DateParse-0.05-YLVzWx/blib/arch:/home/cpansand/.cpan/build/2017022509/DateTime-Format-DateParse-0.05-YLVzWx/blib/lib:/home/cpansand/.cpan/build/2017022509/DateTime-Format-ISO8601-0.08-Y0rpmt/blib/arch:/home/cpansand/.cpan/build/2017022509/DateTime-Format-ISO8601-0.08-Y0rpmt/blib/lib:/home/cpansand/.cpan/build/2017022509/DateTime-Format-Builder-0.81-740sNG/blib/arch:/home/cpansand/.cpan/build/2017022509/DateTime-Format-Builder-0.81-740sNG/blib/lib:/home/cpansand/.cpan/build/2017022509/Class-Factory-Util-1.7-7UDk3g/blib/arch:/home/cpansand/.cpan/build/2017022509/Class-Factory-Util-1.7-7UDk3g/blib/lib:/home/cpansand/.cpan/build/2017022509/Data-Rmap-0.65-0x6zfh/blib/arch:/home/cpansand/.cpan/build/2017022509/Data-Rmap-0.65-0x6zfh/blib/lib
# PERL5OPT=
# PERL5_CPANPLUS_IS_RUNNING=31318
# PERL5_CPAN_IS_RUNNING=31318
# PERL5_CPAN_IS_RUNNING_IN_RECURSION=22812,31318
# PERLDOC=-MPod::Perldoc::ToTextOverstrike
# PERL_BATCH=yes
# PERL_CANARY_STABILITY_NOPROMPT=1
# PERL_CPAN_REPORTER_CONFIG=/var/tmp/cpansmoker-1002/2017022509/cpanreporter_003_config.ini
# PERL_EXTUTILS_AUTOINSTALL=--defaultdeps
# SHELL=/bin/zsh
# 
# 
# 
# PERL5LIB path
# /home/cpansand/.cpan/build/2017022509/Clustericious-1.22-4hIrxY/blib/lib
# /home/cpansand/.cpan/build/2017022509/Clustericious-1.22-4hIrxY/blib/arch
# /home/cpansand/.cpan/build/2017022509/Clustericious-1.22-4hIrxY/lib
# /home/cpansand/.cpan/build/2017022509/Test-Clustericious-Cluster-0.33-GxTgKY/blib/arch
# /home/cpansand/.cpan/build/2017022509/Test-Clustericious-Cluster-0.33-GxTgKY/blib/lib
# /home/cpansand/.cpan/build/2017022509/PerlX-Maybe-XS-1.001-x3gxdv/blib/arch
# /home/cpansand/.cpan/build/2017022509/PerlX-Maybe-XS-1.001-x3gxdv/blib/lib
# /home/cpansand/.cpan/build/2017022509/PerlX-Maybe-1.001-HYDqgd/blib/arch
# /home/cpansand/.cpan/build/2017022509/PerlX-Maybe-1.001-HYDqgd/blib/lib
# /home/cpansand/.cpan/build/2017022509/Log-Log4perl-Appender-TAP-0.03-5FFkQL/blib/arch
# /home/cpansand/.cpan/build/2017022509/Log-Log4perl-Appender-TAP-0.03-5FFkQL/blib/lib
# /home/cpansand/.cpan/build/2017022509/MojoX-Log-Log4perl-0.11-X5z9Ux/blib/arch
# /home/cpansand/.cpan/build/2017022509/MojoX-Log-Log4perl-0.11-X5z9Ux/blib/lib
# /home/cpansand/.cpan/build/2017022509/Term-Prompt-1.04-ycodLX/blib/arch
# /home/cpansand/.cpan/build/2017022509/Term-Prompt-1.04-ycodLX/blib/lib
# /home/cpansand/.cpan/build/2017022509/DateTime-Format-DateParse-0.05-YLVzWx/blib/arch
# /home/cpansand/.cpan/build/2017022509/DateTime-Format-DateParse-0.05-YLVzWx/blib/lib
# /home/cpansand/.cpan/build/2017022509/DateTime-Format-ISO8601-0.08-Y0rpmt/blib/arch
# /home/cpansand/.cpan/build/2017022509/DateTime-Format-ISO8601-0.08-Y0rpmt/blib/lib
# /home/cpansand/.cpan/build/2017022509/DateTime-Format-Builder-0.81-740sNG/blib/arch
# /home/cpansand/.cpan/build/2017022509/DateTime-Format-Builder-0.81-740sNG/blib/lib
# /home/cpansand/.cpan/build/2017022509/Class-Factory-Util-1.7-7UDk3g/blib/arch
# /home/cpansand/.cpan/build/2017022509/Class-Factory-Util-1.7-7UDk3g/blib/lib
# /home/cpansand/.cpan/build/2017022509/Data-Rmap-0.65-0x6zfh/blib/arch
# /home/cpansand/.cpan/build/2017022509/Data-Rmap-0.65-0x6zfh/blib/lib
# /home/cpansand/.cpan/build/2017022509/Test-Clustericious-Cluster-0.33-GxTgKY/blib/arch
# /home/cpansand/.cpan/build/2017022509/Test-Clustericious-Cluster-0.33-GxTgKY/blib/lib
# /home/cpansand/.cpan/build/2017022509/PerlX-Maybe-XS-1.001-x3gxdv/blib/arch
# /home/cpansand/.cpan/build/2017022509/PerlX-Maybe-XS-1.001-x3gxdv/blib/lib
# /home/cpansand/.cpan/build/2017022509/PerlX-Maybe-1.001-HYDqgd/blib/arch
# /home/cpansand/.cpan/build/2017022509/PerlX-Maybe-1.001-HYDqgd/blib/lib
# /home/cpansand/.cpan/build/2017022509/Log-Log4perl-Appender-TAP-0.03-5FFkQL/blib/arch
# /home/cpansand/.cpan/build/2017022509/Log-Log4perl-Appender-TAP-0.03-5FFkQL/blib/lib
# /home/cpansand/.cpan/build/2017022509/MojoX-Log-Log4perl-0.11-X5z9Ux/blib/arch
# /home/cpansand/.cpan/build/2017022509/MojoX-Log-Log4perl-0.11-X5z9Ux/blib/lib
# /home/cpansand/.cpan/build/2017022509/Term-Prompt-1.04-ycodLX/blib/arch
# /home/cpansand/.cpan/build/2017022509/Term-Prompt-1.04-ycodLX/blib/lib
# /home/cpansand/.cpan/build/2017022509/DateTime-Format-DateParse-0.05-YLVzWx/blib/arch
# /home/cpansand/.cpan/build/2017022509/DateTime-Format-DateParse-0.05-YLVzWx/blib/lib
# /home/cpansand/.cpan/build/2017022509/DateTime-Format-ISO8601-0.08-Y0rpmt/blib/arch
# /home/cpansand/.cpan/build/2017022509/DateTime-Format-ISO8601-0.08-Y0rpmt/blib/lib
# /home/cpansand/.cpan/build/2017022509/DateTime-Format-Builder-0.81-740sNG/blib/arch
# /home/cpansand/.cpan/build/2017022509/DateTime-Format-Builder-0.81-740sNG/blib/lib
# /home/cpansand/.cpan/build/2017022509/Class-Factory-Util-1.7-7UDk3g/blib/arch
# /home/cpansand/.cpan/build/2017022509/Class-Factory-Util-1.7-7UDk3g/blib/lib
# /home/cpansand/.cpan/build/2017022509/Data-Rmap-0.65-0x6zfh/blib/arch
# /home/cpansand/.cpan/build/2017022509/Data-Rmap-0.65-0x6zfh/blib/lib
# 
# 
# 
# perl                         5.024000
# Capture::Tiny                0.44
# Cpanel::JSON::XS             3.0227
# Data::Rmap                   0.65
# DateTime::Format::DateParse  0.05
# DateTime::Format::ISO8601    0.08
# EV                           4.22
# ExtUtils::MakeMaker          7.24
# File::HomeDir                1.00
# File::ReadBackwards          1.05
# File::ShareDir               1.102
# File::ShareDir::Install      0.11
# File::Which                  1.21
# File::chdir                  0.1010
# Hash::Merge                  0.200
# JSON::MaybeXS                1.003008
Subroutine JSON::PP::Boolean::(0+ redefined at /opt/perl-5.24.0t/lib/5.24.0/overload.pm line 50, <DATA> line 1.
Subroutine JSON::PP::Boolean::(-- redefined at /opt/perl-5.24.0t/lib/5.24.0/overload.pm line 50, <DATA> line 1.
Subroutine JSON::PP::Boolean::(++ redefined at /opt/perl-5.24.0t/lib/5.24.0/overload.pm line 50, <DATA> line 1.
# JSON::PP                     2.27300
# JSON::XS                     3.03
# List::MoreUtils              0.416
# Log::Log4perl                1.49
# Log::Log4perl::Appender::TAP 0.03
# MojoX::Log::Log4perl         0.11
# Mojolicious                  7.26
# Path::Class                  0.37
# PerlX::Maybe                 1.001
# PerlX::Maybe::XS             1.001
# PlugAuth::Lite               0.33
# Sub::Exporter                0.987
# Sub::Identify                0.12
# Term::Prompt                 1.04
# Test::Clustericious::Cluster 0.33
# Test::More                   1.302075
# Test::Script                 1.15
# Test::Warn                   0.32
# YAML::XS                     0.63
# autodie                      2.29
# 
# 
# 
t/00_diag.t ........................... ok
Subroutine JSON::PP::Boolean::(0+ redefined at /opt/perl-5.24.0t/lib/5.24.0/overload.pm line 50.
Subroutine JSON::PP::Boolean::(++ redefined at /opt/perl-5.24.0t/lib/5.24.0/overload.pm line 50.
Subroutine JSON::PP::Boolean::(-- redefined at /opt/perl-5.24.0t/lib/5.24.0/overload.pm line 50.
t/01_use.t ............................ ok
t/02_compiles.t ....................... ok
Mojo::Home::rel_dir is DEPRECATED in favor of Mojo::Home::rel_file at /home/cpansand/.cpan/build/2017022509/Clustericious-1.22-4hIrxY/blib/lib/Clustericious/App.pm line 42.
Mojo::Home::parts is DEPRECATED at /home/cpansand/.cpan/build/2017022509/Clustericious-1.22-4hIrxY/blib/lib/Clustericious/App.pm line 42.
Subroutine Mojo::Template::Sandbox::97b6e1b8d38300e1d98fdb947e68e222::b redefined at /opt/perl-5.24.0t/lib/5.24.0/Exporter.pm line 66.
 at template exception.html.ep from DATA section line 7.
t/app.t ............................... ok
Mojo::Home::rel_dir is DEPRECATED in favor of Mojo::Home::rel_file at /home/cpansand/.cpan/build/2017022509/Clustericious-1.22-4hIrxY/blib/lib/Clustericious/App.pm line 42.
Mojo::Home::parts is DEPRECATED at /home/cpansand/.cpan/build/2017022509/Clustericious-1.22-4hIrxY/blib/lib/Clustericious/App.pm line 42.
Mojo::Home::rel_dir is DEPRECATED in favor of Mojo::Home::rel_file at /home/cpansand/.cpan/build/2017022509/Clustericious-1.22-4hIrxY/blib/lib/Clustericious/App.pm line 42.
Mojo::Home::parts is DEPRECATED at /home/cpansand/.cpan/build/2017022509/Clustericious-1.22-4hIrxY/blib/lib/Clustericious/App.pm line 42.
t/app_alt_route_builder.t ............. ok
Mojo::Home::rel_dir is DEPRECATED in favor of Mojo::Home::rel_file at /home/cpansand/.cpan/build/2017022509/Clustericious-1.22-4hIrxY/blib/lib/Clustericious/App.pm line 42.
Mojo::Home::parts is DEPRECATED at /home/cpansand/.cpan/build/2017022509/Clustericious-1.22-4hIrxY/blib/lib/Clustericious/App.pm line 42.
t/app_auth.t .......................... ok
Mojo::Home::rel_dir is DEPRECATED in favor of Mojo::Home::rel_file at /home/cpansand/.cpan/build/2017022509/Clustericious-1.22-4hIrxY/blib/lib/Clustericious/App.pm line 42.
Mojo::Home::parts is DEPRECATED at /home/cpansand/.cpan/build/2017022509/Clustericious-1.22-4hIrxY/blib/lib/Clustericious/App.pm line 42.
t/app_auth_websocket.t ................ ok
Mojo::Home::rel_dir is DEPRECATED in favor of Mojo::Home::rel_file at /home/cpansand/.cpan/build/2017022509/Clustericious-1.22-4hIrxY/blib/lib/Clustericious/App.pm line 42.
Mojo::Home::parts is DEPRECATED at /home/cpansand/.cpan/build/2017022509/Clustericious-1.22-4hIrxY/blib/lib/Clustericious/App.pm line 42.
t/app_bad_config.t .................... ok
Mojo::Home::rel_dir is DEPRECATED in favor of Mojo::Home::rel_file at /home/cpansand/.cpan/build/2017022509/Clustericious-1.22-4hIrxY/blib/lib/Clustericious/App.pm line 42.
Mojo::Home::parts is DEPRECATED at /home/cpansand/.cpan/build/2017022509/Clustericious-1.22-4hIrxY/blib/lib/Clustericious/App.pm line 42.
Mojo::Home::rel_dir is DEPRECATED in favor of Mojo::Home::rel_file at /home/cpansand/.cpan/build/2017022509/Clustericious-1.22-4hIrxY/blib/lib/Clustericious/App.pm line 42.
Mojo::Home::parts is DEPRECATED at /home/cpansand/.cpan/build/2017022509/Clustericious-1.22-4hIrxY/blib/lib/Clustericious/App.pm line 42.
Mojo::Home::rel_dir is DEPRECATED in favor of Mojo::Home::rel_file at /home/cpansand/.cpan/build/2017022509/Clustericious-1.22-4hIrxY/blib/lib/Clustericious/App.pm line 42.
Mojo::Home::parts is DEPRECATED at /home/cpansand/.cpan/build/2017022509/Clustericious-1.22-4hIrxY/blib/lib/Clustericious/App.pm line 42.
Mojo::Home::rel_dir is DEPRECATED in favor of Mojo::Home::rel_file at /home/cpansand/.cpan/build/2017022509/Clustericious-1.22-4hIrxY/blib/lib/Clustericious/App.pm line 42.
Mojo::Home::parts is DEPRECATED at /home/cpansand/.cpan/build/2017022509/Clustericious-1.22-4hIrxY/blib/lib/Clustericious/App.pm line 42.
Mojo::Message::Response::is_status_class is DEPRECATED in favor of new is_* methods at /home/cpansand/.cpan/build/2017022509/Clustericious-1.22-4hIrxY/blib/lib/Clustericious/Client.pm line 422.
Mojo::Message::Response::is_status_class is DEPRECATED in favor of new is_* methods at /home/cpansand/.cpan/build/2017022509/Clustericious-1.22-4hIrxY/blib/lib/Clustericious/Client.pm line 422.
t/app_client.t ........................ ok
Mojo::Home::rel_dir is DEPRECATED in favor of Mojo::Home::rel_file at /home/cpansand/.cpan/build/2017022509/Clustericious-1.22-4hIrxY/blib/lib/Clustericious/App.pm line 42.
Mojo::Home::parts is DEPRECATED at /home/cpansand/.cpan/build/2017022509/Clustericious-1.22-4hIrxY/blib/lib/Clustericious/App.pm line 42.
t/app_crud.t .......................... ok
Mojo::Home::rel_dir is DEPRECATED in favor of Mojo::Home::rel_file at /home/cpansand/.cpan/build/2017022509/Clustericious-1.22-4hIrxY/blib/lib/Clustericious/App.pm line 42.
Mojo::Home::parts is DEPRECATED at /home/cpansand/.cpan/build/2017022509/Clustericious-1.22-4hIrxY/blib/lib/Clustericious/App.pm line 42.
Mojo::Home::rel_dir is DEPRECATED in favor of Mojo::Home::rel_file at /home/cpansand/.cpan/build/2017022509/Clustericious-1.22-4hIrxY/blib/lib/Clustericious/App.pm line 42.
Mojo::Home::parts is DEPRECATED at /home/cpansand/.cpan/build/2017022509/Clustericious-1.22-4hIrxY/blib/lib/Clustericious/App.pm line 42.
t/app_multiple.t ...................... ok
Mojo::Home::rel_dir is DEPRECATED in favor of Mojo::Home::rel_file at /home/cpansand/.cpan/build/2017022509/Clustericious-1.22-4hIrxY/blib/lib/Clustericious/App.pm line 42.
Mojo::Home::parts is DEPRECATED at /home/cpansand/.cpan/build/2017022509/Clustericious-1.22-4hIrxY/blib/lib/Clustericious/App.pm line 42.
t/app_null.t .......................... ok
Mojo::Home::rel_dir is DEPRECATED in favor of Mojo::Home::rel_file at /home/cpansand/.cpan/build/2017022509/Clustericious-1.22-4hIrxY/blib/lib/Clustericious/App.pm line 42.
Mojo::Home::parts is DEPRECATED at /home/cpansand/.cpan/build/2017022509/Clustericious-1.22-4hIrxY/blib/lib/Clustericious/App.pm line 42.
t/app_null_config.t ................... ok
Mojo::Home::rel_dir is DEPRECATED in favor of Mojo::Home::rel_file at /home/cpansand/.cpan/build/2017022509/Clustericious-1.22-4hIrxY/blib/lib/Clustericious/App.pm line 42.
Mojo::Home::parts is DEPRECATED at /home/cpansand/.cpan/build/2017022509/Clustericious-1.22-4hIrxY/blib/lib/Clustericious/App.pm line 42.
t/app_plugin_search_order.t ........... ok
Mojo::Home::rel_dir is DEPRECATED in favor of Mojo::Home::rel_file at /home/cpansand/.cpan/build/2017022509/Clustericious-1.22-4hIrxY/blib/lib/Clustericious/App.pm line 42.
Mojo::Home::parts is DEPRECATED at /home/cpansand/.cpan/build/2017022509/Clustericious-1.22-4hIrxY/blib/lib/Clustericious/App.pm line 42.
t/app_subreq.t ........................ ok
Mojo::Home::rel_dir is DEPRECATED in favor of Mojo::Home::rel_file at /home/cpansand/.cpan/build/2017022509/Clustericious-1.22-4hIrxY/blib/lib/Clustericious/App.pm line 42.
Mojo::Home::parts is DEPRECATED at /home/cpansand/.cpan/build/2017022509/Clustericious-1.22-4hIrxY/blib/lib/Clustericious/App.pm line 42.
Mojo::Message::Response::is_status_class is DEPRECATED in favor of new is_* methods at /home/cpansand/.cpan/build/2017022509/Clustericious-1.22-4hIrxY/blib/lib/Clustericious/Client.pm line 422.
Mojo::Message::Response::is_status_class is DEPRECATED in favor of new is_* methods at /home/cpansand/.cpan/build/2017022509/Clustericious-1.22-4hIrxY/blib/lib/Clustericious/Client.pm line 422.
Mojo::Message::Response::is_status_class is DEPRECATED in favor of new is_* methods at /home/cpansand/.cpan/build/2017022509/Clustericious-1.22-4hIrxY/blib/lib/Clustericious/Client.pm line 422.
Mojo::Message::Response::is_status_class is DEPRECATED in favor of new is_* methods at /home/cpansand/.cpan/build/2017022509/Clustericious-1.22-4hIrxY/blib/lib/Clustericious/Client.pm line 422.
Mojo::Message::Response::is_status_class is DEPRECATED in favor of new is_* methods at /home/cpansand/.cpan/build/2017022509/Clustericious-1.22-4hIrxY/blib/lib/Clustericious/Client.pm line 149.
t/client.t ............................ ok
Mojo::Message::Response::is_status_class is DEPRECATED in favor of new is_* methods at /home/cpansand/.cpan/build/2017022509/Clustericious-1.22-4hIrxY/blib/lib/Clustericious/Client.pm line 422.
Mojo::Message::Response::is_status_class is DEPRECATED in favor of new is_* methods at /home/cpansand/.cpan/build/2017022509/Clustericious-1.22-4hIrxY/blib/lib/Clustericious/Client.pm line 422.
Mojo::Message::Response::is_status_class is DEPRECATED in favor of new is_* methods at /home/cpansand/.cpan/build/2017022509/Clustericious-1.22-4hIrxY/blib/lib/Clustericious/Client.pm line 422.
Mojo::Message::Response::is_status_class is DEPRECATED in favor of new is_* methods at /home/cpansand/.cpan/build/2017022509/Clustericious-1.22-4hIrxY/blib/lib/Clustericious/Client.pm line 422.
t/client_args.t ....................... ok
t/client_datetime.t ................... ok
t/client_object.t ..................... ok
t/client_object_array.t ............... ok
t/client_object_derived.t ............. ok
t/client_params.t ..................... ok
Mojo::Home::rel_dir is DEPRECATED in favor of Mojo::Home::rel_file at /home/cpansand/.cpan/build/2017022509/Clustericious-1.22-4hIrxY/blib/lib/Clustericious/App.pm line 42.
Mojo::Home::parts is DEPRECATED at /home/cpansand/.cpan/build/2017022509/Clustericious-1.22-4hIrxY/blib/lib/Clustericious/App.pm line 42.
Mojo::Message::Response::is_status_class is DEPRECATED in favor of new is_* methods at /home/cpansand/.cpan/build/2017022509/Clustericious-1.22-4hIrxY/blib/lib/Clustericious/Client.pm line 422.
t/client_user_agent_string.t .......... ok
Mojo::Home::rel_dir is DEPRECATED in favor of Mojo::Home::rel_file at /home/cpansand/.cpan/build/2017022509/Clustericious-1.22-4hIrxY/blib/lib/Clustericious/App.pm line 42.
Mojo::Home::parts is DEPRECATED at /home/cpansand/.cpan/build/2017022509/Clustericious-1.22-4hIrxY/blib/lib/Clustericious/App.pm line 42.
t/cluster_basic.t ..................... ok
Mojo::Home::rel_dir is DEPRECATED in favor of Mojo::Home::rel_file at /home/cpansand/.cpan/build/2017022509/Clustericious-1.22-4hIrxY/blib/lib/Clustericious/App.pm line 42.
Mojo::Home::parts is DEPRECATED at /home/cpansand/.cpan/build/2017022509/Clustericious-1.22-4hIrxY/blib/lib/Clustericious/App.pm line 42.
Subroutine Mojo::Template::Sandbox::d71443c799dcb69e31662c0a97780eac::b redefined at /opt/perl-5.24.0t/lib/5.24.0/Exporter.pm line 66, <DATA> line 1.
 at template exception.html.ep from DATA section line 7.
t/cluster_render_exception.t .......... ok
Mojo::Home::rel_dir is DEPRECATED in favor of Mojo::Home::rel_file at /home/cpansand/.cpan/build/2017022509/Clustericious-1.22-4hIrxY/blib/lib/Clustericious/App.pm line 42.
Mojo::Home::parts is DEPRECATED at /home/cpansand/.cpan/build/2017022509/Clustericious-1.22-4hIrxY/blib/lib/Clustericious/App.pm line 42.
t/cluster_render_not_found.t .......... ok
t/command_apache.t .................... skipped: developer only test
t/command_configdebug.t ............... ok
t/command_configdump.t ................ ok
t/command_configpath.t ................ ok
t/command_configtest.t ................ ok
t/command_daemon.t .................... ok
t/command_generate.t .................. ok
t/command_hypnotoad.t ................. skipped: developer only test
t/command_lighttpd.t .................. skipped: test leaves processes running
t/command_morbo.t ..................... ok
t/command_nginx.t ..................... skipped: developer only test
t/command_plackup.t ................... skipped: test requires AnyEvent::Open3::Simple and EV
t/command_which.t ..................... ok
t/config_callback.t ................... ok
t/config_colen.t ...................... ok
t/config_config.t ..................... ok
t/config_config_multi.t ............... ok
t/config_data.t ....................... ok
t/config_default.t .................... ok
Subroutine JSON::PP::Boolean::(0+ redefined at /opt/perl-5.24.0t/lib/5.24.0/overload.pm line 50.
Subroutine JSON::PP::Boolean::(-- redefined at /opt/perl-5.24.0t/lib/5.24.0/overload.pm line 50.
Subroutine JSON::PP::Boolean::(++ redefined at /opt/perl-5.24.0t/lib/5.24.0/overload.pm line 50.
Mojo::Home::rel_dir is DEPRECATED in favor of Mojo::Home::rel_file at /home/cpansand/.cpan/build/2017022509/Clustericious-1.22-4hIrxY/blib/lib/Clustericious/App.pm line 42.
Mojo::Home::parts is DEPRECATED at /home/cpansand/.cpan/build/2017022509/Clustericious-1.22-4hIrxY/blib/lib/Clustericious/App.pm line 42.
t/config_default_start_mode.t ......... ok
Subroutine JSON::PP::Boolean::(-- redefined at /opt/perl-5.24.0t/lib/5.24.0/overload.pm line 50.
Subroutine JSON::PP::Boolean::(++ redefined at /opt/perl-5.24.0t/lib/5.24.0/overload.pm line 50.
Subroutine JSON::PP::Boolean::(0+ redefined at /opt/perl-5.24.0t/lib/5.24.0/overload.pm line 50.
Mojo::Home::rel_dir is DEPRECATED in favor of Mojo::Home::rel_file at /home/cpansand/.cpan/build/2017022509/Clustericious-1.22-4hIrxY/blib/lib/Clustericious/App.pm line 42.
Mojo::Home::parts is DEPRECATED at /home/cpansand/.cpan/build/2017022509/Clustericious-1.22-4hIrxY/blib/lib/Clustericious/App.pm line 42.
t/config_default_start_mode2.t ........ ok
t/config_helper.t ..................... ok
t/config_helper_get_passwd.t .......... ok
t/config_home.t ....................... ok
t/config_hostname.t ................... ok
t/config_json.t ....................... ok
t/config_namespace.t .................. ok
t/config_pathclass.t .................. ok
t/config_pollute.t .................... ok
t/config_special.t .................... ok
t/config_test_clustericious_config.t .. ok
t/config_with_filename.t .............. ok
t/config_yaml.t ....................... ok
t/config_yaml2.t ...................... ok
Mojo::Home::rel_dir is DEPRECATED in favor of Mojo::Home::rel_file at /home/cpansand/.cpan/build/2017022509/Clustericious-1.22-4hIrxY/blib/lib/Clustericious/App.pm line 42.
Mojo::Home::parts is DEPRECATED at /home/cpansand/.cpan/build/2017022509/Clustericious-1.22-4hIrxY/blib/lib/Clustericious/App.pm line 42.
t/hello_world.t ....................... ok
t/log.t ............................... ok
t/log_commandline.t ................... ok
t/log_commandline_warning.t ........... ok
Mojo::Home::rel_dir is DEPRECATED in favor of Mojo::Home::rel_file at /home/cpansand/.cpan/build/2017022509/Clustericious-1.22-4hIrxY/blib/lib/Clustericious/App.pm line 42.
Mojo::Home::parts is DEPRECATED at /home/cpansand/.cpan/build/2017022509/Clustericious-1.22-4hIrxY/blib/lib/Clustericious/App.pm line 42.
t/plugin_autodatahandler.t ............ ok
t/plugin_clustericioushelpers.t ....... ok
t/plugin_commonroutes.t ............... ok
t/plugin_commonroutes_api_table.t ..... skipped: requires Rose::Planter 0.34 and DBD::SQLite:
Mojo::Home::rel_dir is DEPRECATED in favor of Mojo::Home::rel_file at /home/cpansand/.cpan/build/2017022509/Clustericious-1.22-4hIrxY/blib/lib/Clustericious/App.pm line 42.
Mojo::Home::parts is DEPRECATED at /home/cpansand/.cpan/build/2017022509/Clustericious-1.22-4hIrxY/blib/lib/Clustericious/App.pm line 42.
t/plugin_plugauth.t ................... ok
Mojo::Home::rel_dir is DEPRECATED in favor of Mojo::Home::rel_file at /home/cpansand/.cpan/build/2017022509/Clustericious-1.22-4hIrxY/blib/lib/Clustericious/App.pm line 42.
Mojo::Home::parts is DEPRECATED at /home/cpansand/.cpan/build/2017022509/Clustericious-1.22-4hIrxY/blib/lib/Clustericious/App.pm line 42.
t/util_default_url.t .................. ok
t/util_dist_dir.t ..................... ok
t/util_generate_port.t ................ ok
t/util_slurp_pid.t .................... ok
t2/test_clustericious_config.t ........ ok
    # ERROR this should not appear
    # ERROR this should
    # ERROR main error
    # FATAL main fatal
    # ERROR main error
    # FATAL main fatal
    # ERROR message1
    # ERROR message2
    # ERROR PLATYPUS-42
    # ERROR PLATYPUS-47
t2/test_clustericious_log.t ........... ok
All tests successful.
Files=75, Tests=605, 72 wallclock secs ( 0.36 usr  0.11 sys + 61.52 cusr  8.85 csys = 70.84 CPU)
Result: PASS

------------------------------
PREREQUISITES
------------------------------

Prerequisite modules loaded:

requires:

    Module                       Need     Have    
    ---------------------------- -------- --------
    autodie                      0        2.29    
    Capture::Tiny                0        0.44    
    Data::Rmap                   0        0.65    
    DateTime::Format::DateParse  0        0.05    
    DateTime::Format::ISO8601    0        0.08    
    File::HomeDir                0.91     1.00    
    File::ReadBackwards          0        1.05    
    File::ShareDir               0        1.102   
    File::Which                  0        1.21    
    Hash::Merge                  0        0.200   
    JSON::MaybeXS                0        1.003008
    List::MoreUtils              0        0.416   
    Log::Log4perl                0        1.49    
    Log::Log4perl::Appender::TAP 0.02     0.03    
    Mojolicious                  6.00     7.26    
    MojoX::Log::Log4perl         0        0.11    
    Path::Class                  0.26     0.37    
    perl                         5.010001 5.024000
    PerlX::Maybe                 0.003    1.001   
    Sub::Exporter                0        0.987   
    Sub::Identify                0.05     0.12    
    Term::Prompt                 0        1.04    
    YAML::XS                     0        0.63    

build_requires:

    Module                       Need     Have    
    ---------------------------- -------- --------
    ExtUtils::MakeMaker          0        7.24    
    File::chdir                  0        0.1010  
    PlugAuth::Lite               0        0.33    
    Test::Clustericious::Cluster 0.31     0.33    
    Test::More                   0.94     1.302075
    Test::Script                 1.10     1.15    
    Test::Warn                   0        0.32    

configure_requires:

    Module                       Need     Have    
    ---------------------------- -------- --------
    ExtUtils::MakeMaker          0        7.24    
    File::ShareDir::Install      0.06     0.11    
    perl                         5.010001 5.024000

opt_requires:

    Module                       Need     Have    
    ---------------------------- -------- --------
    Cpanel::JSON::XS             0        3.0227  
    EV                           0        4.22    
    PerlX::Maybe::XS             0        1.001   


------------------------------
ENVIRONMENT AND OTHER CONTEXT
------------------------------

Environment variables:

    LANG = en_US.UTF-8
    PATH = /usr/local/bin:/usr/bin:/bin:/usr/local/sbin:/usr/sbin:/sbin:/home/cpansand/bin/linux-gnu:/home/cpansand/bin/sh:/home/cpansand/bin:/usr/games:/home/cpansand/devel:/home/eserte/src/srezic-misc/scripts
    PERL5LIB = /home/cpansand/.cpan/build/2017022509/Test-Clustericious-Cluster-0.33-GxTgKY/blib/arch:/home/cpansand/.cpan/build/2017022509/Test-Clustericious-Cluster-0.33-GxTgKY/blib/lib:/home/cpansand/.cpan/build/2017022509/PerlX-Maybe-XS-1.001-x3gxdv/blib/arch:/home/cpansand/.cpan/build/2017022509/PerlX-Maybe-XS-1.001-x3gxdv/blib/lib:/home/cpansand/.cpan/build/2017022509/PerlX-Maybe-1.001-HYDqgd/blib/arch:/home/cpansand/.cpan/build/2017022509/PerlX-Maybe-1.001-HYDqgd/blib/lib:/home/cpansand/.cpan/build/2017022509/Log-Log4perl-Appender-TAP-0.03-5FFkQL/blib/arch:/home/cpansand/.cpan/build/2017022509/Log-Log4perl-Appender-TAP-0.03-5FFkQL/blib/lib:/home/cpansand/.cpan/build/2017022509/MojoX-Log-Log4perl-0.11-X5z9Ux/blib/arch:/home/cpansand/.cpan/build/2017022509/MojoX-Log-Log4perl-0.11-X5z9Ux/blib/lib:/home/cpansand/.cpan/build/2017022509/Term-Prompt-1.04-ycodLX/blib/arch:/home/cpansand/.cpan/build/2017022509/Term-Prompt-1.04-ycodLX/blib/lib:/home/cpansand/.cpan/build/2017022509/DateTime-Format-DateParse-0.05-YLVzWx/blib/arch:/home/cpansand/.cpan/build/2017022509/DateTime-Format-DateParse-0.05-YLVzWx/blib/lib:/home/cpansand/.cpan/build/2017022509/DateTime-Format-ISO8601-0.08-Y0rpmt/blib/arch:/home/cpansand/.cpan/build/2017022509/DateTime-Format-ISO8601-0.08-Y0rpmt/blib/lib:/home/cpansand/.cpan/build/2017022509/DateTime-Format-Builder-0.81-740sNG/blib/arch:/home/cpansand/.cpan/build/2017022509/DateTime-Format-Builder-0.81-740sNG/blib/lib:/home/cpansand/.cpan/build/2017022509/Class-Factory-Util-1.7-7UDk3g/blib/arch:/home/cpansand/.cpan/build/2017022509/Class-Factory-Util-1.7-7UDk3g/blib/lib:/home/cpansand/.cpan/build/2017022509/Data-Rmap-0.65-0x6zfh/blib/arch:/home/cpansand/.cpan/build/2017022509/Data-Rmap-0.65-0x6zfh/blib/lib
    PERL5OPT = 
    PERL5_CPANPLUS_IS_RUNNING = 31318
    PERL5_CPAN_IS_RUNNING = 31318
    PERL5_CPAN_IS_RUNNING_IN_RECURSION = 22812,31318
    PERLDOC = -MPod::Perldoc::ToTextOverstrike
    PERL_BATCH = yes
    PERL_CANARY_STABILITY_NOPROMPT = 1
    PERL_CPAN_REPORTER_CONFIG = /var/tmp/cpansmoker-1002/2017022509/cpanreporter_003_config.ini
    PERL_EXTUTILS_AUTOINSTALL = --defaultdeps
    SHELL = /bin/zsh
    TERM = screen
    TMPDIR = /var/tmp/cpansmoker-1002/2017022509

Perl special variables (and OS-specific diagnostics, for MSWin32):

    $^X = /opt/perl-5.24.0t/bin/perl
    $UID/$EUID = 1002 / 1002
    $GID = 1002 1002
    $EGID = 1002 1002

Perl module toolchain versions installed:

    Module              Have    
    ------------------- --------
    CPAN                2.11    
    CPAN::Meta          2.150005
    Cwd                 3.63    
    ExtUtils::CBuilder  0.280225
    ExtUtils::Command   7.24    
    ExtUtils::Install   2.04    
    ExtUtils::MakeMaker 7.24    
    ExtUtils::Manifest  1.70    
    ExtUtils::ParseXS   3.31    
    File::Spec          3.63    
    JSON                2.90    
    JSON::PP            2.27300 
    Module::Build       0.4220  
    Module::Signature   0.81    
    Parse::CPAN::Meta   1.4417  
    Test::Harness       3.36    
    Test::More          1.302075
    YAML                1.23    
    YAML::Syck          1.29    
    version             0.9916  


--

Summary of my perl5 (revision 5 version 24 subversion 0) configuration:
   
  Platform:
    osname=linux, osvers=4.4.0-64-generic, archname=x86_64-linux-thread-multi
    uname='linux prod3 4.4.0-64-generic #85-ubuntu smp mon feb 20 11:50:30 utc 2017 x86_64 x86_64 x86_64 gnulinux '
    config_args='-ds -e -Dprefix=/opt/perl-5.24.0t -Dusethreads -Dcf_email=srezic@cpan.org'
    hint=recommended, useposix=true, d_sigaction=define
    useithreads=define, usemultiplicity=define
    use64bitint=define, use64bitall=define, uselongdouble=undef
    usemymalloc=n, bincompat5005=undef
  Compiler:
    cc='cc', ccflags ='-D_REENTRANT -D_GNU_SOURCE -fwrapv -fno-strict-aliasing -pipe -fstack-protector-strong -I/usr/local/include -D_LARGEFILE_SOURCE -D_FILE_OFFSET_BITS=64',
    optimize='-O2',
    cppflags='-D_REENTRANT -D_GNU_SOURCE -fwrapv -fno-strict-aliasing -pipe -fstack-protector-strong -I/usr/local/include'
    ccversion='', gccversion='5.4.0 20160609', gccosandvers=''
    intsize=4, longsize=8, ptrsize=8, doublesize=8, byteorder=12345678, doublekind=3
    d_longlong=define, longlongsize=8, d_longdbl=define, longdblsize=16, longdblkind=3
    ivtype='long', ivsize=8, nvtype='double', nvsize=8, Off_t='off_t', lseeksize=8
    alignbytes=8, prototype=define
  Linker and Libraries:
    ld='cc', ldflags =' -fstack-protector-strong -L/usr/local/lib'
    libpth=/usr/local/lib /usr/lib/gcc/x86_64-linux-gnu/5/include-fixed /usr/include/x86_64-linux-gnu /usr/lib /lib/x86_64-linux-gnu /lib/../lib /usr/lib/x86_64-linux-gnu /usr/lib/../lib /lib
    libs=-lpthread -lnsl -lgdbm -ldb -ldl -lm -lcrypt -lutil -lc -lgdbm_compat
    perllibs=-lpthread -lnsl -ldl -lm -lcrypt -lutil -lc
    libc=libc-2.23.so, so=so, useshrplib=false, libperl=libperl.a
    gnulibc_version='2.23'
  Dynamic Linking:
    dlsrc=dl_dlopen.xs, dlext=so, d_dlsymun=undef, ccdlflags='-Wl,-E'
    cccdlflags='-fPIC', lddlflags='-shared -O2 -L/usr/local/lib -fstack-protector-strong'


Characteristics of this binary (from libperl): 
  Compile-time options: HAS_TIMES MULTIPLICITY PERLIO_LAYERS
                        PERL_COPY_ON_WRITE PERL_DONT_CREATE_GVSV
                        PERL_HASH_FUNC_ONE_AT_A_TIME_HARD
                        PERL_IMPLICIT_CONTEXT PERL_MALLOC_WRAP
                        PERL_PRESERVE_IVUV USE_64_BIT_ALL USE_64_BIT_INT
                        USE_ITHREADS USE_LARGE_FILES USE_LOCALE
                        USE_LOCALE_COLLATE USE_LOCALE_CTYPE
                        USE_LOCALE_NUMERIC USE_LOCALE_TIME USE_PERLIO
                        USE_PERL_ATOF USE_REENTRANT_API
  Built under linux
  Compiled at Feb 23 2017 20:46:04
  %ENV:
    PERL5LIB="/home/cpansand/.cpan/build/2017022509/Test-Clustericious-Cluster-0.33-GxTgKY/blib/arch:/home/cpansand/.cpan/build/2017022509/Test-Clustericious-Cluster-0.33-GxTgKY/blib/lib:/home/cpansand/.cpan/build/2017022509/PerlX-Maybe-XS-1.001-x3gxdv/blib/arch:/home/cpansand/.cpan/build/2017022509/PerlX-Maybe-XS-1.001-x3gxdv/blib/lib:/home/cpansand/.cpan/build/2017022509/PerlX-Maybe-1.001-HYDqgd/blib/arch:/home/cpansand/.cpan/build/2017022509/PerlX-Maybe-1.001-HYDqgd/blib/lib:/home/cpansand/.cpan/build/2017022509/Log-Log4perl-Appender-TAP-0.03-5FFkQL/blib/arch:/home/cpansand/.cpan/build/2017022509/Log-Log4perl-Appender-TAP-0.03-5FFkQL/blib/lib:/home/cpansand/.cpan/build/2017022509/MojoX-Log-Log4perl-0.11-X5z9Ux/blib/arch:/home/cpansand/.cpan/build/2017022509/MojoX-Log-Log4perl-0.11-X5z9Ux/blib/lib:/home/cpansand/.cpan/build/2017022509/Term-Prompt-1.04-ycodLX/blib/arch:/home/cpansand/.cpan/build/2017022509/Term-Prompt-1.04-ycodLX/blib/lib:/home/cpansand/.cpan/build/2017022509/DateTime-Format-DateParse-0.05-YLVzWx/blib/arch:/home/cpansand/.cpan/build/2017022509/DateTime-Format-DateParse-0.05-YLVzWx/blib/lib:/home/cpansand/.cpan/build/2017022509/DateTime-Format-ISO8601-0.08-Y0rpmt/blib/arch:/home/cpansand/.cpan/build/2017022509/DateTime-Format-ISO8601-0.08-Y0rpmt/blib/lib:/home/cpansand/.cpan/build/2017022509/DateTime-Format-Builder-0.81-740sNG/blib/arch:/home/cpansand/.cpan/build/2017022509/DateTime-Format-Builder-0.81-740sNG/blib/lib:/home/cpansand/.cpan/build/2017022509/Class-Factory-Util-1.7-7UDk3g/blib/arch:/home/cpansand/.cpan/build/2017022509/Class-Factory-Util-1.7-7UDk3g/blib/lib:/home/cpansand/.cpan/build/2017022509/Data-Rmap-0.65-0x6zfh/blib/arch:/home/cpansand/.cpan/build/2017022509/Data-Rmap-0.65-0x6zfh/blib/lib"
    PERL5OPT=""
    PERL5_CPANPLUS_IS_RUNNING="31318"
    PERL5_CPAN_IS_RUNNING="31318"
    PERL5_CPAN_IS_RUNNING_IN_RECURSION="22812,31318"
    PERLDOC="-MPod::Perldoc::ToTextOverstrike"
    PERL_BATCH="yes"
    PERL_CANARY_STABILITY_NOPROMPT="1"
    PERL_CPAN_REPORTER_CONFIG="/var/tmp/cpansmoker-1002/2017022509/cpanreporter_003_config.ini"
    PERL_EXTUTILS_AUTOINSTALL="--defaultdeps"
  @INC:
    /home/cpansand/.cpan/build/2017022509/Test-Clustericious-Cluster-0.33-GxTgKY/blib/arch
    /home/cpansand/.cpan/build/2017022509/Test-Clustericious-Cluster-0.33-GxTgKY/blib/lib
    /home/cpansand/.cpan/build/2017022509/PerlX-Maybe-XS-1.001-x3gxdv/blib/arch
    /home/cpansand/.cpan/build/2017022509/PerlX-Maybe-XS-1.001-x3gxdv/blib/lib
    /home/cpansand/.cpan/build/2017022509/PerlX-Maybe-1.001-HYDqgd/blib/arch
    /home/cpansand/.cpan/build/2017022509/PerlX-Maybe-1.001-HYDqgd/blib/lib
    /home/cpansand/.cpan/build/2017022509/Log-Log4perl-Appender-TAP-0.03-5FFkQL/blib/arch
    /home/cpansand/.cpan/build/2017022509/Log-Log4perl-Appender-TAP-0.03-5FFkQL/blib/lib
    /home/cpansand/.cpan/build/2017022509/MojoX-Log-Log4perl-0.11-X5z9Ux/blib/arch
    /home/cpansand/.cpan/build/2017022509/MojoX-Log-Log4perl-0.11-X5z9Ux/blib/lib
    /home/cpansand/.cpan/build/2017022509/Term-Prompt-1.04-ycodLX/blib/arch
    /home/cpansand/.cpan/build/2017022509/Term-Prompt-1.04-ycodLX/blib/lib
    /home/cpansand/.cpan/build/2017022509/DateTime-Format-DateParse-0.05-YLVzWx/blib/arch
    /home/cpansand/.cpan/build/2017022509/DateTime-Format-DateParse-0.05-YLVzWx/blib/lib
    /home/cpansand/.cpan/build/2017022509/DateTime-Format-ISO8601-0.08-Y0rpmt/blib/arch
    /home/cpansand/.cpan/build/2017022509/DateTime-Format-ISO8601-0.08-Y0rpmt/blib/lib
    /home/cpansand/.cpan/build/2017022509/DateTime-Format-Builder-0.81-740sNG/blib/arch
    /home/cpansand/.cpan/build/2017022509/DateTime-Format-Builder-0.81-740sNG/blib/lib
    /home/cpansand/.cpan/build/2017022509/Class-Factory-Util-1.7-7UDk3g/blib/arch
    /home/cpansand/.cpan/build/2017022509/Class-Factory-Util-1.7-7UDk3g/blib/lib
    /home/cpansand/.cpan/build/2017022509/Data-Rmap-0.65-0x6zfh/blib/arch
    /home/cpansand/.cpan/build/2017022509/Data-Rmap-0.65-0x6zfh/blib/lib
    /opt/perl-5.24.0t/lib/site_perl/5.24.0/x86_64-linux-thread-multi
    /opt/perl-5.24.0t/lib/site_perl/5.24.0
    /opt/perl-5.24.0t/lib/5.24.0/x86_64-linux-thread-multi
    /opt/perl-5.24.0t/lib/5.24.0
    .