Report for String-Palindrome-2.000001

Back
From: metabase:user:322078bc-2aae-11df-837a-5e0a49663a4f
Subject: PASS String-Palindrome-2.000001 v5.12.3 Dragonfly BSD
Date: 2011-06-22T18:49:46Z

This distribution has been tested as part of the CPAN Testers
project, supporting the Perl programming language.  See
http://wiki.cpantesters.org/ for more information or email
questions to cpan-testers-discuss@perl.org


--

Dear LESPEA,

This is a computer-generated error report created automatically by
CPANPLUS, version 0.9105. Testers personal comments may appear
at the end of this report.

MAKE TEST passed:
t/00-compile.t .................. ok
# 
# 
# perl: v5.12.3 (wanted 5.008) on dragonfly from /usr/home/cpan/pit/rel/perl-5.12.3/bin/perl
# 
# Data::Dumper                                  => 2.125      (want any version)
# English                                       => 1.04       (want any version)
# Exporter                                      => 5.64_01    (want any version)
# File::Find                                    => 1.15       (want any version)
# File::Temp                                    => 0.22       (want any version)
# Module::Build                                 => 0.38       (want 0.3601) 
# Test::More                                    => 0.98       (want 0.88)   
# utf8                                          => 1.08       (want any version)
# vars                                          => 1.01       (want any version)
# 
# Thanks for using my code.  I hope it works for you.
# If not, please try and include this output in the bug report.
# That will help me reproduce the issue and solve you problem.
# 
t/000-report-versions-tiny.t .... ok
t/01-func_test.t ................ ok
t/author-critic.t ............... skipped: these tests are for testing by the author
t/release-common_spelling.t ..... skipped: these tests are for release candidate testing
t/release-consistent-version.t .. skipped: these tests are for release candidate testing
t/release-cpan-changes.t ........ skipped: these tests are for release candidate testing
t/release-dist-manifest.t ....... skipped: these tests are for release candidate testing
t/release-distmeta.t ............ skipped: these tests are for release candidate testing
t/release-eol.t ................. skipped: these tests are for release candidate testing
t/release-has-version.t ......... skipped: these tests are for release candidate testing
t/release-kwalitee.t ............ skipped: these tests are for release candidate testing
t/release-minimum-version.t ..... skipped: these tests are for release candidate testing
t/release-no-tabs.t ............. skipped: these tests are for release candidate testing
t/release-pod-coverage.t ........ skipped: these tests are for release candidate testing
t/release-pod-syntax.t .......... skipped: these tests are for release candidate testing
t/release-portability.t ......... skipped: these tests are for release candidate testing
t/release-synopsis.t ............ skipped: these tests are for release candidate testing
t/release-unused-vars.t ......... skipped: these tests are for release candidate testing
All tests successful.
Files=19, Tests=81,  3 wallclock secs ( 0.15 usr  0.38 sys +  0.36 cusr  1.42 csys =  2.31 CPU)
Result: PASS

[MSG] [Wed Jun 22 19:49:21 2011] Sending test report for 'String-Palindrome-2.000001'

This report was machine-generated by CPANPLUS::Dist::YACSmoke 0.62.
Powered by minismokebox version 0.54

------------------------------
ENVIRONMENT AND OTHER CONTEXT
------------------------------

Environment variables:

    AUTOMATED_TESTING = 1
    PATH = /sbin:/bin:/usr/sbin:/usr/bin:/usr/games:/usr/pkg/sbin:/usr/pkg/bin:/usr/pkg/xorg/bin:/usr/local/sbin:/usr/local/bin:/home/cpan/bin
    PERL5LIB = :/usr/home/cpan/pit/rel/conf/perl-5.12.3/.cpanplus/5.12.3/build/String-Palindrome-2.000001/blib/lib:/usr/home/cpan/pit/rel/conf/perl-5.12.3/.cpanplus/5.12.3/build/String-Palindrome-2.000001/blib/arch
    PERL5_CPANPLUS_IS_RUNNING = 70400
    PERL5_CPANPLUS_IS_VERSION = 0.9105
    PERL5_MINISMOKEBOX = 0.54
    PERL5_YACSMOKE_BASE = /usr/home/cpan/pit/rel/conf/perl-5.12.3
    PERL_EXTUTILS_AUTOINSTALL = --defaultdeps
    PERL_MM_USE_DEFAULT = 1
    SHELL = /usr/pkg/bin/bash
    TERM = screen

Perl special variables (and OS-specific diagnostics, for MSWin32):

    Perl: $^X = /usr/home/cpan/pit/rel/perl-5.12.3/bin/perl
    UID:  $<  = 1002
    EUID: $>  = 1002
    GID:  $(  = 1003 1003
    EGID: $)  = 1003 1003


-------------------------------


--

Summary of my perl5 (revision 5 version 12 subversion 3) configuration:
   
  Platform:
    osname=dragonfly, osvers=2.10-release, archname=i386-dragonfly-thread-multi-64int
    uname='dragonfly diktat.bingosnet.co.uk 2.10-release dragonfly v2.10.1.1.gf7ba0-release #1: mon apr 25 19:48:10 utc 2011 root@pkgbox32.dragonflybsd.org:usrobjusrsrcsysgeneric i386 '
    config_args='-des -Dprefix=/usr/home/cpan/pit/rel/perl-5.12.3 -Dusethreads -Duse64bitint'
    hint=recommended, useposix=true, d_sigaction=define
    useithreads=define, usemultiplicity=define
    useperlio=define, d_sfio=undef, uselargefiles=define, usesocks=undef
    use64bitint=define, use64bitall=undef, uselongdouble=undef
    usemymalloc=n, bincompat5005=undef
  Compiler:
    cc='cc', ccflags ='-DHAS_FPSETMASK -DHAS_FLOATINGPOINT_H -fno-strict-aliasing -pipe -fstack-protector -I/usr/local/include',
    optimize='-O',
    cppflags='-DHAS_FPSETMASK -DHAS_FLOATINGPOINT_H -fno-strict-aliasing -pipe -fstack-protector -I/usr/local/include'
    ccversion='', gccversion='4.4.5', gccosandvers=''
    intsize=4, longsize=4, ptrsize=4, doublesize=8, byteorder=12345678
    d_longlong=define, longlongsize=8, d_longdbl=define, longdblsize=12
    ivtype='long long', ivsize=8, nvtype='double', nvsize=8, Off_t='off_t', lseeksize=8
    alignbytes=4, prototype=define
  Linker and Libraries:
    ld='cc', ldflags ='-pthread -Wl,-E  -fstack-protector -L/usr/local/lib'
    libpth=/usr/lib /usr/local/lib
    libs=-lgdbm -lm -lcrypt -lutil -lc
    perllibs=-lm -lcrypt -lutil -lc
    libc=, so=so, useshrplib=false, libperl=libperl.a
    gnulibc_version=''
  Dynamic Linking:
    dlsrc=dl_dlopen.xs, dlext=so, d_dlsymun=undef, ccdlflags=' '
    cccdlflags='-DPIC -fPIC', lddlflags='-shared  -L/usr/local/lib -fstack-protector'


Characteristics of this binary (from libperl): 
  Compile-time options: MULTIPLICITY PERL_DONT_CREATE_GVSV
                        PERL_IMPLICIT_CONTEXT PERL_MALLOC_WRAP USE_64_BIT_INT
                        USE_ITHREADS USE_LARGE_FILES USE_PERLIO USE_PERL_ATOF
                        USE_REENTRANT_API
  Built under dragonfly
  Compiled at Jun 16 2011 21:02:50
  %ENV:
    PERL5LIB=":/usr/home/cpan/pit/rel/conf/perl-5.12.3/.cpanplus/5.12.3/build/String-Palindrome-2.000001/blib/lib:/usr/home/cpan/pit/rel/conf/perl-5.12.3/.cpanplus/5.12.3/build/String-Palindrome-2.000001/blib/arch"
    PERL5_CPANPLUS_IS_RUNNING="70400"
    PERL5_CPANPLUS_IS_VERSION="0.9105"
    PERL5_MINISMOKEBOX="0.54"
    PERL5_YACSMOKE_BASE="/usr/home/cpan/pit/rel/conf/perl-5.12.3"
    PERL_EXTUTILS_AUTOINSTALL="--defaultdeps"
    PERL_MM_USE_DEFAULT="1"
  @INC:
    /usr/home/cpan/pit/rel/conf/perl-5.12.3/.cpanplus/5.12.3/build/String-Palindrome-2.000001/blib/lib
    /usr/home/cpan/pit/rel/conf/perl-5.12.3/.cpanplus/5.12.3/build/String-Palindrome-2.000001/blib/arch
    /usr/home/cpan/pit/rel/perl-5.12.3/lib/site_perl/5.12.3/i386-dragonfly-thread-multi-64int
    /usr/home/cpan/pit/rel/perl-5.12.3/lib/site_perl/5.12.3
    /usr/home/cpan/pit/rel/perl-5.12.3/lib/5.12.3/i386-dragonfly-thread-multi-64int
    /usr/home/cpan/pit/rel/perl-5.12.3/lib/5.12.3
    .