Report for Statistics-R-IO-1.0002

Back
From: metabase:user:314402c4-2aae-11df-837a-5e0a49663a4f
Subject: PASS Statistics-R-IO-1.0002 v5.18.2 GNU/Linux
Date: 2017-08-02T18:07:08Z

This distribution has been tested as part of the CPAN Testers
project, supporting the Perl programming language.  See
http://wiki.cpantesters.org/ for more information or email
questions to cpan-testers-discuss@perl.org


--
Dear Davor Cubranic,

This is a computer-generated report for Statistics-R-IO-1.0002
on perl 5.18.2, created by CPAN-Reporter-1.2018.

Thank you for uploading your work to CPAN.  Congratulations!
All tests were successful.

Sections of this report:

    * Tester comments
    * Program output
    * Prerequisites
    * Environment and other context

------------------------------
TESTER COMMENTS
------------------------------

Additional comments from tester:

none provided

------------------------------
PROGRAM OUTPUT
------------------------------

Output from '/usr/bin/make test':

Skip blib/lib/auto/share/dist/Statistics-R-IO/WebWork/RserveClient.pl (unchanged)
PERL_DL_NONLAZY=1 "/bbbike/perl-5.18.2/bin/perl5.18.2" "-MExtUtils::Command::MM" "-MTest::Harness" "-e" "undef *Test::Harness::Switches; test_harness(0, 'blib/lib', 'blib/arch')" t/*.t
t/author-pod-coverage.t ........ skipped: these tests are for testing by the author
t/author-pod-syntax.t .......... skipped: these tests are for testing by the author
t/io-oo-rdata.t ................ ok
t/io-oo-rds.t .................. ok
t/io-oo-rserve-eval-live.t ..... skipped: Cannot connect to Rserve server at localhost:6311
t/io-oo-rserve-eval-mock.t ..... ok
t/io-oo-rserve-getfile-live.t .. skipped: Cannot connect to Rserve server at localhost:6311
t/io-oo-rserve-sereval-live.t .. skipped: Cannot connect to Rserve server at localhost:6311
t/io-oo-rserve-sereval-mock.t .. ok
t/io-parser.t .................. ok
t/io-parserstate.t ............. ok
t/io-qap.t ..................... ok
t/io-rdata.t ................... ok
t/io-rds.t ..................... ok
t/io-rserve-eval.t ............. skipped: Cannot connect to Rserve server at localhost:6311
t/io-rserve.t .................. ok
t/io-unserialize.t ............. ok
t/rexp-baseenvironment.t ....... ok
t/rexp-character.t ............. ok
t/rexp-closure.t ............... ok
t/rexp-complex.t ............... ok
t/rexp-double.t ................ ok
t/rexp-emptyenvironment.t ...... ok
t/rexp-environment.t ........... ok
t/rexp-expression.t ............ ok
t/rexp-globalenvironment.t ..... ok
t/rexp-integer.t ............... ok
t/rexp-language.t .............. ok
t/rexp-list.t .................. ok
t/rexp-logical.t ............... ok
t/rexp-null.t .................. ok
t/rexp-raw.t ................... ok
t/rexp-s3.t .................... ok
t/rexp-s4.t .................... ok
t/rexp-symbol.t ................ ok
t/rexp-unknown.t ............... ok
t/rexp-vector.t ................ ok
t/rexp.t ....................... ok
All tests successful.
Files=38, Tests=860,  7 wallclock secs ( 0.21 usr  0.12 sys +  6.80 cusr  0.29 csys =  7.42 CPU)
Result: PASS

------------------------------
PREREQUISITES
------------------------------

Prerequisite modules loaded:

requires:

    Module                    Need  Have      
    ------------------------- ----- ----------
    Carp                      0     1.38      
    Class::Method::Modifiers  0     2.12      
    Class::Tiny               1.001 1.006     
    Class::Tiny::Antlers      0.023 0.023     
    Math::Complex             0     1.59      
    namespace::clean          0.24  0.27      
    perl                      5.010 5.018002  
    Scalar::Util              0     1.48      

build_requires:

    Module                    Need  Have      
    ------------------------- ----- ----------
    ExtUtils::MakeMaker       0     7.24      
    Test::Fatal               0     0.014     
    Test::MockObject          0     1.20150527
    Test::MockObject::Extends 0     1.20150527
    Test::More                0.96  1.302085  

configure_requires:

    Module                    Need  Have      
    ------------------------- ----- ----------
    ExtUtils::MakeMaker       0     7.24      
    File::ShareDir::Install   0.06  0.11      


------------------------------
ENVIRONMENT AND OTHER CONTEXT
------------------------------

Environment variables:

    LANG = C
    LC_ALL = de_DE.UTF-8
    PATH = /usr/local/bin:/usr/bin:/bin:/usr/local/sbin:/usr/sbin:/sbin:/home/cpansand/bin/linux-gnu:/home/cpansand/bin/sh:/home/cpansand/bin:/usr/games:/home/cpansand/devel:/home/eserte/src/srezic-misc/scripts
    PERL5LIB = 
    PERL5OPT = 
    PERL5_CPANPLUS_IS_RUNNING = 4228
    PERL5_CPAN_IS_RUNNING = 4228
    PERL5_CPAN_IS_RUNNING_IN_RECURSION = 4169,4228
    PERLDOC = -MPod::Perldoc::ToTextOverstrike
    PERL_BATCH = yes
    PERL_CANARY_STABILITY_NOPROMPT = 1
    PERL_CPAN_REPORTER_CONFIG = /var/tmp/cpansmoker-1023/2017080218/cpanreporter_000_config.ini
    PERL_EXTUTILS_AUTOINSTALL = --defaultdeps
    PERL_PARALLEL_SMOKER = yes
    PERL_USE_UNSAFE_INC = 1
    SHELL = /bin/zsh
    TERM = screen
    TMPDIR = /var/tmp/cpansmoker-1023/2017080218

Perl special variables (and OS-specific diagnostics, for MSWin32):

    $^X = /bbbike/perl-5.18.2/bin/perl5.18.2
    $UID/$EUID = 1023 / 1023
    $GID = 1023 1023
    $EGID = 1023 1023

Perl module toolchain versions installed:

    Module              Have    
    ------------------- --------
    CPAN                2.16    
    CPAN::Meta          2.150010
    Cwd                 3.62    
    ExtUtils::CBuilder  0.280226
    ExtUtils::Command   7.24    
    ExtUtils::Install   2.14    
    ExtUtils::MakeMaker 7.24    
    ExtUtils::Manifest  1.70    
    ExtUtils::ParseXS   3.30    
    File::Spec          3.62    
    JSON                2.94    
    JSON::PP            2.27400 
    Module::Build       0.4220  
    Module::Signature   0.79    
    Parse::CPAN::Meta   2.150010
    Test::Harness       3.38    
    Test::More          1.302085
    YAML                1.20    
    YAML::Syck          1.29    
    version             0.9916  


--

Summary of my perl5 (revision 5 version 18 subversion 2) configuration:
   
  Platform:
    osname=linux, osvers=3.16.0-4-amd64, archname=x86_64-linux
    uname='linux eserte 3.16.0-4-amd64 #1 smp debian 3.16.7-ckt25-2 (2016-04-08) x86_64 gnulinux '
    config_args='-ds -e -Dprefix=/opt/perl-5.18.2 -Dcf_email=srezic@cpan.org'
    hint=recommended, useposix=true, d_sigaction=define
    useithreads=undef, usemultiplicity=undef
    useperlio=define, d_sfio=undef, uselargefiles=define, usesocks=undef
    use64bitint=define, use64bitall=define, uselongdouble=undef
    usemymalloc=n, bincompat5005=undef
  Compiler:
    cc='cc', ccflags ='-fno-strict-aliasing -pipe -fstack-protector -I/usr/local/include -D_LARGEFILE_SOURCE -D_FILE_OFFSET_BITS=64',
    optimize='-O2',
    cppflags='-fno-strict-aliasing -pipe -fstack-protector -I/usr/local/include'
    ccversion='', gccversion='4.9.2', gccosandvers=''
    intsize=4, longsize=8, ptrsize=8, doublesize=8, byteorder=12345678
    d_longlong=define, longlongsize=8, d_longdbl=define, longdblsize=16
    ivtype='long', ivsize=8, nvtype='double', nvsize=8, Off_t='off_t', lseeksize=8
    alignbytes=8, prototype=define
  Linker and Libraries:
    ld='cc', ldflags =' -fstack-protector -L/usr/local/lib'
    libpth=/usr/local/lib /lib/x86_64-linux-gnu /lib/../lib /usr/lib/x86_64-linux-gnu /usr/lib/../lib /lib /usr/lib
    libs=-lnsl -lgdbm -ldb -ldl -lm -lcrypt -lutil -lc -lgdbm_compat
    perllibs=-lnsl -ldl -lm -lcrypt -lutil -lc
    libc=, so=so, useshrplib=false, libperl=libperl.a
    gnulibc_version='2.19'
  Dynamic Linking:
    dlsrc=dl_dlopen.xs, dlext=so, d_dlsymun=undef, ccdlflags='-Wl,-E'
    cccdlflags='-fPIC', lddlflags='-shared -O2 -L/usr/local/lib -fstack-protector'


Characteristics of this binary (from libperl): 
  Compile-time options: HAS_TIMES PERLIO_LAYERS PERL_DONT_CREATE_GVSV
                        PERL_HASH_FUNC_ONE_AT_A_TIME_HARD PERL_MALLOC_WRAP
                        PERL_PRESERVE_IVUV PERL_SAWAMPERSAND USE_64_BIT_ALL
                        USE_64_BIT_INT USE_LARGE_FILES USE_LOCALE
                        USE_LOCALE_COLLATE USE_LOCALE_CTYPE
                        USE_LOCALE_NUMERIC USE_PERLIO USE_PERL_ATOF
  Built under linux
  Compiled at May  7 2016 16:24:49
  %ENV:
    PERL5LIB=""
    PERL5OPT=""
    PERL5_CPANPLUS_IS_RUNNING="4228"
    PERL5_CPAN_IS_RUNNING="4228"
    PERL5_CPAN_IS_RUNNING_IN_RECURSION="4169,4228"
    PERLDOC="-MPod::Perldoc::ToTextOverstrike"
    PERL_BATCH="yes"
    PERL_CANARY_STABILITY_NOPROMPT="1"
    PERL_CPAN_REPORTER_CONFIG="/var/tmp/cpansmoker-1023/2017080218/cpanreporter_000_config.ini"
    PERL_EXTUTILS_AUTOINSTALL="--defaultdeps"
    PERL_PARALLEL_SMOKER="yes"
    PERL_USE_UNSAFE_INC="1"
  @INC:
    /opt/perl-5.18.2/lib/site_perl/5.18.2/x86_64-linux
    /opt/perl-5.18.2/lib/site_perl/5.18.2
    /opt/perl-5.18.2/lib/5.18.2/x86_64-linux
    /opt/perl-5.18.2/lib/5.18.2
    .