Report for AnyData-0.11

Back
From: metabase:user:1df860e2-5511-11e4-98f0-0dd1d82eb042
Subject: PASS AnyData-0.11 v5.12.5 GNU/Linux
Date: 2014-10-17T10:36:05Z

This distribution has been tested as part of the CPAN Testers
project, supporting the Perl programming language.  See
http://wiki.cpantesters.org/ for more information or email
questions to cpan-testers-discuss@perl.org


--
Dear SDOWIDEIT,

This is a computer-generated report for AnyData-0.11
on perl 5.12.5, created by App::cpanminus::reporter 0.11 (1.7014).

Thank you for uploading your work to CPAN.  Congratulations!
All tests were successful.

Sections of this report:

    * Tester comments
    * Program output
    * Prerequisites
    * Environment and other context

------------------------------
TESTER COMMENTS
------------------------------

Additional comments from tester:

none provided

------------------------------
PROGRAM OUTPUT
------------------------------

Output from '':

Building and testing AnyData-0.11
cp AnyData/Format/HTMLtable.pm blib/lib/AnyData/Format/HTMLtable.pm
cp AnyData/Format/Base.pm blib/lib/AnyData/Format/Base.pm
cp AnyData/Format/Pipe.pm blib/lib/AnyData/Format/Pipe.pm
cp AnyData/Format/Passwd.pm blib/lib/AnyData/Format/Passwd.pm
cp AnyData/Format/Ini.pm blib/lib/AnyData/Format/Ini.pm
cp AnyData/Format/Mp3.pm blib/lib/AnyData/Format/Mp3.pm
cp AnyData/Storage/TiedHash.pm blib/lib/AnyData/Storage/TiedHash.pm
cp AnyData/Storage/File.pm blib/lib/AnyData/Storage/File.pm
cp lib/AnyData.pm blib/lib/AnyData.pm
cp AnyData/Format/Text.pm blib/lib/AnyData/Format/Text.pm
cp AnyData/Format/FileSys.pm blib/lib/AnyData/Format/FileSys.pm
cp AnyData/Format/Fixed.pm blib/lib/AnyData/Format/Fixed.pm
cp AnyData/Storage/RAM.pm blib/lib/AnyData/Storage/RAM.pm
cp AnyData/Format/CSV.pm blib/lib/AnyData/Format/CSV.pm
cp AnyData/Storage/FileSys.pm blib/lib/AnyData/Storage/FileSys.pm
cp AnyData/Storage/PassThru.pm blib/lib/AnyData/Storage/PassThru.pm
cp AnyData/Format/Tab.pm blib/lib/AnyData/Format/Tab.pm
cp AnyData/Format/XML.pm blib/lib/AnyData/Format/XML.pm
cp AnyData/Format/Weblog.pm blib/lib/AnyData/Format/Weblog.pm
cp AnyData/Storage/File.pod blib/lib/AnyData/Storage/File.pod
cp AnyData/Format/Paragraph.pm blib/lib/AnyData/Format/Paragraph.pm
Manifying blib/man3/AnyData::Format::CSV.3
Manifying blib/man3/AnyData::Format::Fixed.3
Manifying blib/man3/AnyData::Format::HTMLtable.3
Manifying blib/man3/AnyData::Format::Ini.3
Manifying blib/man3/AnyData::Format::Mp3.3
Manifying blib/man3/AnyData::Format::Paragraph.3
Manifying blib/man3/AnyData::Format::Passwd.3
Manifying blib/man3/AnyData::Format::Pipe.3
Manifying blib/man3/AnyData::Format::Tab.3
Manifying blib/man3/AnyData::Format::Weblog.3
Manifying blib/man3/AnyData::Format::XML.3
Manifying blib/man3/AnyData::Storage::File.3
Manifying blib/man3/AnyData.3
PERL_DL_NONLAZY=1 /home/schulung/perl5/perlbrew/perls/perl-5.12.5/bin/perl "-MExtUtils::Command::MM" "-MTest::Harness" "-e" "undef *Test::Harness::Switches; test_harness(0, 'blib/lib', 'blib/arch')" t/*.t
t/56962.t ...... skipped: extra test for RT#56962 - needs DBI & DBD::AnyData
t/api.t ........ ok
t/fixed.t ...... ok
t/htmltable.t .. ok
t/test.t ....... ok
t/weblog.t ..... ok
t/xml.t ........ skipped: XML::Twig not installed; skipping
All tests successful.
Files=7, Tests=57,  0 wallclock secs ( 0.02 usr  0.00 sys +  0.19 cusr  0.02 csys =  0.23 CPU)
Result: PASS

------------------------------
PREREQUISITES
------------------------------

Prerequisite modules loaded:

    No requirements found

------------------------------
ENVIRONMENT AND OTHER CONTEXT
------------------------------

Environment variables:

    LANG = de_DE.UTF-8
    LANGUAGE = de_DE
    PATH = /home/schulung/perl5/perlbrew/bin:/home/schulung/perl5/perlbrew/perls/perl-5.12.5/bin:/usr/local/sbin:/usr/local/bin:/usr/sbin:/usr/bin:/sbin:/bin:/usr/games:/usr/local/games
    PERLBREW_BASHRC_VERSION = 0.71
    PERLBREW_HOME = /home/schulung/.perlbrew
    PERLBREW_MANPATH = /home/schulung/perl5/perlbrew/perls/perl-5.12.5/man
    PERLBREW_PATH = /home/schulung/perl5/perlbrew/bin:/home/schulung/perl5/perlbrew/perls/perl-5.12.5/bin
    PERLBREW_PERL = perl-5.12.5
    PERLBREW_ROOT = /home/schulung/perl5/perlbrew
    PERLBREW_VERSION = 0.71
    SHELL = /bin/bash
    TERM = xterm

Perl special variables (and OS-specific diagnostics, for MSWin32):

    EGID = 1000 24 30 46 108 124 1000
    EUID = 1000
    EXECUTABLE_NAME = /home/schulung/perl5/perlbrew/perls/perl-5.12.5/bin/perl
    GID = 1000 24 30 46 108 124 1000
    UID = 1000

Perl module toolchain versions installed:

    Module              Have    
    ------------------- --------
    CPAN                1.94_56 
    CPAN::Meta          2.142690
    Cwd                 3.47    
    ExtUtils::CBuilder  0.27    
    ExtUtils::Command   1.16    
    ExtUtils::Install   1.55    
    ExtUtils::MakeMaker 6.98    
    ExtUtils::Manifest  1.60    
    ExtUtils::ParseXS   3.24    
    File::Spec          3.47    
    JSON                2.90    
    JSON::PP            2.27300 
    Module::Build       0.4210  
    Module::Signature   n/a     
    Parse::CPAN::Meta   1.4414  
    Test::Harness       3.33    
    Test::More          1.001008
    YAML                1.13    
    YAML::Syck          n/a     
    version             0.9909  


--

Summary of my perl5 (revision 5 version 12 subversion 5) configuration:
   
  Platform:
    osname=linux, osvers=3.13.0-24-generic, archname=x86_64-linux
    uname='linux schulung2 3.13.0-24-generic #46-ubuntu smp thu apr 10 19:11:08 utc 2014 x86_64 x86_64 x86_64 gnulinux '
    config_args='-de -Dprefix=/home/schulung/perl5/perlbrew/perls/perl-5.12.5 -Aeval:scriptdir=/home/schulung/perl5/perlbrew/perls/perl-5.12.5/bin'
    hint=recommended, useposix=true, d_sigaction=define
    useithreads=undef, usemultiplicity=undef
    useperlio=define, d_sfio=undef, uselargefiles=define, usesocks=undef
    use64bitint=define, use64bitall=define, uselongdouble=undef
    usemymalloc=n, bincompat5005=undef
  Compiler:
    cc='cc', ccflags ='-fno-strict-aliasing -pipe -fstack-protector -I/usr/local/include -D_LARGEFILE_SOURCE -D_FILE_OFFSET_BITS=64',
    optimize='-O2',
    cppflags='-fno-strict-aliasing -pipe -fstack-protector -I/usr/local/include'
    ccversion='', gccversion='4.8.2', gccosandvers=''
    intsize=4, longsize=8, ptrsize=8, doublesize=8, byteorder=12345678
    d_longlong=define, longlongsize=8, d_longdbl=define, longdblsize=16
    ivtype='long', ivsize=8, nvtype='double', nvsize=8, Off_t='off_t', lseeksize=8
    alignbytes=8, prototype=define
  Linker and Libraries:
    ld='cc', ldflags =' -fstack-protector -L/usr/local/lib'
    libpth=/usr/local/lib /lib/x86_64-linux-gnu /lib/../lib /usr/lib/x86_64-linux-gnu /usr/lib/../lib /lib /usr/lib
    libs=-lnsl -ldl -lm -lcrypt -lutil -lc
    perllibs=-lnsl -ldl -lm -lcrypt -lutil -lc
    libc=libc-2.19.so, so=so, useshrplib=false, libperl=libperl.a
    gnulibc_version='2.19'
  Dynamic Linking:
    dlsrc=dl_dlopen.xs, dlext=so, d_dlsymun=undef, ccdlflags='-Wl,-E'
    cccdlflags='-fPIC', lddlflags='-shared -O2 -L/usr/local/lib -fstack-protector'


Characteristics of this binary (from libperl): 
  Compile-time options: PERL_DONT_CREATE_GVSV PERL_MALLOC_WRAP USE_64_BIT_ALL
                        USE_64_BIT_INT USE_LARGE_FILES USE_PERLIO
                        USE_PERL_ATOF
  Built under linux
  Compiled at Oct 15 2014 16:21:35
  %ENV:
    PERLBREW_BASHRC_VERSION="0.71"
    PERLBREW_HOME="/home/schulung/.perlbrew"
    PERLBREW_MANPATH="/home/schulung/perl5/perlbrew/perls/perl-5.12.5/man"
    PERLBREW_PATH="/home/schulung/perl5/perlbrew/bin:/home/schulung/perl5/perlbrew/perls/perl-5.12.5/bin"
    PERLBREW_PERL="perl-5.12.5"
    PERLBREW_ROOT="/home/schulung/perl5/perlbrew"
    PERLBREW_VERSION="0.71"
  @INC:
    /home/schulung/perl5/perlbrew/perls/perl-5.12.5/lib/site_perl/5.12.5/x86_64-linux
    /home/schulung/perl5/perlbrew/perls/perl-5.12.5/lib/site_perl/5.12.5
    /home/schulung/perl5/perlbrew/perls/perl-5.12.5/lib/5.12.5/x86_64-linux
    /home/schulung/perl5/perlbrew/perls/perl-5.12.5/lib/5.12.5
    .