Report for HTTP-Session2-1.09

Back
From: metabase:user:b53c7f44-4c0e-11e4-9ced-a04ade49192c
Subject: PASS HTTP-Session2-1.09 v5.12.0 GNU/Linux
Date: 2014-10-25T08:39:13Z

This distribution has been tested as part of the CPAN Testers
project, supporting the Perl programming language.  See
http://wiki.cpantesters.org/ for more information or email
questions to cpan-testers-discuss@perl.org


--
Dear Tokuhiro Matsuno,

This is a computer-generated report for HTTP-Session2-1.09
on perl 5.12.0, created by CPAN-Reporter-1.2011.

Thank you for uploading your work to CPAN.  Congratulations!
All tests were successful.

Sections of this report:

    * Tester comments
    * Program output
    * Prerequisites
    * Environment and other context

------------------------------
TESTER COMMENTS
------------------------------

Additional comments from tester:

none provided

------------------------------
PROGRAM OUTPUT
------------------------------

Output from './Build test':

t/00_compile.t .............. ok
Secret string too short at /root/.cpan/build/HTTP-Session2-1.09-3f1VFm/blib/lib/HTTP/Session2/Base.pm line 79.
	HTTP::Session2::Base::__ANON__(HTTP::Session2::ServerStore=HASH(0x8271b00), "s3cret") called at t/01_server_side.t line 23
	eval {...} called at t/01_server_side.t line 23
	main::__ANON__("client -> server: request without cookie", CODE(0x827195c)) called at t/01_server_side.t line 25
	main::__ANON__() called at /opt/perl430-27-O0-5.12.0/lib/site_perl/5.12.0/Test/Builder.pm line 261
	Test::Builder::__ANON__() called at /opt/perl430-27-O0-5.12.0/lib/site_perl/5.12.0/Test/Builder.pm line 266
	eval {...} called at /opt/perl430-27-O0-5.12.0/lib/site_perl/5.12.0/Test/Builder.pm line 266
	Test::Builder::subtest(Test::Builder=HASH(0x82e24c4), "First request", CODE(0x85cde98)) called at /opt/perl430-27-O0-5.12.0/lib/site_perl/5.12.0/Test/More.pm line 771
	Test::More::subtest("First request", CODE(0x85cde98)) called at t/01_server_side.t line 11
	main::scenario("First request", CODE(0x85cde98)) called at t/01_server_side.t line 31
Secret string too short at /root/.cpan/build/HTTP-Session2-1.09-3f1VFm/blib/lib/HTTP/Session2/Base.pm line 79.
	HTTP::Session2::Base::__ANON__(HTTP::Session2::ServerStore=HASH(0x827195c), "s3cret") called at t/01_server_side.t line 40
	eval {...} called at t/01_server_side.t line 40
	main::__ANON__("client -> server: request without cookie", CODE(0x8271f38)) called at t/01_server_side.t line 42
	main::__ANON__() called at /opt/perl430-27-O0-5.12.0/lib/site_perl/5.12.0/Test/Builder.pm line 261
	Test::Builder::__ANON__() called at /opt/perl430-27-O0-5.12.0/lib/site_perl/5.12.0/Test/Builder.pm line 266
	eval {...} called at /opt/perl430-27-O0-5.12.0/lib/site_perl/5.12.0/Test/Builder.pm line 266
	Test::Builder::subtest(Test::Builder=HASH(0x82e24c4), "Store something without login", CODE(0x8245a60)) called at /opt/perl430-27-O0-5.12.0/lib/site_perl/5.12.0/Test/More.pm line 771
	Test::More::subtest("Store something without login", CODE(0x8245a60)) called at t/01_server_side.t line 11
	main::scenario("Store something without login", CODE(0x8245a60)) called at t/01_server_side.t line 58
Secret string too short at /root/.cpan/build/HTTP-Session2-1.09-3f1VFm/blib/lib/HTTP/Session2/Base.pm line 79.
	HTTP::Session2::Base::__ANON__(HTTP::Session2::ServerStore=HASH(0x8284744), "s3cret") called at t/01_server_side.t line 70
	eval {...} called at t/01_server_side.t line 70
	main::__ANON__("client -> server: request without cookie", CODE(0x860b56c)) called at t/01_server_side.t line 72
	main::__ANON__() called at /opt/perl430-27-O0-5.12.0/lib/site_perl/5.12.0/Test/Builder.pm line 261
	Test::Builder::__ANON__() called at /opt/perl430-27-O0-5.12.0/lib/site_perl/5.12.0/Test/Builder.pm line 266
	eval {...} called at /opt/perl430-27-O0-5.12.0/lib/site_perl/5.12.0/Test/Builder.pm line 266
	Test::Builder::subtest(Test::Builder=HASH(0x82e24c4), "Login", CODE(0x8245a60)) called at /opt/perl430-27-O0-5.12.0/lib/site_perl/5.12.0/Test/More.pm line 771
	Test::More::subtest("Login", CODE(0x8245a60)) called at t/01_server_side.t line 11
	main::scenario("Login", CODE(0x8245a60)) called at t/01_server_side.t line 96
Secret string too short at /root/.cpan/build/HTTP-Session2-1.09-3f1VFm/blib/lib/HTTP/Session2/Base.pm line 79.
	HTTP::Session2::Base::__ANON__(HTTP::Session2::ServerStore=HASH(0x860b7ec), "s3cret") called at t/01_server_side.t line 108
	eval {...} called at t/01_server_side.t line 108
	main::__ANON__("client -> server: request without cookie", CODE(0x860b47c)) called at t/01_server_side.t line 110
	main::__ANON__() called at /opt/perl430-27-O0-5.12.0/lib/site_perl/5.12.0/Test/Builder.pm line 261
	Test::Builder::__ANON__() called at /opt/perl430-27-O0-5.12.0/lib/site_perl/5.12.0/Test/Builder.pm line 266
	eval {...} called at /opt/perl430-27-O0-5.12.0/lib/site_perl/5.12.0/Test/Builder.pm line 266
	Test::Builder::subtest(Test::Builder=HASH(0x82e24c4), "In a login session", CODE(0x838c578)) called at /opt/perl430-27-O0-5.12.0/lib/site_perl/5.12.0/Test/More.pm line 771
	Test::More::subtest("In a login session", CODE(0x838c578)) called at t/01_server_side.t line 11
	main::scenario("In a login session", CODE(0x838c578)) called at t/01_server_side.t line 124
Secret string too short at /root/.cpan/build/HTTP-Session2-1.09-3f1VFm/blib/lib/HTTP/Session2/Base.pm line 79.
	HTTP::Session2::Base::__ANON__(HTTP::Session2::ServerStore=HASH(0x8271880), "s3cret") called at t/01_server_side.t line 131
	eval {...} called at t/01_server_side.t line 131
	main::__ANON__("client -> server: request without cookie", CODE(0x828467c)) called at t/01_server_side.t line 138
	main::__ANON__() called at /opt/perl430-27-O0-5.12.0/lib/site_perl/5.12.0/Test/Builder.pm line 261
	Test::Builder::__ANON__() called at /opt/perl430-27-O0-5.12.0/lib/site_perl/5.12.0/Test/Builder.pm line 266
	eval {...} called at /opt/perl430-27-O0-5.12.0/lib/site_perl/5.12.0/Test/Builder.pm line 266
	Test::Builder::subtest(Test::Builder=HASH(0x82e24c4), "Logout", CODE(0x8283f74)) called at /opt/perl430-27-O0-5.12.0/lib/site_perl/5.12.0/Test/More.pm line 771
	Test::More::subtest("Logout", CODE(0x8283f74)) called at t/01_server_side.t line 11
	main::scenario("Logout", CODE(0x8283f74)) called at t/01_server_side.t line 153
t/01_server_side.t .......... ok
Secret string too short at /root/.cpan/build/HTTP-Session2-1.09-3f1VFm/blib/lib/HTTP/Session2/Base.pm line 79.
	HTTP::Session2::Base::__ANON__(HTTP::Session2::ClientStore=HASH(0x8862e2c), "s3cret") called at t/02_client_side.t line 17
	eval {...} called at t/02_client_side.t line 17
	main::__ANON__("client -> server: request without cookie", CODE(0x8862c74)) called at t/02_client_side.t line 22
	main::__ANON__() called at /opt/perl430-27-O0-5.12.0/lib/site_perl/5.12.0/Test/Builder.pm line 261
	Test::Builder::__ANON__() called at /opt/perl430-27-O0-5.12.0/lib/site_perl/5.12.0/Test/Builder.pm line 266
	eval {...} called at /opt/perl430-27-O0-5.12.0/lib/site_perl/5.12.0/Test/Builder.pm line 266
	Test::Builder::subtest(Test::Builder=HASH(0x87284c4), "First request", CODE(0x87d624c)) called at /opt/perl430-27-O0-5.12.0/lib/site_perl/5.12.0/Test/More.pm line 771
	Test::More::subtest("First request", CODE(0x87d624c)) called at t/02_client_side.t line 9
	main::scenario("First request", CODE(0x87d624c)) called at t/02_client_side.t line 28
Secret string too short at /root/.cpan/build/HTTP-Session2-1.09-3f1VFm/blib/lib/HTTP/Session2/Base.pm line 79.
	HTTP::Session2::Base::__ANON__(HTTP::Session2::ClientStore=HASH(0x8a91b64), "s3cret") called at t/02_client_side.t line 33
	eval {...} called at t/02_client_side.t line 33
	main::__ANON__("client -> server: request without cookie", CODE(0x8a91a74)) called at t/02_client_side.t line 38
	main::__ANON__() called at /opt/perl430-27-O0-5.12.0/lib/site_perl/5.12.0/Test/Builder.pm line 261
	Test::Builder::__ANON__() called at /opt/perl430-27-O0-5.12.0/lib/site_perl/5.12.0/Test/Builder.pm line 266
	eval {...} called at /opt/perl430-27-O0-5.12.0/lib/site_perl/5.12.0/Test/Builder.pm line 266
	Test::Builder::subtest(Test::Builder=HASH(0x87284c4), "Store something without login", CODE(0x868ba60)) called at /opt/perl430-27-O0-5.12.0/lib/site_perl/5.12.0/Test/More.pm line 771
	Test::More::subtest("Store something without login", CODE(0x868ba60)) called at t/02_client_side.t line 9
	main::scenario("Store something without login", CODE(0x868ba60)) called at t/02_client_side.t line 54
Do not use HTTP::Session2::ClientStore. Use HTTP::Session2::ServerStore or HTTP::Session2::ClientStore2 instead. at /root/.cpan/build/HTTP-Session2-1.09-3f1VFm/blib/lib/HTTP/Session2/ClientStore.pm line 25.
Secret string too short at /root/.cpan/build/HTTP-Session2-1.09-3f1VFm/blib/lib/HTTP/Session2/Base.pm line 79.
	HTTP::Session2::Base::__ANON__(HTTP::Session2::ClientStore=HASH(0x8a91e0c), "s3cret") called at t/02_client_side.t line 60
	eval {...} called at t/02_client_side.t line 60
	main::__ANON__("client -> server: request without cookie", CODE(0x8a9226c)) called at t/02_client_side.t line 66
	main::__ANON__() called at /opt/perl430-27-O0-5.12.0/lib/site_perl/5.12.0/Test/Builder.pm line 261
	Test::Builder::__ANON__() called at /opt/perl430-27-O0-5.12.0/lib/site_perl/5.12.0/Test/Builder.pm line 266
	eval {...} called at /opt/perl430-27-O0-5.12.0/lib/site_perl/5.12.0/Test/Builder.pm line 266
	Test::Builder::subtest(Test::Builder=HASH(0x87284c4), "Login", CODE(0x868ba60)) called at /opt/perl430-27-O0-5.12.0/lib/site_perl/5.12.0/Test/More.pm line 771
	Test::More::subtest("Login", CODE(0x868ba60)) called at t/02_client_side.t line 9
	main::scenario("Login", CODE(0x868ba60)) called at t/02_client_side.t line 86
Do not use HTTP::Session2::ClientStore. Use HTTP::Session2::ServerStore or HTTP::Session2::ClientStore2 instead. at /root/.cpan/build/HTTP-Session2-1.09-3f1VFm/blib/lib/HTTP/Session2/ClientStore.pm line 35.
Do not use HTTP::Session2::ClientStore. Use HTTP::Session2::ServerStore or HTTP::Session2::ClientStore2 instead. at /root/.cpan/build/HTTP-Session2-1.09-3f1VFm/blib/lib/HTTP/Session2/ClientStore.pm line 25.
Secret string too short at /root/.cpan/build/HTTP-Session2-1.09-3f1VFm/blib/lib/HTTP/Session2/Base.pm line 79.
	HTTP::Session2::Base::__ANON__(HTTP::Session2::ClientStore=HASH(0x8a92410), "s3cret") called at t/02_client_side.t line 92
	eval {...} called at t/02_client_side.t line 92
	main::__ANON__("client -> server: request without cookie", CODE(0x8a92280)) called at t/02_client_side.t line 98
	main::__ANON__() called at /opt/perl430-27-O0-5.12.0/lib/site_perl/5.12.0/Test/Builder.pm line 261
	Test::Builder::__ANON__() called at /opt/perl430-27-O0-5.12.0/lib/site_perl/5.12.0/Test/Builder.pm line 266
	eval {...} called at /opt/perl430-27-O0-5.12.0/lib/site_perl/5.12.0/Test/Builder.pm line 266
	Test::Builder::subtest(Test::Builder=HASH(0x87284c4), "In a login session", CODE(0x88f8d28)) called at /opt/perl430-27-O0-5.12.0/lib/site_perl/5.12.0/Test/More.pm line 771
	Test::More::subtest("In a login session", CODE(0x88f8d28)) called at t/02_client_side.t line 9
	main::scenario("In a login session", CODE(0x88f8d28)) called at t/02_client_side.t line 107
Do not use HTTP::Session2::ClientStore. Use HTTP::Session2::ServerStore or HTTP::Session2::ClientStore2 instead. at /root/.cpan/build/HTTP-Session2-1.09-3f1VFm/blib/lib/HTTP/Session2/ClientStore.pm line 35.
Do not use HTTP::Session2::ClientStore. Use HTTP::Session2::ServerStore or HTTP::Session2::ClientStore2 instead. at /root/.cpan/build/HTTP-Session2-1.09-3f1VFm/blib/lib/HTTP/Session2/ClientStore.pm line 25.
Secret string too short at /root/.cpan/build/HTTP-Session2-1.09-3f1VFm/blib/lib/HTTP/Session2/Base.pm line 79.
	HTTP::Session2::Base::__ANON__(HTTP::Session2::ClientStore=HASH(0x8a91d58), "s3cret") called at t/02_client_side.t line 112
	eval {...} called at t/02_client_side.t line 112
	main::__ANON__("client -> server: request without cookie", CODE(0x8a920a0)) called at t/02_client_side.t line 118
	main::__ANON__() called at /opt/perl430-27-O0-5.12.0/lib/site_perl/5.12.0/Test/Builder.pm line 261
	Test::Builder::__ANON__() called at /opt/perl430-27-O0-5.12.0/lib/site_perl/5.12.0/Test/Builder.pm line 266
	eval {...} called at /opt/perl430-27-O0-5.12.0/lib/site_perl/5.12.0/Test/Builder.pm line 266
	Test::Builder::subtest(Test::Builder=HASH(0x87284c4), "Logout", CODE(0x8862440)) called at /opt/perl430-27-O0-5.12.0/lib/site_perl/5.12.0/Test/More.pm line 771
	Test::More::subtest("Logout", CODE(0x8862440)) called at t/02_client_side.t line 9
	main::scenario("Logout", CODE(0x8862440)) called at t/02_client_side.t line 131
t/02_client_side.t .......... ok
Secret string too short at /root/.cpan/build/HTTP-Session2-1.09-3f1VFm/blib/lib/HTTP/Session2/Base.pm line 79.
	HTTP::Session2::Base::__ANON__(HTTP::Session2::ServerStore=HASH(0xa0e57d0), "s3cret") called at t/03_mech.t line 121
	eval {...} called at t/03_mech.t line 121
	main::server_session(HASH(0xa0e10b4)) called at t/03_mech.t line 17
	main::__ANON__(HASH(0xa0e10b4)) called at /opt/perl430-27-O0-5.12.0/lib/site_perl/5.12.0/Test/WWW/Mechanize/PSGI.pm line 39
	Test::WWW::Mechanize::PSGI::try {...} () called at /opt/perl430-27-O0-5.12.0/lib/site_perl/5.12.0/Try/Tiny.pm line 81
	eval {...} called at /opt/perl430-27-O0-5.12.0/lib/site_perl/5.12.0/Try/Tiny.pm line 72
	Try::Tiny::try(CODE(0xa0e4fc4), Try::Tiny::Catch=REF(0x97f2300)) called at /opt/perl430-27-O0-5.12.0/lib/site_perl/5.12.0/Test/WWW/Mechanize/PSGI.pm line 46
	Test::WWW::Mechanize::PSGI::simple_request(Test::WWW::Mechanize::PSGI=HASH(0x96a7e0c), HTTP::Request=HASH(0xa0e0a74), undef, undef) called at /opt/perl430-27-O0-5.12.0/lib/site_perl/5.12.0/LWP/UserAgent.pm line 282
	LWP::UserAgent::request(Test::WWW::Mechanize::PSGI=HASH(0x96a7e0c), HTTP::Request=HASH(0xa0e0a74)) called at /opt/perl430-27-O0-5.12.0/lib/site_perl/5.12.0/WWW/Mechanize.pm line 2598
	WWW::Mechanize::_make_request(Test::WWW::Mechanize::PSGI=HASH(0x96a7e0c), HTTP::Request=HASH(0xa0e0a74)) called at /opt/perl430-27-O0-5.12.0/lib/site_perl/5.12.0/WWW/Mechanize.pm line 2312
	WWW::Mechanize::request(Test::WWW::Mechanize::PSGI=HASH(0x96a7e0c), HTTP::Request=HASH(0xa0e0a74)) called at /opt/perl430-27-O0-5.12.0/lib/site_perl/5.12.0/LWP/UserAgent.pm line 411
	LWP::UserAgent::get(Test::WWW::Mechanize::PSGI=HASH(0x96a7e0c), "/") called at /opt/perl430-27-O0-5.12.0/lib/site_perl/5.12.0/WWW/Mechanize.pm line 407
	WWW::Mechanize::get(Test::WWW::Mechanize::PSGI=HASH(0x96a7e0c), "/") called at /opt/perl430-27-O0-5.12.0/lib/site_perl/5.12.0/Test/WWW/Mechanize.pm line 159
	Test::WWW::Mechanize::get_ok(Test::WWW::Mechanize::PSGI=HASH(0x96a7e0c), "/") called at t/03_mech.t line 74
Secret string too short at /root/.cpan/build/HTTP-Session2-1.09-3f1VFm/blib/lib/HTTP/Session2/Base.pm line 79.
	HTTP::Session2::Base::__ANON__(HTTP::Session2::ServerStore=HASH(0xa117d28), "s3cret") called at t/03_mech.t line 121
	eval {...} called at t/03_mech.t line 121
	main::server_session(HASH(0xa117940)) called at t/03_mech.t line 17
	main::__ANON__(HASH(0xa117940)) called at /opt/perl430-27-O0-5.12.0/lib/site_perl/5.12.0/Test/WWW/Mechanize/PSGI.pm line 39
	Test::WWW::Mechanize::PSGI::try {...} () called at /opt/perl430-27-O0-5.12.0/lib/site_perl/5.12.0/Try/Tiny.pm line 81
	eval {...} called at /opt/perl430-27-O0-5.12.0/lib/site_perl/5.12.0/Try/Tiny.pm line 72
	Try::Tiny::try(CODE(0xa117954), Try::Tiny::Catch=REF(0xa0e5668)) called at /opt/perl430-27-O0-5.12.0/lib/site_perl/5.12.0/Test/WWW/Mechanize/PSGI.pm line 46
	Test::WWW::Mechanize::PSGI::simple_request(Test::WWW::Mechanize::PSGI=HASH(0x96a7e0c), HTTP::Request=HASH(0xa1172c4), undef, undef) called at /opt/perl430-27-O0-5.12.0/lib/site_perl/5.12.0/LWP/UserAgent.pm line 282
	LWP::UserAgent::request(Test::WWW::Mechanize::PSGI=HASH(0x96a7e0c), HTTP::Request=HASH(0xa1172c4)) called at /opt/perl430-27-O0-5.12.0/lib/site_perl/5.12.0/WWW/Mechanize.pm line 2598
	WWW::Mechanize::_make_request(Test::WWW::Mechanize::PSGI=HASH(0x96a7e0c), HTTP::Request=HASH(0xa1172c4)) called at /opt/perl430-27-O0-5.12.0/lib/site_perl/5.12.0/WWW/Mechanize.pm line 2312
	WWW::Mechanize::request(Test::WWW::Mechanize::PSGI=HASH(0x96a7e0c), HTTP::Request=HASH(0xa1172c4)) called at /opt/perl430-27-O0-5.12.0/lib/site_perl/5.12.0/LWP/UserAgent.pm line 419
	LWP::UserAgent::post(Test::WWW::Mechanize::PSGI=HASH(0x96a7e0c), "/wishlist?foo", HASH(0x9e04948)) called at /opt/perl430-27-O0-5.12.0/lib/site_perl/5.12.0/Test/WWW/Mechanize.pm line 236
	Test::WWW::Mechanize::post_ok(Test::WWW::Mechanize::PSGI=HASH(0x96a7e0c), "/wishlist?foo") called at t/03_mech.t line 75
Secret string too short at /root/.cpan/build/HTTP-Session2-1.09-3f1VFm/blib/lib/HTTP/Session2/Base.pm line 79.
	HTTP::Session2::Base::__ANON__(HTTP::Session2::ServerStore=HASH(0xa11fc90), "s3cret") called at t/03_mech.t line 121
	eval {...} called at t/03_mech.t line 121
	main::server_session(HASH(0xa117ef4)) called at t/03_mech.t line 17
	main::__ANON__(HASH(0xa117ef4)) called at /opt/perl430-27-O0-5.12.0/lib/site_perl/5.12.0/Test/WWW/Mechanize/PSGI.pm line 39
	Test::WWW::Mechanize::PSGI::try {...} () called at /opt/perl430-27-O0-5.12.0/lib/site_perl/5.12.0/Try/Tiny.pm line 81
	eval {...} called at /opt/perl430-27-O0-5.12.0/lib/site_perl/5.12.0/Try/Tiny.pm line 72
	Try::Tiny::try(CODE(0xa0e5668), Try::Tiny::Catch=REF(0xa117c4c)) called at /opt/perl430-27-O0-5.12.0/lib/site_perl/5.12.0/Test/WWW/Mechanize/PSGI.pm line 46
	Test::WWW::Mechanize::PSGI::simple_request(Test::WWW::Mechanize::PSGI=HASH(0x96a7e0c), HTTP::Request=HASH(0xa0e5208), undef, undef) called at /opt/perl430-27-O0-5.12.0/lib/site_perl/5.12.0/LWP/UserAgent.pm line 282
	LWP::UserAgent::request(Test::WWW::Mechanize::PSGI=HASH(0x96a7e0c), HTTP::Request=HASH(0xa0e5208)) called at /opt/perl430-27-O0-5.12.0/lib/site_perl/5.12.0/WWW/Mechanize.pm line 2598
	WWW::Mechanize::_make_request(Test::WWW::Mechanize::PSGI=HASH(0x96a7e0c), HTTP::Request=HASH(0xa0e5208)) called at /opt/perl430-27-O0-5.12.0/lib/site_perl/5.12.0/WWW/Mechanize.pm line 2312
	WWW::Mechanize::request(Test::WWW::Mechanize::PSGI=HASH(0x96a7e0c), HTTP::Request=HASH(0xa0e5208)) called at /opt/perl430-27-O0-5.12.0/lib/site_perl/5.12.0/LWP/UserAgent.pm line 411
	LWP::UserAgent::get(Test::WWW::Mechanize::PSGI=HASH(0x96a7e0c), "http://localhost/wishlist") called at /opt/perl430-27-O0-5.12.0/lib/site_perl/5.12.0/WWW/Mechanize.pm line 407
	WWW::Mechanize::get(Test::WWW::Mechanize::PSGI=HASH(0x96a7e0c), "/wishlist") called at /opt/perl430-27-O0-5.12.0/lib/site_perl/5.12.0/Test/WWW/Mechanize.pm line 159
	Test::WWW::Mechanize::get_ok(Test::WWW::Mechanize::PSGI=HASH(0x96a7e0c), "/wishlist") called at t/03_mech.t line 76
Secret string too short at /root/.cpan/build/HTTP-Session2-1.09-3f1VFm/blib/lib/HTTP/Session2/Base.pm line 79.
	HTTP::Session2::Base::__ANON__(HTTP::Session2::ServerStore=HASH(0xa120118), "s3cret") called at t/03_mech.t line 121
	eval {...} called at t/03_mech.t line 121
	main::server_session(HASH(0xa117cb0)) called at t/03_mech.t line 17
	main::__ANON__(HASH(0xa117cb0)) called at /opt/perl430-27-O0-5.12.0/lib/site_perl/5.12.0/Test/WWW/Mechanize/PSGI.pm line 39
	Test::WWW::Mechanize::PSGI::try {...} () called at /opt/perl430-27-O0-5.12.0/lib/site_perl/5.12.0/Try/Tiny.pm line 81
	eval {...} called at /opt/perl430-27-O0-5.12.0/lib/site_perl/5.12.0/Try/Tiny.pm line 72
	Try::Tiny::try(CODE(0xa11fb78), Try::Tiny::Catch=REF(0xa11fb3c)) called at /opt/perl430-27-O0-5.12.0/lib/site_perl/5.12.0/Test/WWW/Mechanize/PSGI.pm line 46
	Test::WWW::Mechanize::PSGI::simple_request(Test::WWW::Mechanize::PSGI=HASH(0x96a7e0c), HTTP::Request=HASH(0xa117d8c), undef, undef) called at /opt/perl430-27-O0-5.12.0/lib/site_perl/5.12.0/LWP/UserAgent.pm line 282
	LWP::UserAgent::request(Test::WWW::Mechanize::PSGI=HASH(0x96a7e0c), HTTP::Request=HASH(0xa117d8c)) called at /opt/perl430-27-O0-5.12.0/lib/site_perl/5.12.0/WWW/Mechanize.pm line 2598
	WWW::Mechanize::_make_request(Test::WWW::Mechanize::PSGI=HASH(0x96a7e0c), HTTP::Request=HASH(0xa117d8c)) called at /opt/perl430-27-O0-5.12.0/lib/site_perl/5.12.0/WWW/Mechanize.pm line 2312
	WWW::Mechanize::request(Test::WWW::Mechanize::PSGI=HASH(0x96a7e0c), HTTP::Request=HASH(0xa117d8c)) called at /opt/perl430-27-O0-5.12.0/lib/site_perl/5.12.0/LWP/UserAgent.pm line 419
	LWP::UserAgent::post(Test::WWW::Mechanize::PSGI=HASH(0x96a7e0c), "/wishlist?bar") called at t/03_mech.t line 78
Secret string too short at /root/.cpan/build/HTTP-Session2-1.09-3f1VFm/blib/lib/HTTP/Session2/Base.pm line 79.
	HTTP::Session2::Base::__ANON__(HTTP::Session2::ServerStore=HASH(0xa120438), "s3cret") called at t/03_mech.t line 121
	eval {...} called at t/03_mech.t line 121
	main::server_session(HASH(0xa11fbc8)) called at t/03_mech.t line 17
	main::__ANON__(HASH(0xa11fbc8)) called at /opt/perl430-27-O0-5.12.0/lib/site_perl/5.12.0/Test/WWW/Mechanize/PSGI.pm line 39
	Test::WWW::Mechanize::PSGI::try {...} () called at /opt/perl430-27-O0-5.12.0/lib/site_perl/5.12.0/Try/Tiny.pm line 81
	eval {...} called at /opt/perl430-27-O0-5.12.0/lib/site_perl/5.12.0/Try/Tiny.pm line 72
	Try::Tiny::try(CODE(0xa11fd94), Try::Tiny::Catch=REF(0xa11fca4)) called at /opt/perl430-27-O0-5.12.0/lib/site_perl/5.12.0/Test/WWW/Mechanize/PSGI.pm line 46
	Test::WWW::Mechanize::PSGI::simple_request(Test::WWW::Mechanize::PSGI=HASH(0x96a7e0c), HTTP::Request=HASH(0xa11fc54), undef, undef) called at /opt/perl430-27-O0-5.12.0/lib/site_perl/5.12.0/LWP/UserAgent.pm line 282
	LWP::UserAgent::request(Test::WWW::Mechanize::PSGI=HASH(0x96a7e0c), HTTP::Request=HASH(0xa11fc54)) called at /opt/perl430-27-O0-5.12.0/lib/site_perl/5.12.0/WWW/Mechanize.pm line 2598
	WWW::Mechanize::_make_request(Test::WWW::Mechanize::PSGI=HASH(0x96a7e0c), HTTP::Request=HASH(0xa11fc54)) called at /opt/perl430-27-O0-5.12.0/lib/site_perl/5.12.0/WWW/Mechanize.pm line 2312
	WWW::Mechanize::request(Test::WWW::Mechanize::PSGI=HASH(0x96a7e0c), HTTP::Request=HASH(0xa11fc54)) called at /opt/perl430-27-O0-5.12.0/lib/site_perl/5.12.0/LWP/UserAgent.pm line 419
	LWP::UserAgent::post(Test::WWW::Mechanize::PSGI=HASH(0x96a7e0c), "/wishlist?bar", HASH(0x9e04948)) called at /opt/perl430-27-O0-5.12.0/lib/site_perl/5.12.0/Test/WWW/Mechanize.pm line 236
	Test::WWW::Mechanize::post_ok(Test::WWW::Mechanize::PSGI=HASH(0x96a7e0c), "/wishlist?bar") called at t/03_mech.t line 81
Secret string too short at /root/.cpan/build/HTTP-Session2-1.09-3f1VFm/blib/lib/HTTP/Session2/Base.pm line 79.
	HTTP::Session2::Base::__ANON__(HTTP::Session2::ServerStore=HASH(0xa127920), "s3cret") called at t/03_mech.t line 121
	eval {...} called at t/03_mech.t line 121
	main::server_session(HASH(0xa11fd44)) called at t/03_mech.t line 17
	main::__ANON__(HASH(0xa11fd44)) called at /opt/perl430-27-O0-5.12.0/lib/site_perl/5.12.0/Test/WWW/Mechanize/PSGI.pm line 39
	Test::WWW::Mechanize::PSGI::try {...} () called at /opt/perl430-27-O0-5.12.0/lib/site_perl/5.12.0/Try/Tiny.pm line 81
	eval {...} called at /opt/perl430-27-O0-5.12.0/lib/site_perl/5.12.0/Try/Tiny.pm line 72
	Try::Tiny::try(CODE(0xa11ff88), Try::Tiny::Catch=REF(0xa11fe98)) called at /opt/perl430-27-O0-5.12.0/lib/site_perl/5.12.0/Test/WWW/Mechanize/PSGI.pm line 46
	Test::WWW::Mechanize::PSGI::simple_request(Test::WWW::Mechanize::PSGI=HASH(0x96a7e0c), HTTP::Request=HASH(0xa11fb50), undef, undef) called at /opt/perl430-27-O0-5.12.0/lib/site_perl/5.12.0/LWP/UserAgent.pm line 282
	LWP::UserAgent::request(Test::WWW::Mechanize::PSGI=HASH(0x96a7e0c), HTTP::Request=HASH(0xa11fb50)) called at /opt/perl430-27-O0-5.12.0/lib/site_perl/5.12.0/WWW/Mechanize.pm line 2598
	WWW::Mechanize::_make_request(Test::WWW::Mechanize::PSGI=HASH(0x96a7e0c), HTTP::Request=HASH(0xa11fb50)) called at /opt/perl430-27-O0-5.12.0/lib/site_perl/5.12.0/WWW/Mechanize.pm line 2312
	WWW::Mechanize::request(Test::WWW::Mechanize::PSGI=HASH(0x96a7e0c), HTTP::Request=HASH(0xa11fb50)) called at /opt/perl430-27-O0-5.12.0/lib/site_perl/5.12.0/LWP/UserAgent.pm line 411
	LWP::UserAgent::get(Test::WWW::Mechanize::PSGI=HASH(0x96a7e0c), "http://localhost/wishlist") called at /opt/perl430-27-O0-5.12.0/lib/site_perl/5.12.0/WWW/Mechanize.pm line 407
	WWW::Mechanize::get(Test::WWW::Mechanize::PSGI=HASH(0x96a7e0c), "/wishlist") called at /opt/perl430-27-O0-5.12.0/lib/site_perl/5.12.0/Test/WWW/Mechanize.pm line 159
	Test::WWW::Mechanize::get_ok(Test::WWW::Mechanize::PSGI=HASH(0x96a7e0c), "/wishlist") called at t/03_mech.t line 82
Secret string too short at /root/.cpan/build/HTTP-Session2-1.09-3f1VFm/blib/lib/HTTP/Session2/Base.pm line 79.
	HTTP::Session2::Base::__ANON__(HTTP::Session2::ServerStore=HASH(0xa127d1c), "s3cret") called at t/03_mech.t line 121
	eval {...} called at t/03_mech.t line 121
	main::server_session(HASH(0xa11ff4c)) called at t/03_mech.t line 17
	main::__ANON__(HASH(0xa11ff4c)) called at /opt/perl430-27-O0-5.12.0/lib/site_perl/5.12.0/Test/WWW/Mechanize/PSGI.pm line 39
	Test::WWW::Mechanize::PSGI::try {...} () called at /opt/perl430-27-O0-5.12.0/lib/site_perl/5.12.0/Try/Tiny.pm line 81
	eval {...} called at /opt/perl430-27-O0-5.12.0/lib/site_perl/5.12.0/Try/Tiny.pm line 72
	Try::Tiny::try(CODE(0xa127858), Try::Tiny::Catch=REF(0xa12049c)) called at /opt/perl430-27-O0-5.12.0/lib/site_perl/5.12.0/Test/WWW/Mechanize/PSGI.pm line 46
	Test::WWW::Mechanize::PSGI::simple_request(Test::WWW::Mechanize::PSGI=HASH(0x96a7e0c), HTTP::Request=HASH(0xa120140), undef, undef) called at /opt/perl430-27-O0-5.12.0/lib/site_perl/5.12.0/LWP/UserAgent.pm line 282
	LWP::UserAgent::request(Test::WWW::Mechanize::PSGI=HASH(0x96a7e0c), HTTP::Request=HASH(0xa120140)) called at /opt/perl430-27-O0-5.12.0/lib/site_perl/5.12.0/WWW/Mechanize.pm line 2598
	WWW::Mechanize::_make_request(Test::WWW::Mechanize::PSGI=HASH(0x96a7e0c), HTTP::Request=HASH(0xa120140)) called at /opt/perl430-27-O0-5.12.0/lib/site_perl/5.12.0/WWW/Mechanize.pm line 2312
	WWW::Mechanize::request(Test::WWW::Mechanize::PSGI=HASH(0x96a7e0c), HTTP::Request=HASH(0xa120140)) called at /opt/perl430-27-O0-5.12.0/lib/site_perl/5.12.0/LWP/UserAgent.pm line 419
	LWP::UserAgent::post(Test::WWW::Mechanize::PSGI=HASH(0x96a7e0c), "/account/login?john", HASH(0x9e04948)) called at /opt/perl430-27-O0-5.12.0/lib/site_perl/5.12.0/Test/WWW/Mechanize.pm line 236
	Test::WWW::Mechanize::post_ok(Test::WWW::Mechanize::PSGI=HASH(0x96a7e0c), "/account/login?john") called at t/03_mech.t line 84
Secret string too short at /root/.cpan/build/HTTP-Session2-1.09-3f1VFm/blib/lib/HTTP/Session2/Base.pm line 79.
	HTTP::Session2::Base::__ANON__(HTTP::Session2::ServerStore=HASH(0xa127e70), "s3cret") called at t/03_mech.t line 121
	eval {...} called at t/03_mech.t line 121
	main::server_session(HASH(0xa120730)) called at t/03_mech.t line 17
	main::__ANON__(HASH(0xa120730)) called at /opt/perl430-27-O0-5.12.0/lib/site_perl/5.12.0/Test/WWW/Mechanize/PSGI.pm line 39
	Test::WWW::Mechanize::PSGI::try {...} () called at /opt/perl430-27-O0-5.12.0/lib/site_perl/5.12.0/Try/Tiny.pm line 81
	eval {...} called at /opt/perl430-27-O0-5.12.0/lib/site_perl/5.12.0/Try/Tiny.pm line 72
	Try::Tiny::try(CODE(0xa120780), Try::Tiny::Catch=REF(0xa1279e8)) called at /opt/perl430-27-O0-5.12.0/lib/site_perl/5.12.0/Test/WWW/Mechanize/PSGI.pm line 46
	Test::WWW::Mechanize::PSGI::simple_request(Test::WWW::Mechanize::PSGI=HASH(0x96a7e0c), HTTP::Request=HASH(0xa127934), undef, undef) called at /opt/perl430-27-O0-5.12.0/lib/site_perl/5.12.0/LWP/UserAgent.pm line 282
	LWP::UserAgent::request(Test::WWW::Mechanize::PSGI=HASH(0x96a7e0c), HTTP::Request=HASH(0xa127934)) called at /opt/perl430-27-O0-5.12.0/lib/site_perl/5.12.0/WWW/Mechanize.pm line 2598
	WWW::Mechanize::_make_request(Test::WWW::Mechanize::PSGI=HASH(0x96a7e0c), HTTP::Request=HASH(0xa127934)) called at /opt/perl430-27-O0-5.12.0/lib/site_perl/5.12.0/WWW/Mechanize.pm line 2312
	WWW::Mechanize::request(Test::WWW::Mechanize::PSGI=HASH(0x96a7e0c), HTTP::Request=HASH(0xa127934)) called at /opt/perl430-27-O0-5.12.0/lib/site_perl/5.12.0/LWP/UserAgent.pm line 411
	LWP::UserAgent::get(Test::WWW::Mechanize::PSGI=HASH(0x96a7e0c), "http://localhost/wishlist") called at /opt/perl430-27-O0-5.12.0/lib/site_perl/5.12.0/WWW/Mechanize.pm line 407
	WWW::Mechanize::get(Test::WWW::Mechanize::PSGI=HASH(0x96a7e0c), "/wishlist") called at /opt/perl430-27-O0-5.12.0/lib/site_perl/5.12.0/Test/WWW/Mechanize.pm line 159
	Test::WWW::Mechanize::get_ok(Test::WWW::Mechanize::PSGI=HASH(0x96a7e0c), "/wishlist", "Wishlist is still available") called at t/03_mech.t line 85
Secret string too short at /root/.cpan/build/HTTP-Session2-1.09-3f1VFm/blib/lib/HTTP/Session2/Base.pm line 79.
	HTTP::Session2::Base::__ANON__(HTTP::Session2::ServerStore=HASH(0xa12858c), "s3cret") called at t/03_mech.t line 121
	eval {...} called at t/03_mech.t line 121
	main::server_session(HASH(0xa1207d0)) called at t/03_mech.t line 17
	main::__ANON__(HASH(0xa1207d0)) called at /opt/perl430-27-O0-5.12.0/lib/site_perl/5.12.0/Test/WWW/Mechanize/PSGI.pm line 39
	Test::WWW::Mechanize::PSGI::try {...} () called at /opt/perl430-27-O0-5.12.0/lib/site_perl/5.12.0/Try/Tiny.pm line 81
	eval {...} called at /opt/perl430-27-O0-5.12.0/lib/site_perl/5.12.0/Try/Tiny.pm line 72
	Try::Tiny::try(CODE(0xa12826c), Try::Tiny::Catch=REF(0xa127dd0)) called at /opt/perl430-27-O0-5.12.0/lib/site_perl/5.12.0/Test/WWW/Mechanize/PSGI.pm line 46
	Test::WWW::Mechanize::PSGI::simple_request(Test::WWW::Mechanize::PSGI=HASH(0x96a7e0c), HTTP::Request=HASH(0xa127cb8), undef, undef) called at /opt/perl430-27-O0-5.12.0/lib/site_perl/5.12.0/LWP/UserAgent.pm line 282
	LWP::UserAgent::request(Test::WWW::Mechanize::PSGI=HASH(0x96a7e0c), HTTP::Request=HASH(0xa127cb8)) called at /opt/perl430-27-O0-5.12.0/lib/site_perl/5.12.0/WWW/Mechanize.pm line 2598
	WWW::Mechanize::_make_request(Test::WWW::Mechanize::PSGI=HASH(0x96a7e0c), HTTP::Request=HASH(0xa127cb8)) called at /opt/perl430-27-O0-5.12.0/lib/site_perl/5.12.0/WWW/Mechanize.pm line 2312
	WWW::Mechanize::request(Test::WWW::Mechanize::PSGI=HASH(0x96a7e0c), HTTP::Request=HASH(0xa127cb8)) called at /opt/perl430-27-O0-5.12.0/lib/site_perl/5.12.0/LWP/UserAgent.pm line 419
	LWP::UserAgent::post(Test::WWW::Mechanize::PSGI=HASH(0x96a7e0c), "/wishlist?baz") called at t/03_mech.t line 87
Secret string too short at /root/.cpan/build/HTTP-Session2-1.09-3f1VFm/blib/lib/HTTP/Session2/Base.pm line 79.
	HTTP::Session2::Base::__ANON__(HTTP::Session2::ServerStore=HASH(0xa12871c), "s3cret") called at t/03_mech.t line 121
	eval {...} called at t/03_mech.t line 121
	main::server_session(HASH(0xa128078)) called at t/03_mech.t line 17
	main::__ANON__(HASH(0xa128078)) called at /opt/perl430-27-O0-5.12.0/lib/site_perl/5.12.0/Test/WWW/Mechanize/PSGI.pm line 39
	Test::WWW::Mechanize::PSGI::try {...} () called at /opt/perl430-27-O0-5.12.0/lib/site_perl/5.12.0/Try/Tiny.pm line 81
	eval {...} called at /opt/perl430-27-O0-5.12.0/lib/site_perl/5.12.0/Try/Tiny.pm line 72
	Try::Tiny::try(CODE(0xa120758), Try::Tiny::Catch=REF(0xa127e48)) called at /opt/perl430-27-O0-5.12.0/lib/site_perl/5.12.0/Test/WWW/Mechanize/PSGI.pm line 46
	Test::WWW::Mechanize::PSGI::simple_request(Test::WWW::Mechanize::PSGI=HASH(0x96a7e0c), HTTP::Request=HASH(0xa117e40), undef, undef) called at /opt/perl430-27-O0-5.12.0/lib/site_perl/5.12.0/LWP/UserAgent.pm line 282
	LWP::UserAgent::request(Test::WWW::Mechanize::PSGI=HASH(0x96a7e0c), HTTP::Request=HASH(0xa117e40)) called at /opt/perl430-27-O0-5.12.0/lib/site_perl/5.12.0/WWW/Mechanize.pm line 2598
	WWW::Mechanize::_make_request(Test::WWW::Mechanize::PSGI=HASH(0x96a7e0c), HTTP::Request=HASH(0xa117e40)) called at /opt/perl430-27-O0-5.12.0/lib/site_perl/5.12.0/WWW/Mechanize.pm line 2312
	WWW::Mechanize::request(Test::WWW::Mechanize::PSGI=HASH(0x96a7e0c), HTTP::Request=HASH(0xa117e40)) called at /opt/perl430-27-O0-5.12.0/lib/site_perl/5.12.0/LWP/UserAgent.pm line 419
	LWP::UserAgent::post(Test::WWW::Mechanize::PSGI=HASH(0x96a7e0c), "/wishlist?baz", HASH(0x9e04948)) called at /opt/perl430-27-O0-5.12.0/lib/site_perl/5.12.0/Test/WWW/Mechanize.pm line 236
	Test::WWW::Mechanize::post_ok(Test::WWW::Mechanize::PSGI=HASH(0x96a7e0c), "/wishlist?baz") called at t/03_mech.t line 90
Secret string too short at /root/.cpan/build/HTTP-Session2-1.09-3f1VFm/blib/lib/HTTP/Session2/Base.pm line 79.
	HTTP::Session2::Base::__ANON__(HTTP::Session2::ServerStore=HASH(0xa12bd1c), "s3cret") called at t/03_mech.t line 121
	eval {...} called at t/03_mech.t line 121
	main::server_session(HASH(0xa127f88)) called at t/03_mech.t line 17
	main::__ANON__(HASH(0xa127f88)) called at /opt/perl430-27-O0-5.12.0/lib/site_perl/5.12.0/Test/WWW/Mechanize/PSGI.pm line 39
	Test::WWW::Mechanize::PSGI::try {...} () called at /opt/perl430-27-O0-5.12.0/lib/site_perl/5.12.0/Try/Tiny.pm line 81
	eval {...} called at /opt/perl430-27-O0-5.12.0/lib/site_perl/5.12.0/Try/Tiny.pm line 72
	Try::Tiny::try(CODE(0xa128640), Try::Tiny::Catch=REF(0xa128514)) called at /opt/perl430-27-O0-5.12.0/lib/site_perl/5.12.0/Test/WWW/Mechanize/PSGI.pm line 46
	Test::WWW::Mechanize::PSGI::simple_request(Test::WWW::Mechanize::PSGI=HASH(0x96a7e0c), HTTP::Request=HASH(0xa1285a0), undef, undef) called at /opt/perl430-27-O0-5.12.0/lib/site_perl/5.12.0/LWP/UserAgent.pm line 282
	LWP::UserAgent::request(Test::WWW::Mechanize::PSGI=HASH(0x96a7e0c), HTTP::Request=HASH(0xa1285a0)) called at /opt/perl430-27-O0-5.12.0/lib/site_perl/5.12.0/WWW/Mechanize.pm line 2598
	WWW::Mechanize::_make_request(Test::WWW::Mechanize::PSGI=HASH(0x96a7e0c), HTTP::Request=HASH(0xa1285a0)) called at /opt/perl430-27-O0-5.12.0/lib/site_perl/5.12.0/WWW/Mechanize.pm line 2312
	WWW::Mechanize::request(Test::WWW::Mechanize::PSGI=HASH(0x96a7e0c), HTTP::Request=HASH(0xa1285a0)) called at /opt/perl430-27-O0-5.12.0/lib/site_perl/5.12.0/LWP/UserAgent.pm line 411
	LWP::UserAgent::get(Test::WWW::Mechanize::PSGI=HASH(0x96a7e0c), "http://localhost/wishlist") called at /opt/perl430-27-O0-5.12.0/lib/site_perl/5.12.0/WWW/Mechanize.pm line 407
	WWW::Mechanize::get(Test::WWW::Mechanize::PSGI=HASH(0x96a7e0c), "/wishlist") called at /opt/perl430-27-O0-5.12.0/lib/site_perl/5.12.0/Test/WWW/Mechanize.pm line 159
	Test::WWW::Mechanize::get_ok(Test::WWW::Mechanize::PSGI=HASH(0x96a7e0c), "/wishlist", "Wishlist is still available") called at t/03_mech.t line 91
Secret string too short at /root/.cpan/build/HTTP-Session2-1.09-3f1VFm/blib/lib/HTTP/Session2/Base.pm line 79.
	HTTP::Session2::Base::__ANON__(HTTP::Session2::ServerStore=HASH(0xa12c12c), "s3cret") called at t/03_mech.t line 121
	eval {...} called at t/03_mech.t line 121
	main::server_session(HASH(0xa12bc54)) called at t/03_mech.t line 17
	main::__ANON__(HASH(0xa12bc54)) called at /opt/perl430-27-O0-5.12.0/lib/site_perl/5.12.0/Test/WWW/Mechanize/PSGI.pm line 39
	Test::WWW::Mechanize::PSGI::try {...} () called at /opt/perl430-27-O0-5.12.0/lib/site_perl/5.12.0/Try/Tiny.pm line 81
	eval {...} called at /opt/perl430-27-O0-5.12.0/lib/site_perl/5.12.0/Try/Tiny.pm line 72
	Try::Tiny::try(CODE(0xa12bd58), Try::Tiny::Catch=REF(0xa12b95c)) called at /opt/perl430-27-O0-5.12.0/lib/site_perl/5.12.0/Test/WWW/Mechanize/PSGI.pm line 46
	Test::WWW::Mechanize::PSGI::simple_request(Test::WWW::Mechanize::PSGI=HASH(0x96a7e0c), HTTP::Request=HASH(0xa12b9e8), undef, undef) called at /opt/perl430-27-O0-5.12.0/lib/site_perl/5.12.0/LWP/UserAgent.pm line 282
	LWP::UserAgent::request(Test::WWW::Mechanize::PSGI=HASH(0x96a7e0c), HTTP::Request=HASH(0xa12b9e8)) called at /opt/perl430-27-O0-5.12.0/lib/site_perl/5.12.0/WWW/Mechanize.pm line 2598
	WWW::Mechanize::_make_request(Test::WWW::Mechanize::PSGI=HASH(0x96a7e0c), HTTP::Request=HASH(0xa12b9e8)) called at /opt/perl430-27-O0-5.12.0/lib/site_perl/5.12.0/WWW/Mechanize.pm line 2312
	WWW::Mechanize::request(Test::WWW::Mechanize::PSGI=HASH(0x96a7e0c), HTTP::Request=HASH(0xa12b9e8)) called at /opt/perl430-27-O0-5.12.0/lib/site_perl/5.12.0/LWP/UserAgent.pm line 411
	LWP::UserAgent::get(Test::WWW::Mechanize::PSGI=HASH(0x96a7e0c), "http://localhost/my/name") called at /opt/perl430-27-O0-5.12.0/lib/site_perl/5.12.0/WWW/Mechanize.pm line 407
	WWW::Mechanize::get(Test::WWW::Mechanize::PSGI=HASH(0x96a7e0c), "/my/name") called at /opt/perl430-27-O0-5.12.0/lib/site_perl/5.12.0/Test/WWW/Mechanize.pm line 159
	Test::WWW::Mechanize::get_ok(Test::WWW::Mechanize::PSGI=HASH(0x96a7e0c), "/my/name") called at t/03_mech.t line 93
Secret string too short at /root/.cpan/build/HTTP-Session2-1.09-3f1VFm/blib/lib/HTTP/Session2/Base.pm line 79.
	HTTP::Session2::Base::__ANON__(HTTP::Session2::ServerStore=HASH(0xa12c668), "s3cret") called at t/03_mech.t line 121
	eval {...} called at t/03_mech.t line 121
	main::server_session(HASH(0xa12bc04)) called at t/03_mech.t line 17
	main::__ANON__(HASH(0xa12bc04)) called at /opt/perl430-27-O0-5.12.0/lib/site_perl/5.12.0/Test/WWW/Mechanize/PSGI.pm line 39
	Test::WWW::Mechanize::PSGI::try {...} () called at /opt/perl430-27-O0-5.12.0/lib/site_perl/5.12.0/Try/Tiny.pm line 81
	eval {...} called at /opt/perl430-27-O0-5.12.0/lib/site_perl/5.12.0/Try/Tiny.pm line 72
	Try::Tiny::try(CODE(0xa12bd94), Try::Tiny::Catch=REF(0xa12bde4)) called at /opt/perl430-27-O0-5.12.0/lib/site_perl/5.12.0/Test/WWW/Mechanize/PSGI.pm line 46
	Test::WWW::Mechanize::PSGI::simple_request(Test::WWW::Mechanize::PSGI=HASH(0x96a7e0c), HTTP::Request=HASH(0xa12bb50), undef, undef) called at /opt/perl430-27-O0-5.12.0/lib/site_perl/5.12.0/LWP/UserAgent.pm line 282
	LWP::UserAgent::request(Test::WWW::Mechanize::PSGI=HASH(0x96a7e0c), HTTP::Request=HASH(0xa12bb50)) called at /opt/perl430-27-O0-5.12.0/lib/site_perl/5.12.0/WWW/Mechanize.pm line 2598
	WWW::Mechanize::_make_request(Test::WWW::Mechanize::PSGI=HASH(0x96a7e0c), HTTP::Request=HASH(0xa12bb50)) called at /opt/perl430-27-O0-5.12.0/lib/site_perl/5.12.0/WWW/Mechanize.pm line 2312
	WWW::Mechanize::request(Test::WWW::Mechanize::PSGI=HASH(0x96a7e0c), HTTP::Request=HASH(0xa12bb50)) called at /opt/perl430-27-O0-5.12.0/lib/site_perl/5.12.0/LWP/UserAgent.pm line 419
	LWP::UserAgent::post(Test::WWW::Mechanize::PSGI=HASH(0x96a7e0c), "/account/logout?john") called at t/03_mech.t line 97
Secret string too short at /root/.cpan/build/HTTP-Session2-1.09-3f1VFm/blib/lib/HTTP/Session2/Base.pm line 79.
	HTTP::Session2::Base::__ANON__(HTTP::Session2::ClientStore=HASH(0xa11faec), "s3cret") called at t/03_mech.t line 127
	eval {...} called at t/03_mech.t line 127
	main::client_session(HASH(0xa12c410)) called at t/03_mech.t line 17
	main::__ANON__(HASH(0xa12c410)) called at /opt/perl430-27-O0-5.12.0/lib/site_perl/5.12.0/Test/WWW/Mechanize/PSGI.pm line 39
	Test::WWW::Mechanize::PSGI::try {...} () called at /opt/perl430-27-O0-5.12.0/lib/site_perl/5.12.0/Try/Tiny.pm line 81
	eval {...} called at /opt/perl430-27-O0-5.12.0/lib/site_perl/5.12.0/Try/Tiny.pm line 72
	Try::Tiny::try(CODE(0xa117c74), Try::Tiny::Catch=REF(0xa12c488)) called at /opt/perl430-27-O0-5.12.0/lib/site_perl/5.12.0/Test/WWW/Mechanize/PSGI.pm line 46
	Test::WWW::Mechanize::PSGI::simple_request(Test::WWW::Mechanize::PSGI=HASH(0xa12be48), HTTP::Request=HASH(0xa12fa24), undef, undef) called at /opt/perl430-27-O0-5.12.0/lib/site_perl/5.12.0/LWP/UserAgent.pm line 282
	LWP::UserAgent::request(Test::WWW::Mechanize::PSGI=HASH(0xa12be48), HTTP::Request=HASH(0xa12fa24)) called at /opt/perl430-27-O0-5.12.0/lib/site_perl/5.12.0/WWW/Mechanize.pm line 2598
	WWW::Mechanize::_make_request(Test::WWW::Mechanize::PSGI=HASH(0xa12be48), HTTP::Request=HASH(0xa12fa24)) called at /opt/perl430-27-O0-5.12.0/lib/site_perl/5.12.0/WWW/Mechanize.pm line 2312
	WWW::Mechanize::request(Test::WWW::Mechanize::PSGI=HASH(0xa12be48), HTTP::Request=HASH(0xa12fa24)) called at /opt/perl430-27-O0-5.12.0/lib/site_perl/5.12.0/LWP/UserAgent.pm line 411
	LWP::UserAgent::get(Test::WWW::Mechanize::PSGI=HASH(0xa12be48), "/") called at /opt/perl430-27-O0-5.12.0/lib/site_perl/5.12.0/WWW/Mechanize.pm line 407
	WWW::Mechanize::get(Test::WWW::Mechanize::PSGI=HASH(0xa12be48), "/") called at /opt/perl430-27-O0-5.12.0/lib/site_perl/5.12.0/Test/WWW/Mechanize.pm line 159
	Test::WWW::Mechanize::get_ok(Test::WWW::Mechanize::PSGI=HASH(0xa12be48), "/") called at t/03_mech.t line 74
Secret string too short at /root/.cpan/build/HTTP-Session2-1.09-3f1VFm/blib/lib/HTTP/Session2/Base.pm line 79.
	HTTP::Session2::Base::__ANON__(HTTP::Session2::ClientStore=HASH(0xa11fb28), "s3cret") called at t/03_mech.t line 127
	eval {...} called at t/03_mech.t line 127
	main::client_session(HASH(0xa11fb8c)) called at t/03_mech.t line 17
	main::__ANON__(HASH(0xa11fb8c)) called at /opt/perl430-27-O0-5.12.0/lib/site_perl/5.12.0/Test/WWW/Mechanize/PSGI.pm line 39
	Test::WWW::Mechanize::PSGI::try {...} () called at /opt/perl430-27-O0-5.12.0/lib/site_perl/5.12.0/Try/Tiny.pm line 81
	eval {...} called at /opt/perl430-27-O0-5.12.0/lib/site_perl/5.12.0/Try/Tiny.pm line 72
	Try::Tiny::try(CODE(0xa11fc2c), Try::Tiny::Catch=REF(0xa11fa74)) called at /opt/perl430-27-O0-5.12.0/lib/site_perl/5.12.0/Test/WWW/Mechanize/PSGI.pm line 46
	Test::WWW::Mechanize::PSGI::simple_request(Test::WWW::Mechanize::PSGI=HASH(0xa12be48), HTTP::Request=HASH(0xa12008c), undef, undef) called at /opt/perl430-27-O0-5.12.0/lib/site_perl/5.12.0/LWP/UserAgent.pm line 282
	LWP::UserAgent::request(Test::WWW::Mechanize::PSGI=HASH(0xa12be48), HTTP::Request=HASH(0xa12008c)) called at /opt/perl430-27-O0-5.12.0/lib/site_perl/5.12.0/WWW/Mechanize.pm line 2598
	WWW::Mechanize::_make_request(Test::WWW::Mechanize::PSGI=HASH(0xa12be48), HTTP::Request=HASH(0xa12008c)) called at /opt/perl430-27-O0-5.12.0/lib/site_perl/5.12.0/WWW/Mechanize.pm line 2312
	WWW::Mechanize::request(Test::WWW::Mechanize::PSGI=HASH(0xa12be48), HTTP::Request=HASH(0xa12008c)) called at /opt/perl430-27-O0-5.12.0/lib/site_perl/5.12.0/LWP/UserAgent.pm line 419
	LWP::UserAgent::post(Test::WWW::Mechanize::PSGI=HASH(0xa12be48), "/wishlist?foo", HASH(0x9e04948)) called at /opt/perl430-27-O0-5.12.0/lib/site_perl/5.12.0/Test/WWW/Mechanize.pm line 236
	Test::WWW::Mechanize::post_ok(Test::WWW::Mechanize::PSGI=HASH(0xa12be48), "/wishlist?foo") called at t/03_mech.t line 75
Do not use HTTP::Session2::ClientStore. Use HTTP::Session2::ServerStore or HTTP::Session2::ClientStore2 instead. at /root/.cpan/build/HTTP-Session2-1.09-3f1VFm/blib/lib/HTTP/Session2/ClientStore.pm line 25.
Secret string too short at /root/.cpan/build/HTTP-Session2-1.09-3f1VFm/blib/lib/HTTP/Session2/Base.pm line 79.
	HTTP::Session2::Base::__ANON__(HTTP::Session2::ClientStore=HASH(0xa1279ac), "s3cret") called at t/03_mech.t line 127
	eval {...} called at t/03_mech.t line 127
	main::client_session(HASH(0xa11fed4)) called at t/03_mech.t line 17
	main::__ANON__(HASH(0xa11fed4)) called at /opt/perl430-27-O0-5.12.0/lib/site_perl/5.12.0/Test/WWW/Mechanize/PSGI.pm line 39
	Test::WWW::Mechanize::PSGI::try {...} () called at /opt/perl430-27-O0-5.12.0/lib/site_perl/5.12.0/Try/Tiny.pm line 81
	eval {...} called at /opt/perl430-27-O0-5.12.0/lib/site_perl/5.12.0/Try/Tiny.pm line 72
	Try::Tiny::try(CODE(0xa11fa74), Try::Tiny::Catch=REF(0xa11fdbc)) called at /opt/perl430-27-O0-5.12.0/lib/site_perl/5.12.0/Test/WWW/Mechanize/PSGI.pm line 46
	Test::WWW::Mechanize::PSGI::simple_request(Test::WWW::Mechanize::PSGI=HASH(0xa12be48), HTTP::Request=HASH(0xa11f970), undef, undef) called at /opt/perl430-27-O0-5.12.0/lib/site_perl/5.12.0/LWP/UserAgent.pm line 282
	LWP::UserAgent::request(Test::WWW::Mechanize::PSGI=HASH(0xa12be48), HTTP::Request=HASH(0xa11f970)) called at /opt/perl430-27-O0-5.12.0/lib/site_perl/5.12.0/WWW/Mechanize.pm line 2598
	WWW::Mechanize::_make_request(Test::WWW::Mechanize::PSGI=HASH(0xa12be48), HTTP::Request=HASH(0xa11f970)) called at /opt/perl430-27-O0-5.12.0/lib/site_perl/5.12.0/WWW/Mechanize.pm line 2312
	WWW::Mechanize::request(Test::WWW::Mechanize::PSGI=HASH(0xa12be48), HTTP::Request=HASH(0xa11f970)) called at /opt/perl430-27-O0-5.12.0/lib/site_perl/5.12.0/LWP/UserAgent.pm line 411
	LWP::UserAgent::get(Test::WWW::Mechanize::PSGI=HASH(0xa12be48), "http://localhost/wishlist") called at /opt/perl430-27-O0-5.12.0/lib/site_perl/5.12.0/WWW/Mechanize.pm line 407
	WWW::Mechanize::get(Test::WWW::Mechanize::PSGI=HASH(0xa12be48), "/wishlist") called at /opt/perl430-27-O0-5.12.0/lib/site_perl/5.12.0/Test/WWW/Mechanize.pm line 159
	Test::WWW::Mechanize::get_ok(Test::WWW::Mechanize::PSGI=HASH(0xa12be48), "/wishlist") called at t/03_mech.t line 76
Do not use HTTP::Session2::ClientStore. Use HTTP::Session2::ServerStore or HTTP::Session2::ClientStore2 instead. at /root/.cpan/build/HTTP-Session2-1.09-3f1VFm/blib/lib/HTTP/Session2/ClientStore.pm line 35.
Secret string too short at /root/.cpan/build/HTTP-Session2-1.09-3f1VFm/blib/lib/HTTP/Session2/Base.pm line 79.
	HTTP::Session2::Base::__ANON__(HTTP::Session2::ClientStore=HASH(0xa11fa60), "s3cret") called at t/03_mech.t line 127
	eval {...} called at t/03_mech.t line 127
	main::client_session(HASH(0xa1206cc)) called at t/03_mech.t line 17
	main::__ANON__(HASH(0xa1206cc)) called at /opt/perl430-27-O0-5.12.0/lib/site_perl/5.12.0/Test/WWW/Mechanize/PSGI.pm line 39
	Test::WWW::Mechanize::PSGI::try {...} () called at /opt/perl430-27-O0-5.12.0/lib/site_perl/5.12.0/Try/Tiny.pm line 81
	eval {...} called at /opt/perl430-27-O0-5.12.0/lib/site_perl/5.12.0/Try/Tiny.pm line 72
	Try::Tiny::try(CODE(0xa11ff4c), Try::Tiny::Catch=REF(0xa120640)) called at /opt/perl430-27-O0-5.12.0/lib/site_perl/5.12.0/Test/WWW/Mechanize/PSGI.pm line 46
	Test::WWW::Mechanize::PSGI::simple_request(Test::WWW::Mechanize::PSGI=HASH(0xa12be48), HTTP::Request=HASH(0xa12044c), undef, undef) called at /opt/perl430-27-O0-5.12.0/lib/site_perl/5.12.0/LWP/UserAgent.pm line 282
	LWP::UserAgent::request(Test::WWW::Mechanize::PSGI=HASH(0xa12be48), HTTP::Request=HASH(0xa12044c)) called at /opt/perl430-27-O0-5.12.0/lib/site_perl/5.12.0/WWW/Mechanize.pm line 2598
	WWW::Mechanize::_make_request(Test::WWW::Mechanize::PSGI=HASH(0xa12be48), HTTP::Request=HASH(0xa12044c)) called at /opt/perl430-27-O0-5.12.0/lib/site_perl/5.12.0/WWW/Mechanize.pm line 2312
	WWW::Mechanize::request(Test::WWW::Mechanize::PSGI=HASH(0xa12be48), HTTP::Request=HASH(0xa12044c)) called at /opt/perl430-27-O0-5.12.0/lib/site_perl/5.12.0/LWP/UserAgent.pm line 419
	LWP::UserAgent::post(Test::WWW::Mechanize::PSGI=HASH(0xa12be48), "/wishlist?bar") called at t/03_mech.t line 78
Do not use HTTP::Session2::ClientStore. Use HTTP::Session2::ServerStore or HTTP::Session2::ClientStore2 instead. at /root/.cpan/build/HTTP-Session2-1.09-3f1VFm/blib/lib/HTTP/Session2/ClientStore.pm line 35.
Secret string too short at /root/.cpan/build/HTTP-Session2-1.09-3f1VFm/blib/lib/HTTP/Session2/Base.pm line 79.
	HTTP::Session2::Base::__ANON__(HTTP::Session2::ClientStore=HASH(0xa117b98), "s3cret") called at t/03_mech.t line 127
	eval {...} called at t/03_mech.t line 127
	main::client_session(HASH(0xa1207bc)) called at t/03_mech.t line 17
	main::__ANON__(HASH(0xa1207bc)) called at /opt/perl430-27-O0-5.12.0/lib/site_perl/5.12.0/Test/WWW/Mechanize/PSGI.pm line 39
	Test::WWW::Mechanize::PSGI::try {...} () called at /opt/perl430-27-O0-5.12.0/lib/site_perl/5.12.0/Try/Tiny.pm line 81
	eval {...} called at /opt/perl430-27-O0-5.12.0/lib/site_perl/5.12.0/Try/Tiny.pm line 72
	Try::Tiny::try(CODE(0xa1206e0), Try::Tiny::Catch=REF(0xa127a4c)) called at /opt/perl430-27-O0-5.12.0/lib/site_perl/5.12.0/Test/WWW/Mechanize/PSGI.pm line 46
	Test::WWW::Mechanize::PSGI::simple_request(Test::WWW::Mechanize::PSGI=HASH(0xa12be48), HTTP::Request=HASH(0xa128334), undef, undef) called at /opt/perl430-27-O0-5.12.0/lib/site_perl/5.12.0/LWP/UserAgent.pm line 282
	LWP::UserAgent::request(Test::WWW::Mechanize::PSGI=HASH(0xa12be48), HTTP::Request=HASH(0xa128334)) called at /opt/perl430-27-O0-5.12.0/lib/site_perl/5.12.0/WWW/Mechanize.pm line 2598
	WWW::Mechanize::_make_request(Test::WWW::Mechanize::PSGI=HASH(0xa12be48), HTTP::Request=HASH(0xa128334)) called at /opt/perl430-27-O0-5.12.0/lib/site_perl/5.12.0/WWW/Mechanize.pm line 2312
	WWW::Mechanize::request(Test::WWW::Mechanize::PSGI=HASH(0xa12be48), HTTP::Request=HASH(0xa128334)) called at /opt/perl430-27-O0-5.12.0/lib/site_perl/5.12.0/LWP/UserAgent.pm line 419
	LWP::UserAgent::post(Test::WWW::Mechanize::PSGI=HASH(0xa12be48), "/wishlist?bar", HASH(0x9e04948)) called at /opt/perl430-27-O0-5.12.0/lib/site_perl/5.12.0/Test/WWW/Mechanize.pm line 236
	Test::WWW::Mechanize::post_ok(Test::WWW::Mechanize::PSGI=HASH(0xa12be48), "/wishlist?bar") called at t/03_mech.t line 81
Do not use HTTP::Session2::ClientStore. Use HTTP::Session2::ServerStore or HTTP::Session2::ClientStore2 instead. at /root/.cpan/build/HTTP-Session2-1.09-3f1VFm/blib/lib/HTTP/Session2/ClientStore.pm line 35.
Do not use HTTP::Session2::ClientStore. Use HTTP::Session2::ServerStore or HTTP::Session2::ClientStore2 instead. at /root/.cpan/build/HTTP-Session2-1.09-3f1VFm/blib/lib/HTTP/Session2/ClientStore.pm line 25.
Secret string too short at /root/.cpan/build/HTTP-Session2-1.09-3f1VFm/blib/lib/HTTP/Session2/Base.pm line 79.
	HTTP::Session2::Base::__ANON__(HTTP::Session2::ClientStore=HASH(0xa12c3fc), "s3cret") called at t/03_mech.t line 127
	eval {...} called at t/03_mech.t line 127
	main::client_session(HASH(0xa127a4c)) called at t/03_mech.t line 17
	main::__ANON__(HASH(0xa127a4c)) called at /opt/perl430-27-O0-5.12.0/lib/site_perl/5.12.0/Test/WWW/Mechanize/PSGI.pm line 39
	Test::WWW::Mechanize::PSGI::try {...} () called at /opt/perl430-27-O0-5.12.0/lib/site_perl/5.12.0/Try/Tiny.pm line 81
	eval {...} called at /opt/perl430-27-O0-5.12.0/lib/site_perl/5.12.0/Try/Tiny.pm line 72
	Try::Tiny::try(CODE(0xa127df8), Try::Tiny::Catch=REF(0xa1283e8)) called at /opt/perl430-27-O0-5.12.0/lib/site_perl/5.12.0/Test/WWW/Mechanize/PSGI.pm line 46
	Test::WWW::Mechanize::PSGI::simple_request(Test::WWW::Mechanize::PSGI=HASH(0xa12be48), HTTP::Request=HASH(0xa11fdbc), undef, undef) called at /opt/perl430-27-O0-5.12.0/lib/site_perl/5.12.0/LWP/UserAgent.pm line 282
	LWP::UserAgent::request(Test::WWW::Mechanize::PSGI=HASH(0xa12be48), HTTP::Request=HASH(0xa11fdbc)) called at /opt/perl430-27-O0-5.12.0/lib/site_perl/5.12.0/WWW/Mechanize.pm line 2598
	WWW::Mechanize::_make_request(Test::WWW::Mechanize::PSGI=HASH(0xa12be48), HTTP::Request=HASH(0xa11fdbc)) called at /opt/perl430-27-O0-5.12.0/lib/site_perl/5.12.0/WWW/Mechanize.pm line 2312
	WWW::Mechanize::request(Test::WWW::Mechanize::PSGI=HASH(0xa12be48), HTTP::Request=HASH(0xa11fdbc)) called at /opt/perl430-27-O0-5.12.0/lib/site_perl/5.12.0/LWP/UserAgent.pm line 411
	LWP::UserAgent::get(Test::WWW::Mechanize::PSGI=HASH(0xa12be48), "http://localhost/wishlist") called at /opt/perl430-27-O0-5.12.0/lib/site_perl/5.12.0/WWW/Mechanize.pm line 407
	WWW::Mechanize::get(Test::WWW::Mechanize::PSGI=HASH(0xa12be48), "/wishlist") called at /opt/perl430-27-O0-5.12.0/lib/site_perl/5.12.0/Test/WWW/Mechanize.pm line 159
	Test::WWW::Mechanize::get_ok(Test::WWW::Mechanize::PSGI=HASH(0xa12be48), "/wishlist") called at t/03_mech.t line 82
Do not use HTTP::Session2::ClientStore. Use HTTP::Session2::ServerStore or HTTP::Session2::ClientStore2 instead. at /root/.cpan/build/HTTP-Session2-1.09-3f1VFm/blib/lib/HTTP/Session2/ClientStore.pm line 35.
Secret string too short at /root/.cpan/build/HTTP-Session2-1.09-3f1VFm/blib/lib/HTTP/Session2/Base.pm line 79.
	HTTP::Session2::Base::__ANON__(HTTP::Session2::ClientStore=HASH(0xa0e4a4c), "s3cret") called at t/03_mech.t line 127
	eval {...} called at t/03_mech.t line 127
	main::client_session(HASH(0xa12076c)) called at t/03_mech.t line 17
	main::__ANON__(HASH(0xa12076c)) called at /opt/perl430-27-O0-5.12.0/lib/site_perl/5.12.0/Test/WWW/Mechanize/PSGI.pm line 39
	Test::WWW::Mechanize::PSGI::try {...} () called at /opt/perl430-27-O0-5.12.0/lib/site_perl/5.12.0/Try/Tiny.pm line 81
	eval {...} called at /opt/perl430-27-O0-5.12.0/lib/site_perl/5.12.0/Try/Tiny.pm line 72
	Try::Tiny::try(CODE(0xa128190), Try::Tiny::Catch=REF(0xa12b984)) called at /opt/perl430-27-O0-5.12.0/lib/site_perl/5.12.0/Test/WWW/Mechanize/PSGI.pm line 46
	Test::WWW::Mechanize::PSGI::simple_request(Test::WWW::Mechanize::PSGI=HASH(0xa12be48), HTTP::Request=HASH(0xa12c104), undef, undef) called at /opt/perl430-27-O0-5.12.0/lib/site_perl/5.12.0/LWP/UserAgent.pm line 282
	LWP::UserAgent::request(Test::WWW::Mechanize::PSGI=HASH(0xa12be48), HTTP::Request=HASH(0xa12c104)) called at /opt/perl430-27-O0-5.12.0/lib/site_perl/5.12.0/WWW/Mechanize.pm line 2598
	WWW::Mechanize::_make_request(Test::WWW::Mechanize::PSGI=HASH(0xa12be48), HTTP::Request=HASH(0xa12c104)) called at /opt/perl430-27-O0-5.12.0/lib/site_perl/5.12.0/WWW/Mechanize.pm line 2312
	WWW::Mechanize::request(Test::WWW::Mechanize::PSGI=HASH(0xa12be48), HTTP::Request=HASH(0xa12c104)) called at /opt/perl430-27-O0-5.12.0/lib/site_perl/5.12.0/LWP/UserAgent.pm line 419
	LWP::UserAgent::post(Test::WWW::Mechanize::PSGI=HASH(0xa12be48), "/account/login?john", HASH(0x9e04948)) called at /opt/perl430-27-O0-5.12.0/lib/site_perl/5.12.0/Test/WWW/Mechanize.pm line 236
	Test::WWW::Mechanize::post_ok(Test::WWW::Mechanize::PSGI=HASH(0xa12be48), "/account/login?john") called at t/03_mech.t line 84
Do not use HTTP::Session2::ClientStore. Use HTTP::Session2::ServerStore or HTTP::Session2::ClientStore2 instead. at /root/.cpan/build/HTTP-Session2-1.09-3f1VFm/blib/lib/HTTP/Session2/ClientStore.pm line 35.
Do not use HTTP::Session2::ClientStore. Use HTTP::Session2::ServerStore or HTTP::Session2::ClientStore2 instead. at /root/.cpan/build/HTTP-Session2-1.09-3f1VFm/blib/lib/HTTP/Session2/ClientStore.pm line 35.
Do not use HTTP::Session2::ClientStore. Use HTTP::Session2::ServerStore or HTTP::Session2::ClientStore2 instead. at /root/.cpan/build/HTTP-Session2-1.09-3f1VFm/blib/lib/HTTP/Session2/ClientStore.pm line 25.
Secret string too short at /root/.cpan/build/HTTP-Session2-1.09-3f1VFm/blib/lib/HTTP/Session2/Base.pm line 79.
	HTTP::Session2::Base::__ANON__(HTTP::Session2::ClientStore=HASH(0xa067ae4), "s3cret") called at t/03_mech.t line 127
	eval {...} called at t/03_mech.t line 127
	main::client_session(HASH(0xa12b984)) called at t/03_mech.t line 17
	main::__ANON__(HASH(0xa12b984)) called at /opt/perl430-27-O0-5.12.0/lib/site_perl/5.12.0/Test/WWW/Mechanize/PSGI.pm line 39
	Test::WWW::Mechanize::PSGI::try {...} () called at /opt/perl430-27-O0-5.12.0/lib/site_perl/5.12.0/Try/Tiny.pm line 81
	eval {...} called at /opt/perl430-27-O0-5.12.0/lib/site_perl/5.12.0/Try/Tiny.pm line 72
	Try::Tiny::try(CODE(0xa12bc2c), Try::Tiny::Catch=REF(0x96a7e98)) called at /opt/perl430-27-O0-5.12.0/lib/site_perl/5.12.0/Test/WWW/Mechanize/PSGI.pm line 46
	Test::WWW::Mechanize::PSGI::simple_request(Test::WWW::Mechanize::PSGI=HASH(0xa12be48), HTTP::Request=HASH(0xa1280f0), undef, undef) called at /opt/perl430-27-O0-5.12.0/lib/site_perl/5.12.0/LWP/UserAgent.pm line 282
	LWP::UserAgent::request(Test::WWW::Mechanize::PSGI=HASH(0xa12be48), HTTP::Request=HASH(0xa1280f0)) called at /opt/perl430-27-O0-5.12.0/lib/site_perl/5.12.0/WWW/Mechanize.pm line 2598
	WWW::Mechanize::_make_request(Test::WWW::Mechanize::PSGI=HASH(0xa12be48), HTTP::Request=HASH(0xa1280f0)) called at /opt/perl430-27-O0-5.12.0/lib/site_perl/5.12.0/WWW/Mechanize.pm line 2312
	WWW::Mechanize::request(Test::WWW::Mechanize::PSGI=HASH(0xa12be48), HTTP::Request=HASH(0xa1280f0)) called at /opt/perl430-27-O0-5.12.0/lib/site_perl/5.12.0/LWP/UserAgent.pm line 411
	LWP::UserAgent::get(Test::WWW::Mechanize::PSGI=HASH(0xa12be48), "http://localhost/wishlist") called at /opt/perl430-27-O0-5.12.0/lib/site_perl/5.12.0/WWW/Mechanize.pm line 407
	WWW::Mechanize::get(Test::WWW::Mechanize::PSGI=HASH(0xa12be48), "/wishlist") called at /opt/perl430-27-O0-5.12.0/lib/site_perl/5.12.0/Test/WWW/Mechanize.pm line 159
	Test::WWW::Mechanize::get_ok(Test::WWW::Mechanize::PSGI=HASH(0xa12be48), "/wishlist", "Wishlist is still available") called at t/03_mech.t line 85
Do not use HTTP::Session2::ClientStore. Use HTTP::Session2::ServerStore or HTTP::Session2::ClientStore2 instead. at /root/.cpan/build/HTTP-Session2-1.09-3f1VFm/blib/lib/HTTP/Session2/ClientStore.pm line 35.
Secret string too short at /root/.cpan/build/HTTP-Session2-1.09-3f1VFm/blib/lib/HTTP/Session2/Base.pm line 79.
	HTTP::Session2::Base::__ANON__(HTTP::Session2::ClientStore=HASH(0xa128564), "s3cret") called at t/03_mech.t line 127
	eval {...} called at t/03_mech.t line 127
	main::client_session(HASH(0xa12bd6c)) called at t/03_mech.t line 17
	main::__ANON__(HASH(0xa12bd6c)) called at /opt/perl430-27-O0-5.12.0/lib/site_perl/5.12.0/Test/WWW/Mechanize/PSGI.pm line 39
	Test::WWW::Mechanize::PSGI::try {...} () called at /opt/perl430-27-O0-5.12.0/lib/site_perl/5.12.0/Try/Tiny.pm line 81
	eval {...} called at /opt/perl430-27-O0-5.12.0/lib/site_perl/5.12.0/Try/Tiny.pm line 72
	Try::Tiny::try(CODE(0xa094580), Try::Tiny::Catch=REF(0x96a7d58)) called at /opt/perl430-27-O0-5.12.0/lib/site_perl/5.12.0/Test/WWW/Mechanize/PSGI.pm line 46
	Test::WWW::Mechanize::PSGI::simple_request(Test::WWW::Mechanize::PSGI=HASH(0xa12be48), HTTP::Request=HASH(0xa097800), undef, undef) called at /opt/perl430-27-O0-5.12.0/lib/site_perl/5.12.0/LWP/UserAgent.pm line 282
	LWP::UserAgent::request(Test::WWW::Mechanize::PSGI=HASH(0xa12be48), HTTP::Request=HASH(0xa097800)) called at /opt/perl430-27-O0-5.12.0/lib/site_perl/5.12.0/WWW/Mechanize.pm line 2598
	WWW::Mechanize::_make_request(Test::WWW::Mechanize::PSGI=HASH(0xa12be48), HTTP::Request=HASH(0xa097800)) called at /opt/perl430-27-O0-5.12.0/lib/site_perl/5.12.0/WWW/Mechanize.pm line 2312
	WWW::Mechanize::request(Test::WWW::Mechanize::PSGI=HASH(0xa12be48), HTTP::Request=HASH(0xa097800)) called at /opt/perl430-27-O0-5.12.0/lib/site_perl/5.12.0/LWP/UserAgent.pm line 419
	LWP::UserAgent::post(Test::WWW::Mechanize::PSGI=HASH(0xa12be48), "/wishlist?baz") called at t/03_mech.t line 87
Do not use HTTP::Session2::ClientStore. Use HTTP::Session2::ServerStore or HTTP::Session2::ClientStore2 instead. at /root/.cpan/build/HTTP-Session2-1.09-3f1VFm/blib/lib/HTTP/Session2/ClientStore.pm line 35.
Secret string too short at /root/.cpan/build/HTTP-Session2-1.09-3f1VFm/blib/lib/HTTP/Session2/Base.pm line 79.
	HTTP::Session2::Base::__ANON__(HTTP::Session2::ClientStore=HASH(0xa12c6a4), "s3cret") called at t/03_mech.t line 127
	eval {...} called at t/03_mech.t line 127
	main::client_session(HASH(0xa117b0c)) called at t/03_mech.t line 17
	main::__ANON__(HASH(0xa117b0c)) called at /opt/perl430-27-O0-5.12.0/lib/site_perl/5.12.0/Test/WWW/Mechanize/PSGI.pm line 39
	Test::WWW::Mechanize::PSGI::try {...} () called at /opt/perl430-27-O0-5.12.0/lib/site_perl/5.12.0/Try/Tiny.pm line 81
	eval {...} called at /opt/perl430-27-O0-5.12.0/lib/site_perl/5.12.0/Try/Tiny.pm line 72
	Try::Tiny::try(CODE(0xa0973f0), Try::Tiny::Catch=REF(0xa097404)) called at /opt/perl430-27-O0-5.12.0/lib/site_perl/5.12.0/Test/WWW/Mechanize/PSGI.pm line 46
	Test::WWW::Mechanize::PSGI::simple_request(Test::WWW::Mechanize::PSGI=HASH(0xa12be48), HTTP::Request=HASH(0xa0e521c), undef, undef) called at /opt/perl430-27-O0-5.12.0/lib/site_perl/5.12.0/LWP/UserAgent.pm line 282
	LWP::UserAgent::request(Test::WWW::Mechanize::PSGI=HASH(0xa12be48), HTTP::Request=HASH(0xa0e521c)) called at /opt/perl430-27-O0-5.12.0/lib/site_perl/5.12.0/WWW/Mechanize.pm line 2598
	WWW::Mechanize::_make_request(Test::WWW::Mechanize::PSGI=HASH(0xa12be48), HTTP::Request=HASH(0xa0e521c)) called at /opt/perl430-27-O0-5.12.0/lib/site_perl/5.12.0/WWW/Mechanize.pm line 2312
	WWW::Mechanize::request(Test::WWW::Mechanize::PSGI=HASH(0xa12be48), HTTP::Request=HASH(0xa0e521c)) called at /opt/perl430-27-O0-5.12.0/lib/site_perl/5.12.0/LWP/UserAgent.pm line 419
	LWP::UserAgent::post(Test::WWW::Mechanize::PSGI=HASH(0xa12be48), "/wishlist?baz", HASH(0x9e04948)) called at /opt/perl430-27-O0-5.12.0/lib/site_perl/5.12.0/Test/WWW/Mechanize.pm line 236
	Test::WWW::Mechanize::post_ok(Test::WWW::Mechanize::PSGI=HASH(0xa12be48), "/wishlist?baz") called at t/03_mech.t line 90
Do not use HTTP::Session2::ClientStore. Use HTTP::Session2::ServerStore or HTTP::Session2::ClientStore2 instead. at /root/.cpan/build/HTTP-Session2-1.09-3f1VFm/blib/lib/HTTP/Session2/ClientStore.pm line 35.
Do not use HTTP::Session2::ClientStore. Use HTTP::Session2::ServerStore or HTTP::Session2::ClientStore2 instead. at /root/.cpan/build/HTTP-Session2-1.09-3f1VFm/blib/lib/HTTP/Session2/ClientStore.pm line 25.
Secret string too short at /root/.cpan/build/HTTP-Session2-1.09-3f1VFm/blib/lib/HTTP/Session2/Base.pm line 79.
	HTTP::Session2::Base::__ANON__(HTTP::Session2::ClientStore=HASH(0xa12fcb8), "s3cret") called at t/03_mech.t line 127
	eval {...} called at t/03_mech.t line 127
	main::client_session(HASH(0xa097404)) called at t/03_mech.t line 17
	main::__ANON__(HASH(0xa097404)) called at /opt/perl430-27-O0-5.12.0/lib/site_perl/5.12.0/Test/WWW/Mechanize/PSGI.pm line 39
	Test::WWW::Mechanize::PSGI::try {...} () called at /opt/perl430-27-O0-5.12.0/lib/site_perl/5.12.0/Try/Tiny.pm line 81
	eval {...} called at /opt/perl430-27-O0-5.12.0/lib/site_perl/5.12.0/Try/Tiny.pm line 72
	Try::Tiny::try(CODE(0xa127970), Try::Tiny::Catch=REF(0xa067918)) called at /opt/perl430-27-O0-5.12.0/lib/site_perl/5.12.0/Test/WWW/Mechanize/PSGI.pm line 46
	Test::WWW::Mechanize::PSGI::simple_request(Test::WWW::Mechanize::PSGI=HASH(0xa12be48), HTTP::Request=HASH(0xa12bcb8), undef, undef) called at /opt/perl430-27-O0-5.12.0/lib/site_perl/5.12.0/LWP/UserAgent.pm line 282
	LWP::UserAgent::request(Test::WWW::Mechanize::PSGI=HASH(0xa12be48), HTTP::Request=HASH(0xa12bcb8)) called at /opt/perl430-27-O0-5.12.0/lib/site_perl/5.12.0/WWW/Mechanize.pm line 2598
	WWW::Mechanize::_make_request(Test::WWW::Mechanize::PSGI=HASH(0xa12be48), HTTP::Request=HASH(0xa12bcb8)) called at /opt/perl430-27-O0-5.12.0/lib/site_perl/5.12.0/WWW/Mechanize.pm line 2312
	WWW::Mechanize::request(Test::WWW::Mechanize::PSGI=HASH(0xa12be48), HTTP::Request=HASH(0xa12bcb8)) called at /opt/perl430-27-O0-5.12.0/lib/site_perl/5.12.0/LWP/UserAgent.pm line 411
	LWP::UserAgent::get(Test::WWW::Mechanize::PSGI=HASH(0xa12be48), "http://localhost/wishlist") called at /opt/perl430-27-O0-5.12.0/lib/site_perl/5.12.0/WWW/Mechanize.pm line 407
	WWW::Mechanize::get(Test::WWW::Mechanize::PSGI=HASH(0xa12be48), "/wishlist") called at /opt/perl430-27-O0-5.12.0/lib/site_perl/5.12.0/Test/WWW/Mechanize.pm line 159
	Test::WWW::Mechanize::get_ok(Test::WWW::Mechanize::PSGI=HASH(0xa12be48), "/wishlist", "Wishlist is still available") called at t/03_mech.t line 91
Do not use HTTP::Session2::ClientStore. Use HTTP::Session2::ServerStore or HTTP::Session2::ClientStore2 instead. at /root/.cpan/build/HTTP-Session2-1.09-3f1VFm/blib/lib/HTTP/Session2/ClientStore.pm line 35.
Secret string too short at /root/.cpan/build/HTTP-Session2-1.09-3f1VFm/blib/lib/HTTP/Session2/Base.pm line 79.
	HTTP::Session2::Base::__ANON__(HTTP::Session2::ClientStore=HASH(0xa12fe0c), "s3cret") called at t/03_mech.t line 127
	eval {...} called at t/03_mech.t line 127
	main::client_session(HASH(0xa12c474)) called at t/03_mech.t line 17
	main::__ANON__(HASH(0xa12c474)) called at /opt/perl430-27-O0-5.12.0/lib/site_perl/5.12.0/Test/WWW/Mechanize/PSGI.pm line 39
	Test::WWW::Mechanize::PSGI::try {...} () called at /opt/perl430-27-O0-5.12.0/lib/site_perl/5.12.0/Try/Tiny.pm line 81
	eval {...} called at /opt/perl430-27-O0-5.12.0/lib/site_perl/5.12.0/Try/Tiny.pm line 72
	Try::Tiny::try(CODE(0xa12c7e4), Try::Tiny::Catch=REF(0xa11f9d4)) called at /opt/perl430-27-O0-5.12.0/lib/site_perl/5.12.0/Test/WWW/Mechanize/PSGI.pm line 46
	Test::WWW::Mechanize::PSGI::simple_request(Test::WWW::Mechanize::PSGI=HASH(0xa12be48), HTTP::Request=HASH(0xa12fc04), undef, undef) called at /opt/perl430-27-O0-5.12.0/lib/site_perl/5.12.0/LWP/UserAgent.pm line 282
	LWP::UserAgent::request(Test::WWW::Mechanize::PSGI=HASH(0xa12be48), HTTP::Request=HASH(0xa12fc04)) called at /opt/perl430-27-O0-5.12.0/lib/site_perl/5.12.0/WWW/Mechanize.pm line 2598
	WWW::Mechanize::_make_request(Test::WWW::Mechanize::PSGI=HASH(0xa12be48), HTTP::Request=HASH(0xa12fc04)) called at /opt/perl430-27-O0-5.12.0/lib/site_perl/5.12.0/WWW/Mechanize.pm line 2312
	WWW::Mechanize::request(Test::WWW::Mechanize::PSGI=HASH(0xa12be48), HTTP::Request=HASH(0xa12fc04)) called at /opt/perl430-27-O0-5.12.0/lib/site_perl/5.12.0/LWP/UserAgent.pm line 411
	LWP::UserAgent::get(Test::WWW::Mechanize::PSGI=HASH(0xa12be48), "http://localhost/my/name") called at /opt/perl430-27-O0-5.12.0/lib/site_perl/5.12.0/WWW/Mechanize.pm line 407
	WWW::Mechanize::get(Test::WWW::Mechanize::PSGI=HASH(0xa12be48), "/my/name") called at /opt/perl430-27-O0-5.12.0/lib/site_perl/5.12.0/Test/WWW/Mechanize.pm line 159
	Test::WWW::Mechanize::get_ok(Test::WWW::Mechanize::PSGI=HASH(0xa12be48), "/my/name") called at t/03_mech.t line 93
Do not use HTTP::Session2::ClientStore. Use HTTP::Session2::ServerStore or HTTP::Session2::ClientStore2 instead. at /root/.cpan/build/HTTP-Session2-1.09-3f1VFm/blib/lib/HTTP/Session2/ClientStore.pm line 35.
Secret string too short at /root/.cpan/build/HTTP-Session2-1.09-3f1VFm/blib/lib/HTTP/Session2/Base.pm line 79.
	HTTP::Session2::Base::__ANON__(HTTP::Session2::ClientStore=HASH(0xa1301b8), "s3cret") called at t/03_mech.t line 127
	eval {...} called at t/03_mech.t line 127
	main::client_session(HASH(0xa12ffb0)) called at t/03_mech.t line 17
	main::__ANON__(HASH(0xa12ffb0)) called at /opt/perl430-27-O0-5.12.0/lib/site_perl/5.12.0/Test/WWW/Mechanize/PSGI.pm line 39
	Test::WWW::Mechanize::PSGI::try {...} () called at /opt/perl430-27-O0-5.12.0/lib/site_perl/5.12.0/Try/Tiny.pm line 81
	eval {...} called at /opt/perl430-27-O0-5.12.0/lib/site_perl/5.12.0/Try/Tiny.pm line 72
	Try::Tiny::try(CODE(0xa12ff88), Try::Tiny::Catch=REF(0xa12ff9c)) called at /opt/perl430-27-O0-5.12.0/lib/site_perl/5.12.0/Test/WWW/Mechanize/PSGI.pm line 46
	Test::WWW::Mechanize::PSGI::simple_request(Test::WWW::Mechanize::PSGI=HASH(0xa12be48), HTTP::Request=HASH(0xa12fe70), undef, undef) called at /opt/perl430-27-O0-5.12.0/lib/site_perl/5.12.0/LWP/UserAgent.pm line 282
	LWP::UserAgent::request(Test::WWW::Mechanize::PSGI=HASH(0xa12be48), HTTP::Request=HASH(0xa12fe70)) called at /opt/perl430-27-O0-5.12.0/lib/site_perl/5.12.0/WWW/Mechanize.pm line 2598
	WWW::Mechanize::_make_request(Test::WWW::Mechanize::PSGI=HASH(0xa12be48), HTTP::Request=HASH(0xa12fe70)) called at /opt/perl430-27-O0-5.12.0/lib/site_perl/5.12.0/WWW/Mechanize.pm line 2312
	WWW::Mechanize::request(Test::WWW::Mechanize::PSGI=HASH(0xa12be48), HTTP::Request=HASH(0xa12fe70)) called at /opt/perl430-27-O0-5.12.0/lib/site_perl/5.12.0/LWP/UserAgent.pm line 419
	LWP::UserAgent::post(Test::WWW::Mechanize::PSGI=HASH(0xa12be48), "/account/logout?john") called at t/03_mech.t line 97
Do not use HTTP::Session2::ClientStore. Use HTTP::Session2::ServerStore or HTTP::Session2::ClientStore2 instead. at /root/.cpan/build/HTTP-Session2-1.09-3f1VFm/blib/lib/HTTP/Session2/ClientStore.pm line 35.
Do not use HTTP::Session2::ClientStore. Use HTTP::Session2::ServerStore or HTTP::Session2::ClientStore2 instead. at /root/.cpan/build/HTTP-Session2-1.09-3f1VFm/blib/lib/HTTP/Session2/ClientStore.pm line 35.
t/03_mech.t ................. ok
Do not use HTTP::Session2::ClientStore. Use HTTP::Session2::ServerStore or HTTP::Session2::ClientStore2 instead. at /root/.cpan/build/HTTP-Session2-1.09-3f1VFm/blib/lib/HTTP/Session2/ClientStore.pm line 25.
t/04_plack_response.t ....... ok
Secret string too short at /root/.cpan/build/HTTP-Session2-1.09-3f1VFm/blib/lib/HTTP/Session2/Base.pm line 79.
	HTTP::Session2::Base::__ANON__(HTTP::Session2::ClientStore=HASH(0x907df94), "s3cret") called at t/05_keep_me_signed_in.t line 15
	eval {...} called at t/05_keep_me_signed_in.t line 15
Do not use HTTP::Session2::ClientStore. Use HTTP::Session2::ServerStore or HTTP::Session2::ClientStore2 instead. at /root/.cpan/build/HTTP-Session2-1.09-3f1VFm/blib/lib/HTTP/Session2/ClientStore.pm line 25.
t/05_keep_me_signed_in.t .... ok
Secret string too short at /root/.cpan/build/HTTP-Session2-1.09-3f1VFm/blib/lib/HTTP/Session2/Base.pm line 79.
	HTTP::Session2::Base::__ANON__(HTTP::Session2::Base=HASH(0x8d822d0), "i am secret") called at t/06_base_abstract.t line 7
	eval {...} called at t/06_base_abstract.t line 7
t/06_base_abstract.t ........ ok
Secret string too short at /root/.cpan/build/HTTP-Session2-1.09-3f1VFm/blib/lib/HTTP/Session2/Base.pm line 79.
	HTTP::Session2::Base::__ANON__(HTTP::Session2::ClientStore=HASH(0x880076c), "secret") called at t/07_client_store.t line 23
	eval {...} called at t/07_client_store.t line 23
	main::__ANON__() called at /opt/perl430-27-O0-5.12.0/lib/site_perl/5.12.0/Test/Builder.pm line 261
	Test::Builder::__ANON__() called at /opt/perl430-27-O0-5.12.0/lib/site_perl/5.12.0/Test/Builder.pm line 266
	eval {...} called at /opt/perl430-27-O0-5.12.0/lib/site_perl/5.12.0/Test/Builder.pm line 266
	Test::Builder::subtest(Test::Builder=HASH(0x84a2514), "get/set/remove", CODE(0x8a7c2a8)) called at /opt/perl430-27-O0-5.12.0/lib/site_perl/5.12.0/Test/More.pm line 771
	Test::More::subtest("get/set/remove", CODE(0x8a7c2a8)) called at t/07_client_store.t line 31
Secret string too short at /root/.cpan/build/HTTP-Session2-1.09-3f1VFm/blib/lib/HTTP/Session2/Base.pm line 79.
	HTTP::Session2::Base::__ANON__(HTTP::Session2::ClientStore=HASH(0x8800474), "secret") called at t/07_client_store.t line 35
	eval {...} called at t/07_client_store.t line 35
	main::__ANON__() called at /opt/perl430-27-O0-5.12.0/lib/site_perl/5.12.0/Test/Builder.pm line 261
	Test::Builder::__ANON__() called at /opt/perl430-27-O0-5.12.0/lib/site_perl/5.12.0/Test/Builder.pm line 266
	eval {...} called at /opt/perl430-27-O0-5.12.0/lib/site_perl/5.12.0/Test/Builder.pm line 266
	Test::Builder::subtest(Test::Builder=HASH(0x84a2514), "validate_token", CODE(0x8a7c5b4)) called at /opt/perl430-27-O0-5.12.0/lib/site_perl/5.12.0/Test/More.pm line 771
	Test::More::subtest("validate_token", CODE(0x8a7c5b4)) called at t/07_client_store.t line 71
Do not use HTTP::Session2::ClientStore. Use HTTP::Session2::ServerStore or HTTP::Session2::ClientStore2 instead. at /root/.cpan/build/HTTP-Session2-1.09-3f1VFm/blib/lib/HTTP/Session2/ClientStore.pm line 25.
Secret string too short at /root/.cpan/build/HTTP-Session2-1.09-3f1VFm/blib/lib/HTTP/Session2/Base.pm line 79.
	HTTP::Session2::Base::__ANON__(HTTP::Session2::ClientStore=HASH(0x8436514), "secret") called at t/07_client_store.t line 51
	eval {...} called at t/07_client_store.t line 51
	main::__ANON__() called at /opt/perl430-27-O0-5.12.0/lib/site_perl/5.12.0/Test/Builder.pm line 261
	Test::Builder::__ANON__() called at /opt/perl430-27-O0-5.12.0/lib/site_perl/5.12.0/Test/Builder.pm line 266
	eval {...} called at /opt/perl430-27-O0-5.12.0/lib/site_perl/5.12.0/Test/Builder.pm line 266
	Test::Builder::subtest(Test::Builder=HASH(0x84a2514), "bad", CODE(0x880062c)) called at /opt/perl430-27-O0-5.12.0/lib/site_perl/5.12.0/Test/More.pm line 771
	Test::More::subtest("bad", CODE(0x880062c)) called at t/07_client_store.t line 57
	main::__ANON__() called at /opt/perl430-27-O0-5.12.0/lib/site_perl/5.12.0/Test/Builder.pm line 261
	Test::Builder::__ANON__() called at /opt/perl430-27-O0-5.12.0/lib/site_perl/5.12.0/Test/Builder.pm line 266
	eval {...} called at /opt/perl430-27-O0-5.12.0/lib/site_perl/5.12.0/Test/Builder.pm line 266
	Test::Builder::subtest(Test::Builder=HASH(0x84a2514), "validate_token", CODE(0x8a7c5b4)) called at /opt/perl430-27-O0-5.12.0/lib/site_perl/5.12.0/Test/More.pm line 771
	Test::More::subtest("validate_token", CODE(0x8a7c5b4)) called at t/07_client_store.t line 71
Do not use HTTP::Session2::ClientStore. Use HTTP::Session2::ServerStore or HTTP::Session2::ClientStore2 instead. at /root/.cpan/build/HTTP-Session2-1.09-3f1VFm/blib/lib/HTTP/Session2/ClientStore.pm line 35.
Secret string too short at /root/.cpan/build/HTTP-Session2-1.09-3f1VFm/blib/lib/HTTP/Session2/Base.pm line 79.
	HTTP::Session2::Base::__ANON__(HTTP::Session2::ClientStore=HASH(0x8aa642c), "secret") called at t/07_client_store.t line 65
	eval {...} called at t/07_client_store.t line 65
	main::__ANON__() called at /opt/perl430-27-O0-5.12.0/lib/site_perl/5.12.0/Test/Builder.pm line 261
	Test::Builder::__ANON__() called at /opt/perl430-27-O0-5.12.0/lib/site_perl/5.12.0/Test/Builder.pm line 266
	eval {...} called at /opt/perl430-27-O0-5.12.0/lib/site_perl/5.12.0/Test/Builder.pm line 266
	Test::Builder::subtest(Test::Builder=HASH(0x84a2514), "good", CODE(0x880062c)) called at /opt/perl430-27-O0-5.12.0/lib/site_perl/5.12.0/Test/More.pm line 771
	Test::More::subtest("good", CODE(0x880062c)) called at t/07_client_store.t line 70
	main::__ANON__() called at /opt/perl430-27-O0-5.12.0/lib/site_perl/5.12.0/Test/Builder.pm line 261
	Test::Builder::__ANON__() called at /opt/perl430-27-O0-5.12.0/lib/site_perl/5.12.0/Test/Builder.pm line 266
	eval {...} called at /opt/perl430-27-O0-5.12.0/lib/site_perl/5.12.0/Test/Builder.pm line 266
	Test::Builder::subtest(Test::Builder=HASH(0x84a2514), "validate_token", CODE(0x8a7c5b4)) called at /opt/perl430-27-O0-5.12.0/lib/site_perl/5.12.0/Test/More.pm line 771
	Test::More::subtest("validate_token", CODE(0x8a7c5b4)) called at t/07_client_store.t line 71
Do not use HTTP::Session2::ClientStore. Use HTTP::Session2::ServerStore or HTTP::Session2::ClientStore2 instead. at /root/.cpan/build/HTTP-Session2-1.09-3f1VFm/blib/lib/HTTP/Session2/ClientStore.pm line 35.
Secret string too short at /root/.cpan/build/HTTP-Session2-1.09-3f1VFm/blib/lib/HTTP/Session2/Base.pm line 79.
	HTTP::Session2::Base::__ANON__(HTTP::Session2::ClientStore=HASH(0x842ac04), "secret") called at t/07_client_store.t line 76
	eval {...} called at t/07_client_store.t line 76
	main::__ANON__() called at /opt/perl430-27-O0-5.12.0/lib/site_perl/5.12.0/Test/Builder.pm line 261
	Test::Builder::__ANON__() called at /opt/perl430-27-O0-5.12.0/lib/site_perl/5.12.0/Test/Builder.pm line 266
	eval {...} called at /opt/perl430-27-O0-5.12.0/lib/site_perl/5.12.0/Test/Builder.pm line 266
	Test::Builder::subtest(Test::Builder=HASH(0x84a2514), "ignore_old", CODE(0x87ffc04)) called at /opt/perl430-27-O0-5.12.0/lib/site_perl/5.12.0/Test/More.pm line 771
	Test::More::subtest("ignore_old", CODE(0x87ffc04)) called at t/07_client_store.t line 106
Do not use HTTP::Session2::ClientStore. Use HTTP::Session2::ServerStore or HTTP::Session2::ClientStore2 instead. at /root/.cpan/build/HTTP-Session2-1.09-3f1VFm/blib/lib/HTTP/Session2/ClientStore.pm line 25.
Secret string too short at /root/.cpan/build/HTTP-Session2-1.09-3f1VFm/blib/lib/HTTP/Session2/Base.pm line 79.
	HTTP::Session2::Base::__ANON__(HTTP::Session2::ClientStore=HASH(0x8435a38), "secret") called at t/07_client_store.t line 87
	eval {...} called at t/07_client_store.t line 87
	main::__ANON__() called at /opt/perl430-27-O0-5.12.0/lib/site_perl/5.12.0/Test/Builder.pm line 261
	Test::Builder::__ANON__() called at /opt/perl430-27-O0-5.12.0/lib/site_perl/5.12.0/Test/Builder.pm line 266
	eval {...} called at /opt/perl430-27-O0-5.12.0/lib/site_perl/5.12.0/Test/Builder.pm line 266
	Test::Builder::subtest(Test::Builder=HASH(0x84a2514), "ignore_old disabled", CODE(0x8435efc)) called at /opt/perl430-27-O0-5.12.0/lib/site_perl/5.12.0/Test/More.pm line 771
	Test::More::subtest("ignore_old disabled", CODE(0x8435efc)) called at t/07_client_store.t line 95
	main::__ANON__() called at /opt/perl430-27-O0-5.12.0/lib/site_perl/5.12.0/Test/Builder.pm line 261
	Test::Builder::__ANON__() called at /opt/perl430-27-O0-5.12.0/lib/site_perl/5.12.0/Test/Builder.pm line 266
	eval {...} called at /opt/perl430-27-O0-5.12.0/lib/site_perl/5.12.0/Test/Builder.pm line 266
	Test::Builder::subtest(Test::Builder=HASH(0x84a2514), "ignore_old", CODE(0x87ffc04)) called at /opt/perl430-27-O0-5.12.0/lib/site_perl/5.12.0/Test/More.pm line 771
	Test::More::subtest("ignore_old", CODE(0x87ffc04)) called at t/07_client_store.t line 106
Do not use HTTP::Session2::ClientStore. Use HTTP::Session2::ServerStore or HTTP::Session2::ClientStore2 instead. at /root/.cpan/build/HTTP-Session2-1.09-3f1VFm/blib/lib/HTTP/Session2/ClientStore.pm line 35.
Secret string too short at /root/.cpan/build/HTTP-Session2-1.09-3f1VFm/blib/lib/HTTP/Session2/Base.pm line 79.
	HTTP::Session2::Base::__ANON__(HTTP::Session2::ClientStore=HASH(0x84363ac), "secret") called at t/07_client_store.t line 97
	eval {...} called at t/07_client_store.t line 97
	main::__ANON__() called at /opt/perl430-27-O0-5.12.0/lib/site_perl/5.12.0/Test/Builder.pm line 261
	Test::Builder::__ANON__() called at /opt/perl430-27-O0-5.12.0/lib/site_perl/5.12.0/Test/Builder.pm line 266
	eval {...} called at /opt/perl430-27-O0-5.12.0/lib/site_perl/5.12.0/Test/Builder.pm line 266
	Test::Builder::subtest(Test::Builder=HASH(0x84a2514), "ignore_old enabled", CODE(0x8435efc)) called at /opt/perl430-27-O0-5.12.0/lib/site_perl/5.12.0/Test/More.pm line 771
	Test::More::subtest("ignore_old enabled", CODE(0x8435efc)) called at t/07_client_store.t line 105
	main::__ANON__() called at /opt/perl430-27-O0-5.12.0/lib/site_perl/5.12.0/Test/Builder.pm line 261
	Test::Builder::__ANON__() called at /opt/perl430-27-O0-5.12.0/lib/site_perl/5.12.0/Test/Builder.pm line 266
	eval {...} called at /opt/perl430-27-O0-5.12.0/lib/site_perl/5.12.0/Test/Builder.pm line 266
	Test::Builder::subtest(Test::Builder=HASH(0x84a2514), "ignore_old", CODE(0x87ffc04)) called at /opt/perl430-27-O0-5.12.0/lib/site_perl/5.12.0/Test/More.pm line 771
	Test::More::subtest("ignore_old", CODE(0x87ffc04)) called at t/07_client_store.t line 106
t/07_client_store.t ......... ok
Secret string too short at /root/.cpan/build/HTTP-Session2-1.09-3f1VFm/blib/lib/HTTP/Session2/Base.pm line 79.
	HTTP::Session2::Base::__ANON__(HTTP::Session2::Expired=HASH(0x83d74d8), 33333) called at t/08_expired.t line 7
	eval {...} called at t/08_expired.t line 7
t/08_expired.t .............. ok
# /dev/urandom available
# /dev/urandom(1): N9sw3JIxTIaJS_kwg2XzJh0aUSoyWVz
# /dev/urandom(2): uOx5smC7gcD70Ro8MvGThY0eBiS7PkO
# perl:            11fabc400b7a7468d89229a93a7ba2f
t/09_random.t ............... ok
t/11_secret_string.t ........ ok
Secret string too short at /root/.cpan/build/HTTP-Session2-1.09-3f1VFm/blib/lib/HTTP/Session2/Base.pm line 79.
	HTTP::Session2::Base::__ANON__(HTTP::Session2::ClientStore2=HASH(0x9f36578), "s3cret") called at t/client_store2/01_basic.t line 24
	eval {...} called at t/client_store2/01_basic.t line 24
	main::__ANON__("client -> server: request without cookie", CODE(0x9f363ac)) called at t/client_store2/01_basic.t line 30
	main::__ANON__() called at /opt/perl430-27-O0-5.12.0/lib/site_perl/5.12.0/Test/Builder.pm line 261
	Test::Builder::__ANON__() called at /opt/perl430-27-O0-5.12.0/lib/site_perl/5.12.0/Test/Builder.pm line 266
	eval {...} called at /opt/perl430-27-O0-5.12.0/lib/site_perl/5.12.0/Test/Builder.pm line 266
	Test::Builder::subtest(Test::Builder=HASH(0x9b834c4), "First request", CODE(0x9b0bac4)) called at /opt/perl430-27-O0-5.12.0/lib/site_perl/5.12.0/Test/More.pm line 771
	Test::More::subtest("First request", CODE(0x9b0bac4)) called at t/client_store2/01_basic.t line 9
	main::scenario("First request", CODE(0x9b0bac4)) called at t/client_store2/01_basic.t line 36
Secret string too short at /root/.cpan/build/HTTP-Session2-1.09-3f1VFm/blib/lib/HTTP/Session2/Base.pm line 79.
	HTTP::Session2::Base::__ANON__(HTTP::Session2::ClientStore2=HASH(0x9b13a10), "s3cret") called at t/client_store2/01_basic.t line 41
	eval {...} called at t/client_store2/01_basic.t line 41
	main::__ANON__("client -> server: request without cookie", CODE(0x9b1390c)) called at t/client_store2/01_basic.t line 47
	main::__ANON__() called at /opt/perl430-27-O0-5.12.0/lib/site_perl/5.12.0/Test/Builder.pm line 261
	Test::Builder::__ANON__() called at /opt/perl430-27-O0-5.12.0/lib/site_perl/5.12.0/Test/Builder.pm line 266
	eval {...} called at /opt/perl430-27-O0-5.12.0/lib/site_perl/5.12.0/Test/Builder.pm line 266
	Test::Builder::subtest(Test::Builder=HASH(0x9b834c4), "Store something without login", CODE(0x9b0bac4)) called at /opt/perl430-27-O0-5.12.0/lib/site_perl/5.12.0/Test/More.pm line 771
	Test::More::subtest("Store something without login", CODE(0x9b0bac4)) called at t/client_store2/01_basic.t line 9
	main::scenario("Store something without login", CODE(0x9b0bac4)) called at t/client_store2/01_basic.t line 63
Secret string too short at /root/.cpan/build/HTTP-Session2-1.09-3f1VFm/blib/lib/HTTP/Session2/Base.pm line 79.
	HTTP::Session2::Base::__ANON__(HTTP::Session2::ClientStore2=HASH(0x9f361cc), "s3cret") called at t/client_store2/01_basic.t line 69
	eval {...} called at t/client_store2/01_basic.t line 69
	main::__ANON__("client -> server: request without cookie", CODE(0x9b14190)) called at t/client_store2/01_basic.t line 76
	main::__ANON__() called at /opt/perl430-27-O0-5.12.0/lib/site_perl/5.12.0/Test/Builder.pm line 261
	Test::Builder::__ANON__() called at /opt/perl430-27-O0-5.12.0/lib/site_perl/5.12.0/Test/Builder.pm line 266
	eval {...} called at /opt/perl430-27-O0-5.12.0/lib/site_perl/5.12.0/Test/Builder.pm line 266
	Test::Builder::subtest(Test::Builder=HASH(0x9b834c4), "Login", CODE(0x9b0bac4)) called at /opt/perl430-27-O0-5.12.0/lib/site_perl/5.12.0/Test/More.pm line 771
	Test::More::subtest("Login", CODE(0x9b0bac4)) called at t/client_store2/01_basic.t line 9
	main::scenario("Login", CODE(0x9b0bac4)) called at t/client_store2/01_basic.t line 96
Ciphertext does not begin with a valid header for 'salt' header mode at /root/.cpan/build/HTTP-Session2-1.09-3f1VFm/blib/lib/HTTP/Session2/ClientStore2.pm line 81.
Ciphertext does not begin with a valid header for 'salt' header mode at /root/.cpan/build/HTTP-Session2-1.09-3f1VFm/blib/lib/HTTP/Session2/ClientStore2.pm line 81.
Secret string too short at /root/.cpan/build/HTTP-Session2-1.09-3f1VFm/blib/lib/HTTP/Session2/Base.pm line 79.
	HTTP::Session2::Base::__ANON__(HTTP::Session2::ClientStore2=HASH(0x9b144c4), "s3cret") called at t/client_store2/01_basic.t line 102
	eval {...} called at t/client_store2/01_basic.t line 102
	main::__ANON__("client -> server: request without cookie", CODE(0x9b142bc)) called at t/client_store2/01_basic.t line 109
	main::__ANON__() called at /opt/perl430-27-O0-5.12.0/lib/site_perl/5.12.0/Test/Builder.pm line 261
	Test::Builder::__ANON__() called at /opt/perl430-27-O0-5.12.0/lib/site_perl/5.12.0/Test/Builder.pm line 266
	eval {...} called at /opt/perl430-27-O0-5.12.0/lib/site_perl/5.12.0/Test/Builder.pm line 266
	Test::Builder::subtest(Test::Builder=HASH(0x9b834c4), "In a login session", CODE(0x9b0bac4)) called at /opt/perl430-27-O0-5.12.0/lib/site_perl/5.12.0/Test/More.pm line 771
	Test::More::subtest("In a login session", CODE(0x9b0bac4)) called at t/client_store2/01_basic.t line 9
	main::scenario("In a login session", CODE(0x9b0bac4)) called at t/client_store2/01_basic.t line 118
Ciphertext does not begin with a valid header for 'salt' header mode at /root/.cpan/build/HTTP-Session2-1.09-3f1VFm/blib/lib/HTTP/Session2/ClientStore2.pm line 81.
Secret string too short at /root/.cpan/build/HTTP-Session2-1.09-3f1VFm/blib/lib/HTTP/Session2/Base.pm line 79.
	HTTP::Session2::Base::__ANON__(HTTP::Session2::ClientStore2=HASH(0x9b13ca4), "s3cret") called at t/client_store2/01_basic.t line 123
	eval {...} called at t/client_store2/01_basic.t line 123
	main::__ANON__("client -> server: request without cookie", CODE(0x9f35c2c)) called at t/client_store2/01_basic.t line 130
	main::__ANON__() called at /opt/perl430-27-O0-5.12.0/lib/site_perl/5.12.0/Test/Builder.pm line 261
	Test::Builder::__ANON__() called at /opt/perl430-27-O0-5.12.0/lib/site_perl/5.12.0/Test/Builder.pm line 266
	eval {...} called at /opt/perl430-27-O0-5.12.0/lib/site_perl/5.12.0/Test/Builder.pm line 266
	Test::Builder::subtest(Test::Builder=HASH(0x9b834c4), "Logout", CODE(0x9b0bac4)) called at /opt/perl430-27-O0-5.12.0/lib/site_perl/5.12.0/Test/More.pm line 771
	Test::More::subtest("Logout", CODE(0x9b0bac4)) called at t/client_store2/01_basic.t line 9
	main::scenario("Logout", CODE(0x9b0bac4)) called at t/client_store2/01_basic.t line 143
Ciphertext does not begin with a valid header for 'salt' header mode at /root/.cpan/build/HTTP-Session2-1.09-3f1VFm/blib/lib/HTTP/Session2/ClientStore2.pm line 81.
t/client_store2/01_basic.t .. ok
t/client_store2/02_mech.t ... ok
t/client_store2/03_colon.t .. ok
All tests successful.
Files=14, Tests=83, 14 wallclock secs ( 0.50 usr  0.06 sys +  9.95 cusr  0.84 csys = 11.35 CPU)
Result: PASS

------------------------------
PREREQUISITES
------------------------------

Prerequisite modules loaded:

requires:

    Module                     Need     Have    
    -------------------------- -------- --------
    Cookie::Baker              0        0.03    
    Crypt::CBC                 0        2.33    
    Data::MessagePack          0        0.48    
    Digest::HMAC               0        1.03    
    Digest::SHA                0        5.92    
    Digest::SHA1               0        2.13    
    MIME::Base64               3.11     3.14    
    Mouse                      0        2.4.1   
    parent                     0        0.228   
    perl                       5.008005 5.012000
    Time::HiRes                0        1.9726  

build_requires:

    Module                     Need     Have    
    -------------------------- -------- --------
    Crypt::Rijndael            0        1.12    
    Plack::Request             0        1.0032  
    Plack::Response            0        1.0032  
    Test::More                 0.98     1.001008
    Test::WWW::Mechanize::PSGI 0        0.35    

configure_requires:

    Module                     Need     Have    
    -------------------------- -------- --------
    Module::Build              0.38     0.4210  


------------------------------
ENVIRONMENT AND OTHER CONTEXT
------------------------------

Environment variables:

    LANG = en_US.utf8
    PATH = /usr/lib/qt-3.3/bin:/usr/kerberos/sbin:/usr/kerberos/bin:/usr/lib/ccache:/usr/local/sbin:/usr/sbin:/sbin:/usr/local/bin:/usr/bin:/bin:/opt/real/RealPlayer:/root/bin:/opt/real/RealPlayer
    PERL5LIB = 
    PERL5OPT = 
    PERL5_CPANPLUS_IS_RUNNING = 8220
    PERL5_CPAN_IS_RUNNING = 8220
    SHELL = /bin/bash
    TERM = xterm

Perl special variables (and OS-specific diagnostics, for MSWin32):

    $^X = /opt/perl430-27-O0-5.12.0/bin/perl
    $UID/$EUID = 0 / 0
    $GID = 0 0 1 2 3 4 6 10
    $EGID = 0 0 1 2 3 4 6 10

Perl module toolchain versions installed:

    Module              Have    
    ------------------- --------
    CPAN                2.05    
    CPAN::Meta          2.142690
    Cwd                 3.47    
    ExtUtils::CBuilder  0.280220
    ExtUtils::Command   1.16    
    ExtUtils::Install   2.04    
    ExtUtils::MakeMaker 6.98    
    ExtUtils::Manifest  1.68    
    ExtUtils::ParseXS   3.24    
    File::Spec          3.47    
    JSON                2.90    
    JSON::PP            2.27300 
    Module::Build       0.4210  
    Module::Signature   0.73    
    Parse::CPAN::Meta   1.4414  
    Test::Harness       3.33    
    Test::More          1.001008
    YAML                1.13    
    YAML::Syck          1.27    
    version             0.9909  


--

Summary of my perl5 (revision 5 version 12 subversion 0) configuration:
   
  Platform:
    osname=linux, osvers=2.6.27.25-78.2.56.fc9.i686, archname=i686-linux-thread-multi-64int-ld
    uname='linux localhost.localdomain 2.6.27.25-78.2.56.fc9.i686 #1 smp thu jun 18 12:47:50 edt 2009 i686 i686 i386 gnulinux '
    config_args='-Dcc=gcc -Dprefix=/opt/perl430-27-O0-5.12.0 -DDEBUGGING'
    hint=recommended, useposix=true, d_sigaction=define
    useithreads=define, usemultiplicity=define
    useperlio=define, d_sfio=undef, uselargefiles=define, usesocks=undef
    use64bitint=define, use64bitall=undef, uselongdouble=define
    usemymalloc=y, bincompat5005=undef
  Compiler:
    cc='gcc', ccflags ='-D_REENTRANT -D_GNU_SOURCE -DDEBUGGING -fno-strict-aliasing -pipe -fstack-protector -I/usr/local/include -D_LARGEFILE_SOURCE -D_FILE_OFFSET_BITS=64',
    optimize='-O0 -g',
    cppflags='-D_REENTRANT -D_GNU_SOURCE -DDEBUGGING -fno-strict-aliasing -pipe -fstack-protector -I/usr/local/include'
    ccversion='', gccversion='4.3.0 20080428 (Red Hat 4.3.0-8)', gccosandvers=''
    intsize=4, longsize=4, ptrsize=4, doublesize=8, byteorder=12345678
    d_longlong=define, longlongsize=8, d_longdbl=define, longdblsize=12
    ivtype='long long', ivsize=8, nvtype='long double', nvsize=12, Off_t='off_t', lseeksize=8
    alignbytes=4, prototype=define
  Linker and Libraries:
    ld='gcc', ldflags =' -fstack-protector -L/usr/local/lib'
    libpth=/usr/local/lib /lib /usr/lib
    libs=-lnsl -lgdbm -ldb -ldl -lm -lcrypt -lutil -lpthread -lc
    perllibs=-lnsl -ldl -lm -lcrypt -lutil -lpthread -lc
    libc=/lib/libc-2.8.so, so=so, useshrplib=true, libperl=libperl.so
    gnulibc_version='2.8'
  Dynamic Linking:
    dlsrc=dl_dlopen.xs, dlext=so, d_dlsymun=undef, ccdlflags='-Wl,-E -Wl,-rpath,/opt/perl430-27-O0-5.12.0/lib/5.12.0/i686-linux-thread-multi-64int-ld/CORE'
    cccdlflags='-fPIC', lddlflags='-shared -O0 -g -L/usr/local/lib -fstack-protector'


Characteristics of this binary (from libperl): 
  Compile-time options: DEBUGGING MULTIPLICITY MYMALLOC PERL_DONT_CREATE_GVSV
                        PERL_IMPLICIT_CONTEXT PERL_MAD PERL_MALLOC_WRAP
                        PERL_TRACK_MEMPOOL USE_64_BIT_INT USE_FAST_STDIO
                        USE_ITHREADS USE_LARGE_FILES USE_LONG_DOUBLE
                        USE_PERLIO USE_PERL_ATOF USE_REENTRANT_API
  Built under linux
  Compiled at Oct 19 2014 17:38:43
  %ENV:
    PERL5LIB=""
    PERL5OPT=""
    PERL5_CPANPLUS_IS_RUNNING="8220"
    PERL5_CPAN_IS_RUNNING="8220"
  @INC:
    /opt/perl430-27-O0-5.12.0/lib/site_perl/5.12.0/i686-linux-thread-multi-64int-ld
    /opt/perl430-27-O0-5.12.0/lib/site_perl/5.12.0
    /opt/perl430-27-O0-5.12.0/lib/5.12.0/i686-linux-thread-multi-64int-ld
    /opt/perl430-27-O0-5.12.0/lib/5.12.0
    .