Report for Regexp-Common-2016060801

Back
From: metabase:user:d49cdc72-1559-11e3-9efd-e82414baadac
Subject: PASS Regexp-Common-2016060801 v5.22.3 RC4 GNU/Linux
Date: 2016-10-15T19:48:52Z

This distribution has been tested as part of the CPAN Testers
project, supporting the Perl programming language.  See
http://wiki.cpantesters.org/ for more information or email
questions to cpan-testers-discuss@perl.org


--
Dear ABIGAIL,

This is a computer-generated report for Regexp-Common-2016060801
on perl 5.22.3, created by App::cpanminus::reporter 0.17 (1.7042).

Thank you for uploading your work to CPAN.  Congratulations!
All tests were successful.

Sections of this report:

    * Tester comments
    * Program output
    * Prerequisites
    * Environment and other context

------------------------------
TESTER COMMENTS
------------------------------

Additional comments from tester:

none provided

------------------------------
PROGRAM OUTPUT
------------------------------

Output from '':

Building and testing Regexp-Common-2016060801
cp lib/Regexp/Common/URI/RFC1035.pm blib/lib/Regexp/Common/URI/RFC1035.pm
cp lib/Regexp/Common/profanity.pm blib/lib/Regexp/Common/profanity.pm
cp lib/Regexp/Common/URI/RFC2396.pm blib/lib/Regexp/Common/URI/RFC2396.pm
cp lib/Regexp/Common/number.pm blib/lib/Regexp/Common/number.pm
cp lib/Regexp/Common/SEN.pm blib/lib/Regexp/Common/SEN.pm
cp lib/Regexp/Common/list.pm blib/lib/Regexp/Common/list.pm
cp lib/Regexp/Common/comment.pm blib/lib/Regexp/Common/comment.pm
cp lib/Regexp/Common/CC.pm blib/lib/Regexp/Common/CC.pm
cp lib/Regexp/Common/URI/RFC2384.pm blib/lib/Regexp/Common/URI/RFC2384.pm
cp lib/Regexp/Common/whitespace.pm blib/lib/Regexp/Common/whitespace.pm
cp lib/Regexp/Common/delimited.pm blib/lib/Regexp/Common/delimited.pm
cp lib/Regexp/Common.pm blib/lib/Regexp/Common.pm
cp lib/Regexp/Common/URI/RFC1808.pm blib/lib/Regexp/Common/URI/RFC1808.pm
cp lib/Regexp/Common/URI/wais.pm blib/lib/Regexp/Common/URI/wais.pm
cp lib/Regexp/Common/URI/news.pm blib/lib/Regexp/Common/URI/news.pm
cp lib/Regexp/Common/_support.pm blib/lib/Regexp/Common/_support.pm
cp lib/Regexp/Common/URI/RFC2806.pm blib/lib/Regexp/Common/URI/RFC2806.pm
cp lib/Regexp/Common/URI/RFC1738.pm blib/lib/Regexp/Common/URI/RFC1738.pm
cp lib/Regexp/Common/URI/tv.pm blib/lib/Regexp/Common/URI/tv.pm
cp lib/Regexp/Common/balanced.pm blib/lib/Regexp/Common/balanced.pm
cp lib/Regexp/Common/URI/telnet.pm blib/lib/Regexp/Common/URI/telnet.pm
cp lib/Regexp/Common/net.pm blib/lib/Regexp/Common/net.pm
cp lib/Regexp/Common/URI/ftp.pm blib/lib/Regexp/Common/URI/ftp.pm
cp lib/Regexp/Common/zip.pm blib/lib/Regexp/Common/zip.pm
cp lib/Regexp/Common/lingua.pm blib/lib/Regexp/Common/lingua.pm
cp lib/Regexp/Common/URI/prospero.pm blib/lib/Regexp/Common/URI/prospero.pm
cp lib/Regexp/Common/URI/file.pm blib/lib/Regexp/Common/URI/file.pm
cp lib/Regexp/Common/URI/tel.pm blib/lib/Regexp/Common/URI/tel.pm
cp lib/Regexp/Common/URI/gopher.pm blib/lib/Regexp/Common/URI/gopher.pm
cp lib/Regexp/Common/URI/fax.pm blib/lib/Regexp/Common/URI/fax.pm
cp lib/Regexp/Common/URI.pm blib/lib/Regexp/Common/URI.pm
cp lib/Regexp/Common/URI/http.pm blib/lib/Regexp/Common/URI/http.pm
cp lib/Regexp/Common/URI/pop.pm blib/lib/Regexp/Common/URI/pop.pm
PERL_DL_NONLAZY=1 "/home/kent/perl5/perlbrew/perls/5.22.3-RC4-nossp-sdbm-nopmc/bin/perl" "-MExtUtils::Command::MM" "-MTest::Harness" "-e" "undef *Test::Harness::Switches; test_harness(0, 'blib/lib', 'blib/arch')" t/*.t t/*/*.t
t/net/101_ipv4.t ................. ok
t/net/102_ipv4_strict.t .......... skipped: Test::Regexp not found
t/delimited/101_delimited.t ...... skipped: Test::Regexp not found
t/delimited/111_bquoted.t ........ skipped: Test::Regexp not found
t/net/111_ipv6.t ................. ok
t/net/121_mac.t .................. ok
t/net/131_domain.t ............... ok
t/number/101_integer.t ........... skipped: Test::Regexp not found
t/number/111_integer_base.t ...... skipped: Test::Regexp not found
t/number/122_integer_places.t .... skipped: Test::Regexp not found
t/number/121_integer_places.t .... skipped: Test::Regexp not found
t/number/123_integer_places.t .... skipped: Test::Regexp not found
t/number/131_integer_sep.t ....... skipped: Test::Regexp not found
t/number/141_integer_group.t ..... skipped: Test::Regexp not found
t/number/701_squares.t ........... skipped: Test::Regexp not found
t/number/801_roman.t ............. skipped: Test::Regexp not found
t/number/number.t ................ ok
t/test_balanced.t ................ ok
t/test___luhn.t .................. ok
t/comment/html.t ................. ok
t/comment/pascal.t ............... ok
t/test_bases.t ................... ok
t/test_bases_sep.t ............... ok
t/test_curry.t ................... ok
t/test_i.t ....................... ok
t/test_comments.t ................ ok
t/test_list.t .................... ok
t/test_no_import.t ............... ok
t/test_sub.t ..................... ok
t/test_sub_named.t ............... ok
t/test_profanity.t ............... ok
t/test_ws.t ...................... ok
t/URI/any.t ...................... ok
t/URI/fax.t ...................... ok
t/URI/file.t ..................... ok
t/URI/ftp.t ...................... ok
t/URI/news.t ..................... ok
t/test_lingua_palindrome.t ....... ok
t/URI/pop.t ...................... ok
t/URI/nntp.t ..................... ok
t/SEN/usa_ssn.t .................. ok
t/URI/tel.t ...................... ok
t/URI/tv.t ....................... ok
t/number/decimal.t ............... ok
t/zip/101_austria.t .............. skipped: Test::Regexp not found
t/zip/111_australia.t ............ skipped: Test::Regexp not found
t/zip/112_australia.t ............ skipped: Test::Regexp not found
t/zip/121_belgium.t .............. skipped: Test::Regexp not found
t/zip/131_denmark.t .............. skipped: Test::Regexp not found
t/zip/141_greenland.t ............ skipped: Test::Regexp not found
t/URI/telnet.t ................... ok
t/comment/delimited.t ............ ok
t/zip/151_norway.t ............... skipped: Test::Regexp not found
t/zip/161_liechtenstein.t ........ skipped: Test::Regexp not found
t/zip/171_switzerland.t .......... skipped: Test::Regexp not found
t/zip/181_italy.t ................ skipped: Test::Regexp not found
t/zip/201_luxembourg.t ........... skipped: Test::Regexp not found
t/zip/191_germany.t .............. skipped: Test::Regexp not found
t/zip/211_france.t ............... skipped: Test::Regexp not found
t/zip/221_monaco.t ............... skipped: Test::Regexp not found
t/zip/231_san-marino.t ........... skipped: Test::Regexp not found
t/zip/241_vatican-city.t ......... skipped: Test::Regexp not found
t/URI/wais.t ..................... ok
t/zip/zip.t ...................... ok
t/zip/spain.t .................... ok
t/URI/prospero.t ................. ok
t/comment/nested.t ............... ok
t/comment/single_or_multiline.t .. ok
t/zip/netherlands.t .............. ok
t/zip/us.t ....................... ok
t/URI/http.t ..................... ok
t/URI/gopher.t ................... ok
t/comment/single_line.t .......... ok
All tests successful.
Files=73, Tests=149252, 19 wallclock secs (14.23 usr  0.50 sys + 22.82 cusr  1.80 csys = 39.35 CPU)
Result: PASS

------------------------------
PREREQUISITES
------------------------------

Prerequisite modules loaded:

    No requirements found

------------------------------
ENVIRONMENT AND OTHER CONTEXT
------------------------------

Environment variables:

    HARNESS_OPTIONS = j10:c
    HARNESS_SUBCLASS = TAP::Harness::Restricted
    LANG = en_NZ.UTF8
    LC_CTYPE = en_NZ.UTF8
    LC_TIME = en_NZ.UTF8
    PATH = /home/kent/perl5/perlbrew/bin:/home/kent/perl5/perlbrew/perls/5.22.3-RC4-nossp-sdbm-nopmc/bin:/home/kent/.perl6/2013.04/bin:/home/kent/.gem/ruby/1.8/bin/:/home/kent/.rvm/gems/ruby-2.1.2/bin:/home/kent/.rvm/gems/ruby-2.1.2@global/bin:/home/kent/.rvm/rubies/ruby-2.1.2/bin:/usr/local/bin:/usr/bin:/bin:/opt/bin:/usr/x86_64-pc-linux-gnu/gcc-bin/5.4.0:/usr/games/bin:/home/kent/.rvm/bin:/home/kent/.rvm/bin
    PERLBREW_BASHRC_VERSION = 0.74
    PERLBREW_HOME = /home/kent/.perlbrew
    PERLBREW_MANPATH = /home/kent/perl5/perlbrew/perls/5.22.3-RC4-nossp-sdbm-nopmc/man
    PERLBREW_PATH = /home/kent/perl5/perlbrew/bin:/home/kent/perl5/perlbrew/perls/5.22.3-RC4-nossp-sdbm-nopmc/bin
    PERLBREW_PERL = 5.22.3-RC4-nossp-sdbm-nopmc
    PERLBREW_ROOT = /home/kent/perl5/perlbrew
    PERLBREW_VERSION = 0.74
    PERL_CPANM_OPT =  --prompt --interactive --verify --mirror http://cpan.metacpan.org/ --no-lwp
    PERL_MM_OPT =  INSTALLDIRS=site
    SHELL = /bin/bash
    TERM = rxvt-unicode-256color

Perl special variables (and OS-specific diagnostics, for MSWin32):

    EGID = 1000 4 6 10 16 18 19 27 35 78 80 85 100 102 103 104 105 114 115 116 117 118 250 965 968 974 976 994 1000
    EUID = 1000
    EXECUTABLE_NAME = /home/kent/perl5/perlbrew/perls/5.22.3-RC4-nossp-sdbm-nopmc/bin/perl
    GID = 1000 4 6 10 16 18 19 27 35 78 80 85 100 102 103 104 105 114 115 116 117 118 250 965 968 974 976 994 1000
    UID = 1000

Perl module toolchain versions installed:

    Module              Have    
    ------------------- --------
    CPAN                2.11_01 
    CPAN::Meta          2.150010
    Cwd                 3.62    
    ExtUtils::CBuilder  0.280224
    ExtUtils::Command   7.24    
    ExtUtils::Install   2.04    
    ExtUtils::MakeMaker 7.24    
    ExtUtils::Manifest  1.70    
    ExtUtils::ParseXS   3.30    
    File::Spec          3.62    
    JSON                2.90    
    JSON::PP            2.27400 
    Module::Build       0.4220  
    Module::Signature   0.81    
    Parse::CPAN::Meta   2.150010
    Test::Harness       3.36    
    Test::More          1.302059
    YAML                1.18    
    YAML::Syck          n/a     
    version             0.9917  


--

Summary of my perl5 (revision 5 version 22 subversion 3) configuration:
   
  Platform:
    osname=linux, osvers=4.7.0-gentoo, archname=x86_64-linux
    uname='linux katipo2 4.7.0-gentoo #38 smp preempt sat jul 30 17:08:42 nzst 2016 x86_64 intel(r) core(tm) i5-2410m cpu @ 2.30ghz genuineintel gnulinux '
    config_args='-de -Dprefix=/home/kent/perl5/perlbrew/perls/5.22.3-RC4-nossp-sdbm-nopmc -Doptimize= -fstack-protector-strong -fno-stack-protector -O3 -march=native -mtune=native -Dman1dir=none -Dman3dir=none -Accflags= -fstack-protector-strong -fno-stack-protector -DPERL_HASH_FUNC_SDBM -DPERL_DISABLE_PMC -Aldflags= -fstack-protector-strong -fno-stack-protector -Aeval:scriptdir=/home/kent/perl5/perlbrew/perls/5.22.3-RC4-nossp-sdbm-nopmc/bin'
    hint=recommended, useposix=true, d_sigaction=define
    useithreads=undef, usemultiplicity=undef
    use64bitint=define, use64bitall=define, uselongdouble=undef
    usemymalloc=n, bincompat5005=undef
  Compiler:
    cc='cc', ccflags ='-fstack-protector-strong -fno-stack-protector -DPERL_HASH_FUNC_SDBM -DPERL_DISABLE_PMC -fwrapv -fno-strict-aliasing -pipe -D_LARGEFILE_SOURCE -D_FILE_OFFSET_BITS=64',
    optimize=' -fstack-protector-strong -fno-stack-protector -O3 -march=native -mtune=native',
    cppflags='-fstack-protector-strong -fno-stack-protector -DPERL_HASH_FUNC_SDBM -DPERL_DISABLE_PMC -fwrapv -fno-strict-aliasing -pipe'
    ccversion='', gccversion='5.4.0', gccosandvers=''
    intsize=4, longsize=8, ptrsize=8, doublesize=8, byteorder=12345678, doublekind=3
    d_longlong=define, longlongsize=8, d_longdbl=define, longdblsize=16, longdblkind=3
    ivtype='long', ivsize=8, nvtype='double', nvsize=8, Off_t='off_t', lseeksize=8
    alignbytes=8, prototype=define
  Linker and Libraries:
    ld='cc', ldflags ='  -fstack-protector-strong -fno-stack-protector -L/usr/local/lib'
    libpth=/usr/lib/gcc/x86_64-pc-linux-gnu/5.4.0/include-fixed /usr/lib /usr/local/lib /lib/../lib64 /usr/lib/../lib64 /lib /lib64 /usr/lib64 /usr/local/lib64
    libs=-lpthread -lnsl -lgdbm -ldb -ldl -lm -lcrypt -lutil -lc -lgdbm_compat
    perllibs=-lpthread -lnsl -ldl -lm -lcrypt -lutil -lc
    libc=libc-2.23.so, so=so, useshrplib=false, libperl=libperl.a
    gnulibc_version='2.23'
  Dynamic Linking:
    dlsrc=dl_dlopen.xs, dlext=so, d_dlsymun=undef, ccdlflags='-Wl,-E'
    cccdlflags='-fPIC', lddlflags='-shared  -fstack-protector-strong -fno-stack-protector -O3 -march=native -mtune=native -L/usr/local/lib'


Characteristics of this binary (from libperl): 
  Compile-time options: HAS_TIMES PERLIO_LAYERS PERL_DISABLE_PMC
                        PERL_DONT_CREATE_GVSV PERL_HASH_FUNC_SDBM
                        PERL_MALLOC_WRAP PERL_NEW_COPY_ON_WRITE
                        PERL_PRESERVE_IVUV USE_64_BIT_ALL USE_64_BIT_INT
                        USE_LARGE_FILES USE_LOCALE USE_LOCALE_COLLATE
                        USE_LOCALE_CTYPE USE_LOCALE_NUMERIC USE_LOCALE_TIME
                        USE_PERLIO USE_PERL_ATOF
  Locally applied patches:
	RC4
  Built under linux
  Compiled at Oct 15 2016 18:53:27
  %ENV:
    PERLBREW_BASHRC_VERSION="0.74"
    PERLBREW_HOME="/home/kent/.perlbrew"
    PERLBREW_MANPATH="/home/kent/perl5/perlbrew/perls/5.22.3-RC4-nossp-sdbm-nopmc/man"
    PERLBREW_PATH="/home/kent/perl5/perlbrew/bin:/home/kent/perl5/perlbrew/perls/5.22.3-RC4-nossp-sdbm-nopmc/bin"
    PERLBREW_PERL="5.22.3-RC4-nossp-sdbm-nopmc"
    PERLBREW_ROOT="/home/kent/perl5/perlbrew"
    PERLBREW_VERSION="0.74"
    PERL_CPANM_OPT=" --prompt --interactive --verify --mirror http://cpan.metacpan.org/ --no-lwp"
    PERL_MM_OPT=" INSTALLDIRS=site"
  @INC:
    /home/kent/perl5/perlbrew/perls/5.22.3-RC4-nossp-sdbm-nopmc/lib/site_perl/5.22.3/x86_64-linux
    /home/kent/perl5/perlbrew/perls/5.22.3-RC4-nossp-sdbm-nopmc/lib/site_perl/5.22.3
    /home/kent/perl5/perlbrew/perls/5.22.3-RC4-nossp-sdbm-nopmc/lib/5.22.3/x86_64-linux
    /home/kent/perl5/perlbrew/perls/5.22.3-RC4-nossp-sdbm-nopmc/lib/5.22.3
    .