Report for Path-IsDev-1.001003

Back
From: metabase:user:30977d10-2aae-11df-837a-5e0a49663a4f
Subject: PASS Path-IsDev-1.001003 v5.24.1 SunOS/Solaris
Date: 2017-03-15T17:47:02Z

This distribution has been tested as part of the CPAN Testers
project, supporting the Perl programming language.  See
http://wiki.cpantesters.org/ for more information or email
questions to cpan-testers-discuss@perl.org


--
Dear Kent Fredric,

This is a computer-generated report for Path-IsDev-1.001003
on perl 5.24.1, created by CPAN-Reporter-1.2018.

Thank you for uploading your work to CPAN.  Congratulations!
All tests were successful.

Sections of this report:

    * Tester comments
    * Program output
    * Prerequisites
    * Environment and other context

------------------------------
TESTER COMMENTS
------------------------------

Additional comments from tester:

this report is from an automated smoke testing program
and was not reviewed by a human for accuracy

------------------------------
PROGRAM OUTPUT
------------------------------

Output from '/usr/bin/make test':

PERL_DL_NONLAZY=1 "/home/stro/perl/5.24.1t/bin/perl" "-MExtUtils::Command::MM" "-MTest::Harness" "-e" "undef *Test::Harness::Switches; test_harness(0, 'blib/lib', 'blib/arch')" t/*.t t/00-compile/*.t t/Path-IsDev-Object/*.t t/Path-IsDev/is_dev/*.t
t/00-compile/lib_Path_IsDev_Heuristic_Changelog_pm.t ........................... ok
t/00-compile/lib_Path_IsDev_Heuristic_DevDirMarker_pm.t ........................ ok
t/00-compile/lib_Path_IsDev_Heuristic_Makefile_pm.t ............................ ok
t/00-compile/lib_Path_IsDev_Heuristic_META_pm.t ................................ ok
t/00-compile/lib_Path_IsDev_Heuristic_MYMETA_pm.t .............................. ok
t/00-compile/lib_Path_IsDev_Heuristic_TestDir_pm.t ............................. ok
t/00-compile/lib_Path_IsDev_Heuristic_Tool_Dzil_pm.t ........................... ok
t/00-compile/lib_Path_IsDev_Heuristic_Tool_MakeMaker_pm.t ...................... ok
t/00-compile/lib_Path_IsDev_Heuristic_Tool_ModuleBuild_pm.t .................... ok
t/00-compile/lib_Path_IsDev_Heuristic_VCS_Git_pm.t ............................. ok
t/00-compile/lib_Path_IsDev_HeuristicSet_Basic_pm.t ............................ ok
t/00-compile/lib_Path_IsDev_NegativeHeuristic_HomeDir_pm.t ..................... ok
t/00-compile/lib_Path_IsDev_NegativeHeuristic_IsDev_IgnoreFile_pm.t ............ ok
t/00-compile/lib_Path_IsDev_NegativeHeuristic_PerlINC_pm.t ..................... ok
t/00-compile/lib_Path_IsDev_Object_pm.t ........................................ ok
t/00-compile/lib_Path_IsDev_pm.t ............................................... ok
t/00-compile/lib_Path_IsDev_Result_pm.t ........................................ ok
t/00-compile/lib_Path_IsDev_Role_Heuristic_pm.t ................................ ok
t/00-compile/lib_Path_IsDev_Role_HeuristicSet_pm.t ............................. ok
t/00-compile/lib_Path_IsDev_Role_HeuristicSet_Simple_pm.t ...................... ok
t/00-compile/lib_Path_IsDev_Role_Matcher_Child_BaseName_MatchRegexp_File_pm.t .. ok
t/00-compile/lib_Path_IsDev_Role_Matcher_Child_BaseName_MatchRegexp_pm.t ....... ok
t/00-compile/lib_Path_IsDev_Role_Matcher_Child_Exists_Any_Dir_pm.t ............. ok
t/00-compile/lib_Path_IsDev_Role_Matcher_Child_Exists_Any_File_pm.t ............ ok
t/00-compile/lib_Path_IsDev_Role_Matcher_Child_Exists_Any_pm.t ................. ok
t/00-compile/lib_Path_IsDev_Role_Matcher_FullPath_Is_Any_pm.t .................. ok
t/00-compile/lib_Path_IsDev_Role_NegativeHeuristic_pm.t ........................ ok
# 
# Versions for all modules listed in MYMETA.json (including optional ones):
# 
# === Configure Requires ===
# 
#     Module              Want Have
#     ------------------- ---- ----
#     ExtUtils::MakeMaker  any 7.24
# 
# === Configure Recommends ===
# 
#     Module              Want Have
#     ------------------- ---- ----
#     ExtUtils::MakeMaker 7.00 7.24
# 
# === Build Requires ===
# 
#     Module              Want Have
#     ------------------- ---- ----
#     ExtUtils::MakeMaker  any 7.24
# 
# === Test Requires ===
# 
#     Module              Want     Have
#     ------------------- ---- --------
#     ExtUtils::MakeMaker  any     7.24
#     File::Spec           any  3.63_01
#     File::Temp           any   0.2304
#     FindBin              any     1.51
#     Test::Fatal          any    0.014
#     Test::More           any 1.302075
# 
# === Test Recommends ===
# 
#     Module                  Want     Have
#     ------------------- -------- --------
#     CPAN::Meta          2.120900 2.150005
#     ExtUtils::MakeMaker     7.00     7.24
#     Test::More              0.99 1.302075
# 
# === Runtime Requires ===
# 
#     Module            Want     Have
#     ---------------- ----- --------
#     Carp               any     1.40
#     Class::Tiny      0.010    1.006
#     File::HomeDir      any     1.00
#     Module::Runtime    any    0.014
#     Path::Tiny       0.004    0.100
#     Role::Tiny         any 2.000005
#     Role::Tiny::With   any 2.000005
#     Scalar::Util       any     1.47
#     Sub::Exporter      any    0.987
#     strict             any     1.11
#     utf8               any     1.19
#     warnings           any     1.36
# 
# === Runtime Recommends ===
# 
#     Module      Want  Have
#     ---------- ----- -----
#     Path::Tiny 0.058 0.100
# 
t/00-report-prereqs.t .......................................................... ok
t/basic.t ...................................................................... ok
t/Path-IsDev-Object/_matches.t ................................................. ok
# $path_isdev_source = /home/stro/cpan/build/5.24.1t/build/Path-IsDev-1.001003-0
# $corpus_Changes_dir = /home/stro/cpan/build/5.24.1t/build/Path-IsDev-1.001003-0/corpus/Changelog
# $corpus_Changes_dir/../ = /home/stro/cpan/build/5.24.1t/build/Path-IsDev-1.001003-0/corpus
t/Path-IsDev-Object/basic.t .................................................... ok
t/Path-IsDev/is_dev/Changelog.t ................................................ ok
t/Path-IsDev/is_dev/DevDir.t ................................................... ok
t/Path-IsDev/is_dev/DZil.t ..................................................... ok
t/Path-IsDev/is_dev/MakeMaker.t ................................................ ok
t/Path-IsDev/is_dev/META.t ..................................................... ok
t/Path-IsDev/is_dev/ModuleBuild.t .............................................. ok
t/Path-IsDev/is_dev/MYMETA.t ................................................... ok
t/Path-IsDev/is_dev/TestDir.t .................................................. ok
All tests successful.
Files=39, Tests=111,  4 wallclock secs ( 0.15 usr  0.08 sys +  2.32 cusr  0.28 csys =  2.83 CPU)
Result: PASS

------------------------------
PREREQUISITES
------------------------------

Prerequisite modules loaded:

requires:

    Module              Need     Have    
    ------------------- -------- --------
    Carp                0        1.40    
    Class::Tiny         0.010    1.006   
    File::HomeDir       0        1.00    
    Module::Runtime     0        0.014   
    Path::Tiny          0.004    0.100   
    perl                5.008    5.024001
    Role::Tiny          0        2.000005
    Role::Tiny::With    0        2.000005
    Scalar::Util        0        1.47    
    strict              0        1.11    
    Sub::Exporter       0        0.987   
    utf8                0        1.19    
    warnings            0        1.36    

build_requires:

    Module              Need     Have    
    ------------------- -------- --------
    ExtUtils::MakeMaker 0        7.24    
    File::Spec          0        3.63_01 
    File::Temp          0        0.2304  
    FindBin             0        1.51    
    Test::Fatal         0        0.014   
    Test::More          0        1.302075

configure_requires:

    Module              Need     Have    
    ------------------- -------- --------
    ExtUtils::MakeMaker 0        7.24    
    perl                5.008    5.024001

opt_requires:

    Module              Need     Have    
    ------------------- -------- --------
    Path::Tiny          0.058    0.100   

opt_build_requires:

    Module              Need     Have    
    ------------------- -------- --------
    CPAN::Meta          2.120900 2.150005
    ExtUtils::MakeMaker 7.00     7.24    
    Test::More          0.99     1.302075


------------------------------
ENVIRONMENT AND OTHER CONTEXT
------------------------------

Environment variables:

    AUTOMATED_TESTING = 1
    LANG = en_US.UTF-8
    PATH = /usr/gnu/bin:/usr/bin:/usr/sbin:/sbin:/usr/sfw/bin:
    PERL5LIB = 
    PERL5OPT = 
    PERL5_CPANPLUS_IS_RUNNING = 16027
    PERL5_CPAN_IS_RUNNING = 16027
    PERL5_CPAN_IS_RUNNING_IN_RECURSION = 22239,16027
    PERL_CR_SMOKER_CURRENT = Path-IsDev-1.001003
    PERL_EXTUTILS_AUTOINSTALL = --defaultdeps
    PERL_MM_USE_DEFAULT = 1
    SHELL = /bin/bash
    TERM = xterm

Perl special variables (and OS-specific diagnostics, for MSWin32):

    $^X = /home/stro/perl/5.24.1t/bin/perl
    $UID/$EUID = 101 / 101
    $GID = 10 10
    $EGID = 10 10

Perl module toolchain versions installed:

    Module              Have      
    ------------------- ----------
    CPAN                2.16      
    CPAN::Meta          2.150005  
    Cwd                 3.63_01   
    ExtUtils::CBuilder  0.280225  
    ExtUtils::Command   7.24      
    ExtUtils::Install   2.04      
    ExtUtils::MakeMaker 7.24      
    ExtUtils::Manifest  1.70      
    ExtUtils::ParseXS   3.31      
    File::Spec          3.63_01   
    JSON                2.90      
    JSON::PP            2.27300_01
    Module::Build       0.4220    
    Module::Signature   n/a       
    Parse::CPAN::Meta   1.4417_001
    Test::Harness       3.36_01   
    Test::More          1.302075  
    YAML                1.22      
    YAML::Syck          1.29      
    version             0.9916    


--

Summary of my perl5 (revision 5 version 24 subversion 1) configuration:
   
  Platform:
    osname=solaris, osvers=2.11, archname=i86pc-solaris-thread-multi
    uname='sunos vm-openindiana-001 5.11 illumos-2816291 i86pc i386 i86pc '
    config_args='-Dcc=gcc'
    hint=recommended, useposix=true, d_sigaction=define
    useithreads=define, usemultiplicity=define
    use64bitint=undef, use64bitall=undef, uselongdouble=undef
    usemymalloc=n, bincompat5005=undef
  Compiler:
    cc='gcc', ccflags ='-D_REENTRANT -fno-strict-aliasing -pipe -I/usr/gnu/include -D_LARGEFILE_SOURCE -D_FILE_OFFSET_BITS=64 -DPERL_USE_SAFE_PUTENV',
    optimize='-O',
    cppflags='-D_REENTRANT -fno-strict-aliasing -pipe -I/usr/gnu/include'
    ccversion='', gccversion='3.4.3 (csl-sol210-3_4-20050802)', gccosandvers='solaris2.11'
    intsize=4, longsize=4, ptrsize=4, doublesize=8, byteorder=1234, doublekind=3
    d_longlong=define, longlongsize=8, d_longdbl=define, longdblsize=12, longdblkind=3
    ivtype='long', ivsize=4, nvtype='double', nvsize=8, Off_t='off_t', lseeksize=8
    alignbytes=4, prototype=define
  Linker and Libraries:
    ld='gcc', ldflags =' -L/usr/gnu/lib '
    libpth=/usr/gcc/3.4/lib /usr/lib /usr/gnu/lib /usr/ccs/lib
    libs=-lpthread -lsocket -lnsl -lgdbm -ldb -ldl -lm -lc
    perllibs=-lpthread -lsocket -lnsl -ldl -lm -lc
    libc=/lib/libc.so, so=so, useshrplib=true, libperl=libperl.so
    gnulibc_version=''
  Dynamic Linking:
    dlsrc=dl_dlopen.xs, dlext=so, d_dlsymun=undef, ccdlflags='  -R /home/stro/perl/5.24.1t/lib/5.24.1/i86pc-solaris-thread-multi/CORE'
    cccdlflags='-fPIC', lddlflags='-shared -L/usr/gnu/lib'


Characteristics of this binary (from libperl): 
  Compile-time options: HAS_TIMES MULTIPLICITY PERLIO_LAYERS
                        PERL_COPY_ON_WRITE PERL_DONT_CREATE_GVSV
                        PERL_HASH_FUNC_ONE_AT_A_TIME_HARD
                        PERL_IMPLICIT_CONTEXT PERL_MALLOC_WRAP
                        PERL_PRESERVE_IVUV PERL_USE_SAFE_PUTENV USE_ITHREADS
                        USE_LARGE_FILES USE_LOCALE USE_LOCALE_COLLATE
                        USE_LOCALE_CTYPE USE_LOCALE_NUMERIC USE_LOCALE_TIME
                        USE_PERLIO USE_PERL_ATOF USE_REENTRANT_API
  Built under solaris
  Compiled at Feb  5 2017 23:42:47
  %ENV:
    PERL5LIB=""
    PERL5OPT=""
    PERL5_CPANPLUS_IS_RUNNING="16027"
    PERL5_CPAN_IS_RUNNING="16027"
    PERL5_CPAN_IS_RUNNING_IN_RECURSION="22239,16027"
    PERL_CR_SMOKER_CURRENT="Path-IsDev-1.001003"
    PERL_EXTUTILS_AUTOINSTALL="--defaultdeps"
    PERL_MM_USE_DEFAULT="1"
  @INC:
    /home/stro/perl/5.24.1t/lib/site_perl/5.24.1/i86pc-solaris-thread-multi
    /home/stro/perl/5.24.1t/lib/site_perl/5.24.1
    /home/stro/perl/5.24.1t/lib/5.24.1/i86pc-solaris-thread-multi
    /home/stro/perl/5.24.1t/lib/5.24.1
    .