Statistics-ANOVA v0.14 Perl 5 v5.35.5 x86_64-linux-thread-multi
        
            - Status
 
            - Pass
 
            - From
 
            - Andreas J. König (ANDK)
 
            - Dist
 
            - 
                Statistics-ANOVA v0.14
            
 
            - Platform
 
            - Perl 5 v5.35.5 x86_64-linux-thread-multi
 
            - Date
 
            - 2022-01-09 11:07:56
 
            - ID
 
            - 65bb7b9a-713c-11ec-bb57-1f7b0ee118f6
 
        
        This distribution has been tested as part of the CPAN Testers
project, supporting the Perl programming language.  See
http://wiki.cpantesters.org/ for more information or email
questions to cpan-testers-discuss@perl.org
--
Dear Roderick Garton,
This is a computer-generated report for Statistics-ANOVA-0.14
on perl 5.35.5, created by CPAN-Reporter-1.2018.
Thank you for uploading your work to CPAN.  Congratulations!
All tests were successful.
Sections of this report:
    * Tester comments
    * Program output
    * Prerequisites
    * Environment and other context
------------------------------
TESTER COMMENTS
------------------------------
Additional comments from tester:
this report is from an automated smoke testing program
and was not reviewed by a human for accuracy
------------------------------
PROGRAM OUTPUT
------------------------------
Output from '/usr/bin/make test':
PERL_DL_NONLAZY=1 "/home/sand/src/perl/repoperls/installed-perls/host/k93msid/v5.35.5/1e0c/bin/perl" "-MExtUtils::Command::MM" "-MTest::Harness" "-e" "undef *Test::Harness::Switches; test_harness(0, 'blib/lib', 'blib/arch')" t/*.t
# Testing Statistics::ANOVA 0.14, Perl 5.035005, /home/sand/src/perl/repoperls/installed-perls/host/k93msid/v5.35.5/1e0c/bin/perl
t/00-load.t ................. ok
t/01-indep_dfree_cat.t ...... ok
t/01-indep_dfree_cat_cmp.t .. ok
t/01-indep_dfree_ord.t ...... ok
t/01-indep_param_cat.t ...... ok
t/01-indep_param_cat_cmp.t .. ok
t/01-indep_param_cfi.t ...... ok
t/01-indep_param_ord.t ...... ok
t/01-rmdep_dfree_cat.t ...... ok
t/01-rmdep_dfree_ord.t ...... ok
t/01-rmdep_param_cat.t ...... ok
t/01-rmdep_param_cat_cmp.t .. ok
t/02-lakens_data.t .......... ok
t/02-spss_data.t ............ ok
t/02-statistics.t ........... ok
:-( Parametric trend analysis for dependent/repeated measures is not implemented at t/99-synopsis.t line 181.
t/99-synopsis.t ............. ok
t/pod-coverage.t ............ skipped: Test::Pod::Coverage 1.04 required for testing POD coverage
t/pod.t ..................... skipped: Test::Pod 1.14 required for testing POD
All tests successful.
Files=18, Tests=228,  6 wallclock secs ( 0.06 usr  0.06 sys +  1.27 cusr  0.42 csys =  1.81 CPU)
Result: PASS
------------------------------
PREREQUISITES
------------------------------
Prerequisite modules loaded:
requires:
    Module                      Need     Have    
    --------------------------- -------- --------
    Array::Compare              2.012002 3.0.8   
    List::AllUtils              0.09     0.19    
    Math::Cephes                0.5304   0.5305  
    Readonly                    1.03     2.05    
    Scalar::Util                1.42     1.60    
    Statistics::ANOVA::Friedman 0.01     0.02    
    Statistics::ANOVA::JT       0.01     0.01    
    Statistics::ANOVA::KW       0.01     0.01    
    Statistics::ANOVA::Page     0.01     0.02    
    Statistics::Data            0.11     0.11    
    Statistics::Data::Rank      0.01     0.02    
    Statistics::DependantTTest  0.03     0.03    
    Statistics::Lite            3.62     3.62    
    Statistics::TTest           1.1      1.1     
    Test::More                  0.98     1.302188
build_requires:
    Module                      Need     Have    
    --------------------------- -------- --------
    ExtUtils::MakeMaker         0        7.62    
configure_requires:
    Module                      Need     Have    
    --------------------------- -------- --------
    Module::Build               0.421    0.4231  
------------------------------
ENVIRONMENT AND OTHER CONTEXT
------------------------------
Environment variables:
    AUTOMATED_TESTING = 1
    LANG = en_US.UTF-8
    NO_NETWORK_TESTING = 1
    PATH = /home/sand/bin:/usr/local/bin:/usr/bin:/bin:/usr/games:/usr/local/perl/bin:/usr/X11/bin:/sbin:/usr/sbin
    PERL5LIB = 
    PERL5OPT = 
    PERL5_CPANPLUS_IS_RUNNING = 3015840
    PERL5_CPAN_IS_RUNNING = 3015840
    PERL_CANARY_STABILITY_NOPROMPT = 1
    PERL_MM_USE_DEFAULT = 1
    PERL_USE_UNSAFE_INC = 1
    SHELL = /usr/bin/zsh
    TERM = screen
Perl special variables (and OS-specific diagnostics, for MSWin32):
    $^X = /home/sand/src/perl/repoperls/installed-perls/host/k93msid/v5.35.5/1e0c/bin/perl
    $UID/$EUID = 1005 / 1005
    $GID = 1005 1005
    $EGID = 1005 1005
Perl module toolchain versions installed:
    Module              Have    
    ------------------- --------
    CPAN                2.28    
    CPAN::Meta          2.150010
    Cwd                 3.82    
    ExtUtils::CBuilder  0.280236
    ExtUtils::Command   7.62    
    ExtUtils::Install   2.20    
    ExtUtils::MakeMaker 7.62    
    ExtUtils::Manifest  1.73    
    ExtUtils::ParseXS   3.44    
    File::Spec          3.81    
    JSON                4.03    
    JSON::PP            4.06    
    Module::Build       0.4231  
    Module::Signature   0.87    
    Parse::CPAN::Meta   2.150010
    Test::Harness       3.43    
    Test::More          1.302188
    YAML                1.30    
    YAML::Syck          1.34    
    version             0.9929  
--
Summary of my perl5 (revision 5 version 35 subversion 5) configuration:
  Commit id: 14713429e65eb99c419694960cf6bdb876d43270
  Platform:
    osname=linux
    osvers=5.14.0-3-amd64
    archname=x86_64-linux-thread-multi
    uname='linux k93msid 5.14.0-3-amd64 #1 smp debian 5.14.12-1 (2021-10-14) x86_64 gnulinux '
    config_args='-Dprefix=/home/sand/src/perl/repoperls/installed-perls/host/k93msid/v5.35.5/1e0c -Dmyhostname=k93msid -Dinstallusrbinperl=n -Uversiononly -Dusedevel -des -Ui_db -Dlibswanted=cl pthread socket inet nsl gdbm dbm malloc dl ld sun m crypt sec util c cposix posix ucb BSD gdbm_compat -Duseithreads -Uuselongdouble -DEBUGGING=-g'
    hint=recommended
    useposix=true
    d_sigaction=define
    useithreads=define
    usemultiplicity=define
    use64bitint=define
    use64bitall=define
    uselongdouble=undef
    usemymalloc=n
    default_inc_excludes_dot=define
  Compiler:
    cc='cc'
    ccflags ='-D_REENTRANT -D_GNU_SOURCE -fwrapv -fno-strict-aliasing -pipe -fstack-protector-strong -I/usr/local/include -D_LARGEFILE_SOURCE -D_FILE_OFFSET_BITS=64 -D_FORTIFY_SOURCE=2'
    optimize='-O2 -g'
    cppflags='-D_REENTRANT -D_GNU_SOURCE -fwrapv -fno-strict-aliasing -pipe -fstack-protector-strong -I/usr/local/include'
    ccversion=''
    gccversion='11.2.0'
    gccosandvers=''
    intsize=4
    longsize=8
    ptrsize=8
    doublesize=8
    byteorder=12345678
    doublekind=3
    d_longlong=define
    longlongsize=8
    d_longdbl=define
    longdblsize=16
    longdblkind=3
    ivtype='long'
    ivsize=8
    nvtype='double'
    nvsize=8
    Off_t='off_t'
    lseeksize=8
    alignbytes=8
    prototype=define
  Linker and Libraries:
    ld='cc'
    ldflags =' -fstack-protector-strong -L/usr/local/lib'
    libpth=/usr/local/lib /usr/lib/x86_64-linux-gnu /usr/lib /lib/x86_64-linux-gnu /lib
    libs=-lpthread -lnsl -ldl -lm -lcrypt -lutil -lc
    perllibs=-lpthread -lnsl -ldl -lm -lcrypt -lutil -lc
    libc=libc-2.32.so
    so=so
    useshrplib=false
    libperl=libperl.a
    gnulibc_version='2.32'
  Dynamic Linking:
    dlsrc=dl_dlopen.xs
    dlext=so
    d_dlsymun=undef
    ccdlflags='-Wl,-E'
    cccdlflags='-fPIC'
    lddlflags='-shared -O2 -g -L/usr/local/lib -fstack-protector-strong'
Characteristics of this binary (from libperl): 
  Compile-time options:
    HAS_TIMES
    MULTIPLICITY
    PERLIO_LAYERS
    PERL_COPY_ON_WRITE
    PERL_DONT_CREATE_GVSV
    PERL_MALLOC_WRAP
    PERL_OP_PARENT
    PERL_PRESERVE_IVUV
    PERL_USE_DEVEL
    USE_64_BIT_ALL
    USE_64_BIT_INT
    USE_ITHREADS
    USE_LARGE_FILES
    USE_LOCALE
    USE_LOCALE_COLLATE
    USE_LOCALE_CTYPE
    USE_LOCALE_NUMERIC
    USE_LOCALE_TIME
    USE_PERLIO
    USE_PERL_ATOF
    USE_REENTRANT_API
    USE_THREAD_SAFE_LOCALE
  Built under linux
  Compiled at Nov 15 2021 08:34:35
  %ENV:
    PERL5LIB=""
    PERL5OPT=""
    PERL5_CPANPLUS_IS_RUNNING="3015840"
    PERL5_CPAN_IS_RUNNING="3015840"
    PERL_CANARY_STABILITY_NOPROMPT="1"
    PERL_MM_USE_DEFAULT="1"
    PERL_USE_UNSAFE_INC="1"
  @INC:
    /home/sand/src/perl/repoperls/installed-perls/host/k93msid/v5.35.5/1e0c/lib/site_perl/5.35.5/x86_64-linux-thread-multi
    /home/sand/src/perl/repoperls/installed-perls/host/k93msid/v5.35.5/1e0c/lib/site_perl/5.35.5
    /home/sand/src/perl/repoperls/installed-perls/host/k93msid/v5.35.5/1e0c/lib/5.35.5/x86_64-linux-thread-multi
    /home/sand/src/perl/repoperls/installed-perls/host/k93msid/v5.35.5/1e0c/lib/5.35.5
    .