Back
From: metabase:user:3143a46e-bb30-11e0-8dd5-45d7e6fb0a34
Subject: PASS Class-DBI-Sweet-0.11 v5.16.0 GNU/Linux
Date: 2012-12-20T16:00:38Z
This distribution has been tested as part of the CPAN Testers
project, supporting the Perl programming language. See
http://wiki.cpantesters.org/ for more information or email
questions to cpan-testers-discuss@perl.org
--
Dear Fred Moyer,
This is a computer-generated report for Class-DBI-Sweet-0.11
on perl 5.16.0, created by CPAN-Reporter-1.2007.
Thank you for uploading your work to CPAN. Congratulations!
All tests were successful.
Sections of this report:
* Tester comments
* Program output
* Prerequisites
* Environment and other context
------------------------------
TESTER COMMENTS
------------------------------
Additional comments from tester:
this report is from an automated smoke testing program
and was not reviewed by a human for accuracy
------------------------------
PROGRAM OUTPUT
------------------------------
Output from './Build test':
t/01use.t ................................ ok
t/02pod.t ................................ skipped: set TEST_POD to enable this test
t/03podcoverage.t ........................ skipped: set TEST_POD to enable this test
t/04join.t ............................... ok
t/05count.t .............................. ok
t/06object_cache.t ....................... ok
Use of uninitialized value $got in numeric eq (==) at (eval in cmp_ok) t/07prefetch.t line 48.
t/07prefetch.t ........................... ok
t/08pager.t .............................. ok
t/09sequence.t ........................... ok
t/cdbi-t-ocache/01-columns.t ............. ok
t/cdbi-t-ocache/03-subclassing.t ......... ok
t/cdbi-t-ocache/05-Query.t ............... ok
t/cdbi-t-ocache/06-hasa.t ................ ok
t/cdbi-t-ocache/08-inheritcols.t ......... ok
t/cdbi-t-ocache/09-has_many.t ............ ok
t/cdbi-t-ocache/10-mysql.t ............... skipped: Need Date::Simple for this test
t/cdbi-t-ocache/11-triggers.t ............ ok
t/cdbi-t-ocache/12-filter.t .............. ok
t/cdbi-t-ocache/13-constraint.t .......... ok
t/cdbi-t-ocache/14-might_have.t .......... ok
t/cdbi-t-ocache/16-reserved.t ............ ok
# Pg connection failed (DBI connect('dbname=template1','postgres',...) failed: could not connect to server: No such file or directory
# Is the server running locally and accepting
# connections on Unix domain socket "/tmp/.s.PGSQL.5432"? at /root/.cpan/build/Ima-DBI-0.35-9ZdCbP/blib/lib/Ima/DBI.pm line 328.
# ). Set env variables DBD_PG_DBNAME, DBD_PG_USER,
# DBD_PG_PASSWD to enable testing.
t/cdbi-t-ocache/17-data_type.t ........... skipped: Pg connection failed.
Name "Ima::DBI::st::execute" used only once: possible typo at t/cdbi-t-ocache/18-has_a.t line 44.
t/cdbi-t-ocache/18-has_a.t ............... ok
t/cdbi-t-ocache/19-set_sql.t ............. ok
t/cdbi-t-ocache/21-iterator.t ............ ok
t/cdbi-t-ocache/22-deflate_order.t ....... skipped: Need Time::Piece::MySQL for this test
t/cdbi-t-ocache/23-cascade.t ............. ok
t/cdbi-t-ocache/24-meta_info.t ........... ok
DBI connect('test','',...) failed: Can't connect to local MySQL server through socket '/var/run/mysql/mysql.sock' (2) at t/cdbi-t/testlib/MyBase.pm line 10.
t/cdbi-t-ocache/25-closures_in_meta.t .... skipped: Need MySQL for this test
t/cdbi-t-ocache/97-pod.t ................. ok
t/cdbi-t-ocache/98-failure.t ............. ok
Use of uninitialized value $name in lc at /root/.cpan/build/Class-DBI-v3.0.17-9eYvL8/blib/lib/Class/DBI/ColumnGrouper.pm line 91.
t/cdbi-t-ocache/99-misc.t ................ ok
t/cdbi-t-rescache/01-columns.t ........... ok
t/cdbi-t-rescache/03-subclassing.t ....... ok
t/cdbi-t-rescache/05-Query.t ............. ok
t/cdbi-t-rescache/06-hasa.t .............. ok
t/cdbi-t-rescache/08-inheritcols.t ....... ok
t/cdbi-t-rescache/09-has_many.t .......... ok
t/cdbi-t-rescache/10-mysql.t ............. skipped: Need Date::Simple for this test
t/cdbi-t-rescache/11-triggers.t .......... ok
t/cdbi-t-rescache/12-filter.t ............ ok
t/cdbi-t-rescache/13-constraint.t ........ ok
t/cdbi-t-rescache/14-might_have.t ........ ok
t/cdbi-t-rescache/16-reserved.t .......... ok
# Pg connection failed (DBI connect('dbname=template1','postgres',...) failed: could not connect to server: No such file or directory
# Is the server running locally and accepting
# connections on Unix domain socket "/tmp/.s.PGSQL.5432"? at /root/.cpan/build/Ima-DBI-0.35-9ZdCbP/blib/lib/Ima/DBI.pm line 328.
# ). Set env variables DBD_PG_DBNAME, DBD_PG_USER,
# DBD_PG_PASSWD to enable testing.
t/cdbi-t-rescache/17-data_type.t ......... skipped: Pg connection failed.
Name "Ima::DBI::st::execute" used only once: possible typo at t/cdbi-t-rescache/18-has_a.t line 44.
t/cdbi-t-rescache/18-has_a.t ............. ok
t/cdbi-t-rescache/19-set_sql.t ........... ok
t/cdbi-t-rescache/21-iterator.t .......... ok
t/cdbi-t-rescache/22-deflate_order.t ..... skipped: Need Time::Piece::MySQL for this test
t/cdbi-t-rescache/23-cascade.t ........... ok
t/cdbi-t-rescache/24-meta_info.t ......... ok
DBI connect('test','',...) failed: Can't connect to local MySQL server through socket '/var/run/mysql/mysql.sock' (2) at t/cdbi-t/testlib/MyBase.pm line 10.
t/cdbi-t-rescache/25-closures_in_meta.t .. skipped: Need MySQL for this test
t/cdbi-t-rescache/97-pod.t ............... ok
t/cdbi-t-rescache/98-failure.t ........... ok
Use of uninitialized value $name in lc at /root/.cpan/build/Class-DBI-v3.0.17-9eYvL8/blib/lib/Class/DBI/ColumnGrouper.pm line 91.
t/cdbi-t-rescache/99-misc.t .............. ok
t/cdbi-t/01-columns.t .................... ok
t/cdbi-t/02-Film.t ....................... ok
t/cdbi-t/03-subclassing.t ................ ok
t/cdbi-t/04-lazy.t ....................... ok
t/cdbi-t/05-Query.t ...................... ok
t/cdbi-t/06-hasa.t ....................... ok
t/cdbi-t/08-inheritcols.t ................ ok
t/cdbi-t/09-has_many.t ................... ok
t/cdbi-t/10-mysql.t ...................... skipped: Need Date::Simple for this test
t/cdbi-t/11-triggers.t ................... ok
t/cdbi-t/12-filter.t ..................... ok
t/cdbi-t/13-constraint.t ................. ok
t/cdbi-t/14-might_have.t ................. ok
# Pg connection failed (DBI connect('dbname=template1','postgres',...) failed: could not connect to server: No such file or directory
# Is the server running locally and accepting
# connections on Unix domain socket "/tmp/.s.PGSQL.5432"? at /root/.cpan/build/Ima-DBI-0.35-9ZdCbP/blib/lib/Ima/DBI.pm line 328.
# ). Set env variables DBD_PG_DBNAME, DBD_PG_USER,
# DBD_PG_PASSWD to enable testing.
t/cdbi-t/17-data_type.t .................. skipped: Pg connection failed.
Name "Ima::DBI::st::execute" used only once: possible typo at t/cdbi-t/18-has_a.t line 38.
t/cdbi-t/18-has_a.t ...................... ok
t/cdbi-t/19-set_sql.t .................... ok
t/cdbi-t/21-iterator.t ................... ok
t/cdbi-t/22-deflate_order.t .............. skipped: Need Time::Piece::MySQL for this test
t/cdbi-t/23-cascade.t .................... ok
t/cdbi-t/24-meta_info.t .................. ok
DBI connect('test','',...) failed: Can't connect to local MySQL server through socket '/var/run/mysql/mysql.sock' (2) at t/cdbi-t/testlib/MyBase.pm line 10.
t/cdbi-t/25-closures_in_meta.t ........... skipped: Need MySQL for this test
t/cdbi-t/97-pod.t ........................ ok
t/cdbi-t/98-failure.t .................... ok
Use of uninitialized value $name in lc at /root/.cpan/build/Class-DBI-v3.0.17-9eYvL8/blib/lib/Class/DBI/ColumnGrouper.pm line 91.
t/cdbi-t/99-misc.t ....................... ok
All tests successful.
Files=79, Tests=1280, 14 wallclock secs ( 0.74 usr 0.39 sys + 6.30 cusr 1.59 csys = 9.02 CPU)
Result: PASS
------------------------------
PREREQUISITES
------------------------------
Prerequisite modules loaded:
requires:
Module Need Have
------------- ------- ------
Class::DBI v3.0.12 3.0.17
Data::Page 0 2.02
DBD::SQLite 1.08 1.35
DBI 0 1.617
List::Util 0 1.25
SQL::Abstract 1.55 1.73
configure_requires:
Module Need Have
------------- ------- ------
Module::Build 0.38 0.4003
------------------------------
ENVIRONMENT AND OTHER CONTEXT
------------------------------
Environment variables:
AUTOMATED_TESTING = 1
LANG = POSIX
LC_CTYPE = en_US.UTF-8
PATH = /sbin:/usr/sbin:/usr/local/sbin:/usr/local/bin:/usr/bin:/bin:/usr/bin/X11:/usr/X11R6/bin:/usr/games
PERL5LIB = /root/.cpan/build/Class-DBI-v3.0.17-9eYvL8/blib/arch:/root/.cpan/build/Class-DBI-v3.0.17-9eYvL8/blib/lib:/root/.cpan/build/DBIx-ContextualFetch-1.03-3tM9ZH/blib/arch:/root/.cpan/build/DBIx-ContextualFetch-1.03-3tM9ZH/blib/lib:/root/.cpan/build/Ima-DBI-0.35-9ZdCbP/blib/arch:/root/.cpan/build/Ima-DBI-0.35-9ZdCbP/blib/lib:/root/.cpan/build/UNIVERSAL-moniker-0.08-EXX3GM/blib/arch:/root/.cpan/build/UNIVERSAL-moniker-0.08-EXX3GM/blib/lib
PERL5OPT =
PERL5_CPANPLUS_IS_RUNNING = 26462
PERL5_CPAN_IS_RUNNING = 26462
PERL5_CPAN_IS_RUNNING_IN_RECURSION = 11345,26462
PERL_CR_SMOKER_CURRENT = Class-DBI-Sweet-0.11
PERL_EXTUTILS_AUTOINSTALL = --defaultdeps
PERL_MM_USE_DEFAULT = 1
SHELL = /bin/bash
TERM = xterm
TMPDIR = /tmp
Perl special variables (and OS-specific diagnostics, for MSWin32):
$^X = /usr/bin/perl
$UID/$EUID = 0 / 0
$GID = 0 0
$EGID = 0 0
Perl module toolchain versions installed:
Module Have
------------------- --------
CPAN 1.9800
CPAN::Meta 2.120921
Cwd 3.39_02
ExtUtils::CBuilder 0.280206
ExtUtils::Command 1.17
ExtUtils::Install 1.58
ExtUtils::MakeMaker 6.63_02
ExtUtils::Manifest 1.61
ExtUtils::ParseXS 3.16
File::Spec 3.39_02
JSON 2.53
JSON::PP 2.27200
Module::Build 0.4003
Module::Signature n/a
Parse::CPAN::Meta 1.4404
Test::Harness 3.23
Test::More 0.98
YAML 0.84
YAML::Syck 1.21
version 0.9901
--
Summary of my perl5 (revision 5 version 16 subversion 0) configuration:
Platform:
osname=linux, osvers=3.1.10-1.9-default, archname=x86_64-linux-thread-multi
uname='linux build33 3.1.10-1.9-default #1 smp thu apr 5 18:48:38 utc 2012 (4a97ec8) x86_64 x86_64 x86_64 gnulinux '
config_args='-ds -e -Dprefix=/usr -Dvendorprefix=/usr -Dinstallusrbinperl -Dusethreads -Di_db -Di_dbm -Di_ndbm -Di_gdbm -Dd_dbm_open -Duseshrplib=true -Doptimize=-fmessage-length=0 -O2 -Wall -D_FORTIFY_SOURCE=2 -fstack-protector -funwind-tables -fasynchronous-unwind-tables -g -Wall -pipe -Accflags=-DPERL_USE_SAFE_PUTENV -Dotherlibdirs=/usr/lib/perl5/site_perl'
hint=recommended, useposix=true, d_sigaction=define
useithreads=define, usemultiplicity=define
useperlio=define, d_sfio=undef, uselargefiles=define, usesocks=undef
use64bitint=define, use64bitall=define, uselongdouble=undef
usemymalloc=n, bincompat5005=undef
Compiler:
cc='cc', ccflags ='-D_REENTRANT -D_GNU_SOURCE -DPERL_USE_SAFE_PUTENV -fno-strict-aliasing -pipe -fstack-protector -D_LARGEFILE_SOURCE -D_FILE_OFFSET_BITS=64',
optimize='-fmessage-length=0 -O2 -Wall -D_FORTIFY_SOURCE=2 -fstack-protector -funwind-tables -fasynchronous-unwind-tables -g -Wall -pipe',
cppflags='-D_REENTRANT -D_GNU_SOURCE -DPERL_USE_SAFE_PUTENV -fno-strict-aliasing -pipe -fstack-protector'
ccversion='', gccversion='4.7.1 20120713 [gcc-4_7-branch revision 189457]', gccosandvers=''
intsize=4, longsize=8, ptrsize=8, doublesize=8, byteorder=12345678
d_longlong=define, longlongsize=8, d_longdbl=define, longdblsize=16
ivtype='long', ivsize=8, nvtype='double', nvsize=8, Off_t='off_t', lseeksize=8
alignbytes=8, prototype=define
Linker and Libraries:
ld='cc', ldflags =' -L/usr/local/lib64 -fstack-protector'
libpth=/lib64 /usr/lib64 /usr/local/lib64
libs=-lm -ldl -lcrypt -lpthread
perllibs=-lm -ldl -lcrypt -lpthread
libc=/lib64/libc-2.15.so, so=so, useshrplib=true, libperl=libperl.so
gnulibc_version='2.15'
Dynamic Linking:
dlsrc=dl_dlopen.xs, dlext=so, d_dlsymun=undef, ccdlflags='-Wl,-E -Wl,-rpath,/usr/lib/perl5/5.16.0/x86_64-linux-thread-multi/CORE'
cccdlflags='-fPIC', lddlflags='-shared -L/usr/local/lib64 -fstack-protector'
Characteristics of this binary (from libperl):
Compile-time options: HAS_TIMES MULTIPLICITY PERLIO_LAYERS
PERL_DONT_CREATE_GVSV PERL_IMPLICIT_CONTEXT
PERL_MALLOC_WRAP PERL_PRESERVE_IVUV
PERL_USE_SAFE_PUTENV USE_64_BIT_ALL USE_64_BIT_INT
USE_ITHREADS USE_LARGE_FILES USE_LOCALE
USE_LOCALE_COLLATE USE_LOCALE_CTYPE
USE_LOCALE_NUMERIC USE_PERLIO USE_PERL_ATOF
USE_REENTRANT_API
Built under linux
Compiled at Jul 16 2012 08:51:58
%ENV:
PERL5LIB="/root/.cpan/build/Class-DBI-v3.0.17-9eYvL8/blib/arch:/root/.cpan/build/Class-DBI-v3.0.17-9eYvL8/blib/lib:/root/.cpan/build/DBIx-ContextualFetch-1.03-3tM9ZH/blib/arch:/root/.cpan/build/DBIx-ContextualFetch-1.03-3tM9ZH/blib/lib:/root/.cpan/build/Ima-DBI-0.35-9ZdCbP/blib/arch:/root/.cpan/build/Ima-DBI-0.35-9ZdCbP/blib/lib:/root/.cpan/build/UNIVERSAL-moniker-0.08-EXX3GM/blib/arch:/root/.cpan/build/UNIVERSAL-moniker-0.08-EXX3GM/blib/lib"
PERL5OPT=""
PERL5_CPANPLUS_IS_RUNNING="26462"
PERL5_CPAN_IS_RUNNING="26462"
PERL5_CPAN_IS_RUNNING_IN_RECURSION="11345,26462"
PERL_CR_SMOKER_CURRENT="Class-DBI-Sweet-0.11"
PERL_EXTUTILS_AUTOINSTALL="--defaultdeps"
PERL_MM_USE_DEFAULT="1"
@INC:
/root/.cpan/build/Class-DBI-v3.0.17-9eYvL8/blib/arch
/root/.cpan/build/Class-DBI-v3.0.17-9eYvL8/blib/lib
/root/.cpan/build/DBIx-ContextualFetch-1.03-3tM9ZH/blib/arch
/root/.cpan/build/DBIx-ContextualFetch-1.03-3tM9ZH/blib/lib
/root/.cpan/build/Ima-DBI-0.35-9ZdCbP/blib/arch
/root/.cpan/build/Ima-DBI-0.35-9ZdCbP/blib/lib
/root/.cpan/build/UNIVERSAL-moniker-0.08-EXX3GM/blib/arch
/root/.cpan/build/UNIVERSAL-moniker-0.08-EXX3GM/blib/lib
/usr/lib/perl5/site_perl/5.16.0/x86_64-linux-thread-multi
/usr/lib/perl5/site_perl/5.16.0
/usr/lib/perl5/vendor_perl/5.16.0/x86_64-linux-thread-multi
/usr/lib/perl5/vendor_perl/5.16.0
/usr/lib/perl5/5.16.0/x86_64-linux-thread-multi
/usr/lib/perl5/5.16.0
/usr/lib/perl5/site_perl/5.16.0/x86_64-linux-thread-multi
/usr/lib/perl5/site_perl/5.16.0
/usr/lib/perl5/site_perl
.