Business-CyberSource v0.010008 Perl 5 v5.28.0 RC1 x86_64-linux
- Status
- Pass
- From
- Slaven Rezić (SREZIC)
- Dist
-
Business-CyberSource v0.010008
- Platform
- Perl 5 v5.28.0 RC1 x86_64-linux
- Date
- 2018-05-24 05:07:46
- ID
- 65a95b3c-5f10-11e8-af3d-b6f20099b16b
This distribution has been tested as part of the CPAN Testers
project, supporting the Perl programming language. See
http://wiki.cpantesters.org/ for more information or email
questions to cpan-testers-discuss@perl.org
--
Dear Allie Gator,
This is a computer-generated report for Business-CyberSource-0.010008
on perl 5.28.0, created by CPAN-Reporter-1.2018.
Thank you for uploading your work to CPAN. Congratulations!
All tests were successful.
Sections of this report:
* Tester comments
* Program output
* Prerequisites
* Environment and other context
------------------------------
TESTER COMMENTS
------------------------------
Additional comments from tester:
none provided
------------------------------
PROGRAM OUTPUT
------------------------------
Output from '/usr/bin/make test':
Skip blib/lib/auto/share/dist/Business-CyberSource/test/CyberSourceTransaction_1_71.wsdl (unchanged)
Skip blib/lib/auto/share/dist/Business-CyberSource/production/CyberSourceTransaction_1_71.wsdl (unchanged)
Skip blib/lib/auto/share/dist/Business-CyberSource/production/CyberSourceTransaction_1_71.xsd (unchanged)
Skip blib/lib/auto/share/dist/Business-CyberSource/test/CyberSourceTransaction_1_71.xsd (unchanged)
PERL_DL_NONLAZY=1 "/opt/perl-5.28.0-RC1/bin/perl" "-MExtUtils::Command::MM" "-MTest::Harness" "-e" "undef *Test::Harness::Switches; test_harness(0, 'blib/lib', 'blib/arch')" t/*.t
t/00-compile.t ............................. ok
#
# Versions for all modules listed in MYMETA.json (including optional ones):
#
# === Configure Requires ===
#
# Module Want Have
# ----------------------- ---- ----
# ExtUtils::MakeMaker any 7.34
# File::ShareDir::Install 0.06 0.13
#
# === Build Requires ===
#
# Module Want Have
# ------------------- ---- ----
# ExtUtils::MakeMaker any 7.34
#
# === Test Requires ===
#
# Module Want Have
# -------------------- ---- --------
# Business::CreditCard 0.32 0.36
# DateTime any 1.49
# ExtUtils::MakeMaker any 7.34
# File::Spec any 3.74
# FindBin any 1.51
# IO::Handle any 1.39
# IPC::Open3 any 1.20
# Test::Deep any 1.128
# Test::Fatal any 0.014
# Test::Method any 0.001002
# Test::Moose any 2.2011
# Test::More any 1.302136
# Test::Requires any 0.10
# blib 1.01 1.07
# lib any 0.64
#
# === Test Recommends ===
#
# Module Want Have
# ------------ -------- --------
# Bread::Board 0.25 0.36
# CPAN::Meta 2.120900 2.150010
#
# === Runtime Requires ===
#
# Module Want Have
# -------------------------------------------- -------- --------
# Business::CreditCard 0.32 0.36
# DateTime::Format::W3CDTF 0.06 0.07
# File::ShareDir::ProjectDistDir 1.000 1.000009
# LWP::Protocol::https any 6.07
# Module::Load any 0.32
# Module::Runtime any 0.016
# Moose any 2.2011
# Moose::Exception any 2.2011
# Moose::Exception::AttributeIsRequired any 2.2011
# Moose::Role any 2.2011
# Moose::Util any 2.2011
# Moose::Util::TypeConstraints any 2.2011
# MooseX::AbstractFactory any 0.004003
# MooseX::Aliases any 0.11
# MooseX::RemoteHelper any 0.001021
# MooseX::RemoteHelper::CompositeSerialization any 0.001021
# MooseX::RemoteHelper::Types any 0.001021
# MooseX::SetOnce 0.200001 0.200002
# MooseX::Types any 0.50
# MooseX::Types::Common::Numeric 0.001003 0.001014
# MooseX::Types::Common::String 0.001005 0.001014
# MooseX::Types::CreditCard 0.002 0.002003
# MooseX::Types::DateTime any 0.13
# MooseX::Types::DateTime::W3C any 1.103360
# MooseX::Types::Email any 0.007
# MooseX::Types::Locale::Country any 0.05
# MooseX::Types::Locale::Currency any 0.001005
# MooseX::Types::Moose any 0.50
# MooseX::Types::NetAddr::IP any 0.07
# MooseY::RemoteHelper::MessagePart any 0.001021
# MooseY::RemoteHelper::Role::Client any 0.001021
# Type::Params any 1.002002
# Type::Utils 0.040 1.002002
# Types::Standard any 1.002002
# XML::Compile::SOAP11 any 3.24
# XML::Compile::SOAP::WSS 1.04 1.14
# XML::Compile::Transport::SOAPHTTP any 3.24
# XML::Compile::WSDL11 any 3.07
# namespace::autoclean any 0.28
# strict any 1.11
# warnings any 1.42
#
t/00-report-prereqs.t ...................... ok
t/auth-reversal.t .......................... ok
street deprecated check the perldoc for the actual attribute at /opt/perl-5.28.0-RC1/lib/site_perl/5.28.0/x86_64-linux/Class/MOP/Method/Wrapped.pm line 164.
street deprecated check the perldoc for the actual attribute at /opt/perl-5.28.0-RC1/lib/site_perl/5.28.0/x86_64-linux/Class/MOP/Method/Wrapped.pm line 164.
street deprecated check the perldoc for the actual attribute at /opt/perl-5.28.0-RC1/lib/site_perl/5.28.0/x86_64-linux/Class/MOP/Method/Wrapped.pm line 164.
t/authorization.t .......................... ok
street deprecated check the perldoc for the actual attribute at /opt/perl-5.28.0-RC1/lib/site_perl/5.28.0/x86_64-linux/Class/MOP/Method/Wrapped.pm line 164.
zip deprecated check the perldoc for the actual attribute at /opt/perl-5.28.0-RC1/lib/site_perl/5.28.0/x86_64-linux/Class/MOP/Method/Wrapped.pm line 164.
street deprecated check the perldoc for the actual attribute at /opt/perl-5.28.0-RC1/lib/site_perl/5.28.0/x86_64-linux/Class/MOP/Method/Wrapped.pm line 164.
street deprecated check the perldoc for the actual attribute at /opt/perl-5.28.0-RC1/lib/site_perl/5.28.0/x86_64-linux/Class/MOP/Method/Wrapped.pm line 164.
t/billto-exceptions.t ...................... ok
t/billto.t ................................. ok
t/business-rules.t ......................... ok
t/capture.t ................................ ok
t/card.t ................................... ok
t/client.t ................................. ok
street deprecated check the perldoc for the actual attribute at /opt/perl-5.28.0-RC1/lib/site_perl/5.28.0/x86_64-linux/Class/MOP/Method/Wrapped.pm line 164.
t/credit.t ................................. ok
t/dcc-autorization.t ....................... ok
t/dcc.t .................................... ok
t/error-exception.t ........................ ok
street deprecated check the perldoc for the actual attribute at /opt/perl-5.28.0-RC1/lib/site_perl/5.28.0/x86_64-linux/Class/MOP/Method/Wrapped.pm line 164.
t/exceptions.t ............................. ok
t/factory-request.t ........................ ok
t/invoiceheader.t .......................... ok
t/item-serialization.t ..................... ok
t/items.t .................................. ok
t/othertax.t ............................... ok
t/purchase-totals.t ........................ ok
t/response-removed-methods-successfully.t .. ok
t/response-sale.t .......................... ok
t/response.t ............................... ok
t/rule-expired-card.t ...................... skipped: Unable to send with fake credentials. Set both PERL_BUSINESS_CYBERSOURCE_USERNAME and PERL_BUSINESS_CYBERSOURCE_PASSWORD in the environment
t/rule-request-id-is-zero.t ................ skipped: Unable to send with fake credentials. Set both PERL_BUSINESS_CYBERSOURCE_USERNAME and PERL_BUSINESS_CYBERSOURCE_PASSWORD in the environment
t/service.t ................................ ok
t/shipfrom.t ............................... ok
t/shipto-exceptions.t ...................... ok
t/shipto.t ................................. ok
All tests successful.
Files=30, Tests=313, 32 wallclock secs ( 0.09 usr 0.09 sys + 27.89 cusr 3.54 csys = 31.61 CPU)
Result: PASS
------------------------------
PREREQUISITES
------------------------------
Prerequisite modules loaded:
requires:
Module Need Have
-------------------------------------------- -------- --------
Business::CreditCard 0.32 0.36
DateTime::Format::W3CDTF 0.06 0.07
File::ShareDir::ProjectDistDir 1.000 1.000009
LWP::Protocol::https 0 6.07
Module::Load 0 0.32
Module::Runtime 0 0.016
Moose 0 2.2011
Moose::Exception 0 2.2011
Moose::Exception::AttributeIsRequired 0 2.2011
Moose::Role 0 2.2011
Moose::Util 0 2.2011
Moose::Util::TypeConstraints 0 2.2011
MooseX::AbstractFactory 0 0.004003
MooseX::Aliases 0 0.11
MooseX::RemoteHelper 0 0.001021
MooseX::RemoteHelper::CompositeSerialization 0 0.001021
MooseX::RemoteHelper::Types 0 0.001021
MooseX::SetOnce 0.200001 0.200002
MooseX::Types 0 0.50
MooseX::Types::Common::Numeric 0.001003 0.001014
MooseX::Types::Common::String 0.001005 0.001014
MooseX::Types::CreditCard 0.002 0.002003
MooseX::Types::DateTime 0 0.13
MooseX::Types::DateTime::W3C 0 1.103360
MooseX::Types::Email 0 0.007
MooseX::Types::Locale::Country 0 0.05
MooseX::Types::Locale::Currency 0 0.001005
MooseX::Types::Moose 0 0.50
MooseX::Types::NetAddr::IP 0 0.07
MooseY::RemoteHelper::MessagePart 0 0.001021
MooseY::RemoteHelper::Role::Client 0 0.001021
namespace::autoclean 0 0.28
perl 5.010 5.028000
strict 0 1.11
Type::Params 0 1.002002
Type::Utils 0.040 1.002002
Types::Standard 0 1.002002
warnings 0 1.42
XML::Compile::SOAP11 0 3.24
XML::Compile::SOAP::WSS 1.04 1.14
XML::Compile::Transport::SOAPHTTP 0 3.24
XML::Compile::WSDL11 0 3.07
build_requires:
Module Need Have
-------------------------------------------- -------- --------
blib 1.01 1.07
Business::CreditCard 0.32 0.36
DateTime 0 1.49
ExtUtils::MakeMaker 0 7.34
File::Spec 0 3.74
FindBin 0 1.51
IO::Handle 0 1.39
IPC::Open3 0 1.20
lib 0 0.64
Test::Deep 0 1.128
Test::Fatal 0 0.014
Test::Method 0 0.001002
Test::Moose 0 2.2011
Test::More 0 1.302136
Test::Requires 0 0.10
configure_requires:
Module Need Have
-------------------------------------------- -------- --------
ExtUtils::MakeMaker 0 7.34
File::ShareDir::Install 0.06 0.13
opt_build_requires:
Module Need Have
-------------------------------------------- -------- --------
Bread::Board 0.25 0.36
CPAN::Meta 2.120900 2.150010
------------------------------
ENVIRONMENT AND OTHER CONTEXT
------------------------------
Environment variables:
LANG = C
LC_ALL = de_DE.UTF-8
PATH = /usr/local/bin:/usr/bin:/bin:/usr/local/sbin:/usr/sbin:/sbin:/home/cpansand/bin/linux-gnu:/home/cpansand/bin/sh:/home/cpansand/bin:/usr/games:/home/cpansand/devel:/home/eserte/src/srezic-misc/scripts
PERL5LIB =
PERL5OPT =
PERL5_CPANPLUS_IS_RUNNING = 28277
PERL5_CPAN_IS_RUNNING = 28277
PERL5_CPAN_IS_RUNNING_IN_RECURSION = 4935,28277
PERLDOC = -MPod::Perldoc::ToTextOverstrike
PERL_BATCH = yes
PERL_CANARY_STABILITY_NOPROMPT = 1
PERL_CPAN_REPORTER_CONFIG = /var/tmp/cpansmoker-1023/2018052400/cpanreporter_000_config.ini
PERL_EXTUTILS_AUTOINSTALL = --defaultdeps
PERL_PARALLEL_SMOKER = yes
PERL_USE_UNSAFE_INC = 1
SHELL = /usr/bin/zsh
TERM = screen
TMPDIR = /var/tmp/cpansmoker-1023/2018052400
Perl special variables (and OS-specific diagnostics, for MSWin32):
$^X = /opt/perl-5.28.0-RC1/bin/perl
$UID/$EUID = 1023 / 1023
$GID = 1023 1023
$EGID = 1023 1023
Perl module toolchain versions installed:
Module Have
------------------- --------
CPAN 2.20
CPAN::Meta 2.150010
Cwd 3.74
ExtUtils::CBuilder 0.280230
ExtUtils::Command 7.34
ExtUtils::Install 2.14
ExtUtils::MakeMaker 7.34
ExtUtils::Manifest 1.71
ExtUtils::ParseXS 3.39
File::Spec 3.74
JSON 2.97001
JSON::PP 2.97001
Module::Build 0.4224
Module::Signature 0.81
Parse::CPAN::Meta 2.150010
Test::Harness 3.42
Test::More 1.302136
YAML 1.26
YAML::Syck 1.30
version 0.9924
--
Summary of my perl5 (revision 5 version 28 subversion 0) configuration:
Platform:
osname=linux
osvers=4.9.0-3-amd64
archname=x86_64-linux
uname='linux debian9 4.9.0-3-amd64 #1 smp debian 4.9.30-2+deb9u5 (2017-09-19) x86_64 gnulinux '
config_args='-ds -e -Dprefix=/opt/perl-5.28.0-RC1 -Dcf_email=srezic@cpan.org'
hint=recommended
useposix=true
d_sigaction=define
useithreads=undef
usemultiplicity=undef
use64bitint=define
use64bitall=define
uselongdouble=undef
usemymalloc=n
default_inc_excludes_dot=define
bincompat5005=undef
Compiler:
cc='cc'
ccflags ='-fwrapv -fno-strict-aliasing -pipe -fstack-protector-strong -I/usr/local/include -D_LARGEFILE_SOURCE -D_FILE_OFFSET_BITS=64 -D_FORTIFY_SOURCE=2'
optimize='-O2'
cppflags='-fwrapv -fno-strict-aliasing -pipe -fstack-protector-strong -I/usr/local/include'
ccversion=''
gccversion='6.3.0 20170516'
gccosandvers=''
intsize=4
longsize=8
ptrsize=8
doublesize=8
byteorder=12345678
doublekind=3
d_longlong=define
longlongsize=8
d_longdbl=define
longdblsize=16
longdblkind=3
ivtype='long'
ivsize=8
nvtype='double'
nvsize=8
Off_t='off_t'
lseeksize=8
alignbytes=8
prototype=define
Linker and Libraries:
ld='cc'
ldflags =' -fstack-protector-strong -L/usr/local/lib'
libpth=/usr/local/lib /usr/lib/gcc/x86_64-linux-gnu/6/include-fixed /usr/include/x86_64-linux-gnu /usr/lib /lib/x86_64-linux-gnu /lib/../lib /usr/lib/x86_64-linux-gnu /usr/lib/../lib /lib
libs=-lpthread -lnsl -lgdbm -ldb -ldl -lm -lcrypt -lutil -lc -lgdbm_compat
perllibs=-lpthread -lnsl -ldl -lm -lcrypt -lutil -lc
libc=libc-2.24.so
so=so
useshrplib=false
libperl=libperl.a
gnulibc_version='2.24'
Dynamic Linking:
dlsrc=dl_dlopen.xs
dlext=so
d_dlsymun=undef
ccdlflags='-Wl,-E'
cccdlflags='-fPIC'
lddlflags='-shared -O2 -L/usr/local/lib -fstack-protector-strong'
Characteristics of this binary (from libperl):
Compile-time options:
HAS_TIMES
PERLIO_LAYERS
PERL_COPY_ON_WRITE
PERL_DONT_CREATE_GVSV
PERL_MALLOC_WRAP
PERL_OP_PARENT
PERL_PRESERVE_IVUV
USE_64_BIT_ALL
USE_64_BIT_INT
USE_LARGE_FILES
USE_LOCALE
USE_LOCALE_COLLATE
USE_LOCALE_CTYPE
USE_LOCALE_NUMERIC
USE_LOCALE_TIME
USE_PERLIO
USE_PERL_ATOF
Locally applied patches:
RC1
Built under linux
Compiled at May 22 2018 06:11:22
%ENV:
PERL5LIB=""
PERL5OPT=""
PERL5_CPANPLUS_IS_RUNNING="28277"
PERL5_CPAN_IS_RUNNING="28277"
PERL5_CPAN_IS_RUNNING_IN_RECURSION="4935,28277"
PERLDOC="-MPod::Perldoc::ToTextOverstrike"
PERL_BATCH="yes"
PERL_CANARY_STABILITY_NOPROMPT="1"
PERL_CPAN_REPORTER_CONFIG="/var/tmp/cpansmoker-1023/2018052400/cpanreporter_000_config.ini"
PERL_EXTUTILS_AUTOINSTALL="--defaultdeps"
PERL_PARALLEL_SMOKER="yes"
PERL_USE_UNSAFE_INC="1"
@INC:
/opt/perl-5.28.0-RC1/lib/site_perl/5.28.0/x86_64-linux
/opt/perl-5.28.0-RC1/lib/site_perl/5.28.0
/opt/perl-5.28.0-RC1/lib/5.28.0/x86_64-linux
/opt/perl-5.28.0-RC1/lib/5.28.0
.