Catalyst-Devel v1.42 Perl 5 v5.39.4 amd64-midnightbsd-thread-multi

Status
Pass
From
Carlos Guevara
Dist
Catalyst-Devel v1.42
Platform
Perl 5 v5.39.4 amd64-midnightbsd-thread-multi
Date
2023-09-25 14:18:28
ID
65a431f2-5bae-11ee-b89a-791a603ae976
This distribution has been tested as part of the CPAN Testers
project, supporting the Perl programming language.  See
http://wiki.cpantesters.org/ for more information or email
questions to cpan-testers-discuss@perl.org


--
Dear Graham Knop,

This is a computer-generated report for Catalyst-Devel-1.42
on perl 5.39.4, created by CPAN-Reporter-1.2019.

Thank you for uploading your work to CPAN.  Congratulations!
All tests were successful.

Sections of this report:

    * Tester comments
    * Program output
    * Prerequisites
    * Environment and other context

------------------------------
TESTER COMMENTS
------------------------------

Additional comments from tester:

this report is from an automated smoke testing program
and was not reviewed by a human for accuracy

------------------------------
PROGRAM OUTPUT
------------------------------

Output from '/usr/bin/make test':

Skip blib/lib/auto/share/dist/Catalyst-Devel/lib/MyApp.pm.tt (unchanged)
Skip blib/lib/auto/share/dist/Catalyst-Devel/root/static/images/btn_88x31_built_shadow.png.bin (unchanged)
Skip blib/lib/auto/share/dist/Catalyst-Devel/root/static/images/btn_88x31_powered_shadow.png.bin (unchanged)
Skip blib/lib/auto/share/dist/Catalyst-Devel/myapp.psgi.tt (unchanged)
Skip blib/lib/auto/share/dist/Catalyst-Devel/root/favicon.ico.bin (unchanged)
Skip blib/lib/auto/share/dist/Catalyst-Devel/t/01app.t.tt (unchanged)
Skip blib/lib/auto/share/dist/Catalyst-Devel/t/comptest.tt (unchanged)
Skip blib/lib/auto/share/dist/Catalyst-Devel/script/myapp_fastcgi.pl.tt (unchanged)
Skip blib/lib/auto/share/dist/Catalyst-Devel/script/myapp_create.pl.tt (unchanged)
Skip blib/lib/auto/share/dist/Catalyst-Devel/t/03podcoverage.t.tt (unchanged)
Skip blib/lib/auto/share/dist/Catalyst-Devel/root/static/images/btn_88x31_powered.png.bin (unchanged)
Skip blib/lib/auto/share/dist/Catalyst-Devel/t/02pod.t.tt (unchanged)
Skip blib/lib/auto/share/dist/Catalyst-Devel/lib/MyApp/Controller/Root.pm.tt (unchanged)
Skip blib/lib/auto/share/dist/Catalyst-Devel/root/static/images/btn_88x31_built.png.bin (unchanged)
Skip blib/lib/auto/share/dist/Catalyst-Devel/script/myapp_cgi.pl.tt (unchanged)
Skip blib/lib/auto/share/dist/Catalyst-Devel/Changes.tt (unchanged)
Skip blib/lib/auto/share/dist/Catalyst-Devel/root/static/images/catalyst_logo.png.bin (unchanged)
Skip blib/lib/auto/share/dist/Catalyst-Devel/script/myapp_server.pl.tt (unchanged)
Skip blib/lib/auto/share/dist/Catalyst-Devel/root/static/images/btn_120x50_powered_shadow.png.bin (unchanged)
Skip blib/lib/auto/share/dist/Catalyst-Devel/root/static/images/btn_120x50_built_shadow.png.bin (unchanged)
Skip blib/lib/auto/share/dist/Catalyst-Devel/root/static/images/btn_120x50_built.png.bin (unchanged)
Skip blib/lib/auto/share/dist/Catalyst-Devel/myapp.conf.tt (unchanged)
Skip blib/lib/auto/share/dist/Catalyst-Devel/lib/Helper/compclass.pm.tt (unchanged)
Skip blib/lib/auto/share/dist/Catalyst-Devel/root/static/images/btn_120x50_powered.png.bin (unchanged)
Skip blib/lib/auto/share/dist/Catalyst-Devel/script/myapp_test.pl.tt (unchanged)
Skip blib/lib/auto/share/dist/Catalyst-Devel/README.tt (unchanged)
Skip blib/lib/auto/share/dist/Catalyst-Devel/Makefile.PL.tt (unchanged)
PERL_DL_NONLAZY=1 "/usr/home/cpan/bin/perl/bin/perl5.39.4" "-MExtUtils::Command::MM" "-MTest::Harness" "-e" "undef *Test::Harness::Switches; test_harness(0, 'blib/lib', 'blib/arch')" t/*.t
t/01use.t ......................... ok
t/back_compat.t ................... ok
t/generated_app.t ................. ok
t/get_sharedir_file.t ............. ok
t/optional_http-server-restart.t .. skipped: set TEST_HTTP to enable this test
t/render_file_contents.t .......... ok
t/render_share_dir_file.t ......... ok
All tests successful.
Files=7, Tests=91,  5 wallclock secs ( 0.02 usr  0.02 sys +  4.09 cusr  0.54 csys =  4.66 CPU)
Result: PASS

------------------------------
PREREQUISITES
------------------------------

Prerequisite modules loaded:

requires:

    Module                                 Need    Have    
    -------------------------------------- ------- --------
    Catalyst                               5.90001 5.90131 
    Catalyst::Action::RenderView           0.10    0.16    
    Catalyst::Plugin::ConfigLoader         0.30    0.35    
    Catalyst::Plugin::Static::Simple       0.28    0.37    
    Config::General                        2.42    2.65    
    File::ChangeNotify                     0.07    0.31    
    File::Copy::Recursive                  0       0.45    
    File::ShareDir                         0       1.118   
    Module::Install                        1.02    1.21    
    Moose                                  0       2.2206  
    MooseX::Emulate::Class::Accessor::Fast 0       0.009032
    namespace::autoclean                   0       0.29    
    namespace::clean                       0       0.27    
    Path::Class                            0.09    0.37    
    Template                               2.14    3.101   

build_requires:

    Module                                 Need    Have    
    -------------------------------------- ------- --------
    Test::Fatal                            0.003   0.017   
    Test::More                             0.94    1.302195

configure_requires:

    Module                                 Need    Have    
    -------------------------------------- ------- --------
    ExtUtils::MakeMaker                    0       7.70    
    File::ShareDir::Install                0       0.14    


------------------------------
ENVIRONMENT AND OTHER CONTEXT
------------------------------

Environment variables:

    AUTOMATED_TESTING = 1
    DATE_MANIP_TEST_DM5 = 1
    LC_ALL = C
    NONINTERACTIVE_TESTING = 1
    NO_NETWORK_TESTING = 1
    PATH = /home/cpan/bin/perl/bin:/home/cpan/bin:/sbin:/bin:/usr/sbin:/usr/bin:/usr/games:/usr/local/sbin:/usr/local/bin:/home/cpan/bin
    PERL5LIB = 
    PERL5OPT = 
    PERL5_CPANPLUS_IS_RUNNING = 90686
    PERL5_CPAN_IS_RUNNING = 90686
    PERL_MM_USE_DEFAULT = 1
    PERL_USE_UNSAFE_INC = 1
    SHELL = /usr/local/bin/bash
    TERM = screen
    TMPDIR = /home/cpan/tmp

Perl special variables (and OS-specific diagnostics, for MSWin32):

    $^X = /usr/home/cpan/bin/perl/bin/perl5.39.4
    $UID/$EUID = 1002 / 1002
    $GID = 1002 1002
    $EGID = 1002 1002

Perl module toolchain versions installed:

    Module              Have    
    ------------------- --------
    CPAN                2.36    
    CPAN::Meta          2.150010
    Cwd                 3.90    
    ExtUtils::CBuilder  0.280240
    ExtUtils::Command   7.70    
    ExtUtils::Install   2.22    
    ExtUtils::MakeMaker 7.70    
    ExtUtils::Manifest  1.75    
    ExtUtils::ParseXS   3.51    
    File::Spec          3.90    
    JSON                4.10    
    JSON::PP            4.16    
    Module::Build       0.4234  
    Module::Signature   n/a     
    Parse::CPAN::Meta   2.150010
    Test2               1.302195
    Test::Harness       3.47    
    Test::More          1.302195
    YAML                1.30    
    YAML::Syck          n/a     
    version             0.9930  


--

Summary of my perl5 (revision 5 version 39 subversion 4) configuration:
  Commit id: db96d0e81fe16f2c72cc0e7b806339800a154a7c
  Platform:
    osname=midnightbsd
    osvers=3.1.0
    archname=amd64-midnightbsd-thread-multi
    uname='midnightbsd cjg-midnightbsd3 3.1.0 midnightbsd 3.1.0 #4n12783-598a54d760(stable3.1)-dirty: sat aug 26 15:48:07 edt 2023 root@m3164b:usrobjusrsrcamd64.amd64sysgeneric amd64 '
    config_args='-des -Dprefix=/home/cpan/bin/perl -Dscriptdir=/home/cpan/bin/perl/bin -Dusedevel -Duse64bitall -Duseithreads'
    hint=recommended
    useposix=true
    d_sigaction=define
    useithreads=define
    usemultiplicity=define
    use64bitint=define
    use64bitall=define
    uselongdouble=undef
    usemymalloc=n
    default_inc_excludes_dot=define
  Compiler:
    cc='cc'
    ccflags ='-DHAS_FPSETMASK -DHAS_FLOATINGPOINT_H -fno-strict-aliasing -pipe -fstack-protector-strong -I/usr/local/include'
    optimize='-O'
    cppflags='-DHAS_FPSETMASK -DHAS_FLOATINGPOINT_H -fno-strict-aliasing -pipe -fstack-protector-strong -I/usr/local/include'
    ccversion=''
    gccversion='MidnightBSD Clang 13.0.0 (git@github.com:llvm/llvm-project.git llvmorg-13.0.0-0-gd7b669b3a303)'
    gccosandvers=''
    intsize=4
    longsize=8
    ptrsize=8
    doublesize=8
    byteorder=12345678
    doublekind=3
    d_longlong=define
    longlongsize=8
    d_longdbl=define
    longdblsize=16
    longdblkind=3
    ivtype='long'
    ivsize=8
    nvtype='double'
    nvsize=8
    Off_t='off_t'
    lseeksize=8
    alignbytes=8
    prototype=define
  Linker and Libraries:
    ld='cc'
    ldflags ='-pthread -Wl,-E  -fstack-protector-strong -L/usr/local/lib'
    libpth=/usr/lib /usr/local/lib /usr/lib/clang/13.0.0/lib
    libs=-lpthread -ldl -lm -lcrypt
    perllibs=-lpthread -ldl -lm -lcrypt
    libc=
    so=so
    useshrplib=false
    libperl=libperl.a
    gnulibc_version=''
  Dynamic Linking:
    dlsrc=dl_dlopen.xs
    dlext=so
    d_dlsymun=undef
    ccdlflags=' '
    cccdlflags='-DPIC -fPIC'
    lddlflags='-shared  -L/usr/local/lib -fstack-protector-strong'


Characteristics of this binary (from libperl): 
  Compile-time options:
    HAS_LONG_DOUBLE
    HAS_STRTOLD
    HAS_TIMES
    MULTIPLICITY
    PERLIO_LAYERS
    PERL_COPY_ON_WRITE
    PERL_DONT_CREATE_GVSV
    PERL_HASH_FUNC_SIPHASH13
    PERL_HASH_USE_SBOX32
    PERL_MALLOC_WRAP
    PERL_OP_PARENT
    PERL_PRESERVE_IVUV
    PERL_USE_DEVEL
    PERL_USE_SAFE_PUTENV
    USE_64_BIT_ALL
    USE_64_BIT_INT
    USE_ITHREADS
    USE_LARGE_FILES
    USE_LOCALE
    USE_LOCALE_COLLATE
    USE_LOCALE_CTYPE
    USE_LOCALE_NUMERIC
    USE_LOCALE_TIME
    USE_PERLIO
    USE_PERL_ATOF
    USE_REENTRANT_API
    USE_THREAD_SAFE_LOCALE
  Built under midnightbsd
  Compiled at Sep 25 2023 07:18:42
  %ENV:
    PERL5LIB=""
    PERL5OPT=""
    PERL5_CPANPLUS_IS_RUNNING="90686"
    PERL5_CPAN_IS_RUNNING="90686"
    PERL_MM_USE_DEFAULT="1"
    PERL_USE_UNSAFE_INC="1"
  @INC:
    /home/cpan/bin/perl/lib/site_perl/5.39.4/amd64-midnightbsd-thread-multi
    /home/cpan/bin/perl/lib/site_perl/5.39.4
    /home/cpan/bin/perl/lib/5.39.4/amd64-midnightbsd-thread-multi
    /home/cpan/bin/perl/lib/5.39.4
    .