Text-Amuse-Preprocessor v0.67 Perl 5 v5.30.0 amd64-freebsd

Status
Pass
From
Chris Williams (BINGOS)
Dist
Text-Amuse-Preprocessor v0.67
Platform
Perl 5 v5.30.0 amd64-freebsd
Date
2023-07-14 21:21:28
ID
658f8f64-228c-11ee-98b0-b3c3213a625c
This distribution has been tested as part of the CPAN Testers
project, supporting the Perl programming language.  See
http://wiki.cpantesters.org/ for more information or email
questions to cpan-testers-discuss@perl.org


--

Dear MELMOTHX,

This is a computer-generated error report created automatically by
CPANPLUS, version 0.9914. Testers personal comments may appear
at the end of this report.


Thank you for uploading your work to CPAN.  Congratulations!
All tests were successful.

TEST RESULTS:

Below is the error stack from stage 'make test':

PERL_DL_NONLAZY=1 "/usr/home/cpan/pit/bare/perl-5.30.0/bin/perl" "-MExtUtils::Command::MM" "-MTest::Harness" "-e" "undef *Test::Harness::Switches; test_harness(0, 'blib/lib', 'blib/arch')" t/*.t
# Testing Text::Amuse::Preprocessor 0.67, Perl 5.030000, /usr/home/cpan/pit/bare/perl-5.30.0/bin/perl
t/00-load.t ........... ok
t/changes.t ........... skipped: Changes testing not required (or Test::CPAN::Changes not found)
t/chars.t ............. ok
t/chinese.t ........... ok
# Using /tmp/A6uJX2OIEk for ligatures
# Using /tmp/ZQM8nDFai8 for missing_nl
# Using /tmp/mmd0TQRiST for garbage
# Using /tmp/svitiRTe3X for ellipsis_no_fix
# Using /tmp/00zHZkqrAg for ellipsis
# Using /tmp/HOMrqexgcw for links
# Using /tmp/na0BydfxvM for en
# Using /tmp/8Zxf7ITxcW for fi
# Using /tmp/eDr9Epb4xE for es
# Using /tmp/NV4TyoKTo4 for sr
# Using /tmp/osAT2jHRFZ for hr
# Using /tmp/SWyeTwOPeC for ru
# Using /tmp/MIP06V270L for it
# Using /tmp/sLldYYDeHK for mk
# Using /tmp/b4jxgvLBqK for sv
# Using /tmp/oYZANbkl_J for de
# Using /tmp/Mjg59i07JC for pl
# Using /tmp/BNO5ppfm4h for bg
# Using /tmp/AEuuCbDpC7 for eo
# Using /tmp/hd3PFI76xw for fr
# Using /tmp/EVqzH6e5v9 for pt
# Using /tmp/hI1dQHOm9m for sq
# Using /tmp/HsZgugHTEN for da
# Using /tmp/1twskdBohP for nl
# Using /tmp/LMg5vRQato for id
# Using /tmp/3VSmNVE6jd for Full example
# Using /tmp/tAQOxm0JlN for Quote
# Using /tmp/7lPdkjkSxb for Quote
# Using /tmp/291vONRC2o for Nl quotation
t/common.t ............ ok
t/crash-on-verb.t ..... ok
# $VAR1 = "#title Test
# #lang en
# 
# 0
# 
# \x{201c}0\x{201d}
# 
# 0
# ";
# $VAR1 = "#title Test
# #lang en
# 
# 0
# 
# \x{201c}0\x{201d}
# 
# 0
# ";
t/crash_on_loop.t ..... ok
# /tmp/KyFsE969no/verbatim-in.muse
# /tmp/KyFsE969no
t/exclude-verbatim.t .. ok
tagpile mismatch: meta, head
t/farsi.t ............. ok
tagpile mismatch: head, html
tagpile mismatch: link, head
tagpile mismatch: hr, div
tagpile mismatch: br, body
tagpile mismatch: div, html
# 
# 
# <right>
# سلام من هیچکسی نیستم.[1]
# </right>
# 
# <br>
# 
# [1] https://amusewiki.org
# 
tagpile mismatch: link, head
tagpile mismatch: hr, div
tagpile mismatch: br, body
tagpile mismatch: div, html
# 
# 
# سلام من هیچکسی نیستم.[1]
# 
# <br>
# 
# [1] https://amusewiki.org
# 
# Testing t/footnotes/good.in => t/footnotes/good.out
# Testing t/footnotes/good2.in => t/footnotes/good2.out
# Testing t/footnotes/good3.in => t/footnotes/good3.out
# Testing t/footnotes/mixed.in => t/footnotes/mixed.out
# Testing t/footnotes/indentation.in => t/footnotes/indentation.out
# Testing t/footnotes/sec-good.in => t/footnotes/sec-good.out
# Testing t/footnotes/sec-good2.in => t/footnotes/sec-good2.out
# Testing t/footnotes/sec-good3.in => t/footnotes/sec-good3.out
# Testing t/footnotes/sec-bad.in => t/footnotes/sec-bad.out
# @@ -1 +1,2 @@
# -{4}
# +{3}
# +{3}
# Testing t/footnotes/sec-bad2.in => t/footnotes/sec-bad2.out
# @@ -1,3 +1,2 @@
# -{4}
# +{3}
# -{5}
# +{3}
# -{6}
# Testing t/footnotes/bad.in => t/footnotes/bad.out
# @@ -1,2 +1,3 @@
#  [1]
# -[1]
# +[2]
# +[4]
# Testing t/footnotes/bad2.in => t/footnotes/bad2.out
# @@ -1,4 +1,3 @@
#  [1]
# -[1]
# +[2]
#  [4]
# -[5]
t/footnotes.t ......... ok
tagpile mismatch: root, p
t/html-2.t ............ ok
# Using /tmp/JGpi2aX0H1.html
# Using /tmp/sVHy3WJBex.html
# Using /tmp/ZzkPIrOnGQ.html
# Using /tmp/x_27iyT1sV.html
# Using /tmp/ReLAHKS_iq.html
# Using /tmp/_xlBteoS5T.html
# Using /tmp/rr8X1dYZPN.html
# Using /tmp/opco1uuz1F.html
# Using /tmp/RiN1oD3Hb0.html
# Using /tmp/cC1WPSmlIy.html
# Using /tmp/mo7WQ1FNm7.html
# Using /tmp/GDYTyFFEgL.html
# Using /tmp/k8fnZyDfFZ.html
# Using /tmp/gBsxjezgjx.html
# Using /tmp/0kO6ZqFBkH.html
# Using /tmp/KbC1oLdU8H.html
# Using /tmp/sQtpVONTVO.html
t/html.t .............. ok
# Retrieved on February 2, 2011 from http://j12.org/spunk/library/writers/meltzer/sp001500.html
# Retrieved on February 2, 2011 from [[http://j12.org/spunk/library/writers/meltzer/sp001500.html][j12.org]]
# Retrieved on December 22, 2011 from http://libertarian-labyrinth.org/archive/The_Great_Debacle
# Retrieved on December 22, 2011 from [[http://libertarian-labyrinth.org/archive/The_Great_Debacle][libertarian-labyrinth.org]]
# <br>http://www.nancho.net/advisors/anaes.html<br>
# <br>[[http://www.nancho.net/advisors/anaes.html][www.nancho.net]]<br>
# http://www.nancho.net/advisors/anaes.html<br>http://www.nancho.net/advisors/anaes.html<br>
# [[http://www.nancho.net/advisors/anaes.html][www.nancho.net]]<br>[[http://www.nancho.net/advisors/anaes.html][www.nancho.net]]<br>
#  https://web.archive.org/web/20220504202253/https://amusewiki.org/special/index 
#  [[https://web.archive.org/web/20220504202253/https://amusewiki.org/special/index][web.archive.org]] 
#  [[https://web.archive.org/web/20220504202253/https://amusewiki.org/special/index][web.archive.org]] 
#  [[https://web.archive.org/web/20220504202253/https://amusewiki.org/special/index][web.archive.org]] 
# http://test.org/xx and http://test.org/xx
# [[http://test.org/xx][test.org]] and [[http://test.org/xx][test.org]]
# [[http://test.org/xx][test.org]] and [[http://test.org/xx][test.org]]
# [[http://test.org/xx][test.org]] and [[http://test.org/xx][test.org]]
# http://test.org/xx and [[http://test.org/xx][test.org]]
# [[http://test.org/xx][test.org]] and [[http://test.org/xx][test.org]]
# http://test.org/xx and http://test.org/xx][test.org]] 
# [[http://test.org/xx][test.org]] and http://test.org/xx][test.org]] 
# <http://test.org/xx> and >http://test.org/xx<
# <[[http://test.org/xx][test.org]]> and >[[http://test.org/xx][test.org]]<
# <http://test.org/xx> and https://test.org:80/>http://test.org/xx< and https://test.org/ and [[https://test.org/][test.org]]
# <[[http://test.org/xx][test.org]]> and [[https://test.org:80/][test.org]]>[[http://test.org/xx][test.org]]< and [[https://test.org/][test.org]] and [[https://test.org/][test.org]]
# https://example.com/@test and https://example.com/@test
# [[https://example.com/@test][example.com]] and [[https://example.com/@test][example.com]]
# (http://en.wikipedia.org/wiki/Pi_%28instrument%29)
# ([[http://en.wikipedia.org/wiki/Pi_%28instrument%29][en.wikipedia.org]])
# (http://en.wikipedia.org?test=1)
# ([[http://en.wikipedia.org?test=1][en.wikipedia.org]])
# (http://en.wikipedia.org?test=1&test=2) (http://en.wikipedia.org/test?test=1)
# ([[http://en.wikipedia.org?test=1&test=2][en.wikipedia.org]]) ([[http://en.wikipedia.org/test?test=1][en.wikipedia.org]])
t/links.t ............. ok
t/manifest.t .......... skipped: Author tests not required for installation
t/memory-cycles.t ..... skipped: Test::Memory::Cycle required for testing memory cycles
t/nbsp.t .............. ok
# Infile is /tmp/upTCanway6/input.txt
# Using /tmp/VU4I9w94g3 as temporary dir
t/object.t ............ ok
t/pod-coverage.t ...... skipped: Pod coverage not required for installation
t/pod.t ............... skipped: Pod test not required for installation
t/russian.t ........... ok
t/subs.t .............. ok
t/typography.t ........ ok
All tests successful.
Files=22, Tests=480,  7 wallclock secs ( 0.11 usr  0.15 sys +  4.21 cusr  2.05 csys =  6.52 CPU)
Result: PASS


PREREQUISITES:

Here is a list of prerequisites you specified and versions we
managed to load:

	  Module Name                        Have     Want
	  HTML::PullParser                   3.81        0
	  IO::HTML                          1.004        1
	  Pod::Simple::Wiki                  0.20     0.19
	  Test::More                     1.302195        0
	  Text::Amuse                        1.83     0.95
	  Text::Diff                         1.45        0

Perl module toolchain versions installed:
	Module Name                        Have
	CPANPLUS                         0.9914
	CPANPLUS::Dist::Build              0.90
	Cwd                                3.78
	ExtUtils::CBuilder             0.280236
	ExtUtils::Command                  7.70
	ExtUtils::Install                  2.22
	ExtUtils::MakeMaker                7.70
	ExtUtils::Manifest                 1.75
	ExtUtils::ParseXS                  3.44
	File::Spec                         3.78
	Module::Build                    0.4234
	Pod::Parser                        1.63
	Pod::Simple                        3.35
	Test2                          1.302195
	Test::Harness                      3.44
	Test::More                     1.302195
	version                          0.9929

******************************** NOTE ********************************
The comments above are created mechanically, possibly without manual
checking by the sender.  As there are many people performing automatic
tests on each upload to CPAN, it is likely that you will receive
identical messages about the same problem.

If you believe that the message is mistaken, please reply to the first
one with correction and/or additional informations, and do not take
it personally.  We appreciate your patience. :)
**********************************************************************

Additional comments:


This report was machine-generated by CPANPLUS::Dist::YACSmoke 1.08.
Powered by minismokebox version 0.68

CPANPLUS is prefering Build.PL

------------------------------
ENVIRONMENT AND OTHER CONTEXT
------------------------------

Environment variables:

    AUTOMATED_TESTING = 1
    NONINTERACTIVE_TESTING = 1
    PATH = /usr/home/cpan/pit/bare/conf/perl-5.30.0/.cpanplus/5.30.0/build/QoYoal_a4W/Text-Amuse-Preprocessor-0.67/blib/script:/sbin:/bin:/usr/sbin:/usr/bin:/usr/local/sbin:/usr/local/bin:/home/cpan/bin
    PERL5LIB = /usr/home/cpan/pit/jail/bqZQQmpd16/lib/perl5:/usr/home/cpan/pit/bare/conf/perl-5.30.0/.cpanplus/5.30.0/build/QoYoal_a4W/Text-Amuse-Preprocessor-0.67/blib/lib:/usr/home/cpan/pit/bare/conf/perl-5.30.0/.cpanplus/5.30.0/build/QoYoal_a4W/Text-Amuse-Preprocessor-0.67/blib/arch
    PERL5_CPANPLUS_IS_RUNNING = 76757
    PERL5_CPANPLUS_IS_VERSION = 0.9914
    PERL5_MINISMOKEBOX = 0.68
    PERL5_YACSMOKE_BASE = /usr/home/cpan/pit/bare/conf/perl-5.30.0
    PERL_EXTUTILS_AUTOINSTALL = --defaultdeps
    PERL_LOCAL_LIB_ROOT = /usr/home/cpan/pit/jail/bqZQQmpd16
    PERL_MB_OPT = --install_base "/usr/home/cpan/pit/jail/bqZQQmpd16"
    PERL_MM_OPT = INSTALL_BASE=/usr/home/cpan/pit/jail/bqZQQmpd16
    PERL_MM_USE_DEFAULT = 1
    SHELL = /usr/local/bin/bash
    TERM = screen

Perl special variables (and OS-specific diagnostics, for MSWin32):

    Perl: $^X = /usr/home/cpan/pit/bare/perl-5.30.0/bin/perl
    UID:  $<  = 1002
    EUID: $>  = 1002
    GID:  $(  = 1002 1002
    EGID: $)  = 1002 1002


-------------------------------


--

Summary of my perl5 (revision 5 version 30 subversion 0) configuration:
   
  Platform:
    osname=freebsd
    osvers=12.4-release-p1
    archname=amd64-freebsd
    uname='freebsd fforc 12.4-release-p1 freebsd 12.4-release-p1 generic amd64 '
    config_args='-des -Dprefix=/usr/home/cpan/pit/bare/perl-5.30.0'
    hint=recommended
    useposix=true
    d_sigaction=define
    useithreads=undef
    usemultiplicity=undef
    use64bitint=define
    use64bitall=define
    uselongdouble=undef
    usemymalloc=n
    default_inc_excludes_dot=define
    bincompat5005=undef
  Compiler:
    cc='cc'
    ccflags ='-DHAS_FPSETMASK -DHAS_FLOATINGPOINT_H -fno-strict-aliasing -pipe -fstack-protector-strong -I/usr/local/include'
    optimize='-O2'
    cppflags='-DHAS_FPSETMASK -DHAS_FLOATINGPOINT_H -fno-strict-aliasing -pipe -fstack-protector-strong -I/usr/local/include'
    ccversion=''
    gccversion='FreeBSD Clang 13.0.0 (git@github.com:llvm/llvm-project.git llvmorg-13.0.0-0-gd7b669b3a303)'
    gccosandvers=''
    intsize=4
    longsize=8
    ptrsize=8
    doublesize=8
    byteorder=12345678
    doublekind=3
    d_longlong=define
    longlongsize=8
    d_longdbl=define
    longdblsize=16
    longdblkind=3
    ivtype='long'
    ivsize=8
    nvtype='double'
    nvsize=8
    Off_t='off_t'
    lseeksize=8
    alignbytes=8
    prototype=define
  Linker and Libraries:
    ld='cc'
    ldflags ='-Wl,-E  -fstack-protector-strong -L/usr/local/lib'
    libpth=/usr/lib /usr/local/lib /usr/lib/clang/13.0.0/lib /usr/lib
    libs=-lpthread -lgdbm -ldl -lm -lcrypt -lutil -lc
    perllibs=-lpthread -ldl -lm -lcrypt -lutil -lc
    libc=
    so=so
    useshrplib=false
    libperl=libperl.a
    gnulibc_version=''
  Dynamic Linking:
    dlsrc=dl_dlopen.xs
    dlext=so
    d_dlsymun=undef
    ccdlflags=' '
    cccdlflags='-DPIC -fPIC'
    lddlflags='-shared  -L/usr/local/lib -fstack-protector-strong'


Characteristics of this binary (from libperl): 
  Compile-time options:
    HAS_TIMES
    PERLIO_LAYERS
    PERL_COPY_ON_WRITE
    PERL_DONT_CREATE_GVSV
    PERL_MALLOC_WRAP
    PERL_OP_PARENT
    PERL_PRESERVE_IVUV
    USE_64_BIT_ALL
    USE_64_BIT_INT
    USE_LARGE_FILES
    USE_LOCALE
    USE_LOCALE_COLLATE
    USE_LOCALE_CTYPE
    USE_LOCALE_NUMERIC
    USE_LOCALE_TIME
    USE_PERLIO
    USE_PERL_ATOF
  Locally applied patches:
    Devel::PatchPerl 2.08
  Built under freebsd
  Compiled at Mar 30 2023 07:43:14
  %ENV:
    PERL5LIB="/usr/home/cpan/pit/jail/bqZQQmpd16/lib/perl5:/usr/home/cpan/pit/bare/conf/perl-5.30.0/.cpanplus/5.30.0/build/QoYoal_a4W/Text-Amuse-Preprocessor-0.67/blib/lib:/usr/home/cpan/pit/bare/conf/perl-5.30.0/.cpanplus/5.30.0/build/QoYoal_a4W/Text-Amuse-Preprocessor-0.67/blib/arch"
    PERL5_CPANPLUS_IS_RUNNING="76757"
    PERL5_CPANPLUS_IS_VERSION="0.9914"
    PERL5_MINISMOKEBOX="0.68"
    PERL5_YACSMOKE_BASE="/usr/home/cpan/pit/bare/conf/perl-5.30.0"
    PERL_EXTUTILS_AUTOINSTALL="--defaultdeps"
    PERL_LOCAL_LIB_ROOT="/usr/home/cpan/pit/jail/bqZQQmpd16"
    PERL_MB_OPT="--install_base "/usr/home/cpan/pit/jail/bqZQQmpd16""
    PERL_MM_OPT="INSTALL_BASE=/usr/home/cpan/pit/jail/bqZQQmpd16"
    PERL_MM_USE_DEFAULT="1"
  @INC:
    /usr/home/cpan/pit/jail/bqZQQmpd16/lib/perl5/5.30.0/amd64-freebsd
    /usr/home/cpan/pit/jail/bqZQQmpd16/lib/perl5/5.30.0
    /usr/home/cpan/pit/jail/bqZQQmpd16/lib/perl5/amd64-freebsd
    /usr/home/cpan/pit/jail/bqZQQmpd16/lib/perl5
    /usr/home/cpan/pit/bare/conf/perl-5.30.0/.cpanplus/5.30.0/build/QoYoal_a4W/Text-Amuse-Preprocessor-0.67/blib/lib
    /usr/home/cpan/pit/bare/conf/perl-5.30.0/.cpanplus/5.30.0/build/QoYoal_a4W/Text-Amuse-Preprocessor-0.67/blib/arch
    /usr/home/cpan/pit/bare/perl-5.30.0/lib/site_perl/5.30.0/amd64-freebsd
    /usr/home/cpan/pit/bare/perl-5.30.0/lib/site_perl/5.30.0
    /usr/home/cpan/pit/bare/perl-5.30.0/lib/5.30.0/amd64-freebsd
    /usr/home/cpan/pit/bare/perl-5.30.0/lib/5.30.0