Selenium-Remote-Driver v1.49 Perl 5 v5.24.4 x86_64-linux
- Status
- Pass
- From
- Andreas J. König (ANDK)
- Dist
-
Selenium-Remote-Driver v1.49
- Platform
- Perl 5 v5.24.4 x86_64-linux
- Date
- 2025-05-24 19:36:32
- ID
- 658d0f70-38d6-11f0-a4da-ab5dc881e631
This distribution has been tested as part of the CPAN Testers
project, supporting the Perl programming language. See
http://wiki.cpantesters.org/ for more information or email
questions to cpan-testers-discuss@perl.org
--
Dear George S. Baugh,
This is a computer-generated report for Selenium-Remote-Driver-1.49
on perl 5.24.4, created by CPAN-Reporter-1.2018.
Thank you for uploading your work to CPAN. Congratulations!
All tests were successful.
Sections of this report:
* Tester comments
* Program output
* Prerequisites
* Environment and other context
------------------------------
TESTER COMMENTS
------------------------------
Additional comments from tester:
this report is from an automated smoke testing program
and was not reviewed by a human for accuracy
------------------------------
PROGRAM OUTPUT
------------------------------
Output from '/usr/bin/make test':
PERL_DL_NONLAZY=1 "/home/sand/src/perl/repoperls/installed-perls/host/k93msid/v5.24.4/da1c/bin/perl" "-MExtUtils::Command::MM" "-MTest::Harness" "-e" "undef *Test::Harness::Switches; test_harness(0, 'blib/lib', 'blib/arch')" t/*.t
t/00-compile.t .......................... ok
t/00-load.t ............................. ok
t/01-driver-pac.t ....................... ok
t/01-driver.t ........................... ok
t/01-webdriver3.t ....................... ok
t/02-webelement.t ....................... ok
t/03-spec-coverage.t .................... skipped: Author tests not required for installation.
t/04-commands-implemented.t ............. skipped: Author tests not required for installation.
t/10-switch-to-window.t ................. ok
t/12-reuse-session.t .................... ok
t/13-waiter.t ........................... ok
t/author-critic.t ....................... skipped: these tests are for testing by the author
t/author-eol.t .......................... skipped: these tests are for testing by the author
t/author-minimum-version.t .............. skipped: these tests are for testing by the author
t/author-mojibake.t ..................... skipped: these tests are for testing by the author
t/author-no-tabs.t ...................... skipped: these tests are for testing by the author
t/author-pod-coverage.t ................. skipped: these tests are for testing by the author
t/author-pod-linkcheck.t ................ skipped: these tests are for testing by the author
t/author-pod-syntax.t ................... skipped: these tests are for testing by the author
t/author-portability.t .................. skipped: these tests are for testing by the author
t/author-synopsis.t ..................... skipped: these tests are for testing by the author
t/author-test-version.t ................. skipped: these tests are for testing by the author
t/CanSetWebdriverContext.t .............. ok
t/convenience.t ......................... ok
t/error.t ............................... ok
t/Finders.t ............................. ok
t/Firefox-Profile.t ..................... ok
t/release-distmeta.t .................... skipped: these tests are for release candidate testing
t/release-kwalitee.t .................... skipped: these tests are for release candidate testing
t/release-meta-json.t ................... skipped: these tests are for release candidate testing
t/release-unused-vars.t ................. skipped: these tests are for release candidate testing
t/Remote-Connection.t ................... ok
t/Test-Selenium-Remote-Driver-google.t .. ok
t/Test-Selenium-Remote-Driver.t ......... ok
t/Test-Selenium-Remote-WebElement.t ..... ok
All tests successful.
Files=35, Tests=385, 18 wallclock secs ( 0.14 usr 0.04 sys + 6.41 cusr 1.57 csys = 8.16 CPU)
Result: PASS
------------------------------
PREREQUISITES
------------------------------
Prerequisite modules loaded:
requires:
Module Need Have
--------------------- ------- --------
Archive::Zip 0 1.68
base 0 2.23_01
Carp 0 1.50
Clone 0 0.46
constant 0 1.33
Cwd 0 3.75
Data::Dumper 0 2.183
Exporter 0 5.77
File::Basename 0 2.85
File::Copy 0 2.31
File::Spec 0 3.75
File::Spec::Functions 0 3.75
File::Temp 0 0.2311
File::Which 0 1.27
HTTP::Headers 0 6.45
HTTP::Request 0 6.45
HTTP::Response 0 6.45
IO::Socket 0 1.55
IO::Socket::INET 0 1.55
IO::String 0 1.08
IO::Uncompress::Unzip 2.030 2.213
JSON 0 4.10
List::Util 1.33 1.68
LWP::UserAgent 0 6.70
MIME::Base64 0 3.16
Moo 1.005 2.005005
Moo::Role 0 2.005005
namespace::clean 0 0.27
perl 5.010 5.024004
Scalar::Util 0 1.68
strict 0 1.11
Sub::Install 0 0.928
Test::Builder 0 1.302211
Test::LongString 0 0.17
Time::HiRes 0 1.9764
Try::Tiny 0 0.32
warnings 0 1.36
XML::Simple 0 2.25
build_requires:
Module Need Have
--------------------- ------- --------
ExtUtils::MakeMaker 0 7.71_02
File::Spec 0 3.75
File::stat 0 1.07
FindBin 0 1.54
IO::Handle 0 1.55
IPC::Open3 0 1.20
lib 0 0.63
Test::Builder::Tester 0 1.302211
Test::Deep 0 1.204
Test::Fatal 0 0.017
Test::LWP::UserAgent 0 0.036
Test::MockModule v0.13.0 0.177.0
Test::More 0 1.302211
configure_requires:
Module Need Have
--------------------- ------- --------
ExtUtils::MakeMaker 0 7.71_02
------------------------------
ENVIRONMENT AND OTHER CONTEXT
------------------------------
Environment variables:
AUTOMATED_TESTING = 1
LANG = en_US.UTF-8
LANGUAGE = en_US:en
PATH = /home/sand/bin:/usr/local/bin:/usr/bin:/bin:/usr/games:/usr/local/perl/bin:/usr/X11/bin:/sbin:/usr/sbin
PERL5LIB =
PERL5OPT =
PERL5_CPANPLUS_IS_RUNNING = 4060389
PERL5_CPAN_IS_RUNNING = 4060389
PERL_CANARY_STABILITY_NOPROMPT = 1
PERL_MM_USE_DEFAULT = 1
PERL_USE_UNSAFE_INC = 1
SHELL = /usr/bin/zsh
TERM = screen
Perl special variables (and OS-specific diagnostics, for MSWin32):
$^X = /home/sand/src/perl/repoperls/installed-perls/host/k93msid/v5.24.4/da1c/bin/perl
$UID/$EUID = 1005 / 1005
$GID = 1005 1005
$EGID = 1005 1005
Perl module toolchain versions installed:
Module Have
------------------- --------
CPAN 2.38
CPAN::Meta 2.150010
Cwd 3.75
ExtUtils::CBuilder 0.280236
ExtUtils::Command 7.71_02
ExtUtils::Install 2.20
ExtUtils::MakeMaker 7.71_02
ExtUtils::Manifest 1.75
ExtUtils::ParseXS 3.51
File::Spec 3.75
JSON 4.10
JSON::PP 4.17_01
Module::Build 0.4234
Module::Signature 0.88
Parse::CPAN::Meta 2.150010
Test::Harness 3.50
Test::More 1.302211
YAML 1.30
YAML::Syck 1.34
version 0.9929
--
Summary of my perl5 (revision 5 version 24 subversion 4) configuration:
Derived from: 901dd848e31de6d0cacfb77c029b4e92c41a13ce
Platform:
osname=linux, osvers=5.16.0-5-amd64, archname=x86_64-linux
uname='linux k93msid 5.16.0-5-amd64 #1 smp preempt debian 5.16.14-1 (2022-03-15) x86_64 gnulinux '
config_args='-Dprefix=/home/sand/src/perl/repoperls/installed-perls/host/k93msid/v5.24.4/da1c -Dmyhostname=k93msid -Dinstallusrbinperl=n -Uversiononly -Dusedevel -des -Ui_db -Dlibswanted=cl pthread socket inet nsl gdbm dbm malloc dl ld sun m crypt sec util c cposix posix ucb BSD gdbm_compat -Uuseithreads -Uuselongdouble -DEBUGGING=-g'
hint=recommended, useposix=true, d_sigaction=define
useithreads=undef, usemultiplicity=undef
use64bitint=define, use64bitall=define, uselongdouble=undef
usemymalloc=n, bincompat5005=undef
Compiler:
cc='cc', ccflags ='-fwrapv -fno-strict-aliasing -pipe -fstack-protector-strong -I/usr/local/include -D_LARGEFILE_SOURCE -D_FILE_OFFSET_BITS=64 -D_FORTIFY_SOURCE=2',
optimize='-O2 -g',
cppflags='-fwrapv -fno-strict-aliasing -pipe -fstack-protector-strong -I/usr/local/include'
ccversion='', gccversion='11.2.0', gccosandvers=''
intsize=4, longsize=8, ptrsize=8, doublesize=8, byteorder=12345678, doublekind=3
d_longlong=define, longlongsize=8, d_longdbl=define, longdblsize=16, longdblkind=3
ivtype='long', ivsize=8, nvtype='double', nvsize=8, Off_t='off_t', lseeksize=8
alignbytes=8, prototype=define
Linker and Libraries:
ld='cc', ldflags =' -fstack-protector-strong -L/usr/local/lib'
libpth=/usr/local/lib /usr/include/x86_64-linux-gnu /usr/lib /lib/x86_64-linux-gnu /lib/../lib /usr/lib/x86_64-linux-gnu /usr/lib/../lib /lib
libs=-lpthread -lnsl -ldl -lm -lcrypt -lutil -lc
perllibs=-lpthread -lnsl -ldl -lm -lcrypt -lutil -lc
libc=libc-2.33.so, so=so, useshrplib=false, libperl=libperl.a
gnulibc_version='2.33'
Dynamic Linking:
dlsrc=dl_dlopen.xs, dlext=so, d_dlsymun=undef, ccdlflags='-Wl,-E'
cccdlflags='-fPIC', lddlflags='-shared -O2 -g -L/usr/local/lib -fstack-protector-strong'
Characteristics of this binary (from libperl):
Compile-time options: HAS_TIMES PERLIO_LAYERS PERL_COPY_ON_WRITE
PERL_DONT_CREATE_GVSV
PERL_HASH_FUNC_ONE_AT_A_TIME_HARD PERL_MALLOC_WRAP
PERL_PRESERVE_IVUV PERL_USE_DEVEL USE_64_BIT_ALL
USE_64_BIT_INT USE_LARGE_FILES USE_LOCALE
USE_LOCALE_COLLATE USE_LOCALE_CTYPE
USE_LOCALE_NUMERIC USE_LOCALE_TIME USE_PERLIO
USE_PERL_ATOF
Locally applied patches:
uncommitted-changes
Built under linux
Compiled at Mar 19 2022 20:17:53
%ENV:
PERL5LIB=""
PERL5OPT=""
PERL5_CPANPLUS_IS_RUNNING="4060389"
PERL5_CPAN_IS_RUNNING="4060389"
PERL_CANARY_STABILITY_NOPROMPT="1"
PERL_MM_USE_DEFAULT="1"
PERL_USE_UNSAFE_INC="1"
@INC:
/home/sand/src/perl/repoperls/installed-perls/host/k93msid/v5.24.4/da1c/lib/site_perl/5.24.4/x86_64-linux
/home/sand/src/perl/repoperls/installed-perls/host/k93msid/v5.24.4/da1c/lib/site_perl/5.24.4
/home/sand/src/perl/repoperls/installed-perls/host/k93msid/v5.24.4/da1c/lib/5.24.4/x86_64-linux
/home/sand/src/perl/repoperls/installed-perls/host/k93msid/v5.24.4/da1c/lib/5.24.4
.