SGML-PYX v0.07 Perl 5 v5.18.4 x86_64-linux

Status
Pass
From
Slaven Rezić
Dist
SGML-PYX v0.07
Platform
Perl 5 v5.18.4 x86_64-linux
Date
2023-12-01 14:17:44
ID
65854c6c-9054-11ee-9cb0-d2106e8775ea
This distribution has been tested as part of the CPAN Testers
project, supporting the Perl programming language.  See
http://wiki.cpantesters.org/ for more information or email
questions to cpan-testers-discuss@perl.org


--
Dear Michal Josef Spacek,

This is a computer-generated report for SGML-PYX-0.07
on perl 5.18.4, created by CPAN-Reporter-1.2018.

Thank you for uploading your work to CPAN.  Congratulations!
All tests were successful.

Sections of this report:

    * Tester comments
    * Program output
    * Prerequisites
    * Environment and other context

------------------------------
TESTER COMMENTS
------------------------------

Additional comments from tester:

none provided

------------------------------
PROGRAM OUTPUT
------------------------------

Output from '/usr/bin/make test':

PERL_DL_NONLAZY=1 "/opt/perl-5.18.4/bin/perl" "-MExtUtils::Command::MM" "-MTest::Harness" "-e" "undef *Test::Harness::Switches; test_harness(0, 'inc', 'blib/lib', 'blib/arch')" t/SGML-PYX/*.t
t/SGML-PYX/01-use.t ...................... ok
t/SGML-PYX/02-version.t .................. ok
t/SGML-PYX/03-new.t ...................... ok
t/SGML-PYX/04-parsefile-cdata.t .......... ok
t/SGML-PYX/05-parsefile-char.t ........... ok
t/SGML-PYX/06-parsefile-comment.t ........ ok
t/SGML-PYX/07-parsefile-doctype.t ........ ok
t/SGML-PYX/08-parsefile-element.t ........ ok
t/SGML-PYX/09-parsefile-end_element.t .... ok
t/SGML-PYX/10-parsefile-instruction.t .... ok
t/SGML-PYX/11-parsefile-start_element.t .. ok
t/SGML-PYX/12-parsefile-start_xml.t ...... ok
All tests successful.
Files=12, Tests=63,  1 wallclock secs ( 0.04 usr  0.01 sys +  0.81 cusr  0.20 csys =  1.06 CPU)
Result: PASS

------------------------------
PREREQUISITES
------------------------------

Prerequisite modules loaded:

requires:

    Module              Need Have    
    ------------------- ---- --------
    Class::Utils        0.06 0.14    
    Encode              0    3.19    
    Error::Pure         0.22 0.31    
    PYX                 0.05 0.1     
    PYX::Utils          0.04 0.07    
    Tag::Reader::Perl   0.01 0.02    

build_requires:

    Module              Need Have    
    ------------------- ---- --------
    English             0    1.06_01 
    Error::Pure::Utils  0    0.31    
    ExtUtils::MakeMaker 6.36 7.70    
    File::Object        0.07 0.17    
    Test::More          0    1.302196
    Test::NoWarnings    0    1.06    
    Test::Output        1.02 1.034   

configure_requires:

    Module              Need Have    
    ------------------- ---- --------
    ExtUtils::MakeMaker 6.36 7.70    


------------------------------
ENVIRONMENT AND OTHER CONTEXT
------------------------------

Environment variables:

    LANG = en_US.UTF-8
    PATH = /usr/local/bin:/usr/bin:/bin:/usr/local/sbin:/usr/sbin:/sbin:/home/cpansand/bin/linux-gnu:/home/cpansand/bin/sh:/home/cpansand/bin:/usr/games:/home/cpansand/devel:/home/eserte/src/srezic-misc/scripts
    PERL5LIB = /home/cpansand/.cpan/build/2023120114/Tag-Reader-Perl-0.02-2/blib/arch:/home/cpansand/.cpan/build/2023120114/Tag-Reader-Perl-0.02-2/blib/lib:/home/cpansand/.cpan/build/2023120114/PYX-Stack-0.06-2/blib/arch:/home/cpansand/.cpan/build/2023120114/PYX-Stack-0.06-2/blib/lib:/home/cpansand/.cpan/build/2023120114/PYX-SGML-Raw-0.05-2/blib/arch:/home/cpansand/.cpan/build/2023120114/PYX-SGML-Raw-0.05-2/blib/lib:/home/cpansand/.cpan/build/2023120114/PYX-GraphViz-0.06-2/blib/arch:/home/cpansand/.cpan/build/2023120114/PYX-GraphViz-0.06-2/blib/lib:/home/cpansand/.cpan/build/2023120114/App-PYX2XML-0.06-2/blib/arch:/home/cpansand/.cpan/build/2023120114/App-PYX2XML-0.06-2/blib/lib:/home/cpansand/.cpan/build/2023120114/PYX-SGML-Tags-0.10-2/blib/arch:/home/cpansand/.cpan/build/2023120114/PYX-SGML-Tags-0.10-2/blib/lib
    PERL5OPT = 
    PERL5_CPANPLUS_IS_RUNNING = 1132
    PERL5_CPAN_IS_RUNNING = 1132
    PERL5_CPAN_IS_RUNNING_IN_RECURSION = 28880,1132
    PERLDOC = -MPod::Perldoc::ToTextOverstrike
    PERL_BATCH = yes
    PERL_CANARY_STABILITY_NOPROMPT = 1
    PERL_CPAN_REPORTER_CONFIG = /var/tmp/cpansmoker-1023/2023120114/cpanreporter_000_config.ini
    PERL_EXTUTILS_AUTOINSTALL = --defaultdeps
    PERL_USE_UNSAFE_INC = 1
    SHELL = /usr/bin/zsh
    TERM = screen
    TMPDIR = /var/tmp/cpansmoker-1023/2023120114

Perl special variables (and OS-specific diagnostics, for MSWin32):

    $^X = /opt/perl-5.18.4/bin/perl
    $UID/$EUID = 1023 / 1023
    $GID = 1023 1023
    $EGID = 1023 1023

Perl module toolchain versions installed:

    Module              Have    
    ------------------- --------
    CPAN                2.36    
    CPAN::Meta          2.150010
    Cwd                 3.75    
    ExtUtils::CBuilder  0.280236
    ExtUtils::Command   7.70    
    ExtUtils::Install   2.22    
    ExtUtils::MakeMaker 7.70    
    ExtUtils::Manifest  1.75    
    ExtUtils::ParseXS   3.51    
    File::Spec          3.75    
    JSON                4.10    
    JSON::PP            4.15    
    Module::Build       0.4234  
    Module::Signature   n/a     
    Parse::CPAN::Meta   2.150010
    Test::Harness       3.47    
    Test::More          1.302196
    YAML                1.30    
    YAML::Syck          1.34    
    version             0.9930  


--

Summary of my perl5 (revision 5 version 18 subversion 4) configuration:
   
  Platform:
    osname=linux, osvers=3.10.0-1160.81.1.el7.x86_64, archname=x86_64-linux
    uname='linux cloud3.bbbike.org 3.10.0-1160.81.1.el7.x86_64 #1 smp fri dec 16 17:29:43 utc 2022 x86_64 x86_64 x86_64 gnulinux '
    config_args='-ds -e -Dprefix=/opt/perl-5.18.4 -Dcf_email=srezic@cpan.org'
    hint=recommended, useposix=true, d_sigaction=define
    useithreads=undef, usemultiplicity=undef
    useperlio=define, d_sfio=undef, uselargefiles=define, usesocks=undef
    use64bitint=define, use64bitall=define, uselongdouble=undef
    usemymalloc=n, bincompat5005=undef
  Compiler:
    cc='cc', ccflags ='-fwrapv -fno-strict-aliasing -pipe -fstack-protector -I/usr/local/include -D_LARGEFILE_SOURCE -D_FILE_OFFSET_BITS=64',
    optimize='-O2',
    cppflags='-fwrapv -fno-strict-aliasing -pipe -fstack-protector -I/usr/local/include'
    ccversion='', gccversion='4.8.5 20150623 (Red Hat 4.8.5-44)', gccosandvers=''
    intsize=4, longsize=8, ptrsize=8, doublesize=8, byteorder=12345678
    d_longlong=define, longlongsize=8, d_longdbl=define, longdblsize=16
    ivtype='long', ivsize=8, nvtype='double', nvsize=8, Off_t='off_t', lseeksize=8
    alignbytes=8, prototype=define
  Linker and Libraries:
    ld='cc', ldflags =' -fstack-protector -L/usr/local/lib'
    libpth=/usr/local/lib /lib/../lib64 /usr/lib/../lib64 /lib /usr/lib /lib64 /usr/lib64 /usr/local/lib64
    libs=-lnsl -lgdbm -ldb -ldl -lm -lcrypt -lutil -lc -lgdbm_compat
    perllibs=-lnsl -ldl -lm -lcrypt -lutil -lc
    libc=libc-2.17.so, so=so, useshrplib=false, libperl=libperl.a
    gnulibc_version='2.17'
  Dynamic Linking:
    dlsrc=dl_dlopen.xs, dlext=so, d_dlsymun=undef, ccdlflags='-Wl,-E'
    cccdlflags='-fPIC', lddlflags='-shared -O2 -L/usr/local/lib -fstack-protector'


Characteristics of this binary (from libperl): 
  Compile-time options: HAS_TIMES PERLIO_LAYERS PERL_DONT_CREATE_GVSV
                        PERL_HASH_FUNC_ONE_AT_A_TIME_HARD PERL_MALLOC_WRAP
                        PERL_PRESERVE_IVUV PERL_SAWAMPERSAND USE_64_BIT_ALL
                        USE_64_BIT_INT USE_LARGE_FILES USE_LOCALE
                        USE_LOCALE_COLLATE USE_LOCALE_CTYPE
                        USE_LOCALE_NUMERIC USE_PERLIO USE_PERL_ATOF
  Locally applied patches:
	Devel::PatchPerl 2.08
  Built under linux
  Compiled at Dec 26 2022 19:19:09
  %ENV:
    PERL5LIB="/home/cpansand/.cpan/build/2023120114/Tag-Reader-Perl-0.02-2/blib/arch:/home/cpansand/.cpan/build/2023120114/Tag-Reader-Perl-0.02-2/blib/lib:/home/cpansand/.cpan/build/2023120114/PYX-Stack-0.06-2/blib/arch:/home/cpansand/.cpan/build/2023120114/PYX-Stack-0.06-2/blib/lib:/home/cpansand/.cpan/build/2023120114/PYX-SGML-Raw-0.05-2/blib/arch:/home/cpansand/.cpan/build/2023120114/PYX-SGML-Raw-0.05-2/blib/lib:/home/cpansand/.cpan/build/2023120114/PYX-GraphViz-0.06-2/blib/arch:/home/cpansand/.cpan/build/2023120114/PYX-GraphViz-0.06-2/blib/lib:/home/cpansand/.cpan/build/2023120114/App-PYX2XML-0.06-2/blib/arch:/home/cpansand/.cpan/build/2023120114/App-PYX2XML-0.06-2/blib/lib:/home/cpansand/.cpan/build/2023120114/PYX-SGML-Tags-0.10-2/blib/arch:/home/cpansand/.cpan/build/2023120114/PYX-SGML-Tags-0.10-2/blib/lib"
    PERL5OPT=""
    PERL5_CPANPLUS_IS_RUNNING="1132"
    PERL5_CPAN_IS_RUNNING="1132"
    PERL5_CPAN_IS_RUNNING_IN_RECURSION="28880,1132"
    PERLDOC="-MPod::Perldoc::ToTextOverstrike"
    PERL_BATCH="yes"
    PERL_CANARY_STABILITY_NOPROMPT="1"
    PERL_CPAN_REPORTER_CONFIG="/var/tmp/cpansmoker-1023/2023120114/cpanreporter_000_config.ini"
    PERL_EXTUTILS_AUTOINSTALL="--defaultdeps"
    PERL_USE_UNSAFE_INC="1"
  @INC:
    /home/cpansand/.cpan/build/2023120114/Tag-Reader-Perl-0.02-2/blib/arch
    /home/cpansand/.cpan/build/2023120114/Tag-Reader-Perl-0.02-2/blib/lib
    /home/cpansand/.cpan/build/2023120114/PYX-Stack-0.06-2/blib/arch
    /home/cpansand/.cpan/build/2023120114/PYX-Stack-0.06-2/blib/lib
    /home/cpansand/.cpan/build/2023120114/PYX-SGML-Raw-0.05-2/blib/arch
    /home/cpansand/.cpan/build/2023120114/PYX-SGML-Raw-0.05-2/blib/lib
    /home/cpansand/.cpan/build/2023120114/PYX-GraphViz-0.06-2/blib/arch
    /home/cpansand/.cpan/build/2023120114/PYX-GraphViz-0.06-2/blib/lib
    /home/cpansand/.cpan/build/2023120114/App-PYX2XML-0.06-2/blib/arch
    /home/cpansand/.cpan/build/2023120114/App-PYX2XML-0.06-2/blib/lib
    /home/cpansand/.cpan/build/2023120114/PYX-SGML-Tags-0.10-2/blib/arch
    /home/cpansand/.cpan/build/2023120114/PYX-SGML-Tags-0.10-2/blib/lib
    /opt/perl-5.18.4/lib/site_perl/5.18.4/x86_64-linux
    /opt/perl-5.18.4/lib/site_perl/5.18.4
    /opt/perl-5.18.4/lib/5.18.4/x86_64-linux
    /opt/perl-5.18.4/lib/5.18.4
    .