Term-ProgressSpinner v1.01 Perl 5 v5.42.0 RC2 aarch64-freebsd
- Status
- Pass
- From
- Slaven Rezić
- Dist
-
Term-ProgressSpinner v1.01
- Platform
- Perl 5 v5.42.0 RC2 aarch64-freebsd
- Date
- 2025-06-29 11:37:11
- ID
- 653ea3a8-54dd-11f0-9e28-b50d6e8775ea
This distribution has been tested as part of the CPAN Testers
project, supporting the Perl programming language. See
http://wiki.cpantesters.org/ for more information or email
questions to cpan-testers-discuss@perl.org
--
Dear Robert Acock,
This is a computer-generated report for Term-ProgressSpinner-1.01
on perl 5.42.0, created by CPAN-Reporter-1.2020.
Thank you for uploading your work to CPAN. Congratulations!
All tests were successful.
Sections of this report:
* Tester comments
* Program output
* Prerequisites
* Environment and other context
------------------------------
TESTER COMMENTS
------------------------------
Additional comments from tester:
none provided
------------------------------
PROGRAM OUTPUT
------------------------------
Output from '/usr/bin/make test':
PERL_DL_NONLAZY=1 "/usr/perl5.42.0-RC2/bin/perl" "-MExtUtils::Command::MM" "-MTest::Harness" "-e" "undef *Test::Harness::Switches; test_harness(0, 'blib/lib', 'blib/arch')" t/*.t
# Testing Term::ProgressSpinner 1.01, Perl 5.042000, /usr/perl5.42.0-RC2/bin/perl
t/00-load.t ....... ok
[1;1f[2J
[2K[?25l
[3;1f
[2K[37mâÂÂâ âÂÂ[30;100m [37mâ Ââ Â[30;100m processed [37m5%[30;100m of [37m1[30;100m/[37m20[30;100m [37m0.11[30;100m/[37m2.09[30;100m[0m
[3;1f
[2K[37mâÂÂâÂÂâ âÂÂ[30;100m [37mâ¢Ââ Â[30;100m processed [37m10%[30;100m of [37m2[30;100m/[37m20[30;100m [37m0.22[30;100m/[37m1.98[30;100m[0m
[3;1f
[2K[37mâÂÂâÂÂâÂÂâ âÂÂ[30;100m [37mâ¡Ââ Â[30;100m processed [37m15%[30;100m of [37m3[30;100m/[37m20[30;100m [37m0.32[30;100m/[37m1.81[30;100m[0m
[3;1f
[2K[37mâÂÂâÂÂâÂÂâÂÂâ âÂÂ[30;100m [37mâ Â
â Â[30;100m processed [37m20%[30;100m of [37m4[30;100m/[37m20[30;100m [37m0.42[30;100m/[37m1.68[30;100m[0m
[3;1f
[2K[37mâÂÂâÂÂâÂÂâÂÂâÂÂâ âÂÂ[30;100m [37mâ¢Ââ Â[30;100m processed [37m25%[30;100m of [37m5[30;100m/[37m20[30;100m [37m0.53[30;100m/[37m1.59[30;100m[0m
[3;1f
[2K[37mâÂÂâÂÂâÂÂâÂÂâÂÂâÂÂâ âÂÂ[30;100m [37mâ¡Ââ Â[30;100m processed [37m30%[30;100m of [37m6[30;100m/[37m20[30;100m [37m0.63[30;100m/[37m1.47[30;100m[0m
[3;1f
[2K[37mâÂÂâÂÂâÂÂâÂÂâÂÂâÂÂâÂÂâ âÂÂ[30;100m [37mâ Ââ Â[30;100m processed [37m35%[30;100m of [37m7[30;100m/[37m20[30;100m [37m0.73[30;100m/[37m1.36[30;100m[0m
[3;1f
[2K[37mâÂÂâÂÂâÂÂâÂÂâÂÂâÂÂâÂÂâÂÂâ âÂÂ[30;100m [37mâ¢Ââ Â[30;100m processed [37m40%[30;100m of [37m8[30;100m/[37m20[30;100m [37m0.83[30;100m/[37m1.24[30;100m[0m
[3;1f
[2K[37mâÂÂâÂÂâÂÂâÂÂâÂÂâÂÂâÂÂâÂÂâÂÂâ âÂÂ[30;100m [37mâ¡Ââ Â[30;100m processed [37m45%[30;100m of [37m9[30;100m/[37m20[30;100m [37m0.93[30;100m/[37m1.14[30;100m[0m
[3;1f
[2K[37mâÂÂâÂÂâÂÂâÂÂâÂÂâÂÂâÂÂâÂÂâÂÂâÂÂâ âÂÂ[30;100m [37mâ Ââ Â[30;100m processed [37m50%[30;100m of [37m10[30;100m/[37m20[30;100m [37m1.04[30;100m/[37m1.04[30;100m[0m
[3;1f
[2K[37mâÂÂâÂÂâÂÂâÂÂâÂÂâÂÂâÂÂâÂÂâÂÂâÂÂâÂÂâ âÂÂ[30;100m [37mâ¢Ââ Â[30;100m processed [37m55%[30;100m of [37m11[30;100m/[37m20[30;100m [37m1.14[30;100m/[37m0.93[30;100m[0m
[3;1f
[2K[37mâÂÂâÂÂâÂÂâÂÂâÂÂâÂÂâÂÂâÂÂâÂÂâÂÂâÂÂâÂÂâ âÂÂ[30;100m [37mâ¡Ââ Â[30;100m processed [37m60%[30;100m of [37m12[30;100m/[37m20[30;100m [37m1.25[30;100m/[37m0.83[30;100m[0m
[3;1f
[2K[37mâÂÂâÂÂâÂÂâÂÂâÂÂâÂÂâÂÂâÂÂâÂÂâÂÂâÂÂâÂÂâÂÂâ âÂÂ[30;100m [37mâ Ââ Â[30;100m processed [37m65%[30;100m of [37m13[30;100m/[37m20[30;100m [37m1.35[30;100m/[37m0.73[30;100m[0m
[3;1f
[2K[37mâÂÂâÂÂâÂÂâÂÂâÂÂâÂÂâÂÂâÂÂâÂÂâÂÂâÂÂâÂÂâÂÂâÂÂâ âÂÂ[30;100m [37mâ Ââ Â[30;100m processed [37m70%[30;100m of [37m14[30;100m/[37m20[30;100m [37m1.46[30;100m/[37m0.63[30;100m[0m
[3;1f
[2K[37mâÂÂâÂÂâÂÂâÂÂâÂÂâÂÂâÂÂâÂÂâÂÂâÂÂâÂÂâÂÂâÂÂâÂÂâÂÂâ âÂÂ[30;100m [37mâ Ââ Â[30;100m processed [37m75%[30;100m of [37m15[30;100m/[37m20[30;100m [37m1.57[30;100m/[37m0.52[30;100m[0m
[3;1f
[2K[37mâÂÂâÂÂâÂÂâÂÂâÂÂâÂÂâÂÂâÂÂâÂÂâÂÂâÂÂâÂÂâÂÂâÂÂâÂÂâÂÂâ âÂÂ[30;100m [37mâ Ââ Â[30;100m processed [37m80%[30;100m of [37m16[30;100m/[37m20[30;100m [37m1.67[30;100m/[37m0.42[30;100m[0m
[3;1f
[2K[37mâÂÂâÂÂâÂÂâÂÂâÂÂâÂÂâÂÂâÂÂâÂÂâÂÂâÂÂâÂÂâÂÂâÂÂâÂÂâÂÂâÂÂâ âÂÂ[30;100m [37mâ Ââ Â[30;100m processed [37m85%[30;100m of [37m17[30;100m/[37m20[30;100m [37m1.78[30;100m/[37m0.31[30;100m[0m
[3;1f
[2K[37mâÂÂâÂÂâÂÂâÂÂâÂÂâÂÂâÂÂâÂÂâÂÂâÂÂâÂÂâÂÂâÂÂâÂÂâÂÂâÂÂâÂÂâÂÂâ âÂÂ[30;100m [37mâ Ââ ©[30;100m processed [37m90%[30;100m of [37m18[30;100m/[37m20[30;100m [37m1.89[30;100m/[37m0.21[30;100m[0m
[3;1f
[2K[37mâÂÂâÂÂâÂÂâÂÂâÂÂâÂÂâÂÂâÂÂâÂÂâÂÂâÂÂâÂÂâÂÂâÂÂâÂÂâÂÂâÂÂâÂÂâÂÂâ âÂÂ[30;100m [37mâ Ââ¢Â[30;100m processed [37m95%[30;100m of [37m19[30;100m/[37m20[30;100m [37m1.99[30;100m/[37m0.1[30;100m[0m
[3;1f
[2K[37mâÂÂâÂÂâÂÂâÂÂâÂÂâÂÂâÂÂâÂÂâÂÂâÂÂâÂÂâÂÂâÂÂâÂÂâÂÂâÂÂâÂÂâÂÂâÂÂâÂÂâÂÂâÂÂ[30;100m [37mâ Ââ¡Â[30;100m processed [37m100%[30;100m of [37m20[30;100m/[37m20[30;100m [37m2.09[30;100m/[37m0[30;100m[0m
[?25h
[2K[?25l
[5;1f
[2K[37mâÂÂâ âÂÂ[30;100m [37mâÂÂâÂÂâÂÂ[30;100m processed [37m5%[30;100m of [37m1[30;100m/[37m20[30;100m [37m0.1[30;100m/[37m1.9[30;100m[0m
[5;1f
[2K[37mâÂÂâÂÂâ âÂÂ[30;100m [37mâÂÂâÂÂ
âÂÂ[30;100m processed [37m10%[30;100m of [37m2[30;100m/[37m20[30;100m [37m0.2[30;100m/[37m1.8[30;100m[0m
[5;1f
[2K[37mâÂÂâÂÂâÂÂâ âÂÂ[30;100m [37mâÂÂâÂÂâÂÂ[30;100m processed [37m15%[30;100m of [37m3[30;100m/[37m20[30;100m [37m0.3[30;100m/[37m1.7[30;100m[0m
[5;1f
[2K[37mâÂÂâÂÂâÂÂâÂÂâ âÂÂ[30;100m [37mâÂÂâÂÂâÂÂ[30;100m processed [37m20%[30;100m of [37m4[30;100m/[37m20[30;100m [37m0.4[30;100m/[37m1.6[30;100m[0m
[5;1f
[2K[37mâÂÂâÂÂâÂÂâÂÂâÂÂâ âÂÂ[30;100m [37mâÂÂâÂÂâÂÂ[30;100m processed [37m25%[30;100m of [37m5[30;100m/[37m20[30;100m [37m0.5[30;100m/[37m1.5[30;100m[0m
[5;1f
[2K[37mâÂÂâÂÂâÂÂâÂÂâÂÂâÂÂâ âÂÂ[30;100m [37mâÂÂâÂÂâÂÂ
[30;100m processed [37m30%[30;100m of [37m6[30;100m/[37m20[30;100m [37m0.61[30;100m/[37m1.42[30;100m[0m
[5;1f
[2K[37mâÂÂâÂÂâÂÂâÂÂâÂÂâÂÂâÂÂâ âÂÂ[30;100m [37mâÂÂâÂÂâÂÂ[30;100m processed [37m35%[30;100m of [37m7[30;100m/[37m20[30;100m [37m0.71[30;100m/[37m1.32[30;100m[0m
[5;1f
[2K[37mâÂÂâÂÂâÂÂâÂÂâÂÂâÂÂâÂÂâÂÂâ âÂÂ[30;100m [37mâÂÂ
âÂÂâÂÂ[30;100m processed [37m40%[30;100m of [37m8[30;100m/[37m20[30;100m [37m0.81[30;100m/[37m1.21[30;100m[0m
[5;1f
[2K[37mâÂÂâÂÂâÂÂâÂÂâÂÂâÂÂâÂÂâÂÂâÂÂâ âÂÂ[30;100m [37mâÂÂâÂÂâÂÂ[30;100m processed [37m45%[30;100m of [37m9[30;100m/[37m20[30;100m [37m0.91[30;100m/[37m1.11[30;100m[0m
[5;1f
[2K[37mâÂÂâÂÂâÂÂâÂÂâÂÂâÂÂâÂÂâÂÂâÂÂâÂÂâ âÂÂ[30;100m [37mâÂÂâÂÂ
âÂÂ[30;100m processed [37m50%[30;100m of [37m10[30;100m/[37m20[30;100m [37m1.02[30;100m/[37m1.02[30;100m[0m
[5;1f
[2K[37mâÂÂâÂÂâÂÂâÂÂâÂÂâÂÂâÂÂâÂÂâÂÂâÂÂâÂÂâ âÂÂ[30;100m [37mâÂÂâÂÂâÂÂ[30;100m processed [37m55%[30;100m of [37m11[30;100m/[37m20[30;100m [37m1.12[30;100m/[37m0.92[30;100m[0m
[5;1f
[2K[37mâÂÂâÂÂâÂÂâÂÂâÂÂâÂÂâÂÂâÂÂâÂÂâÂÂâÂÂâÂÂâ âÂÂ[30;100m [37mâÂÂâÂÂâÂÂ[30;100m processed [37m60%[30;100m of [37m12[30;100m/[37m20[30;100m [37m1.22[30;100m/[37m0.81[30;100m[0m
[5;1f
[2K[37mâÂÂâÂÂâÂÂâÂÂâÂÂâÂÂâÂÂâÂÂâÂÂâÂÂâÂÂâÂÂâÂÂâ âÂÂ[30;100m [37mâÂÂâÂÂâÂÂ[30;100m processed [37m65%[30;100m of [37m13[30;100m/[37m20[30;100m [37m1.33[30;100m/[37m0.72[30;100m[0m
[5;1f
[2K[37mâÂÂâÂÂâÂÂâÂÂâÂÂâÂÂâÂÂâÂÂâÂÂâÂÂâÂÂâÂÂâÂÂâÂÂâ âÂÂ[30;100m [37mâÂÂâÂÂâÂÂ
[30;100m processed [37m70%[30;100m of [37m14[30;100m/[37m20[30;100m [37m1.43[30;100m/[37m0.61[30;100m[0m
[5;1f
[2K[37mâÂÂâÂÂâÂÂâÂÂâÂÂâÂÂâÂÂâÂÂâÂÂâÂÂâÂÂâÂÂâÂÂâÂÂâÂÂâ âÂÂ[30;100m [37mâÂÂâÂÂâÂÂ[30;100m processed [37m75%[30;100m of [37m15[30;100m/[37m20[30;100m [37m1.53[30;100m/[37m0.51[30;100m[0m
[5;1f
[2K[37mâÂÂâÂÂâÂÂâÂÂâÂÂâÂÂâÂÂâÂÂâÂÂâÂÂâÂÂâÂÂâÂÂâÂÂâÂÂâÂÂâ âÂÂ[30;100m [37mâÂÂ
âÂÂâÂÂ[30;100m processed [37m80%[30;100m of [37m16[30;100m/[37m20[30;100m [37m1.63[30;100m/[37m0.41[30;100m[0m
[5;1f
[2K[37mâÂÂâÂÂâÂÂâÂÂâÂÂâÂÂâÂÂâÂÂâÂÂâÂÂâÂÂâÂÂâÂÂâÂÂâÂÂâÂÂâÂÂâ âÂÂ[30;100m [37mâÂÂâÂÂâÂÂ[30;100m processed [37m85%[30;100m of [37m17[30;100m/[37m20[30;100m [37m1.74[30;100m/[37m0.31[30;100m[0m
[5;1f
[2K[37mâÂÂâÂÂâÂÂâÂÂâÂÂâÂÂâÂÂâÂÂâÂÂâÂÂâÂÂâÂÂâÂÂâÂÂâÂÂâÂÂâÂÂâÂÂâ âÂÂ[30;100m [37mâÂÂâÂÂ
âÂÂ[30;100m processed [37m90%[30;100m of [37m18[30;100m/[37m20[30;100m [37m1.84[30;100m/[37m0.2[30;100m[0m
[5;1f
[2K[37mâÂÂâÂÂâÂÂâÂÂâÂÂâÂÂâÂÂâÂÂâÂÂâÂÂâÂÂâÂÂâÂÂâÂÂâÂÂâÂÂâÂÂâÂÂâÂÂâ âÂÂ[30;100m [37mâÂÂâÂÂâÂÂ[30;100m processed [37m95%[30;100m of [37m19[30;100m/[37m20[30;100m [37m1.95[30;100m/[37m0.1[30;100m[0m
[5;1f
[2K[37mâÂÂâÂÂâÂÂâÂÂâÂÂâÂÂâÂÂâÂÂâÂÂâÂÂâÂÂâÂÂâÂÂâÂÂâÂÂâÂÂâÂÂâÂÂâÂÂâÂÂâÂÂâÂÂ[30;100m [37mâÂÂâÂÂâÂÂ[30;100m processed [37m100%[30;100m of [37m20[30;100m/[37m20[30;100m [37m2.06[30;100m/[37m0[30;100m[0m
[?25h
[2K[?25l
[7;1f
[2K[37mãÂÂ= ãÂÂ[30;100m [37mâÂÂ[30;100m processed [37m5%[30;100m of [37m1[30;100m/[37m20[30;100m [37m0.11[30;100m/[37m2.09[30;100m[0m
[7;1f
[2K[37mãÂÂ== ãÂÂ[30;100m [37mâÂÂ[30;100m processed [37m10%[30;100m of [37m2[30;100m/[37m20[30;100m [37m0.21[30;100m/[37m1.89[30;100m[0m
[7;1f
[2K[37mãÂÂ=== ãÂÂ[30;100m [37mâÂÂ[30;100m processed [37m15%[30;100m of [37m3[30;100m/[37m20[30;100m [37m0.32[30;100m/[37m1.81[30;100m[0m
[7;1f
[2K[37mãÂÂ==== ãÂÂ[30;100m [37mâÂÂ[30;100m processed [37m20%[30;100m of [37m4[30;100m/[37m20[30;100m [37m0.42[30;100m/[37m1.68[30;100m[0m
[7;1f
[2K[37mãÂÂ===== ãÂÂ[30;100m [37m⦿[30;100m processed [37m25%[30;100m of [37m5[30;100m/[37m20[30;100m [37m0.52[30;100m/[37m1.56[30;100m[0m
[7;1f
[2K[37mãÂÂ====== ãÂÂ[30;100m [37mâÂÂ[30;100m processed [37m30%[30;100m of [37m6[30;100m/[37m20[30;100m [37m0.62[30;100m/[37m1.45[30;100m[0m
[7;1f
[2K[37mãÂÂ======= ãÂÂ[30;100m [37mâÂÂ[30;100m processed [37m35%[30;100m of [37m7[30;100m/[37m20[30;100m [37m0.73[30;100m/[37m1.36[30;100m[0m
[7;1f
[2K[37mãÂÂ======== ãÂÂ[30;100m [37mâÂÂ[30;100m processed [37m40%[30;100m of [37m8[30;100m/[37m20[30;100m [37m0.83[30;100m/[37m1.24[30;100m[0m
[7;1f
[2K[37mãÂÂ========= ãÂÂ[30;100m [37mâ¦[30;100m processed [37m45%[30;100m of [37m9[30;100m/[37m20[30;100m [37m0.93[30;100m/[37m1.14[30;100m[0m
[7;1f
[2K[37mãÂÂ========== ãÂÂ[30;100m [37mã»[30;100m processed [37m50%[30;100m of [37m10[30;100m/[37m20[30;100m [37m1.04[30;100m/[37m1.04[30;100m[0m
[7;1f
[2K[37mãÂÂ=========== ãÂÂ[30;100m [37mã»[30;100m processed [37m55%[30;100m of [37m11[30;100m/[37m20[30;100m [37m1.15[30;100m/[37m0.94[30;100m[0m
[7;1f
[2K[37mãÂÂ============ ãÂÂ[30;100m [37mâ¦[30;100m processed [37m60%[30;100m of [37m12[30;100m/[37m20[30;100m [37m1.25[30;100m/[37m0.83[30;100m[0m
[7;1f
[2K[37mãÂÂ============= ãÂÂ[30;100m [37mâÂÂ[30;100m processed [37m65%[30;100m of [37m13[30;100m/[37m20[30;100m [37m1.35[30;100m/[37m0.73[30;100m[0m
[7;1f
[2K[37mãÂÂ============== ãÂÂ[30;100m [37mâÂÂ[30;100m processed [37m70%[30;100m of [37m14[30;100m/[37m20[30;100m [37m1.46[30;100m/[37m0.63[30;100m[0m
[7;1f
[2K[37mãÂÂ=============== ãÂÂ[30;100m [37mâÂÂ[30;100m processed [37m75%[30;100m of [37m15[30;100m/[37m20[30;100m [37m1.56[30;100m/[37m0.52[30;100m[0m
[7;1f
[2K[37mãÂÂ================ ãÂÂ[30;100m [37mâÂÂ[30;100m processed [37m80%[30;100m of [37m16[30;100m/[37m20[30;100m [37m1.66[30;100m/[37m0.41[30;100m[0m
[7;1f
[2K[37mãÂÂ================= ãÂÂ[30;100m [37m⦿[30;100m processed [37m85%[30;100m of [37m17[30;100m/[37m20[30;100m [37m1.76[30;100m/[37m0.31[30;100m[0m
[7;1f
[2K[37mãÂÂ================== ãÂÂ[30;100m [37mâÂÂ[30;100m processed [37m90%[30;100m of [37m18[30;100m/[37m20[30;100m [37m1.87[30;100m/[37m0.21[30;100m[0m
[7;1f
[2K[37mãÂÂ=================== ãÂÂ[30;100m [37mâÂÂ[30;100m processed [37m95%[30;100m of [37m19[30;100m/[37m20[30;100m [37m1.97[30;100m/[37m0.1[30;100m[0m
[7;1f
[2K[37mãÂÂ====================ãÂÂ[30;100m [37mâÂÂ[30;100m processed [37m100%[30;100m of [37m20[30;100m/[37m20[30;100m [37m2.08[30;100m/[37m0[30;100m[0m
[?25h
[2K[?25l
[9;1f
[2K[37mâÂÂâ âÂÂ[30;100m [37mâÂÂ[30;100m processed [37m5%[30;100m of [37m1[30;100m/[37m20[30;100m [37m0.1[30;100m/[37m1.9[30;100m[0m
[9;1f
[2K[37mâÂÂâÂÂâ âÂÂ[30;100m [37mâÂÂ[30;100m processed [37m10%[30;100m of [37m2[30;100m/[37m20[30;100m [37m0.2[30;100m/[37m1.8[30;100m[0m
[9;1f
[2K[37mâÂÂâÂÂâÂÂâ âÂÂ[30;100m [37mâÂÂ[30;100m processed [37m15%[30;100m of [37m3[30;100m/[37m20[30;100m [37m0.31[30;100m/[37m1.76[30;100m[0m
[9;1f
[2K[37mâÂÂâÂÂâÂÂâÂÂâ âÂÂ[30;100m [37mâÂÂ[30;100m processed [37m20%[30;100m of [37m4[30;100m/[37m20[30;100m [37m0.41[30;100m/[37m1.64[30;100m[0m
[9;1f
[2K[37mâÂÂâÂÂâÂÂâÂÂâÂÂâ âÂÂ[30;100m [37mâÂÂ[30;100m processed [37m25%[30;100m of [37m5[30;100m/[37m20[30;100m [37m0.51[30;100m/[37m1.53[30;100m[0m
[9;1f
[2K[37mâÂÂâÂÂâÂÂâÂÂâÂÂâÂÂâ âÂÂ[30;100m [37mâÂÂ[30;100m processed [37m30%[30;100m of [37m6[30;100m/[37m20[30;100m [37m0.61[30;100m/[37m1.42[30;100m[0m
[9;1f
[2K[37mâÂÂâÂÂâÂÂâÂÂâÂÂâÂÂâÂÂâ âÂÂ[30;100m [37mâÂÂ[30;100m processed [37m35%[30;100m of [37m7[30;100m/[37m20[30;100m [37m0.72[30;100m/[37m1.34[30;100m[0m
[9;1f
[2K[37mâÂÂâÂÂâÂÂâÂÂâÂÂâÂÂâÂÂâÂÂâ âÂÂ[30;100m [37mâÂÂ[30;100m processed [37m40%[30;100m of [37m8[30;100m/[37m20[30;100m [37m0.82[30;100m/[37m1.23[30;100m[0m
[9;1f
[2K[37mâÂÂâÂÂâÂÂâÂÂâÂÂâÂÂâÂÂâÂÂâÂÂâ âÂÂ[30;100m [37mâÂÂ[30;100m processed [37m45%[30;100m of [37m9[30;100m/[37m20[30;100m [37m0.92[30;100m/[37m1.12[30;100m[0m
[9;1f
[2K[37mâÂÂâÂÂâÂÂâÂÂâÂÂâÂÂâÂÂâÂÂâÂÂâÂÂâ âÂÂ[30;100m [37mâÂÂ[30;100m processed [37m50%[30;100m of [37m10[30;100m/[37m20[30;100m [37m1.03[30;100m/[37m1.03[30;100m[0m
[9;1f
[2K[37mâÂÂâÂÂâÂÂâÂÂâÂÂâÂÂâÂÂâÂÂâÂÂâÂÂâÂÂâ âÂÂ[30;100m [37mâÂÂ[30;100m processed [37m55%[30;100m of [37m11[30;100m/[37m20[30;100m [37m1.13[30;100m/[37m0.92[30;100m[0m
[9;1f
[2K[37mâÂÂâÂÂâÂÂâÂÂâÂÂâÂÂâÂÂâÂÂâÂÂâÂÂâÂÂâÂÂâ âÂÂ[30;100m [37mâÂÂ[30;100m processed [37m60%[30;100m of [37m12[30;100m/[37m20[30;100m [37m1.24[30;100m/[37m0.83[30;100m[0m
[9;1f
[2K[37mâÂÂâÂÂâÂÂâÂÂâÂÂâÂÂâÂÂâÂÂâÂÂâÂÂâÂÂâÂÂâÂÂâ âÂÂ[30;100m [37mâÂÂ[30;100m processed [37m65%[30;100m of [37m13[30;100m/[37m20[30;100m [37m1.35[30;100m/[37m0.73[30;100m[0m
[9;1f
[2K[37mâÂÂâÂÂâÂÂâÂÂâÂÂâÂÂâÂÂâÂÂâÂÂâÂÂâÂÂâÂÂâÂÂâÂÂâ âÂÂ[30;100m [37mâÂÂ[30;100m processed [37m70%[30;100m of [37m14[30;100m/[37m20[30;100m [37m1.45[30;100m/[37m0.62[30;100m[0m
[9;1f
[2K[37mâÂÂâÂÂâÂÂâÂÂâÂÂâÂÂâÂÂâÂÂâÂÂâÂÂâÂÂâÂÂâÂÂâÂÂâÂÂâ âÂÂ[30;100m [37mâÂÂ[30;100m processed [37m75%[30;100m of [37m15[30;100m/[37m20[30;100m [37m1.55[30;100m/[37m0.52[30;100m[0m
[9;1f
[2K[37mâÂÂâÂÂâÂÂâÂÂâÂÂâÂÂâÂÂâÂÂâÂÂâÂÂâÂÂâÂÂâÂÂâÂÂâÂÂâÂÂâ âÂÂ[30;100m [37mâÂÂ[30;100m processed [37m80%[30;100m of [37m16[30;100m/[37m20[30;100m [37m1.65[30;100m/[37m0.41[30;100m[0m
[9;1f
[2K[37mâÂÂâÂÂâÂÂâÂÂâÂÂâÂÂâÂÂâÂÂâÂÂâÂÂâÂÂâÂÂâÂÂâÂÂâÂÂâÂÂâÂÂâ âÂÂ[30;100m [37mâÂÂ[30;100m processed [37m85%[30;100m of [37m17[30;100m/[37m20[30;100m [37m1.76[30;100m/[37m0.31[30;100m[0m
[9;1f
[2K[37mâÂÂâÂÂâÂÂâÂÂâÂÂâÂÂâÂÂâÂÂâÂÂâÂÂâÂÂâÂÂâÂÂâÂÂâÂÂâÂÂâÂÂâÂÂâ âÂÂ[30;100m [37mâÂÂ[30;100m processed [37m90%[30;100m of [37m18[30;100m/[37m20[30;100m [37m1.86[30;100m/[37m0.21[30;100m[0m
[9;1f
[2K[37mâÂÂâÂÂâÂÂâÂÂâÂÂâÂÂâÂÂâÂÂâÂÂâÂÂâÂÂâÂÂâÂÂâÂÂâÂÂâÂÂâÂÂâÂÂâÂÂâ âÂÂ[30;100m [37mâÂÂ[30;100m processed [37m95%[30;100m of [37m19[30;100m/[37m20[30;100m [37m1.96[30;100m/[37m0.1[30;100m[0m
[9;1f
[2K[37mâÂÂâÂÂâÂÂâÂÂâÂÂâÂÂâÂÂâÂÂâÂÂâÂÂâÂÂâÂÂâÂÂâÂÂâÂÂâÂÂâÂÂâÂÂâÂÂâÂÂâÂÂâÂÂ[30;100m [37mâÂÂ[30;100m processed [37m100%[30;100m of [37m20[30;100m/[37m20[30;100m [37m2.07[30;100m/[37m0[30;100m[0m
[?25h
[2K[?25l
[11;1f
[2K[37mâÂÂâ âÂÂ[30;100m [37mð [30;100m processed [37m5%[30;100m of [37m1[30;100m/[37m20[30;100m [37m0.1[30;100m/[37m1.9[30;100m[0m
[11;1f
[2K[37mâÂÂâÂÂâ âÂÂ[30;100m [37mð [30;100m processed [37m10%[30;100m of [37m2[30;100m/[37m20[30;100m [37m0.21[30;100m/[37m1.89[30;100m[0m
[11;1f
[2K[37mâÂÂâÂÂâÂÂâ âÂÂ[30;100m [37mð [30;100m processed [37m15%[30;100m of [37m3[30;100m/[37m20[30;100m [37m0.31[30;100m/[37m1.76[30;100m[0m
[11;1f
[2K[37mâÂÂâÂÂâÂÂâÂÂâ âÂÂ[30;100m [37mð [30;100m processed [37m20%[30;100m of [37m4[30;100m/[37m20[30;100m [37m0.42[30;100m/[37m1.68[30;100m[0m
[11;1f
[2K[37mâÂÂâÂÂâÂÂâÂÂâÂÂâ âÂÂ[30;100m [37mð [30;100m processed [37m25%[30;100m of [37m5[30;100m/[37m20[30;100m [37m0.52[30;100m/[37m1.56[30;100m[0m
[11;1f
[2K[37mâÂÂâÂÂâÂÂâÂÂâÂÂâÂÂâ âÂÂ[30;100m [37mð [30;100m processed [37m30%[30;100m of [37m6[30;100m/[37m20[30;100m [37m0.62[30;100m/[37m1.45[30;100m[0m
[11;1f
[2K[37mâÂÂâÂÂâÂÂâÂÂâÂÂâÂÂâÂÂâ âÂÂ[30;100m [37mð [30;100m processed [37m35%[30;100m of [37m7[30;100m/[37m20[30;100m [37m0.73[30;100m/[37m1.36[30;100m[0m
[11;1f
[2K[37mâÂÂâÂÂâÂÂâÂÂâÂÂâÂÂâÂÂâÂÂâ âÂÂ[30;100m [37mð [30;100m processed [37m40%[30;100m of [37m8[30;100m/[37m20[30;100m [37m0.84[30;100m/[37m1.26[30;100m[0m
[11;1f
[2K[37mâÂÂâÂÂâÂÂâÂÂâÂÂâÂÂâÂÂâÂÂâÂÂâ âÂÂ[30;100m [37mð [30;100m processed [37m45%[30;100m of [37m9[30;100m/[37m20[30;100m [37m0.95[30;100m/[37m1.16[30;100m[0m
[11;1f
[2K[37mâÂÂâÂÂâÂÂâÂÂâÂÂâÂÂâÂÂâÂÂâÂÂâÂÂâ âÂÂ[30;100m [37mð [30;100m processed [37m50%[30;100m of [37m10[30;100m/[37m20[30;100m [37m1.05[30;100m/[37m1.05[30;100m[0m
[11;1f
[2K[37mâÂÂâÂÂâÂÂâÂÂâÂÂâÂÂâÂÂâÂÂâÂÂâÂÂâÂÂâ âÂÂ[30;100m [37mð [30;100m processed [37m55%[30;100m of [37m11[30;100m/[37m20[30;100m [37m1.15[30;100m/[37m0.94[30;100m[0m
[11;1f
[2K[37mâÂÂâÂÂâÂÂâÂÂâÂÂâÂÂâÂÂâÂÂâÂÂâÂÂâÂÂâÂÂâ âÂÂ[30;100m [37mð [30;100m processed [37m60%[30;100m of [37m12[30;100m/[37m20[30;100m [37m1.25[30;100m/[37m0.83[30;100m[0m
[11;1f
[2K[37mâÂÂâÂÂâÂÂâÂÂâÂÂâÂÂâÂÂâÂÂâÂÂâÂÂâÂÂâÂÂâÂÂâ âÂÂ[30;100m [37mð [30;100m processed [37m65%[30;100m of [37m13[30;100m/[37m20[30;100m [37m1.36[30;100m/[37m0.73[30;100m[0m
[11;1f
[2K[37mâÂÂâÂÂâÂÂâÂÂâÂÂâÂÂâÂÂâÂÂâÂÂâÂÂâÂÂâÂÂâÂÂâÂÂâ âÂÂ[30;100m [37mð [30;100m processed [37m70%[30;100m of [37m14[30;100m/[37m20[30;100m [37m1.46[30;100m/[37m0.63[30;100m[0m
[11;1f
[2K[37mâÂÂâÂÂâÂÂâÂÂâÂÂâÂÂâÂÂâÂÂâÂÂâÂÂâÂÂâÂÂâÂÂâÂÂâÂÂâ âÂÂ[30;100m [37mð [30;100m processed [37m75%[30;100m of [37m15[30;100m/[37m20[30;100m [37m1.57[30;100m/[37m0.52[30;100m[0m
[11;1f
[2K[37mâÂÂâÂÂâÂÂâÂÂâÂÂâÂÂâÂÂâÂÂâÂÂâÂÂâÂÂâÂÂâÂÂâÂÂâÂÂâÂÂâ âÂÂ[30;100m [37mð [30;100m processed [37m80%[30;100m of [37m16[30;100m/[37m20[30;100m [37m1.67[30;100m/[37m0.42[30;100m[0m
[11;1f
[2K[37mâÂÂâÂÂâÂÂâÂÂâÂÂâÂÂâÂÂâÂÂâÂÂâÂÂâÂÂâÂÂâÂÂâÂÂâÂÂâÂÂâÂÂâ âÂÂ[30;100m [37mð [30;100m processed [37m85%[30;100m of [37m17[30;100m/[37m20[30;100m [37m1.78[30;100m/[37m0.31[30;100m[0m
[11;1f
[2K[37mâÂÂâÂÂâÂÂâÂÂâÂÂâÂÂâÂÂâÂÂâÂÂâÂÂâÂÂâÂÂâÂÂâÂÂâÂÂâÂÂâÂÂâÂÂâ âÂÂ[30;100m [37mð [30;100m processed [37m90%[30;100m of [37m18[30;100m/[37m20[30;100m [37m1.89[30;100m/[37m0.21[30;100m[0m
[11;1f
[2K[37mâÂÂâÂÂâÂÂâÂÂâÂÂâÂÂâÂÂâÂÂâÂÂâÂÂâÂÂâÂÂâÂÂâÂÂâÂÂâÂÂâÂÂâÂÂâÂÂâ âÂÂ[30;100m [37mð [30;100m processed [37m95%[30;100m of [37m19[30;100m/[37m20[30;100m [37m2[30;100m/[37m0.11[30;100m[0m
[11;1f
[2K[37mâÂÂâÂÂâÂÂâÂÂâÂÂâÂÂâÂÂâÂÂâÂÂâÂÂâÂÂâÂÂâÂÂâÂÂâÂÂâÂÂâÂÂâÂÂâÂÂâÂÂâÂÂâÂÂ[30;100m [37mð [30;100m processed [37m100%[30;100m of [37m20[30;100m/[37m20[30;100m [37m2.1[30;100m/[37m0[30;100m[0m
[?25h
[2K[?25l
[13;1f
[2K[37mâÂÂâ âÂÂ[30;100m [37mð¡[30;100m processed [37m5%[30;100m of [37m1[30;100m/[37m20[30;100m [37m0.1[30;100m/[37m1.9[30;100m[0m
[13;1f
[2K[37mâÂÂâÂÂâ âÂÂ[30;100m [37mð¢[30;100m processed [37m10%[30;100m of [37m2[30;100m/[37m20[30;100m [37m0.21[30;100m/[37m1.89[30;100m[0m
[13;1f
[2K[37mâÂÂâÂÂâÂÂâ âÂÂ[30;100m [37mðµ[30;100m processed [37m15%[30;100m of [37m3[30;100m/[37m20[30;100m [37m0.32[30;100m/[37m1.81[30;100m[0m
[13;1f
[2K[37mâÂÂâÂÂâÂÂâÂÂâ âÂÂ[30;100m [37mð£[30;100m processed [37m20%[30;100m of [37m4[30;100m/[37m20[30;100m [37m0.42[30;100m/[37m1.68[30;100m[0m
[13;1f
[2K[37mâÂÂâÂÂâÂÂâÂÂâÂÂâ âÂÂ[30;100m [37mâ«ï¸Â[30;100m processed [37m25%[30;100m of [37m5[30;100m/[37m20[30;100m [37m0.53[30;100m/[37m1.59[30;100m[0m
[13;1f
[2K[37mâÂÂâÂÂâÂÂâÂÂâÂÂâÂÂâ âÂÂ[30;100m [37mâªï¸Â[30;100m processed [37m30%[30;100m of [37m6[30;100m/[37m20[30;100m [37m0.63[30;100m/[37m1.47[30;100m[0m
[13;1f
[2K[37mâÂÂâÂÂâÂÂâÂÂâÂÂâÂÂâÂÂâ âÂÂ[30;100m [37mð¤[30;100m processed [37m35%[30;100m of [37m7[30;100m/[37m20[30;100m [37m0.74[30;100m/[37m1.37[30;100m[0m
[13;1f
[2K[37mâÂÂâÂÂâÂÂâÂÂâÂÂâÂÂâÂÂâÂÂâ âÂÂ[30;100m [37mð´[30;100m processed [37m40%[30;100m of [37m8[30;100m/[37m20[30;100m [37m0.84[30;100m/[37m1.26[30;100m[0m
[13;1f
[2K[37mâÂÂâÂÂâÂÂâÂÂâÂÂâÂÂâÂÂâÂÂâÂÂâ âÂÂ[30;100m [37mð [30;100m processed [37m45%[30;100m of [37m9[30;100m/[37m20[30;100m [37m0.95[30;100m/[37m1.16[30;100m[0m
[13;1f
[2K[37mâÂÂâÂÂâÂÂâÂÂâÂÂâÂÂâÂÂâÂÂâÂÂâÂÂâ âÂÂ[30;100m [37mð¡[30;100m processed [37m50%[30;100m of [37m10[30;100m/[37m20[30;100m [37m1.06[30;100m/[37m1.06[30;100m[0m
[13;1f
[2K[37mâÂÂâÂÂâÂÂâÂÂâÂÂâÂÂâÂÂâÂÂâÂÂâÂÂâÂÂâ âÂÂ[30;100m [37mð¢[30;100m processed [37m55%[30;100m of [37m11[30;100m/[37m20[30;100m [37m1.17[30;100m/[37m0.96[30;100m[0m
[13;1f
[2K[37mâÂÂâÂÂâÂÂâÂÂâÂÂâÂÂâÂÂâÂÂâÂÂâÂÂâÂÂâÂÂâ âÂÂ[30;100m [37mðµ[30;100m processed [37m60%[30;100m of [37m12[30;100m/[37m20[30;100m [37m1.27[30;100m/[37m0.85[30;100m[0m
[13;1f
[2K[37mâÂÂâÂÂâÂÂâÂÂâÂÂâÂÂâÂÂâÂÂâÂÂâÂÂâÂÂâÂÂâÂÂâ âÂÂ[30;100m [37mð£[30;100m processed [37m65%[30;100m of [37m13[30;100m/[37m20[30;100m [37m1.38[30;100m/[37m0.74[30;100m[0m
[13;1f
[2K[37mâÂÂâÂÂâÂÂâÂÂâÂÂâÂÂâÂÂâÂÂâÂÂâÂÂâÂÂâÂÂâÂÂâÂÂâ âÂÂ[30;100m [37mâ«ï¸Â[30;100m processed [37m70%[30;100m of [37m14[30;100m/[37m20[30;100m [37m1.48[30;100m/[37m0.63[30;100m[0m
[13;1f
[2K[37mâÂÂâÂÂâÂÂâÂÂâÂÂâÂÂâÂÂâÂÂâÂÂâÂÂâÂÂâÂÂâÂÂâÂÂâÂÂâ âÂÂ[30;100m [37mâªï¸Â[30;100m processed [37m75%[30;100m of [37m15[30;100m/[37m20[30;100m [37m1.59[30;100m/[37m0.53[30;100m[0m
[13;1f
[2K[37mâÂÂâÂÂâÂÂâÂÂâÂÂâÂÂâÂÂâÂÂâÂÂâÂÂâÂÂâÂÂâÂÂâÂÂâÂÂâÂÂâ âÂÂ[30;100m [37mð¤[30;100m processed [37m80%[30;100m of [37m16[30;100m/[37m20[30;100m [37m1.7[30;100m/[37m0.43[30;100m[0m
[13;1f
[2K[37mâÂÂâÂÂâÂÂâÂÂâÂÂâÂÂâÂÂâÂÂâÂÂâÂÂâÂÂâÂÂâÂÂâÂÂâÂÂâÂÂâÂÂâ âÂÂ[30;100m [37mð´[30;100m processed [37m85%[30;100m of [37m17[30;100m/[37m20[30;100m [37m1.8[30;100m/[37m0.32[30;100m[0m
[13;1f
[2K[37mâÂÂâÂÂâÂÂâÂÂâÂÂâÂÂâÂÂâÂÂâÂÂâÂÂâÂÂâÂÂâÂÂâÂÂâÂÂâÂÂâÂÂâÂÂâ âÂÂ[30;100m [37mð [30;100m processed [37m90%[30;100m of [37m18[30;100m/[37m20[30;100m [37m1.91[30;100m/[37m0.21[30;100m[0m
[13;1f
[2K[37mâÂÂâÂÂâÂÂâÂÂâÂÂâÂÂâÂÂâÂÂâÂÂâÂÂâÂÂâÂÂâÂÂâÂÂâÂÂâÂÂâÂÂâÂÂâÂÂâ âÂÂ[30;100m [37mð¡[30;100m processed [37m95%[30;100m of [37m19[30;100m/[37m20[30;100m [37m2.02[30;100m/[37m0.11[30;100m[0m
[13;1f
[2K[37mâÂÂâÂÂâÂÂâÂÂâÂÂâÂÂâÂÂâÂÂâÂÂâÂÂâÂÂâÂÂâÂÂâÂÂâÂÂâÂÂâÂÂâÂÂâÂÂâÂÂâÂÂâÂÂ[30;100m [37mð¢[30;100m processed [37m100%[30;100m of [37m20[30;100m/[37m20[30;100m [37m2.12[30;100m/[37m0[30;100m[0m
[?25h
[2K[?25l
[15;1f
[2K[37mâÂÂâÂÂ
âÂÂ[30;100m [37mð¡ð£ð¤[30;100m processed [37m5%[30;100m of [37m1[30;100m/[37m20[30;100m [37m0.11[30;100m/[37m2.09[30;100m[0m
[15;1f
[2K[37mâÂÂâÂÂ
âÂÂ
âÂÂ[30;100m [37mð¢â«ï¸Âð´[30;100m processed [37m10%[30;100m of [37m2[30;100m/[37m20[30;100m [37m0.21[30;100m/[37m1.89[30;100m[0m
[15;1f
[2K[37mâÂÂâÂÂ
âÂÂ
âÂÂ
âÂÂ[30;100m [37mðµâªï¸Âð [30;100m processed [37m15%[30;100m of [37m3[30;100m/[37m20[30;100m [37m0.32[30;100m/[37m1.81[30;100m[0m
[15;1f
[2K[37mâÂÂâÂÂ
âÂÂ
âÂÂ
âÂÂ
âÂÂ[30;100m [37mð£ð¤ð¡[30;100m processed [37m20%[30;100m of [37m4[30;100m/[37m20[30;100m [37m0.42[30;100m/[37m1.68[30;100m[0m
[15;1f
[2K[37mâÂÂâÂÂ
âÂÂ
âÂÂ
âÂÂ
âÂÂ
âÂÂ[30;100m [37mâ«ï¸Âð´ð¢[30;100m processed [37m25%[30;100m of [37m5[30;100m/[37m20[30;100m [37m0.53[30;100m/[37m1.59[30;100m[0m
[15;1f
[2K[37mâÂÂâÂÂ
âÂÂ
âÂÂ
âÂÂ
âÂÂ
âÂÂ
âÂÂ[30;100m [37mâªï¸Âð ðµ[30;100m processed [37m30%[30;100m of [37m6[30;100m/[37m20[30;100m [37m0.63[30;100m/[37m1.47[30;100m[0m
[15;1f
[2K[37mâÂÂâÂÂ
âÂÂ
âÂÂ
âÂÂ
âÂÂ
âÂÂ
âÂÂ
âÂÂ[30;100m [37mð¤ð¡ð£[30;100m processed [37m35%[30;100m of [37m7[30;100m/[37m20[30;100m [37m0.74[30;100m/[37m1.37[30;100m[0m
[15;1f
[2K[37mâÂÂâÂÂ
âÂÂ
âÂÂ
âÂÂ
âÂÂ
âÂÂ
âÂÂ
âÂÂ
âÂÂ[30;100m [37mð´ð¢â«ï¸Â[30;100m processed [37m40%[30;100m of [37m8[30;100m/[37m20[30;100m [37m0.85[30;100m/[37m1.27[30;100m[0m
[15;1f
[2K[37mâÂÂâÂÂ
âÂÂ
âÂÂ
âÂÂ
âÂÂ
âÂÂ
âÂÂ
âÂÂ
âÂÂ
âÂÂ[30;100m [37mð ðµâªï¸Â[30;100m processed [37m45%[30;100m of [37m9[30;100m/[37m20[30;100m [37m0.96[30;100m/[37m1.17[30;100m[0m
[15;1f
[2K[37mâÂÂâÂÂ
âÂÂ
âÂÂ
âÂÂ
âÂÂ
âÂÂ
âÂÂ
âÂÂ
âÂÂ
âÂÂ
âÂÂ[30;100m [37mð¡ð£ð¤[30;100m processed [37m50%[30;100m of [37m10[30;100m/[37m20[30;100m [37m1.06[30;100m/[37m1.06[30;100m[0m
[15;1f
[2K[37mâÂÂâÂÂ
âÂÂ
âÂÂ
âÂÂ
âÂÂ
âÂÂ
âÂÂ
âÂÂ
âÂÂ
âÂÂ
âÂÂ
âÂÂ[30;100m [37mð¢â«ï¸Âð´[30;100m processed [37m55%[30;100m of [37m11[30;100m/[37m20[30;100m [37m1.17[30;100m/[37m0.96[30;100m[0m
[15;1f
[2K[37mâÂÂâÂÂ
âÂÂ
âÂÂ
âÂÂ
âÂÂ
âÂÂ
âÂÂ
âÂÂ
âÂÂ
âÂÂ
âÂÂ
âÂÂ
âÂÂ[30;100m [37mðµâªï¸Âð [30;100m processed [37m60%[30;100m of [37m12[30;100m/[37m20[30;100m [37m1.28[30;100m/[37m0.85[30;100m[0m
[15;1f
[2K[37mâÂÂâÂÂ
âÂÂ
âÂÂ
âÂÂ
âÂÂ
âÂÂ
âÂÂ
âÂÂ
âÂÂ
âÂÂ
âÂÂ
âÂÂ
âÂÂ
âÂÂ[30;100m [37mð£ð¤ð¡[30;100m processed [37m65%[30;100m of [37m13[30;100m/[37m20[30;100m [37m1.39[30;100m/[37m0.75[30;100m[0m
[15;1f
[2K[37mâÂÂâÂÂ
âÂÂ
âÂÂ
âÂÂ
âÂÂ
âÂÂ
âÂÂ
âÂÂ
âÂÂ
âÂÂ
âÂÂ
âÂÂ
âÂÂ
âÂÂ
âÂÂ[30;100m [37mâ«ï¸Âð´ð¢[30;100m processed [37m70%[30;100m of [37m14[30;100m/[37m20[30;100m [37m1.49[30;100m/[37m0.64[30;100m[0m
[15;1f
[2K[37mâÂÂâÂÂ
âÂÂ
âÂÂ
âÂÂ
âÂÂ
âÂÂ
âÂÂ
âÂÂ
âÂÂ
âÂÂ
âÂÂ
âÂÂ
âÂÂ
âÂÂ
âÂÂ
âÂÂ[30;100m [37mâªï¸Âð ðµ[30;100m processed [37m75%[30;100m of [37m15[30;100m/[37m20[30;100m [37m1.6[30;100m/[37m0.53[30;100m[0m
[15;1f
[2K[37mâÂÂâÂÂ
âÂÂ
âÂÂ
âÂÂ
âÂÂ
âÂÂ
âÂÂ
âÂÂ
âÂÂ
âÂÂ
âÂÂ
âÂÂ
âÂÂ
âÂÂ
âÂÂ
âÂÂ
âÂÂ[30;100m [37mð¤ð¡ð£[30;100m processed [37m80%[30;100m of [37m16[30;100m/[37m20[30;100m [37m1.71[30;100m/[37m0.43[30;100m[0m
[15;1f
[2K[37mâÂÂâÂÂ
âÂÂ
âÂÂ
âÂÂ
âÂÂ
âÂÂ
âÂÂ
âÂÂ
âÂÂ
âÂÂ
âÂÂ
âÂÂ
âÂÂ
âÂÂ
âÂÂ
âÂÂ
âÂÂ
âÂÂ[30;100m [37mð´ð¢â«ï¸Â[30;100m processed [37m85%[30;100m of [37m17[30;100m/[37m20[30;100m [37m1.82[30;100m/[37m0.32[30;100m[0m
[15;1f
[2K[37mâÂÂâÂÂ
âÂÂ
âÂÂ
âÂÂ
âÂÂ
âÂÂ
âÂÂ
âÂÂ
âÂÂ
âÂÂ
âÂÂ
âÂÂ
âÂÂ
âÂÂ
âÂÂ
âÂÂ
âÂÂ
âÂÂ
âÂÂ[30;100m [37mð ðµâªï¸Â[30;100m processed [37m90%[30;100m of [37m18[30;100m/[37m20[30;100m [37m1.92[30;100m/[37m0.21[30;100m[0m
[15;1f
[2K[37mâÂÂâÂÂ
âÂÂ
âÂÂ
âÂÂ
âÂÂ
âÂÂ
âÂÂ
âÂÂ
âÂÂ
âÂÂ
âÂÂ
âÂÂ
âÂÂ
âÂÂ
âÂÂ
âÂÂ
âÂÂ
âÂÂ
âÂÂ
âÂÂ[30;100m [37mð¡ð£ð¤[30;100m processed [37m95%[30;100m of [37m19[30;100m/[37m20[30;100m [37m2.03[30;100m/[37m0.11[30;100m[0m
[15;1f
[2K[37mâÂÂâÂÂ
âÂÂ
âÂÂ
âÂÂ
âÂÂ
âÂÂ
âÂÂ
âÂÂ
âÂÂ
âÂÂ
âÂÂ
âÂÂ
âÂÂ
âÂÂ
âÂÂ
âÂÂ
âÂÂ
âÂÂ
âÂÂ
âÂÂ
âÂÂ[30;100m [37mð¢â«ï¸Âð´[30;100m processed [37m100%[30;100m of [37m20[30;100m/[37m20[30;100m [37m2.13[30;100m/[37m0[30;100m[0m
[?25h
[2K[?25l
[17;1f
[2K[37mâÂÂâ âÂÂ[30;100m [37mð¨[30;100m processed [37m5%[30;100m of [37m1[30;100m/[37m20[30;100m [37m0.11[30;100m/[37m2.09[30;100m[0m
[17;1f
[2K[37mâÂÂâÂÂâ âÂÂ[30;100m [37mð©[30;100m processed [37m10%[30;100m of [37m2[30;100m/[37m20[30;100m [37m0.22[30;100m/[37m1.98[30;100m[0m
[17;1f
[2K[37mâÂÂâÂÂâÂÂâ âÂÂ[30;100m [37mð¦[30;100m processed [37m15%[30;100m of [37m3[30;100m/[37m20[30;100m [37m0.32[30;100m/[37m1.81[30;100m[0m
[17;1f
[2K[37mâÂÂâÂÂâÂÂâÂÂâ âÂÂ[30;100m [37mðª[30;100m processed [37m20%[30;100m of [37m4[30;100m/[37m20[30;100m [37m0.43[30;100m/[37m1.72[30;100m[0m
[17;1f
[2K[37mâÂÂâÂÂâÂÂâÂÂâÂÂâ âÂÂ[30;100m [37mâ¬Âï¸Â[30;100m processed [37m25%[30;100m of [37m5[30;100m/[37m20[30;100m [37m0.53[30;100m/[37m1.59[30;100m[0m
[17;1f
[2K[37mâÂÂâÂÂâÂÂâÂÂâÂÂâÂÂâ âÂÂ[30;100m [37mâ¬Âï¸Â[30;100m processed [37m30%[30;100m of [37m6[30;100m/[37m20[30;100m [37m0.64[30;100m/[37m1.49[30;100m[0m
[17;1f
[2K[37mâÂÂâÂÂâÂÂâÂÂâÂÂâÂÂâÂÂâ âÂÂ[30;100m [37mð«[30;100m processed [37m35%[30;100m of [37m7[30;100m/[37m20[30;100m [37m0.74[30;100m/[37m1.37[30;100m[0m
[17;1f
[2K[37mâÂÂâÂÂâÂÂâÂÂâÂÂâÂÂâÂÂâÂÂâ âÂÂ[30;100m [37mðÂÂÂ¥[30;100m processed [37m40%[30;100m of [37m8[30;100m/[37m20[30;100m [37m0.84[30;100m/[37m1.26[30;100m[0m
[17;1f
[2K[37mâÂÂâÂÂâÂÂâÂÂâÂÂâÂÂâÂÂâÂÂâÂÂâ âÂÂ[30;100m [37mð§[30;100m processed [37m45%[30;100m of [37m9[30;100m/[37m20[30;100m [37m0.94[30;100m/[37m1.15[30;100m[0m
[17;1f
[2K[37mâÂÂâÂÂâÂÂâÂÂâÂÂâÂÂâÂÂâÂÂâÂÂâÂÂâ âÂÂ[30;100m [37mð¨[30;100m processed [37m50%[30;100m of [37m10[30;100m/[37m20[30;100m [37m1.05[30;100m/[37m1.05[30;100m[0m
[17;1f
[2K[37mâÂÂâÂÂâÂÂâÂÂâÂÂâÂÂâÂÂâÂÂâÂÂâÂÂâÂÂâ âÂÂ[30;100m [37mð©[30;100m processed [37m55%[30;100m of [37m11[30;100m/[37m20[30;100m [37m1.16[30;100m/[37m0.95[30;100m[0m
[17;1f
[2K[37mâÂÂâÂÂâÂÂâÂÂâÂÂâÂÂâÂÂâÂÂâÂÂâÂÂâÂÂâÂÂâ âÂÂ[30;100m [37mð¦[30;100m processed [37m60%[30;100m of [37m12[30;100m/[37m20[30;100m [37m1.26[30;100m/[37m0.84[30;100m[0m
[17;1f
[2K[37mâÂÂâÂÂâÂÂâÂÂâÂÂâÂÂâÂÂâÂÂâÂÂâÂÂâÂÂâÂÂâÂÂâ âÂÂ[30;100m [37mðª[30;100m processed [37m65%[30;100m of [37m13[30;100m/[37m20[30;100m [37m1.37[30;100m/[37m0.74[30;100m[0m
[17;1f
[2K[37mâÂÂâÂÂâÂÂâÂÂâÂÂâÂÂâÂÂâÂÂâÂÂâÂÂâÂÂâÂÂâÂÂâÂÂâ âÂÂ[30;100m [37mâ¬Âï¸Â[30;100m processed [37m70%[30;100m of [37m14[30;100m/[37m20[30;100m [37m1.47[30;100m/[37m0.63[30;100m[0m
[17;1f
[2K[37mâÂÂâÂÂâÂÂâÂÂâÂÂâÂÂâÂÂâÂÂâÂÂâÂÂâÂÂâÂÂâÂÂâÂÂâÂÂâ âÂÂ[30;100m [37mâ¬Âï¸Â[30;100m processed [37m75%[30;100m of [37m15[30;100m/[37m20[30;100m [37m1.58[30;100m/[37m0.53[30;100m[0m
[17;1f
[2K[37mâÂÂâÂÂâÂÂâÂÂâÂÂâÂÂâÂÂâÂÂâÂÂâÂÂâÂÂâÂÂâÂÂâÂÂâÂÂâÂÂâ âÂÂ[30;100m [37mð«[30;100m processed [37m80%[30;100m of [37m16[30;100m/[37m20[30;100m [37m1.69[30;100m/[37m0.42[30;100m[0m
[17;1f
[2K[37mâÂÂâÂÂâÂÂâÂÂâÂÂâÂÂâÂÂâÂÂâÂÂâÂÂâÂÂâÂÂâÂÂâÂÂâÂÂâÂÂâÂÂâ âÂÂ[30;100m [37mðÂÂÂ¥[30;100m processed [37m85%[30;100m of [37m17[30;100m/[37m20[30;100m [37m1.79[30;100m/[37m0.32[30;100m[0m
[17;1f
[2K[37mâÂÂâÂÂâÂÂâÂÂâÂÂâÂÂâÂÂâÂÂâÂÂâÂÂâÂÂâÂÂâÂÂâÂÂâÂÂâÂÂâÂÂâÂÂâ âÂÂ[30;100m [37mð§[30;100m processed [37m90%[30;100m of [37m18[30;100m/[37m20[30;100m [37m1.9[30;100m/[37m0.21[30;100m[0m
[17;1f
[2K[37mâÂÂâÂÂâÂÂâÂÂâÂÂâÂÂâÂÂâÂÂâÂÂâÂÂâÂÂâÂÂâÂÂâÂÂâÂÂâÂÂâÂÂâÂÂâÂÂâ âÂÂ[30;100m [37mð¨[30;100m processed [37m95%[30;100m of [37m19[30;100m/[37m20[30;100m [37m2.01[30;100m/[37m0.11[30;100m[0m
[17;1f
[2K[37mâÂÂâÂÂâÂÂâÂÂâÂÂâÂÂâÂÂâÂÂâÂÂâÂÂâÂÂâÂÂâÂÂâÂÂâÂÂâÂÂâÂÂâÂÂâÂÂâÂÂâÂÂâÂÂ[30;100m [37mð©[30;100m processed [37m100%[30;100m of [37m20[30;100m/[37m20[30;100m [37m2.12[30;100m/[37m0[30;100m[0m
[?25h
[2K[?25l
[19;1f
[2K[37m[= ][30;100m [37mð¨ð¦â¬Âï¸Â[30;100m processed [37m5%[30;100m of [37m1[30;100m/[37m20[30;100m [37m0.11[30;100m/[37m2.09[30;100m[0m
[19;1f
[2K[37m[== ][30;100m [37mð©ðªð«[30;100m processed [37m10%[30;100m of [37m2[30;100m/[37m20[30;100m [37m0.21[30;100m/[37m1.89[30;100m[0m
[19;1f
[2K[37m[=== ][30;100m [37mð¦â¬Âï¸ÂðÂÂÂ¥[30;100m processed [37m15%[30;100m of [37m3[30;100m/[37m20[30;100m [37m0.32[30;100m/[37m1.81[30;100m[0m
[19;1f
[2K[37m[==== ][30;100m [37mðªâ¬Âï¸Âð§[30;100m processed [37m20%[30;100m of [37m4[30;100m/[37m20[30;100m [37m0.43[30;100m/[37m1.72[30;100m[0m
[19;1f
[2K[37m[===== ][30;100m [37mâ¬Âï¸Âð«ð¨[30;100m processed [37m25%[30;100m of [37m5[30;100m/[37m20[30;100m [37m0.54[30;100m/[37m1.62[30;100m[0m
[19;1f
[2K[37m[====== ][30;100m [37mâ¬Âï¸ÂðÂÂ¥ð©[30;100m processed [37m30%[30;100m of [37m6[30;100m/[37m20[30;100m [37m0.64[30;100m/[37m1.49[30;100m[0m
[19;1f
[2K[37m[======= ][30;100m [37mð«ð§ð¦[30;100m processed [37m35%[30;100m of [37m7[30;100m/[37m20[30;100m [37m0.74[30;100m/[37m1.37[30;100m[0m
[19;1f
[2K[37m[======== ][30;100m [37mðÂÂ¥ð¨ðª[30;100m processed [37m40%[30;100m of [37m8[30;100m/[37m20[30;100m [37m0.85[30;100m/[37m1.27[30;100m[0m
[19;1f
[2K[37m[========= ][30;100m [37mð§ð©â¬Âï¸Â[30;100m processed [37m45%[30;100m of [37m9[30;100m/[37m20[30;100m [37m0.96[30;100m/[37m1.17[30;100m[0m
[19;1f
[2K[37m[========== ][30;100m [37mð¨ð¦â¬Âï¸Â[30;100m processed [37m50%[30;100m of [37m10[30;100m/[37m20[30;100m [37m1.07[30;100m/[37m1.07[30;100m[0m
[19;1f
[2K[37m[=========== ][30;100m [37mð©ðªð«[30;100m processed [37m55%[30;100m of [37m11[30;100m/[37m20[30;100m [37m1.17[30;100m/[37m0.96[30;100m[0m
[19;1f
[2K[37m[============ ][30;100m [37mð¦â¬Âï¸ÂðÂÂÂ¥[30;100m processed [37m60%[30;100m of [37m12[30;100m/[37m20[30;100m [37m1.28[30;100m/[37m0.85[30;100m[0m
[19;1f
[2K[37m[============= ][30;100m [37mðªâ¬Âï¸Âð§[30;100m processed [37m65%[30;100m of [37m13[30;100m/[37m20[30;100m [37m1.39[30;100m/[37m0.75[30;100m[0m
[19;1f
[2K[37m[============== ][30;100m [37mâ¬Âï¸Âð«ð¨[30;100m processed [37m70%[30;100m of [37m14[30;100m/[37m20[30;100m [37m1.5[30;100m/[37m0.64[30;100m[0m
[19;1f
[2K[37m[=============== ][30;100m [37mâ¬Âï¸ÂðÂÂ¥ð©[30;100m processed [37m75%[30;100m of [37m15[30;100m/[37m20[30;100m [37m1.6[30;100m/[37m0.53[30;100m[0m
[19;1f
[2K[37m[================ ][30;100m [37mð«ð§ð¦[30;100m processed [37m80%[30;100m of [37m16[30;100m/[37m20[30;100m [37m1.71[30;100m/[37m0.43[30;100m[0m
[19;1f
[2K[37m[================= ][30;100m [37mðÂÂ¥ð¨ðª[30;100m processed [37m85%[30;100m of [37m17[30;100m/[37m20[30;100m [37m1.81[30;100m/[37m0.32[30;100m[0m
[19;1f
[2K[37m[================== ][30;100m [37mð§ð©â¬Âï¸Â[30;100m processed [37m90%[30;100m of [37m18[30;100m/[37m20[30;100m [37m1.92[30;100m/[37m0.21[30;100m[0m
[19;1f
[2K[37m[=================== ][30;100m [37mð¨ð¦â¬Âï¸Â[30;100m processed [37m95%[30;100m of [37m19[30;100m/[37m20[30;100m [37m2.02[30;100m/[37m0.11[30;100m[0m
[19;1f
[2K[37m[====================][30;100m [37mð©ðªð«[30;100m processed [37m100%[30;100m of [37m20[30;100m/[37m20[30;100m [37m2.13[30;100m/[37m0[30;100m[0m
[?25h
[2K[?25l
[21;1f
[2K[37m[# ][30;100m [37mâ ¹[30;100m processed [37m5%[30;100m of [37m1[30;100m/[37m20[30;100m [37m0.11[30;100m/[37m2.09[30;100m[0m
[21;1f
[2K[37m[## ][30;100m [37mâ ¸[30;100m processed [37m10%[30;100m of [37m2[30;100m/[37m20[30;100m [37m0.22[30;100m/[37m1.98[30;100m[0m
[21;1f
[2K[37m[### ][30;100m [37mâ ¼[30;100m processed [37m15%[30;100m of [37m3[30;100m/[37m20[30;100m [37m0.32[30;100m/[37m1.81[30;100m[0m
[21;1f
[2K[37m[#### ][30;100m [37mâ ´[30;100m processed [37m20%[30;100m of [37m4[30;100m/[37m20[30;100m [37m0.43[30;100m/[37m1.72[30;100m[0m
[21;1f
[2K[37m[##### ][30;100m [37mâ ¦[30;100m processed [37m25%[30;100m of [37m5[30;100m/[37m20[30;100m [37m0.54[30;100m/[37m1.62[30;100m[0m
[21;1f
[2K[37m[###### ][30;100m [37mâ §[30;100m processed [37m30%[30;100m of [37m6[30;100m/[37m20[30;100m [37m0.64[30;100m/[37m1.49[30;100m[0m
[21;1f
[2K[37m[####### ][30;100m [37mâ Â[30;100m processed [37m35%[30;100m of [37m7[30;100m/[37m20[30;100m [37m0.75[30;100m/[37m1.39[30;100m[0m
[21;1f
[2K[37m[######## ][30;100m [37mâ Â[30;100m processed [37m40%[30;100m of [37m8[30;100m/[37m20[30;100m [37m0.86[30;100m/[37m1.29[30;100m[0m
[21;1f
[2K[37m[######### ][30;100m [37mâ Â[30;100m processed [37m45%[30;100m of [37m9[30;100m/[37m20[30;100m [37m0.97[30;100m/[37m1.19[30;100m[0m
[21;1f
[2K[37m[########## ][30;100m [37mâ Â[30;100m processed [37m50%[30;100m of [37m10[30;100m/[37m20[30;100m [37m1.07[30;100m/[37m1.07[30;100m[0m
[21;1f
[2K[37m[########### ][30;100m [37mâ ¹[30;100m processed [37m55%[30;100m of [37m11[30;100m/[37m20[30;100m [37m1.18[30;100m/[37m0.97[30;100m[0m
[21;1f
[2K[37m[############ ][30;100m [37mâ ¸[30;100m processed [37m60%[30;100m of [37m12[30;100m/[37m20[30;100m [37m1.29[30;100m/[37m0.86[30;100m[0m
[21;1f
[2K[37m[############# ][30;100m [37mâ ¼[30;100m processed [37m65%[30;100m of [37m13[30;100m/[37m20[30;100m [37m1.39[30;100m/[37m0.75[30;100m[0m
[21;1f
[2K[37m[############## ][30;100m [37mâ ´[30;100m processed [37m70%[30;100m of [37m14[30;100m/[37m20[30;100m [37m1.5[30;100m/[37m0.64[30;100m[0m
[21;1f
[2K[37m[############### ][30;100m [37mâ ¦[30;100m processed [37m75%[30;100m of [37m15[30;100m/[37m20[30;100m [37m1.61[30;100m/[37m0.54[30;100m[0m
[21;1f
[2K[37m[################ ][30;100m [37mâ §[30;100m processed [37m80%[30;100m of [37m16[30;100m/[37m20[30;100m [37m1.71[30;100m/[37m0.43[30;100m[0m
[21;1f
[2K[37m[################# ][30;100m [37mâ Â[30;100m processed [37m85%[30;100m of [37m17[30;100m/[37m20[30;100m [37m1.82[30;100m/[37m0.32[30;100m[0m
[21;1f
[2K[37m[################## ][30;100m [37mâ Â[30;100m processed [37m90%[30;100m of [37m18[30;100m/[37m20[30;100m [37m1.93[30;100m/[37m0.21[30;100m[0m
[21;1f
[2K[37m[################### ][30;100m [37mâ Â[30;100m processed [37m95%[30;100m of [37m19[30;100m/[37m20[30;100m [37m2.04[30;100m/[37m0.11[30;100m[0m
[21;1f
[2K[37m[####################][30;100m [37mâ Â[30;100m processed [37m100%[30;100m of [37m20[30;100m/[37m20[30;100m [37m2.15[30;100m/[37m0[30;100m[0m
[?25h
[2K[?25l
[23;1f
[2K[37mâÂÂ⤠âÂÂ[30;100m [37mðÂÂÂ[30;100m processed [37m5%[30;100m of [37m1[30;100m/[37m20[30;100m [37m0.1[30;100m/[37m1.9[30;100m[0m
[23;1f
[2K[37mâÂÂâ¤â¤ âÂÂ[30;100m [37mðÂÂÂ[30;100m processed [37m10%[30;100m of [37m2[30;100m/[37m20[30;100m [37m0.21[30;100m/[37m1.89[30;100m[0m
[23;1f
[2K[37mâÂÂâ¤â¤â¤ âÂÂ[30;100m [37mðÂÂÂ[30;100m processed [37m15%[30;100m of [37m3[30;100m/[37m20[30;100m [37m0.32[30;100m/[37m1.81[30;100m[0m
[23;1f
[2K[37mâÂÂâ¤â¤â¤â¤ âÂÂ[30;100m [37mðÂÂÂ[30;100m processed [37m20%[30;100m of [37m4[30;100m/[37m20[30;100m [37m0.42[30;100m/[37m1.68[30;100m[0m
[23;1f
[2K[37mâÂÂâ¤â¤â¤â¤â¤ âÂÂ[30;100m [37mðÂÂÂ[30;100m processed [37m25%[30;100m of [37m5[30;100m/[37m20[30;100m [37m0.53[30;100m/[37m1.59[30;100m[0m
[23;1f
[2K[37mâÂÂâ¤â¤â¤â¤â¤â¤ âÂÂ[30;100m [37mðÂÂÂ[30;100m processed [37m30%[30;100m of [37m6[30;100m/[37m20[30;100m [37m0.63[30;100m/[37m1.47[30;100m[0m
[23;1f
[2K[37mâÂÂâ¤â¤â¤â¤â¤â¤â¤ âÂÂ[30;100m [37mðÂÂÂ[30;100m processed [37m35%[30;100m of [37m7[30;100m/[37m20[30;100m [37m0.74[30;100m/[37m1.37[30;100m[0m
[23;1f
[2K[37mâÂÂâ¤â¤â¤â¤â¤â¤â¤â¤ âÂÂ[30;100m [37mðÂÂÂ[30;100m processed [37m40%[30;100m of [37m8[30;100m/[37m20[30;100m [37m0.84[30;100m/[37m1.26[30;100m[0m
[23;1f
[2K[37mâÂÂâ¤â¤â¤â¤â¤â¤â¤â¤â¤ âÂÂ[30;100m [37mðÂÂÂ[30;100m processed [37m45%[30;100m of [37m9[30;100m/[37m20[30;100m [37m0.95[30;100m/[37m1.16[30;100m[0m
[23;1f
[2K[37mâÂÂâ¤â¤â¤â¤â¤â¤â¤â¤â¤â¤ âÂÂ[30;100m [37mðÂÂÂ[30;100m processed [37m50%[30;100m of [37m10[30;100m/[37m20[30;100m [37m1.05[30;100m/[37m1.05[30;100m[0m
[23;1f
[2K[37mâÂÂâ¤â¤â¤â¤â¤â¤â¤â¤â¤â¤â¤ âÂÂ[30;100m [37mðÂÂÂ[30;100m processed [37m55%[30;100m of [37m11[30;100m/[37m20[30;100m [37m1.15[30;100m/[37m0.94[30;100m[0m
[23;1f
[2K[37mâÂÂâ¤â¤â¤â¤â¤â¤â¤â¤â¤â¤â¤â¤ âÂÂ[30;100m [37mðÂÂÂ[30;100m processed [37m60%[30;100m of [37m12[30;100m/[37m20[30;100m [37m1.26[30;100m/[37m0.84[30;100m[0m
[23;1f
[2K[37mâÂÂâ¤â¤â¤â¤â¤â¤â¤â¤â¤â¤â¤â¤â¤ âÂÂ[30;100m [37mðÂÂÂ[30;100m processed [37m65%[30;100m of [37m13[30;100m/[37m20[30;100m [37m1.37[30;100m/[37m0.74[30;100m[0m
[23;1f
[2K[37mâÂÂâ¤â¤â¤â¤â¤â¤â¤â¤â¤â¤â¤â¤â¤â¤ âÂÂ[30;100m [37mðÂÂÂ[30;100m processed [37m70%[30;100m of [37m14[30;100m/[37m20[30;100m [37m1.47[30;100m/[37m0.63[30;100m[0m
[23;1f
[2K[37mâÂÂâ¤â¤â¤â¤â¤â¤â¤â¤â¤â¤â¤â¤â¤â¤â¤ âÂÂ[30;100m [37mðÂÂÂ[30;100m processed [37m75%[30;100m of [37m15[30;100m/[37m20[30;100m [37m1.58[30;100m/[37m0.53[30;100m[0m
[23;1f
[2K[37mâÂÂâ¤â¤â¤â¤â¤â¤â¤â¤â¤â¤â¤â¤â¤â¤â¤â¤ âÂÂ[30;100m [37mðÂÂÂ[30;100m processed [37m80%[30;100m of [37m16[30;100m/[37m20[30;100m [37m1.68[30;100m/[37m0.42[30;100m[0m
[23;1f
[2K[37mâÂÂâ¤â¤â¤â¤â¤â¤â¤â¤â¤â¤â¤â¤â¤â¤â¤â¤â¤ âÂÂ[30;100m [37mðÂÂÂ[30;100m processed [37m85%[30;100m of [37m17[30;100m/[37m20[30;100m [37m1.79[30;100m/[37m0.32[30;100m[0m
[23;1f
[2K[37mâÂÂâ¤â¤â¤â¤â¤â¤â¤â¤â¤â¤â¤â¤â¤â¤â¤â¤â¤â¤ âÂÂ[30;100m [37mðÂÂÂ[30;100m processed [37m90%[30;100m of [37m18[30;100m/[37m20[30;100m [37m1.9[30;100m/[37m0.21[30;100m[0m
[23;1f
[2K[37mâÂÂâ¤â¤â¤â¤â¤â¤â¤â¤â¤â¤â¤â¤â¤â¤â¤â¤â¤â¤â¤ âÂÂ[30;100m [37mðÂÂÂ[30;100m processed [37m95%[30;100m of [37m19[30;100m/[37m20[30;100m [37m2[30;100m/[37m0.11[30;100m[0m
[23;1f
[2K[37mâÂÂâ¤â¤â¤â¤â¤â¤â¤â¤â¤â¤â¤â¤â¤â¤â¤â¤â¤â¤â¤â¤âÂÂ[30;100m [37mðÂÂÂ[30;100m processed [37m100%[30;100m of [37m20[30;100m/[37m20[30;100m [37m2.1[30;100m/[37m0[30;100m[0m
[?25h
[2K[?25l
[25;1f
[2K[37mâÂÂâ¡ âÂÂ[30;100m [37mâÂÂâÂÂâÂÂâÂÂâÂÂâÂÂâÂÂâÂÂâÂÂâÂÂâÂÂâÂÂâÂÂâÂÂâÂÂâÂÂâÂÂâÂÂâÂÂâÂÂ[30;100m processed [37m5%[30;100m of [37m1[30;100m/[37m20[30;100m [37m0.1[30;100m/[37m1.9[30;100m[0m
[25;1f
[2K[37mâÂÂâ¡â¡ âÂÂ[30;100m [37mâÂÂâÂÂâÂÂâÂÂâÂÂâÂÂâÂÂâÂÂâÂÂâÂÂâÂÂâÂÂâÂÂâÂÂâÂÂâÂÂâÂÂâÂÂâÂÂâÂÂ[30;100m processed [37m10%[30;100m of [37m2[30;100m/[37m20[30;100m [37m0.2[30;100m/[37m1.8[30;100m[0m
[25;1f
[2K[37mâÂÂâ¡â¡â¡ âÂÂ[30;100m [37mâÂÂâÂÂâÂÂâÂÂâÂÂâÂÂâÂÂâÂÂâÂÂâÂÂâÂÂâÂÂâÂÂâÂÂâÂÂâÂÂâÂÂâÂÂâÂÂâÂÂ[30;100m processed [37m15%[30;100m of [37m3[30;100m/[37m20[30;100m [37m0.31[30;100m/[37m1.76[30;100m[0m
[25;1f
[2K[37mâÂÂâ¡â¡â¡â¡ âÂÂ[30;100m [37mâÂÂâÂÂâÂÂâÂÂâÂÂâÂÂâÂÂâÂÂâÂÂâÂÂâÂÂâÂÂâÂÂâÂÂâÂÂâÂÂâÂÂâÂÂâÂÂâÂÂ[30;100m processed [37m20%[30;100m of [37m4[30;100m/[37m20[30;100m [37m0.41[30;100m/[37m1.64[30;100m[0m
[25;1f
[2K[37mâÂÂâ¡â¡â¡â¡â¡ âÂÂ[30;100m [37mâÂÂâÂÂâÂÂâÂÂâÂÂâÂÂâÂÂâÂÂâÂÂâÂÂâÂÂâÂÂâÂÂâÂÂâÂÂâÂÂâÂÂâÂÂâÂÂâÂÂ[30;100m processed [37m25%[30;100m of [37m5[30;100m/[37m20[30;100m [37m0.52[30;100m/[37m1.56[30;100m[0m
[25;1f
[2K[37mâÂÂâ¡â¡â¡â¡â¡â¡ âÂÂ[30;100m [37mâÂÂâÂÂâÂÂâÂÂâÂÂâÂÂâÂÂâÂÂâÂÂâÂÂâÂÂâÂÂâÂÂâÂÂâÂÂâÂÂâÂÂâÂÂâÂÂâÂÂ[30;100m processed [37m30%[30;100m of [37m6[30;100m/[37m20[30;100m [37m0.62[30;100m/[37m1.45[30;100m[0m
[25;1f
[2K[37mâÂÂâ¡â¡â¡â¡â¡â¡â¡ âÂÂ[30;100m [37mâÂÂâÂÂâÂÂâÂÂâÂÂâÂÂâÂÂâÂÂâÂÂâÂÂâÂÂâÂÂâÂÂâÂÂâÂÂâÂÂâÂÂâÂÂâÂÂâÂÂ[30;100m processed [37m35%[30;100m of [37m7[30;100m/[37m20[30;100m [37m0.73[30;100m/[37m1.36[30;100m[0m
[25;1f
[2K[37mâÂÂâ¡â¡â¡â¡â¡â¡â¡â¡ âÂÂ[30;100m [37mâÂÂâÂÂâÂÂâÂÂâÂÂâÂÂâÂÂâÂÂâÂÂâÂÂâÂÂâÂÂâÂÂâÂÂâÂÂâÂÂâÂÂâÂÂâÂÂâÂÂ[30;100m processed [37m40%[30;100m of [37m8[30;100m/[37m20[30;100m [37m0.83[30;100m/[37m1.24[30;100m[0m
[25;1f
[2K[37mâÂÂâ¡â¡â¡â¡â¡â¡â¡â¡â¡ âÂÂ[30;100m [37mâÂÂâÂÂâÂÂâÂÂâÂÂâÂÂâÂÂâÂÂâÂÂâÂÂâÂÂâÂÂâÂÂâÂÂâÂÂâÂÂâÂÂâÂÂâÂÂâÂÂ[30;100m processed [37m45%[30;100m of [37m9[30;100m/[37m20[30;100m [37m0.94[30;100m/[37m1.15[30;100m[0m
[25;1f
[2K[37mâÂÂâ¡â¡â¡â¡â¡â¡â¡â¡â¡â¡ âÂÂ[30;100m [37mâÂÂâÂÂâÂÂâÂÂâÂÂâÂÂâÂÂâÂÂâÂÂâÂÂâÂÂâÂÂâÂÂâÂÂâÂÂâÂÂâÂÂâÂÂâÂÂâÂÂ[30;100m processed [37m50%[30;100m of [37m10[30;100m/[37m20[30;100m [37m1.05[30;100m/[37m1.05[30;100m[0m
[25;1f
[2K[37mâÂÂâ¡â¡â¡â¡â¡â¡â¡â¡â¡â¡â¡ âÂÂ[30;100m [37mâÂÂâÂÂâÂÂâÂÂâÂÂâÂÂâÂÂâÂÂâÂÂâÂÂâÂÂâÂÂâÂÂâÂÂâÂÂâÂÂâÂÂâÂÂâÂÂâÂÂ[30;100m processed [37m55%[30;100m of [37m11[30;100m/[37m20[30;100m [37m1.15[30;100m/[37m0.94[30;100m[0m
[25;1f
[2K[37mâÂÂâ¡â¡â¡â¡â¡â¡â¡â¡â¡â¡â¡â¡ âÂÂ[30;100m [37mâÂÂâÂÂâÂÂâÂÂâÂÂâÂÂâÂÂâÂÂâÂÂâÂÂâÂÂâÂÂâÂÂâÂÂâÂÂâÂÂâÂÂâÂÂâÂÂâÂÂ[30;100m processed [37m60%[30;100m of [37m12[30;100m/[37m20[30;100m [37m1.26[30;100m/[37m0.84[30;100m[0m
[25;1f
[2K[37mâÂÂâ¡â¡â¡â¡â¡â¡â¡â¡â¡â¡â¡â¡â¡ âÂÂ[30;100m [37mâÂÂâÂÂâÂÂâÂÂâÂÂâÂÂâÂÂâÂÂâÂÂâÂÂâÂÂâÂÂâÂÂâÂÂâÂÂâÂÂâÂÂâÂÂâÂÂâÂÂ[30;100m processed [37m65%[30;100m of [37m13[30;100m/[37m20[30;100m [37m1.37[30;100m/[37m0.74[30;100m[0m
[25;1f
[2K[37mâÂÂâ¡â¡â¡â¡â¡â¡â¡â¡â¡â¡â¡â¡â¡â¡ âÂÂ[30;100m [37mâÂÂâÂÂâÂÂâÂÂâÂÂâÂÂâÂÂâÂÂâÂÂâÂÂâÂÂâÂÂâÂÂâÂÂâÂÂâÂÂâÂÂâÂÂâÂÂâÂÂ[30;100m processed [37m70%[30;100m of [37m14[30;100m/[37m20[30;100m [37m1.47[30;100m/[37m0.63[30;100m[0m
[25;1f
[2K[37mâÂÂâ¡â¡â¡â¡â¡â¡â¡â¡â¡â¡â¡â¡â¡â¡â¡ âÂÂ[30;100m [37mâÂÂâÂÂâÂÂâÂÂâÂÂâÂÂâÂÂâÂÂâÂÂâÂÂâÂÂâÂÂâÂÂâÂÂâÂÂâÂÂâÂÂâÂÂâÂÂâÂÂ[30;100m processed [37m75%[30;100m of [37m15[30;100m/[37m20[30;100m [37m1.58[30;100m/[37m0.53[30;100m[0m
[25;1f
[2K[37mâÂÂâ¡â¡â¡â¡â¡â¡â¡â¡â¡â¡â¡â¡â¡â¡â¡â¡ âÂÂ[30;100m [37mâÂÂâÂÂâÂÂâÂÂâÂÂâÂÂâÂÂâÂÂâÂÂâÂÂâÂÂâÂÂâÂÂâÂÂâÂÂâÂÂâÂÂâÂÂâÂÂâÂÂ[30;100m processed [37m80%[30;100m of [37m16[30;100m/[37m20[30;100m [37m1.68[30;100m/[37m0.42[30;100m[0m
[25;1f
[2K[37mâÂÂâ¡â¡â¡â¡â¡â¡â¡â¡â¡â¡â¡â¡â¡â¡â¡â¡â¡ âÂÂ[30;100m [37mâÂÂâÂÂâÂÂâÂÂâÂÂâÂÂâÂÂâÂÂâÂÂâÂÂâÂÂâÂÂâÂÂâÂÂâÂÂâÂÂâÂÂâÂÂâÂÂâÂÂ[30;100m processed [37m85%[30;100m of [37m17[30;100m/[37m20[30;100m [37m1.79[30;100m/[37m0.32[30;100m[0m
[25;1f
[2K[37mâÂÂâ¡â¡â¡â¡â¡â¡â¡â¡â¡â¡â¡â¡â¡â¡â¡â¡â¡â¡ âÂÂ[30;100m [37mâÂÂâÂÂâÂÂâÂÂâÂÂâÂÂâÂÂâÂÂâÂÂâÂÂâÂÂâÂÂâÂÂâÂÂâÂÂâÂÂâÂÂâÂÂâÂÂâÂÂ[30;100m processed [37m90%[30;100m of [37m18[30;100m/[37m20[30;100m [37m1.9[30;100m/[37m0.21[30;100m[0m
[25;1f
[2K[37mâÂÂâ¡â¡â¡â¡â¡â¡â¡â¡â¡â¡â¡â¡â¡â¡â¡â¡â¡â¡â¡ âÂÂ[30;100m [37mâÂÂâÂÂâÂÂâÂÂâÂÂâÂÂâÂÂâÂÂâÂÂâÂÂâÂÂâÂÂâÂÂâÂÂâÂÂâÂÂâÂÂâÂÂâÂÂâÂÂ[30;100m processed [37m95%[30;100m of [37m19[30;100m/[37m20[30;100m [37m2[30;100m/[37m0.11[30;100m[0m
[25;1f
[2K[37mâÂÂâ¡â¡â¡â¡â¡â¡â¡â¡â¡â¡â¡â¡â¡â¡â¡â¡â¡â¡â¡â¡âÂÂ[30;100m [37mâÂÂâÂÂâÂÂâÂÂâÂÂâÂÂâÂÂâÂÂâÂÂâÂÂâÂÂâÂÂâÂÂâÂÂâÂÂâÂÂâÂÂâÂÂâÂÂâÂÂ[30;100m processed [37m100%[30;100m of [37m20[30;100m/[37m20[30;100m [37m2.1[30;100m/[37m0[30;100m[0m
[?25h
[2K[?25l
[27;1f
[2K[37mâÂÂ⪠âÂÂ[30;100m [37mð [30;100m processed [37m5%[30;100m of [37m1[30;100m/[37m20[30;100m [37m0.11[30;100m/[37m2.09[30;100m[0m
[27;1f
[2K[37mâÂÂâªâª âÂÂ[30;100m [37mð [30;100m processed [37m10%[30;100m of [37m2[30;100m/[37m20[30;100m [37m0.21[30;100m/[37m1.89[30;100m[0m
[27;1f
[2K[37mâÂÂâªâªâª âÂÂ[30;100m [37mð [30;100m processed [37m15%[30;100m of [37m3[30;100m/[37m20[30;100m [37m0.32[30;100m/[37m1.81[30;100m[0m
[27;1f
[2K[37mâÂÂâªâªâªâª âÂÂ[30;100m [37mð [30;100m processed [37m20%[30;100m of [37m4[30;100m/[37m20[30;100m [37m0.43[30;100m/[37m1.72[30;100m[0m
[27;1f
[2K[37mâÂÂâªâªâªâªâª âÂÂ[30;100m [37mð [30;100m processed [37m25%[30;100m of [37m5[30;100m/[37m20[30;100m [37m0.54[30;100m/[37m1.62[30;100m[0m
[27;1f
[2K[37mâÂÂâªâªâªâªâªâª âÂÂ[30;100m [37mð [30;100m processed [37m30%[30;100m of [37m6[30;100m/[37m20[30;100m [37m0.64[30;100m/[37m1.49[30;100m[0m
[27;1f
[2K[37mâÂÂâªâªâªâªâªâªâª âÂÂ[30;100m [37mð [30;100m processed [37m35%[30;100m of [37m7[30;100m/[37m20[30;100m [37m0.75[30;100m/[37m1.39[30;100m[0m
[27;1f
[2K[37mâÂÂâªâªâªâªâªâªâªâª âÂÂ[30;100m [37mð [30;100m processed [37m40%[30;100m of [37m8[30;100m/[37m20[30;100m [37m0.86[30;100m/[37m1.29[30;100m[0m
[27;1f
[2K[37mâÂÂâªâªâªâªâªâªâªâªâª âÂÂ[30;100m [37mð [30;100m processed [37m45%[30;100m of [37m9[30;100m/[37m20[30;100m [37m0.97[30;100m/[37m1.19[30;100m[0m
[27;1f
[2K[37mâÂÂâªâªâªâªâªâªâªâªâªâª âÂÂ[30;100m [37mð [30;100m processed [37m50%[30;100m of [37m10[30;100m/[37m20[30;100m [37m1.07[30;100m/[37m1.07[30;100m[0m
[27;1f
[2K[37mâÂÂâªâªâªâªâªâªâªâªâªâªâª âÂÂ[30;100m [37mð [30;100m processed [37m55%[30;100m of [37m11[30;100m/[37m20[30;100m [37m1.17[30;100m/[37m0.96[30;100m[0m
[27;1f
[2K[37mâÂÂâªâªâªâªâªâªâªâªâªâªâªâª âÂÂ[30;100m [37mð [30;100m processed [37m60%[30;100m of [37m12[30;100m/[37m20[30;100m [37m1.27[30;100m/[37m0.85[30;100m[0m
[27;1f
[2K[37mâÂÂâªâªâªâªâªâªâªâªâªâªâªâªâª âÂÂ[30;100m [37mð [30;100m processed [37m65%[30;100m of [37m13[30;100m/[37m20[30;100m [37m1.38[30;100m/[37m0.74[30;100m[0m
[27;1f
[2K[37mâÂÂâªâªâªâªâªâªâªâªâªâªâªâªâªâª âÂÂ[30;100m [37mð [30;100m processed [37m70%[30;100m of [37m14[30;100m/[37m20[30;100m [37m1.49[30;100m/[37m0.64[30;100m[0m
[27;1f
[2K[37mâÂÂâªâªâªâªâªâªâªâªâªâªâªâªâªâªâª âÂÂ[30;100m [37mð [30;100m processed [37m75%[30;100m of [37m15[30;100m/[37m20[30;100m [37m1.6[30;100m/[37m0.53[30;100m[0m
[27;1f
[2K[37mâÂÂâªâªâªâªâªâªâªâªâªâªâªâªâªâªâªâª âÂÂ[30;100m [37mð [30;100m processed [37m80%[30;100m of [37m16[30;100m/[37m20[30;100m [37m1.7[30;100m/[37m0.43[30;100m[0m
[27;1f
[2K[37mâÂÂâªâªâªâªâªâªâªâªâªâªâªâªâªâªâªâªâª âÂÂ[30;100m [37mð [30;100m processed [37m85%[30;100m of [37m17[30;100m/[37m20[30;100m [37m1.81[30;100m/[37m0.32[30;100m[0m
[27;1f
[2K[37mâÂÂâªâªâªâªâªâªâªâªâªâªâªâªâªâªâªâªâªâª âÂÂ[30;100m [37mð [30;100m processed [37m90%[30;100m of [37m18[30;100m/[37m20[30;100m [37m1.92[30;100m/[37m0.21[30;100m[0m
[27;1f
[2K[37mâÂÂâªâªâªâªâªâªâªâªâªâªâªâªâªâªâªâªâªâªâª âÂÂ[30;100m [37mð [30;100m processed [37m95%[30;100m of [37m19[30;100m/[37m20[30;100m [37m2.03[30;100m/[37m0.11[30;100m[0m
[27;1f
[2K[37mâÂÂâªâªâªâªâªâªâªâªâªâªâªâªâªâªâªâªâªâªâªâªâÂÂ[30;100m [37mð [30;100m processed [37m100%[30;100m of [37m20[30;100m/[37m20[30;100m [37m2.13[30;100m/[37m0[30;100m[0m
[?25h
[2K[?25l
[29;1f
[2K[37mâÂÂâ âÂÂ[30;100m [37mâ´[30;100m processed [37m5%[30;100m of [37m1[30;100m/[37m20[30;100m [37m0.1[30;100m/[37m1.9[30;100m[0m
[29;1f
[2K[37mâÂÂâ â âÂÂ[30;100m [37mâÂÂ[30;100m processed [37m10%[30;100m of [37m2[30;100m/[37m20[30;100m [37m0.21[30;100m/[37m1.89[30;100m[0m
[29;1f
[2K[37mâÂÂâ â â âÂÂ[30;100m [37mâÂÂ[30;100m processed [37m15%[30;100m of [37m3[30;100m/[37m20[30;100m [37m0.32[30;100m/[37m1.81[30;100m[0m
[29;1f
[2K[37mâÂÂâ â â â âÂÂ[30;100m [37mâÂÂ[30;100m processed [37m20%[30;100m of [37m4[30;100m/[37m20[30;100m [37m0.43[30;100m/[37m1.72[30;100m[0m
[29;1f
[2K[37mâÂÂâ â â â â âÂÂ[30;100m [37mâ¬[30;100m processed [37m25%[30;100m of [37m5[30;100m/[37m20[30;100m [37m0.53[30;100m/[37m1.59[30;100m[0m
[29;1f
[2K[37mâÂÂâ â â â â â âÂÂ[30;100m [37mâÂÂ[30;100m processed [37m30%[30;100m of [37m6[30;100m/[37m20[30;100m [37m0.64[30;100m/[37m1.49[30;100m[0m
[29;1f
[2K[37mâÂÂâ â â â â â â âÂÂ[30;100m [37mâ¤[30;100m processed [37m35%[30;100m of [37m7[30;100m/[37m20[30;100m [37m0.75[30;100m/[37m1.39[30;100m[0m
[29;1f
[2K[37mâÂÂâ â â â â â â â âÂÂ[30;100m [37mâÂÂ[30;100m processed [37m40%[30;100m of [37m8[30;100m/[37m20[30;100m [37m0.86[30;100m/[37m1.29[30;100m[0m
[29;1f
[2K[37mâÂÂâ â â â â â â â â âÂÂ[30;100m [37mâ´[30;100m processed [37m45%[30;100m of [37m9[30;100m/[37m20[30;100m [37m0.96[30;100m/[37m1.17[30;100m[0m
[29;1f
[2K[37mâÂÂâ â â â â â â â â â âÂÂ[30;100m [37mâÂÂ[30;100m processed [37m50%[30;100m of [37m10[30;100m/[37m20[30;100m [37m1.07[30;100m/[37m1.07[30;100m[0m
[29;1f
[2K[37mâÂÂâ â â â â â â â â â â âÂÂ[30;100m [37mâÂÂ[30;100m processed [37m55%[30;100m of [37m11[30;100m/[37m20[30;100m [37m1.17[30;100m/[37m0.96[30;100m[0m
[29;1f
[2K[37mâÂÂâ â â â â â â â â â â â âÂÂ[30;100m [37mâÂÂ[30;100m processed [37m60%[30;100m of [37m12[30;100m/[37m20[30;100m [37m1.28[30;100m/[37m0.85[30;100m[0m
[29;1f
[2K[37mâÂÂâ â â â â â â â â â â â â âÂÂ[30;100m [37mâ¬[30;100m processed [37m65%[30;100m of [37m13[30;100m/[37m20[30;100m [37m1.38[30;100m/[37m0.74[30;100m[0m
[29;1f
[2K[37mâÂÂâ â â â â â â â â â â â â â âÂÂ[30;100m [37mâÂÂ[30;100m processed [37m70%[30;100m of [37m14[30;100m/[37m20[30;100m [37m1.49[30;100m/[37m0.64[30;100m[0m
[29;1f
[2K[37mâÂÂâ â â â â â â â â â â â â â â âÂÂ[30;100m [37mâ¤[30;100m processed [37m75%[30;100m of [37m15[30;100m/[37m20[30;100m [37m1.6[30;100m/[37m0.53[30;100m[0m
[29;1f
[2K[37mâÂÂâ â â â â â â â â â â â â â â â âÂÂ[30;100m [37mâÂÂ[30;100m processed [37m80%[30;100m of [37m16[30;100m/[37m20[30;100m [37m1.7[30;100m/[37m0.43[30;100m[0m
[29;1f
[2K[37mâÂÂâ â â â â â â â â â â â â â â â â âÂÂ[30;100m [37mâ´[30;100m processed [37m85%[30;100m of [37m17[30;100m/[37m20[30;100m [37m1.81[30;100m/[37m0.32[30;100m[0m
[29;1f
[2K[37mâÂÂâ â â â â â â â â â â â â â â â â â âÂÂ[30;100m [37mâÂÂ[30;100m processed [37m90%[30;100m of [37m18[30;100m/[37m20[30;100m [37m1.92[30;100m/[37m0.21[30;100m[0m
[29;1f
[2K[37mâÂÂâ â â â â â â â â â â â â â â â â â â âÂÂ[30;100m [37mâÂÂ[30;100m processed [37m95%[30;100m of [37m19[30;100m/[37m20[30;100m [37m2.02[30;100m/[37m0.11[30;100m[0m
[29;1f
[2K[37mâÂÂâ â â â â â â â â â â â â â â â â â â â âÂÂ[30;100m [37mâÂÂ[30;100m processed [37m100%[30;100m of [37m20[30;100m/[37m20[30;100m [37m2.12[30;100m/[37m0[30;100m[0m
[?25h
[2K[?25l
[31;1f
[2K[37mâÂÂâ¶︠âÂÂ[30;100m [37mâ ⠠âÂÂ[30;100m processed [37m5%[30;100m of [37m1[30;100m/[37m20[30;100m [37m0.11[30;100m/[37m2.09[30;100m[0m
[31;1f
[2K[37mâÂÂâ¶ï¸Ââ¶︠âÂÂ[30;100m [37mâ ⠠âÂÂ[30;100m processed [37m10%[30;100m of [37m2[30;100m/[37m20[30;100m [37m0.21[30;100m/[37m1.89[30;100m[0m
[31;1f
[2K[37mâÂÂâ¶ï¸Ââ¶ï¸Ââ¶︠âÂÂ[30;100m [37mâ ⡠âÂÂ[30;100m processed [37m15%[30;100m of [37m3[30;100m/[37m20[30;100m [37m0.32[30;100m/[37m1.81[30;100m[0m
[31;1f
[2K[37mâÂÂâ¶ï¸Ââ¶ï¸Ââ¶ï¸Ââ¶︠âÂÂ[30;100m [37mâ ⠠âÂÂ[30;100m processed [37m20%[30;100m of [37m4[30;100m/[37m20[30;100m [37m0.43[30;100m/[37m1.72[30;100m[0m
[31;1f
[2K[37mâÂÂâ¶ï¸Ââ¶ï¸Ââ¶ï¸Ââ¶ï¸Ââ¶︠âÂÂ[30;100m [37mâ ⠠âÂÂ[30;100m processed [37m25%[30;100m of [37m5[30;100m/[37m20[30;100m [37m0.53[30;100m/[37m1.59[30;100m[0m
[31;1f
[2K[37mâÂÂâ¶ï¸Ââ¶ï¸Ââ¶ï¸Ââ¶ï¸Ââ¶ï¸Ââ¶︠âÂÂ[30;100m [37mâ ⠠âÂÂ[30;100m processed [37m30%[30;100m of [37m6[30;100m/[37m20[30;100m [37m0.64[30;100m/[37m1.49[30;100m[0m
[31;1f
[2K[37mâÂÂâ¶ï¸Ââ¶ï¸Ââ¶ï¸Ââ¶ï¸Ââ¶ï¸Ââ¶ï¸Ââ¶︠âÂÂ[30;100m [37mâ ⠠âÂÂ[30;100m processed [37m35%[30;100m of [37m7[30;100m/[37m20[30;100m [37m0.74[30;100m/[37m1.37[30;100m[0m
[31;1f
[2K[37mâÂÂâ¶ï¸Ââ¶ï¸Ââ¶ï¸Ââ¶ï¸Ââ¶ï¸Ââ¶ï¸Ââ¶ï¸Ââ¶︠âÂÂ[30;100m [37mâ ⠠âÂÂ[30;100m processed [37m40%[30;100m of [37m8[30;100m/[37m20[30;100m [37m0.85[30;100m/[37m1.27[30;100m[0m
[31;1f
[2K[37mâÂÂâ¶ï¸Ââ¶ï¸Ââ¶ï¸Ââ¶ï¸Ââ¶ï¸Ââ¶ï¸Ââ¶ï¸Ââ¶ï¸Ââ¶︠âÂÂ[30;100m [37mâ ⡠âÂÂ[30;100m processed [37m45%[30;100m of [37m9[30;100m/[37m20[30;100m [37m0.95[30;100m/[37m1.16[30;100m[0m
[31;1f
[2K[37mâÂÂâ¶ï¸Ââ¶ï¸Ââ¶ï¸Ââ¶ï¸Ââ¶ï¸Ââ¶ï¸Ââ¶ï¸Ââ¶ï¸Ââ¶ï¸Ââ¶︠âÂÂ[30;100m [37mâ ⠠âÂÂ[30;100m processed [37m50%[30;100m of [37m10[30;100m/[37m20[30;100m [37m1.06[30;100m/[37m1.06[30;100m[0m
[31;1f
[2K[37mâÂÂâ¶ï¸Ââ¶ï¸Ââ¶ï¸Ââ¶ï¸Ââ¶ï¸Ââ¶ï¸Ââ¶ï¸Ââ¶ï¸Ââ¶ï¸Ââ¶ï¸Ââ¶︠âÂÂ[30;100m [37mâ ⠠âÂÂ[30;100m processed [37m55%[30;100m of [37m11[30;100m/[37m20[30;100m [37m1.17[30;100m/[37m0.96[30;100m[0m
[31;1f
[2K[37mâÂÂâ¶ï¸Ââ¶ï¸Ââ¶ï¸Ââ¶ï¸Ââ¶ï¸Ââ¶ï¸Ââ¶ï¸Ââ¶ï¸Ââ¶ï¸Ââ¶ï¸Ââ¶ï¸Ââ¶︠âÂÂ[30;100m [37mâ ⠠âÂÂ[30;100m processed [37m60%[30;100m of [37m12[30;100m/[37m20[30;100m [37m1.28[30;100m/[37m0.85[30;100m[0m
[31;1f
[2K[37mâÂÂâ¶ï¸Ââ¶ï¸Ââ¶ï¸Ââ¶ï¸Ââ¶ï¸Ââ¶ï¸Ââ¶ï¸Ââ¶ï¸Ââ¶ï¸Ââ¶ï¸Ââ¶ï¸Ââ¶ï¸Ââ¶︠âÂÂ[30;100m [37mâ â ÂâÂÂ[30;100m processed [37m65%[30;100m of [37m13[30;100m/[37m20[30;100m [37m1.38[30;100m/[37m0.74[30;100m[0m
[31;1f
[2K[37mâÂÂâ¶ï¸Ââ¶ï¸Ââ¶ï¸Ââ¶ï¸Ââ¶ï¸Ââ¶ï¸Ââ¶ï¸Ââ¶ï¸Ââ¶ï¸Ââ¶ï¸Ââ¶ï¸Ââ¶ï¸Ââ¶ï¸Ââ¶︠âÂÂ[30;100m [37mâ ⠠âÂÂ[30;100m processed [37m70%[30;100m of [37m14[30;100m/[37m20[30;100m [37m1.49[30;100m/[37m0.64[30;100m[0m
[31;1f
[2K[37mâÂÂâ¶ï¸Ââ¶ï¸Ââ¶ï¸Ââ¶ï¸Ââ¶ï¸Ââ¶ï¸Ââ¶ï¸Ââ¶ï¸Ââ¶ï¸Ââ¶ï¸Ââ¶ï¸Ââ¶ï¸Ââ¶ï¸Ââ¶ï¸Ââ¶︠âÂÂ[30;100m [37mâ â¡ÂâÂÂ[30;100m processed [37m75%[30;100m of [37m15[30;100m/[37m20[30;100m [37m1.6[30;100m/[37m0.53[30;100m[0m
[31;1f
[2K[37mâÂÂâ¶ï¸Ââ¶ï¸Ââ¶ï¸Ââ¶ï¸Ââ¶ï¸Ââ¶ï¸Ââ¶ï¸Ââ¶ï¸Ââ¶ï¸Ââ¶ï¸Ââ¶ï¸Ââ¶ï¸Ââ¶ï¸Ââ¶ï¸Ââ¶ï¸Ââ¶︠âÂÂ[30;100m [37mâ ⠠âÂÂ[30;100m processed [37m80%[30;100m of [37m16[30;100m/[37m20[30;100m [37m1.7[30;100m/[37m0.43[30;100m[0m
[31;1f
[2K[37mâÂÂâ¶ï¸Ââ¶ï¸Ââ¶ï¸Ââ¶ï¸Ââ¶ï¸Ââ¶ï¸Ââ¶ï¸Ââ¶ï¸Ââ¶ï¸Ââ¶ï¸Ââ¶ï¸Ââ¶ï¸Ââ¶ï¸Ââ¶ï¸Ââ¶ï¸Ââ¶ï¸Ââ¶︠âÂÂ[30;100m [37mâ ⠠âÂÂ[30;100m processed [37m85%[30;100m of [37m17[30;100m/[37m20[30;100m [37m1.81[30;100m/[37m0.32[30;100m[0m
[31;1f
[2K[37mâÂÂâ¶ï¸Ââ¶ï¸Ââ¶ï¸Ââ¶ï¸Ââ¶ï¸Ââ¶ï¸Ââ¶ï¸Ââ¶ï¸Ââ¶ï¸Ââ¶ï¸Ââ¶ï¸Ââ¶ï¸Ââ¶ï¸Ââ¶ï¸Ââ¶ï¸Ââ¶ï¸Ââ¶ï¸Ââ¶︠âÂÂ[30;100m [37mâ ⠠âÂÂ[30;100m processed [37m90%[30;100m of [37m18[30;100m/[37m20[30;100m [37m1.91[30;100m/[37m0.21[30;100m[0m
[31;1f
[2K[37mâÂÂâ¶ï¸Ââ¶ï¸Ââ¶ï¸Ââ¶ï¸Ââ¶ï¸Ââ¶ï¸Ââ¶ï¸Ââ¶ï¸Ââ¶ï¸Ââ¶ï¸Ââ¶ï¸Ââ¶ï¸Ââ¶ï¸Ââ¶ï¸Ââ¶ï¸Ââ¶ï¸Ââ¶ï¸Ââ¶ï¸Ââ¶︠âÂÂ[30;100m [37mâ ⠠âÂÂ[30;100m processed [37m95%[30;100m of [37m19[30;100m/[37m20[30;100m [37m2.02[30;100m/[37m0.11[30;100m[0m
[31;1f
[2K[37mâÂÂâ¶ï¸Ââ¶ï¸Ââ¶ï¸Ââ¶ï¸Ââ¶ï¸Ââ¶ï¸Ââ¶ï¸Ââ¶ï¸Ââ¶ï¸Ââ¶ï¸Ââ¶ï¸Ââ¶ï¸Ââ¶ï¸Ââ¶ï¸Ââ¶ï¸Ââ¶ï¸Ââ¶ï¸Ââ¶ï¸Ââ¶ï¸Ââ¶ï¸ÂâÂÂ[30;100m [37mâ ⠠âÂÂ[30;100m processed [37m100%[30;100m of [37m20[30;100m/[37m20[30;100m [37m2.12[30;100m/[37m0[30;100m[0m
[?25h[2J[1;1ft/01-test.t ....... ok
[1;1f[2J[?25l
[?25l
[?25l
[?25l
[1;1f
[2K[37mâÂÂâ âÂÂ[37m [37mâÂÂâÂÂâÂÂ[37m processed [37m5%[37m of [37m1[37m/[37m20[37m [37m0.108[37m/[37m2.052[37m[0m
[2;1f
[2K[37mâ âÂÂ[37m [37mâÂÂâÂÂâÂÂ[37m processed [37m0%[37m of [37m0[37m/[37m10[37m [37m0.108[37m/[37m0[37m[0m
[3;1f
[2K[37mâ âÂÂ[37m [37mâÂÂâÂÂâÂÂ[37m processed [37m0%[37m of [37m0[37m/[37m50[37m [37m0.109[37m/[37m0[37m[0m
[4;1f
[2K[37mâ âÂÂ[37m [37mâÂÂâÂÂâÂÂ[37m processed [37m0%[37m of [37m0[37m/[37m30[37m [37m0.108[37m/[37m0[37m[0m
[1;1f
[2K[37mâÂÂâ âÂÂ[37m [37mâÂÂâÂÂ
âÂÂ[37m processed [37m5%[37m of [37m1[37m/[37m20[37m [37m0.217[37m/[37m4.123[37m[0m
[2;1f
[2K[37mâÂÂâÂÂâ âÂÂ[37m [37mâÂÂâÂÂ
âÂÂ[37m processed [37m10%[37m of [37m1[37m/[37m10[37m [37m0.217[37m/[37m1.953[37m[0m
[3;1f
[2K[37mâ âÂÂ[37m [37mâÂÂâÂÂ
âÂÂ[37m processed [37m0%[37m of [37m0[37m/[37m50[37m [37m0.217[37m/[37m0[37m[0m
[4;1f
[2K[37mâ âÂÂ[37m [37mâÂÂâÂÂ
âÂÂ[37m processed [37m0%[37m of [37m0[37m/[37m30[37m [37m0.217[37m/[37m0[37m[0m
[1;1f
[2K[37mâÂÂâ âÂÂ[37m [37mâÂÂâÂÂâÂÂ[37m processed [37m5%[37m of [37m1[37m/[37m20[37m [37m0.326[37m/[37m6.194[37m[0m
[2;1f
[2K[37mâÂÂâÂÂâ âÂÂ[37m [37mâÂÂâÂÂâÂÂ[37m processed [37m10%[37m of [37m1[37m/[37m10[37m [37m0.326[37m/[37m2.934[37m[0m
[3;1f
[2K[37mâ âÂÂ[37m [37mâÂÂâÂÂâÂÂ[37m processed [37m2%[37m of [37m1[37m/[37m50[37m [37m0.326[37m/[37m15.974[37m[0m
[4;1f
[2K[37mâ âÂÂ[37m [37mâÂÂâÂÂâÂÂ[37m processed [37m0%[37m of [37m0[37m/[37m30[37m [37m0.326[37m/[37m0[37m[0m
[1;1f
[2K[37mâÂÂâ âÂÂ[37m [37mâÂÂâÂÂâÂÂ[37m processed [37m5%[37m of [37m1[37m/[37m20[37m [37m0.434[37m/[37m8.246[37m[0m
[2;1f
[2K[37mâÂÂâÂÂâ âÂÂ[37m [37mâÂÂâÂÂâÂÂ[37m processed [37m10%[37m of [37m1[37m/[37m10[37m [37m0.434[37m/[37m3.906[37m[0m
[3;1f
[2K[37mâ âÂÂ[37m [37mâÂÂâÂÂâÂÂ[37m processed [37m2%[37m of [37m1[37m/[37m50[37m [37m0.434[37m/[37m21.266[37m[0m
[4;1f
[2K[37mâÂÂâ âÂÂ[37m [37mâÂÂâÂÂâÂÂ[37m processed [37m3%[37m of [37m1[37m/[37m30[37m [37m0.433[37m/[37m14[37m[0m
[1;1f
[2K[37mâÂÂâÂÂâ âÂÂ[37m [37mâÂÂâÂÂâÂÂ[37m processed [37m10%[37m of [37m2[37m/[37m20[37m [37m0.538[37m/[37m4.842[37m[0m
[2;1f
[2K[37mâÂÂâÂÂâ âÂÂ[37m [37mâÂÂâÂÂâÂÂ[37m processed [37m10%[37m of [37m1[37m/[37m10[37m [37m0.538[37m/[37m4.842[37m[0m
[3;1f
[2K[37mâ âÂÂ[37m [37mâÂÂâÂÂâÂÂ[37m processed [37m2%[37m of [37m1[37m/[37m50[37m [37m0.539[37m/[37m26.411[37m[0m
[4;1f
[2K[37mâÂÂâ âÂÂ[37m [37mâÂÂâÂÂâÂÂ[37m processed [37m3%[37m of [37m1[37m/[37m30[37m [37m0.538[37m/[37m17.395[37m[0m
[1;1f
[2K[37mâÂÂâÂÂâ âÂÂ[37m [37mâÂÂâÂÂâÂÂ
[37m processed [37m10%[37m of [37m2[37m/[37m20[37m [37m0.647[37m/[37m5.823[37m[0m
[2;1f
[2K[37mâÂÂâÂÂâÂÂâÂÂâ âÂÂ[37m [37mâÂÂâÂÂâÂÂ
[37m processed [37m20%[37m of [37m2[37m/[37m10[37m [37m0.647[37m/[37m2.588[37m[0m
[3;1f
[2K[37mâ âÂÂ[37m [37mâÂÂâÂÂâÂÂ
[37m processed [37m2%[37m of [37m1[37m/[37m50[37m [37m0.648[37m/[37m31.752[37m[0m
[4;1f
[2K[37mâÂÂâ âÂÂ[37m [37mâÂÂâÂÂâÂÂ
[37m processed [37m3%[37m of [37m1[37m/[37m30[37m [37m0.647[37m/[37m20.92[37m[0m
[1;1f
[2K[37mâÂÂâÂÂâ âÂÂ[37m [37mâÂÂâÂÂâÂÂ[37m processed [37m10%[37m of [37m2[37m/[37m20[37m [37m0.756[37m/[37m6.804[37m[0m
[2;1f
[2K[37mâÂÂâÂÂâÂÂâÂÂâ âÂÂ[37m [37mâÂÂâÂÂâÂÂ[37m processed [37m20%[37m of [37m2[37m/[37m10[37m [37m0.756[37m/[37m3.024[37m[0m
[3;1f
[2K[37mâÂÂâ âÂÂ[37m [37mâÂÂâÂÂâÂÂ[37m processed [37m4%[37m of [37m2[37m/[37m50[37m [37m0.756[37m/[37m18.144[37m[0m
[4;1f
[2K[37mâÂÂâ âÂÂ[37m [37mâÂÂâÂÂâÂÂ[37m processed [37m3%[37m of [37m1[37m/[37m30[37m [37m0.756[37m/[37m24.444[37m[0m
[1;1f
[2K[37mâÂÂâÂÂâ âÂÂ[37m [37mâÂÂ
âÂÂâÂÂ[37m processed [37m10%[37m of [37m2[37m/[37m20[37m [37m0.86[37m/[37m7.74[37m[0m
[2;1f
[2K[37mâÂÂâÂÂâÂÂâÂÂâ âÂÂ[37m [37mâÂÂ
âÂÂâÂÂ[37m processed [37m20%[37m of [37m2[37m/[37m10[37m [37m0.861[37m/[37m3.444[37m[0m
[3;1f
[2K[37mâÂÂâ âÂÂ[37m [37mâÂÂ
âÂÂâÂÂ[37m processed [37m4%[37m of [37m2[37m/[37m50[37m [37m0.861[37m/[37m20.664[37m[0m
[4;1f
[2K[37mâÂÂâ âÂÂ[37m [37mâÂÂ
âÂÂâÂÂ[37m processed [37m6%[37m of [37m2[37m/[37m30[37m [37m0.86[37m/[37m13.473[37m[0m
[1;1f
[2K[37mâÂÂâÂÂâÂÂâ âÂÂ[37m [37mâÂÂâÂÂâÂÂ[37m processed [37m15%[37m of [37m3[37m/[37m20[37m [37m0.969[37m/[37m5.491[37m[0m
[2;1f
[2K[37mâÂÂâÂÂâÂÂâÂÂâ âÂÂ[37m [37mâÂÂâÂÂâÂÂ[37m processed [37m20%[37m of [37m2[37m/[37m10[37m [37m0.969[37m/[37m3.876[37m[0m
[3;1f
[2K[37mâÂÂâ âÂÂ[37m [37mâÂÂâÂÂâÂÂ[37m processed [37m4%[37m of [37m2[37m/[37m50[37m [37m0.97[37m/[37m23.28[37m[0m
[4;1f
[2K[37mâÂÂâ âÂÂ[37m [37mâÂÂâÂÂâÂÂ[37m processed [37m6%[37m of [37m2[37m/[37m30[37m [37m0.969[37m/[37m15.181[37m[0m
[1;1f
[2K[37mâÂÂâÂÂâÂÂâ âÂÂ[37m [37mâÂÂâÂÂ
âÂÂ[37m processed [37m15%[37m of [37m3[37m/[37m20[37m [37m1.078[37m/[37m6.109[37m[0m
[2;1f
[2K[37mâÂÂâÂÂâÂÂâÂÂâÂÂâÂÂâ âÂÂ[37m [37mâÂÂâÂÂ
âÂÂ[37m processed [37m30%[37m of [37m3[37m/[37m10[37m [37m1.078[37m/[37m2.515[37m[0m
[3;1f
[2K[37mâÂÂâ âÂÂ[37m [37mâÂÂâÂÂ
âÂÂ[37m processed [37m4%[37m of [37m2[37m/[37m50[37m [37m1.078[37m/[37m25.872[37m[0m
[4;1f
[2K[37mâÂÂâ âÂÂ[37m [37mâÂÂâÂÂ
âÂÂ[37m processed [37m6%[37m of [37m2[37m/[37m30[37m [37m1.078[37m/[37m16.889[37m[0m
[1;1f
[2K[37mâÂÂâÂÂâÂÂâ âÂÂ[37m [37mâÂÂâÂÂâÂÂ[37m processed [37m15%[37m of [37m3[37m/[37m20[37m [37m1.186[37m/[37m6.721[37m[0m
[2;1f
[2K[37mâÂÂâÂÂâÂÂâÂÂâÂÂâÂÂâ âÂÂ[37m [37mâÂÂâÂÂâÂÂ[37m processed [37m30%[37m of [37m3[37m/[37m10[37m [37m1.186[37m/[37m2.767[37m[0m
[3;1f
[2K[37mâÂÂâ âÂÂ[37m [37mâÂÂâÂÂâÂÂ[37m processed [37m6%[37m of [37m3[37m/[37m50[37m [37m1.186[37m/[37m18.581[37m[0m
[4;1f
[2K[37mâÂÂâ âÂÂ[37m [37mâÂÂâÂÂâÂÂ[37m processed [37m6%[37m of [37m2[37m/[37m30[37m [37m1.186[37m/[37m18.581[37m[0m
[1;1f
[2K[37mâÂÂâÂÂâÂÂâ âÂÂ[37m [37mâÂÂâÂÂâÂÂ[37m processed [37m15%[37m of [37m3[37m/[37m20[37m [37m1.294[37m/[37m7.333[37m[0m
[2;1f
[2K[37mâÂÂâÂÂâÂÂâÂÂâÂÂâÂÂâ âÂÂ[37m [37mâÂÂâÂÂâÂÂ[37m processed [37m30%[37m of [37m3[37m/[37m10[37m [37m1.294[37m/[37m3.019[37m[0m
[3;1f
[2K[37mâÂÂâ âÂÂ[37m [37mâÂÂâÂÂâÂÂ[37m processed [37m6%[37m of [37m3[37m/[37m50[37m [37m1.294[37m/[37m20.273[37m[0m
[4;1f
[2K[37mâÂÂâÂÂâ âÂÂ[37m [37mâÂÂâÂÂâÂÂ[37m processed [37m10%[37m of [37m3[37m/[37m30[37m [37m1.294[37m/[37m11.646[37m[0m
[1;1f
[2K[37mâÂÂâÂÂâÂÂâÂÂâ âÂÂ[37m [37mâÂÂâÂÂâÂÂ[37m processed [37m20%[37m of [37m4[37m/[37m20[37m [37m1.402[37m/[37m5.608[37m[0m
[2;1f
[2K[37mâÂÂâÂÂâÂÂâÂÂâÂÂâÂÂâ âÂÂ[37m [37mâÂÂâÂÂâÂÂ[37m processed [37m30%[37m of [37m3[37m/[37m10[37m [37m1.402[37m/[37m3.271[37m[0m
[3;1f
[2K[37mâÂÂâ âÂÂ[37m [37mâÂÂâÂÂâÂÂ[37m processed [37m6%[37m of [37m3[37m/[37m50[37m [37m1.402[37m/[37m21.965[37m[0m
[4;1f
[2K[37mâÂÂâÂÂâ âÂÂ[37m [37mâÂÂâÂÂâÂÂ[37m processed [37m10%[37m of [37m3[37m/[37m30[37m [37m1.402[37m/[37m12.618[37m[0m
[1;1f
[2K[37mâÂÂâÂÂâÂÂâÂÂâ âÂÂ[37m [37mâÂÂâÂÂâÂÂ
[37m processed [37m20%[37m of [37m4[37m/[37m20[37m [37m1.509[37m/[37m6.036[37m[0m
[2;1f
[2K[37mâÂÂâÂÂâÂÂâÂÂâÂÂâÂÂâÂÂâÂÂâ âÂÂ[37m [37mâÂÂâÂÂâÂÂ
[37m processed [37m40%[37m of [37m4[37m/[37m10[37m [37m1.509[37m/[37m2.263[37m[0m
[3;1f
[2K[37mâÂÂâ âÂÂ[37m [37mâÂÂâÂÂâÂÂ
[37m processed [37m6%[37m of [37m3[37m/[37m50[37m [37m1.51[37m/[37m23.657[37m[0m
[4;1f
[2K[37mâÂÂâÂÂâ âÂÂ[37m [37mâÂÂâÂÂâÂÂ
[37m processed [37m10%[37m of [37m3[37m/[37m30[37m [37m1.509[37m/[37m13.581[37m[0m
[1;1f
[2K[37mâÂÂâÂÂâÂÂâÂÂâ âÂÂ[37m [37mâÂÂâÂÂâÂÂ[37m processed [37m20%[37m of [37m4[37m/[37m20[37m [37m1.614[37m/[37m6.456[37m[0m
[2;1f
[2K[37mâÂÂâÂÂâÂÂâÂÂâÂÂâÂÂâÂÂâÂÂâ âÂÂ[37m [37mâÂÂâÂÂâÂÂ[37m processed [37m40%[37m of [37m4[37m/[37m10[37m [37m1.614[37m/[37m2.421[37m[0m
[3;1f
[2K[37mâÂÂâÂÂâ âÂÂ[37m [37mâÂÂâÂÂâÂÂ[37m processed [37m8%[37m of [37m4[37m/[37m50[37m [37m1.615[37m/[37m18.573[37m[0m
[4;1f
[2K[37mâÂÂâÂÂâ âÂÂ[37m [37mâÂÂâÂÂâÂÂ[37m processed [37m10%[37m of [37m3[37m/[37m30[37m [37m1.614[37m/[37m14.526[37m[0m
[1;1f
[2K[37mâÂÂâÂÂâÂÂâÂÂâ âÂÂ[37m [37mâÂÂ
âÂÂâÂÂ[37m processed [37m20%[37m of [37m4[37m/[37m20[37m [37m1.723[37m/[37m6.892[37m[0m
[2;1f
[2K[37mâÂÂâÂÂâÂÂâÂÂâÂÂâÂÂâÂÂâÂÂâ âÂÂ[37m [37mâÂÂ
âÂÂâÂÂ[37m processed [37m40%[37m of [37m4[37m/[37m10[37m [37m1.723[37m/[37m2.585[37m[0m
[3;1f
[2K[37mâÂÂâÂÂâ âÂÂ[37m [37mâÂÂ
âÂÂâÂÂ[37m processed [37m8%[37m of [37m4[37m/[37m50[37m [37m1.724[37m/[37m19.826[37m[0m
[4;1f
[2K[37mâÂÂâÂÂâÂÂâ âÂÂ[37m [37mâÂÂ
âÂÂâÂÂ[37m processed [37m13%[37m of [37m4[37m/[37m30[37m [37m1.724[37m/[37m11.538[37m[0m
[1;1f
[2K[37mâÂÂâÂÂâÂÂâÂÂâÂÂâ âÂÂ[37m [37mâÂÂâÂÂâÂÂ[37m processed [37m25%[37m of [37m5[37m/[37m20[37m [37m1.826[37m/[37m5.478[37m[0m
[2;1f
[2K[37mâÂÂâÂÂâÂÂâÂÂâÂÂâÂÂâÂÂâÂÂâ âÂÂ[37m [37mâÂÂâÂÂâÂÂ[37m processed [37m40%[37m of [37m4[37m/[37m10[37m [37m1.826[37m/[37m2.739[37m[0m
[3;1f
[2K[37mâÂÂâÂÂâ âÂÂ[37m [37mâÂÂâÂÂâÂÂ[37m processed [37m8%[37m of [37m4[37m/[37m50[37m [37m1.827[37m/[37m21.011[37m[0m
[4;1f
[2K[37mâÂÂâÂÂâÂÂâ âÂÂ[37m [37mâÂÂâÂÂâÂÂ[37m processed [37m13%[37m of [37m4[37m/[37m30[37m [37m1.826[37m/[37m12.22[37m[0m
[1;1f
[2K[37mâÂÂâÂÂâÂÂâÂÂâÂÂâ âÂÂ[37m [37mâÂÂâÂÂ
âÂÂ[37m processed [37m25%[37m of [37m5[37m/[37m20[37m [37m1.934[37m/[37m5.802[37m[0m
[2;1f
[2K[37mâÂÂâÂÂâÂÂâÂÂâÂÂâÂÂâÂÂâÂÂâÂÂâÂÂâ âÂÂ[37m [37mâÂÂâÂÂ
âÂÂ[37m processed [37m50%[37m of [37m5[37m/[37m10[37m [37m1.934[37m/[37m1.934[37m[0m
[3;1f
[2K[37mâÂÂâÂÂâ âÂÂ[37m [37mâÂÂâÂÂ
âÂÂ[37m processed [37m8%[37m of [37m4[37m/[37m50[37m [37m1.934[37m/[37m22.241[37m[0m
[4;1f
[2K[37mâÂÂâÂÂâÂÂâ âÂÂ[37m [37mâÂÂâÂÂ
âÂÂ[37m processed [37m13%[37m of [37m4[37m/[37m30[37m [37m1.933[37m/[37m12.936[37m[0m
[1;1f
[2K[37mâÂÂâÂÂâÂÂâÂÂâÂÂâ âÂÂ[37m [37mâÂÂâÂÂâÂÂ[37m processed [37m25%[37m of [37m5[37m/[37m20[37m [37m2.042[37m/[37m6.126[37m[0m
[2;1f
[2K[37mâÂÂâÂÂâÂÂâÂÂâÂÂâÂÂâÂÂâÂÂâÂÂâÂÂâ âÂÂ[37m [37mâÂÂâÂÂâÂÂ[37m processed [37m50%[37m of [37m5[37m/[37m10[37m [37m2.042[37m/[37m2.042[37m[0m
[3;1f
[2K[37mâÂÂâÂÂâ âÂÂ[37m [37mâÂÂâÂÂâÂÂ[37m processed [37m10%[37m of [37m5[37m/[37m50[37m [37m2.042[37m/[37m18.378[37m[0m
[4;1f
[2K[37mâÂÂâÂÂâÂÂâ âÂÂ[37m [37mâÂÂâÂÂâÂÂ[37m processed [37m13%[37m of [37m4[37m/[37m30[37m [37m2.041[37m/[37m13.659[37m[0m
[1;1f
[2K[37mâÂÂâÂÂâÂÂâÂÂâÂÂâ âÂÂ[37m [37mâÂÂâÂÂâÂÂ[37m processed [37m25%[37m of [37m5[37m/[37m20[37m [37m2.15[37m/[37m6.45[37m[0m
[2;1f
[2K[37mâÂÂâÂÂâÂÂâÂÂâÂÂâÂÂâÂÂâÂÂâÂÂâÂÂâ âÂÂ[37m [37mâÂÂâÂÂâÂÂ[37m processed [37m50%[37m of [37m5[37m/[37m10[37m [37m2.15[37m/[37m2.15[37m[0m
[3;1f
[2K[37mâÂÂâÂÂâ âÂÂ[37m [37mâÂÂâÂÂâÂÂ[37m processed [37m10%[37m of [37m5[37m/[37m50[37m [37m2.15[37m/[37m19.35[37m[0m
[4;1f
[2K[37mâÂÂâÂÂâÂÂâ âÂÂ[37m [37mâÂÂâÂÂâÂÂ[37m processed [37m16%[37m of [37m5[37m/[37m30[37m [37m2.15[37m/[37m11.287[37m[0m
[1;1f
[2K[37mâÂÂâÂÂâÂÂâÂÂâÂÂâÂÂâ âÂÂ[37m [37mâÂÂâÂÂâÂÂ[37m processed [37m30%[37m of [37m6[37m/[37m20[37m [37m2.259[37m/[37m5.271[37m[0m
[2;1f
[2K[37mâÂÂâÂÂâÂÂâÂÂâÂÂâÂÂâÂÂâÂÂâÂÂâÂÂâ âÂÂ[37m [37mâÂÂâÂÂâÂÂ[37m processed [37m50%[37m of [37m5[37m/[37m10[37m [37m2.259[37m/[37m2.259[37m[0m
[3;1f
[2K[37mâÂÂâÂÂâ âÂÂ[37m [37mâÂÂâÂÂâÂÂ[37m processed [37m10%[37m of [37m5[37m/[37m50[37m [37m2.259[37m/[37m20.331[37m[0m
[4;1f
[2K[37mâÂÂâÂÂâÂÂâ âÂÂ[37m [37mâÂÂâÂÂâÂÂ[37m processed [37m16%[37m of [37m5[37m/[37m30[37m [37m2.258[37m/[37m11.855[37m[0m
[1;1f
[2K[37mâÂÂâÂÂâÂÂâÂÂâÂÂâÂÂâ âÂÂ[37m [37mâÂÂâÂÂâÂÂ
[37m processed [37m30%[37m of [37m6[37m/[37m20[37m [37m2.367[37m/[37m5.523[37m[0m
[2;1f
[2K[37mâÂÂâÂÂâÂÂâÂÂâÂÂâÂÂâÂÂâÂÂâÂÂâÂÂâÂÂâÂÂâ âÂÂ[37m [37mâÂÂâÂÂâÂÂ
[37m processed [37m60%[37m of [37m6[37m/[37m10[37m [37m2.367[37m/[37m1.578[37m[0m
[3;1f
[2K[37mâÂÂâÂÂâ âÂÂ[37m [37mâÂÂâÂÂâÂÂ
[37m processed [37m10%[37m of [37m5[37m/[37m50[37m [37m2.368[37m/[37m21.312[37m[0m
[4;1f
[2K[37mâÂÂâÂÂâÂÂâ âÂÂ[37m [37mâÂÂâÂÂâÂÂ
[37m processed [37m16%[37m of [37m5[37m/[37m30[37m [37m2.367[37m/[37m12.427[37m[0m
[1;1f
[2K[37mâÂÂâÂÂâÂÂâÂÂâÂÂâÂÂâ âÂÂ[37m [37mâÂÂâÂÂâÂÂ[37m processed [37m30%[37m of [37m6[37m/[37m20[37m [37m2.476[37m/[37m5.777[37m[0m
[2;1f
[2K[37mâÂÂâÂÂâÂÂâÂÂâÂÂâÂÂâÂÂâÂÂâÂÂâÂÂâÂÂâÂÂâ âÂÂ[37m [37mâÂÂâÂÂâÂÂ[37m processed [37m60%[37m of [37m6[37m/[37m10[37m [37m2.476[37m/[37m1.651[37m[0m
[3;1f
[2K[37mâÂÂâÂÂâ âÂÂ[37m [37mâÂÂâÂÂâÂÂ[37m processed [37m12%[37m of [37m6[37m/[37m50[37m [37m2.476[37m/[37m18.157[37m[0m
[4;1f
[2K[37mâÂÂâÂÂâÂÂâ âÂÂ[37m [37mâÂÂâÂÂâÂÂ[37m processed [37m16%[37m of [37m5[37m/[37m30[37m [37m2.476[37m/[37m12.999[37m[0m
[1;1f
[2K[37mâÂÂâÂÂâÂÂâÂÂâÂÂâÂÂâ âÂÂ[37m [37mâÂÂ
âÂÂâÂÂ[37m processed [37m30%[37m of [37m6[37m/[37m20[37m [37m2.584[37m/[37m6.029[37m[0m
[2;1f
[2K[37mâÂÂâÂÂâÂÂâÂÂâÂÂâÂÂâÂÂâÂÂâÂÂâÂÂâÂÂâÂÂâ âÂÂ[37m [37mâÂÂ
âÂÂâÂÂ[37m processed [37m60%[37m of [37m6[37m/[37m10[37m [37m2.584[37m/[37m1.723[37m[0m
[3;1f
[2K[37mâÂÂâÂÂâ âÂÂ[37m [37mâÂÂ
âÂÂâÂÂ[37m processed [37m12%[37m of [37m6[37m/[37m50[37m [37m2.585[37m/[37m18.957[37m[0m
[4;1f
[2K[37mâÂÂâÂÂâÂÂâÂÂâ âÂÂ[37m [37mâÂÂ
âÂÂâÂÂ[37m processed [37m20%[37m of [37m6[37m/[37m30[37m [37m2.584[37m/[37m10.336[37m[0m
[1;1f
[2K[37mâÂÂâÂÂâÂÂâÂÂâÂÂâÂÂâÂÂâ âÂÂ[37m [37mâÂÂâÂÂâÂÂ[37m processed [37m35%[37m of [37m7[37m/[37m20[37m [37m2.693[37m/[37m5.001[37m[0m
[2;1f
[2K[37mâÂÂâÂÂâÂÂâÂÂâÂÂâÂÂâÂÂâÂÂâÂÂâÂÂâÂÂâÂÂâ âÂÂ[37m [37mâÂÂâÂÂâÂÂ[37m processed [37m60%[37m of [37m6[37m/[37m10[37m [37m2.693[37m/[37m1.795[37m[0m
[3;1f
[2K[37mâÂÂâÂÂâ âÂÂ[37m [37mâÂÂâÂÂâÂÂ[37m processed [37m12%[37m of [37m6[37m/[37m50[37m [37m2.693[37m/[37m19.749[37m[0m
[4;1f
[2K[37mâÂÂâÂÂâÂÂâÂÂâ âÂÂ[37m [37mâÂÂâÂÂâÂÂ[37m processed [37m20%[37m of [37m6[37m/[37m30[37m [37m2.693[37m/[37m10.772[37m[0m
[1;1f
[2K[37mâÂÂâÂÂâÂÂâÂÂâÂÂâÂÂâÂÂâ âÂÂ[37m [37mâÂÂâÂÂ
âÂÂ[37m processed [37m35%[37m of [37m7[37m/[37m20[37m [37m2.801[37m/[37m5.202[37m[0m
[2;1f
[2K[37mâÂÂâÂÂâÂÂâÂÂâÂÂâÂÂâÂÂâÂÂâÂÂâÂÂâÂÂâÂÂâÂÂâÂÂâ âÂÂ[37m [37mâÂÂâÂÂ
âÂÂ[37m processed [37m70%[37m of [37m7[37m/[37m10[37m [37m2.801[37m/[37m1.2[37m[0m
[3;1f
[2K[37mâÂÂâÂÂâ âÂÂ[37m [37mâÂÂâÂÂ
âÂÂ[37m processed [37m12%[37m of [37m6[37m/[37m50[37m [37m2.801[37m/[37m20.541[37m[0m
[4;1f
[2K[37mâÂÂâÂÂâÂÂâÂÂâ âÂÂ[37m [37mâÂÂâÂÂ
âÂÂ[37m processed [37m20%[37m of [37m6[37m/[37m30[37m [37m2.801[37m/[37m11.204[37m[0m
[1;1f
[2K[37mâÂÂâÂÂâÂÂâÂÂâÂÂâÂÂâÂÂâ âÂÂ[37m [37mâÂÂâÂÂâÂÂ[37m processed [37m35%[37m of [37m7[37m/[37m20[37m [37m2.909[37m/[37m5.402[37m[0m
[2;1f
[2K[37mâÂÂâÂÂâÂÂâÂÂâÂÂâÂÂâÂÂâÂÂâÂÂâÂÂâÂÂâÂÂâÂÂâÂÂâ âÂÂ[37m [37mâÂÂâÂÂâÂÂ[37m processed [37m70%[37m of [37m7[37m/[37m10[37m [37m2.909[37m/[37m1.247[37m[0m
[3;1f
[2K[37mâÂÂâÂÂâÂÂâ âÂÂ[37m [37mâÂÂâÂÂâÂÂ[37m processed [37m14%[37m of [37m7[37m/[37m50[37m [37m2.91[37m/[37m17.876[37m[0m
[4;1f
[2K[37mâÂÂâÂÂâÂÂâÂÂâ âÂÂ[37m [37mâÂÂâÂÂâÂÂ[37m processed [37m20%[37m of [37m6[37m/[37m30[37m [37m2.909[37m/[37m11.636[37m[0m
[1;1f
[2K[37mâÂÂâÂÂâÂÂâÂÂâÂÂâÂÂâÂÂâ âÂÂ[37m [37mâÂÂâÂÂâÂÂ[37m processed [37m35%[37m of [37m7[37m/[37m20[37m [37m3.018[37m/[37m5.605[37m[0m
[2;1f
[2K[37mâÂÂâÂÂâÂÂâÂÂâÂÂâÂÂâÂÂâÂÂâÂÂâÂÂâÂÂâÂÂâÂÂâÂÂâ âÂÂ[37m [37mâÂÂâÂÂâÂÂ[37m processed [37m70%[37m of [37m7[37m/[37m10[37m [37m3.018[37m/[37m1.293[37m[0m
[3;1f
[2K[37mâÂÂâÂÂâÂÂâ âÂÂ[37m [37mâÂÂâÂÂâÂÂ[37m processed [37m14%[37m of [37m7[37m/[37m50[37m [37m3.018[37m/[37m18.539[37m[0m
[4;1f
[2K[37mâÂÂâÂÂâÂÂâÂÂâÂÂâ âÂÂ[37m [37mâÂÂâÂÂâÂÂ[37m processed [37m23%[37m of [37m7[37m/[37m30[37m [37m3.018[37m/[37m10.104[37m[0m
[1;1f
[2K[37mâÂÂâÂÂâÂÂâÂÂâÂÂâÂÂâÂÂâÂÂâ âÂÂ[37m [37mâÂÂâÂÂâÂÂ[37m processed [37m40%[37m of [37m8[37m/[37m20[37m [37m3.12[37m/[37m4.68[37m[0m
[2;1f
[2K[37mâÂÂâÂÂâÂÂâÂÂâÂÂâÂÂâÂÂâÂÂâÂÂâÂÂâÂÂâÂÂâÂÂâÂÂâ âÂÂ[37m [37mâÂÂâÂÂâÂÂ[37m processed [37m70%[37m of [37m7[37m/[37m10[37m [37m3.121[37m/[37m1.338[37m[0m
[3;1f
[2K[37mâÂÂâÂÂâÂÂâ âÂÂ[37m [37mâÂÂâÂÂâÂÂ[37m processed [37m14%[37m of [37m7[37m/[37m50[37m [37m3.121[37m/[37m19.172[37m[0m
[4;1f
[2K[37mâÂÂâÂÂâÂÂâÂÂâÂÂâ âÂÂ[37m [37mâÂÂâÂÂâÂÂ[37m processed [37m23%[37m of [37m7[37m/[37m30[37m [37m3.121[37m/[37m10.449[37m[0m
[1;1f
[2K[37mâÂÂâÂÂâÂÂâÂÂâÂÂâÂÂâÂÂâÂÂâ âÂÂ[37m [37mâÂÂâÂÂâÂÂ
[37m processed [37m40%[37m of [37m8[37m/[37m20[37m [37m3.229[37m/[37m4.843[37m[0m
[2;1f
[2K[37mâÂÂâÂÂâÂÂâÂÂâÂÂâÂÂâÂÂâÂÂâÂÂâÂÂâÂÂâÂÂâÂÂâÂÂâÂÂâÂÂâ âÂÂ[37m [37mâÂÂâÂÂâÂÂ
[37m processed [37m80%[37m of [37m8[37m/[37m10[37m [37m3.229[37m/[37m0.807[37m[0m
[3;1f
[2K[37mâÂÂâÂÂâÂÂâ âÂÂ[37m [37mâÂÂâÂÂâÂÂ
[37m processed [37m14%[37m of [37m7[37m/[37m50[37m [37m3.23[37m/[37m19.841[37m[0m
[4;1f
[2K[37mâÂÂâÂÂâÂÂâÂÂâÂÂâ âÂÂ[37m [37mâÂÂâÂÂâÂÂ
[37m processed [37m23%[37m of [37m7[37m/[37m30[37m [37m3.229[37m/[37m10.81[37m[0m
[1;1f
[2K[37mâÂÂâÂÂâÂÂâÂÂâÂÂâÂÂâÂÂâÂÂâ âÂÂ[37m [37mâÂÂâÂÂâÂÂ[37m processed [37m40%[37m of [37m8[37m/[37m20[37m [37m3.331[37m/[37m4.997[37m[0m
[2;1f
[2K[37mâÂÂâÂÂâÂÂâÂÂâÂÂâÂÂâÂÂâÂÂâÂÂâÂÂâÂÂâÂÂâÂÂâÂÂâÂÂâÂÂâ âÂÂ[37m [37mâÂÂâÂÂâÂÂ[37m processed [37m80%[37m of [37m8[37m/[37m10[37m [37m3.332[37m/[37m0.833[37m[0m
[3;1f
[2K[37mâÂÂâÂÂâÂÂâ âÂÂ[37m [37mâÂÂâÂÂâÂÂ[37m processed [37m16%[37m of [37m8[37m/[37m50[37m [37m3.332[37m/[37m17.493[37m[0m
[4;1f
[2K[37mâÂÂâÂÂâÂÂâÂÂâÂÂâ âÂÂ[37m [37mâÂÂâÂÂâÂÂ[37m processed [37m23%[37m of [37m7[37m/[37m30[37m [37m3.331[37m/[37m11.152[37m[0m
[1;1f
[2K[37mâÂÂâÂÂâÂÂâÂÂâÂÂâÂÂâÂÂâÂÂâ âÂÂ[37m [37mâÂÂ
âÂÂâÂÂ[37m processed [37m40%[37m of [37m8[37m/[37m20[37m [37m3.44[37m/[37m5.16[37m[0m
[2;1f
[2K[37mâÂÂâÂÂâÂÂâÂÂâÂÂâÂÂâÂÂâÂÂâÂÂâÂÂâÂÂâÂÂâÂÂâÂÂâÂÂâÂÂâ âÂÂ[37m [37mâÂÂ
âÂÂâÂÂ[37m processed [37m80%[37m of [37m8[37m/[37m10[37m [37m3.44[37m/[37m0.86[37m[0m
[3;1f
[2K[37mâÂÂâÂÂâÂÂâ âÂÂ[37m [37mâÂÂ
âÂÂâÂÂ[37m processed [37m16%[37m of [37m8[37m/[37m50[37m [37m3.441[37m/[37m18.065[37m[0m
[4;1f
[2K[37mâÂÂâÂÂâÂÂâÂÂâÂÂâ âÂÂ[37m [37mâÂÂ
âÂÂâÂÂ[37m processed [37m26%[37m of [37m8[37m/[37m30[37m [37m3.44[37m/[37m9.791[37m[0m
[1;1f
[2K[37mâÂÂâÂÂâÂÂâÂÂâÂÂâÂÂâÂÂâÂÂâÂÂâ âÂÂ[37m [37mâÂÂâÂÂâÂÂ[37m processed [37m45%[37m of [37m9[37m/[37m20[37m [37m3.549[37m/[37m4.338[37m[0m
[2;1f
[2K[37mâÂÂâÂÂâÂÂâÂÂâÂÂâÂÂâÂÂâÂÂâÂÂâÂÂâÂÂâÂÂâÂÂâÂÂâÂÂâÂÂâ âÂÂ[37m [37mâÂÂâÂÂâÂÂ[37m processed [37m80%[37m of [37m8[37m/[37m10[37m [37m3.549[37m/[37m0.887[37m[0m
[3;1f
[2K[37mâÂÂâÂÂâÂÂâ âÂÂ[37m [37mâÂÂâÂÂâÂÂ[37m processed [37m16%[37m of [37m8[37m/[37m50[37m [37m3.55[37m/[37m18.637[37m[0m
[4;1f
[2K[37mâÂÂâÂÂâÂÂâÂÂâÂÂâ âÂÂ[37m [37mâÂÂâÂÂâÂÂ[37m processed [37m26%[37m of [37m8[37m/[37m30[37m [37m3.549[37m/[37m10.101[37m[0m
[1;1f
[2K[37mâÂÂâÂÂâÂÂâÂÂâÂÂâÂÂâÂÂâÂÂâÂÂâ âÂÂ[37m [37mâÂÂâÂÂ
âÂÂ[37m processed [37m45%[37m of [37m9[37m/[37m20[37m [37m3.658[37m/[37m4.471[37m[0m
[2;1f
[2K[37mâÂÂâÂÂâÂÂâÂÂâÂÂâÂÂâÂÂâÂÂâÂÂâÂÂâÂÂâÂÂâÂÂâÂÂâÂÂâÂÂâÂÂâÂÂâ âÂÂ[37m [37mâÂÂâÂÂ
âÂÂ[37m processed [37m90%[37m of [37m9[37m/[37m10[37m [37m3.658[37m/[37m0.406[37m[0m
[3;1f
[2K[37mâÂÂâÂÂâÂÂâ âÂÂ[37m [37mâÂÂâÂÂ
âÂÂ[37m processed [37m16%[37m of [37m8[37m/[37m50[37m [37m3.659[37m/[37m19.21[37m[0m
[4;1f
[2K[37mâÂÂâÂÂâÂÂâÂÂâÂÂâ âÂÂ[37m [37mâÂÂâÂÂ
âÂÂ[37m processed [37m26%[37m of [37m8[37m/[37m30[37m [37m3.658[37m/[37m10.411[37m[0m
[1;1f
[2K[37mâÂÂâÂÂâÂÂâÂÂâÂÂâÂÂâÂÂâÂÂâÂÂâ âÂÂ[37m [37mâÂÂâÂÂâÂÂ[37m processed [37m45%[37m of [37m9[37m/[37m20[37m [37m3.767[37m/[37m4.604[37m[0m
[2;1f
[2K[37mâÂÂâÂÂâÂÂâÂÂâÂÂâÂÂâÂÂâÂÂâÂÂâÂÂâÂÂâÂÂâÂÂâÂÂâÂÂâÂÂâÂÂâÂÂâ âÂÂ[37m [37mâÂÂâÂÂâÂÂ[37m processed [37m90%[37m of [37m9[37m/[37m10[37m [37m3.767[37m/[37m0.419[37m[0m
[3;1f
[2K[37mâÂÂâÂÂâÂÂâÂÂâ âÂÂ[37m [37mâÂÂâÂÂâÂÂ[37m processed [37m18%[37m of [37m9[37m/[37m50[37m [37m3.767[37m/[37m17.161[37m[0m
[4;1f
[2K[37mâÂÂâÂÂâÂÂâÂÂâÂÂâ âÂÂ[37m [37mâÂÂâÂÂâÂÂ[37m processed [37m26%[37m of [37m8[37m/[37m30[37m [37m3.767[37m/[37m10.721[37m[0m
[1;1f
[2K[37mâÂÂâÂÂâÂÂâÂÂâÂÂâÂÂâÂÂâÂÂâÂÂâ âÂÂ[37m [37mâÂÂâÂÂâÂÂ[37m processed [37m45%[37m of [37m9[37m/[37m20[37m [37m3.875[37m/[37m4.736[37m[0m
[2;1f
[2K[37mâÂÂâÂÂâÂÂâÂÂâÂÂâÂÂâÂÂâÂÂâÂÂâÂÂâÂÂâÂÂâÂÂâÂÂâÂÂâÂÂâÂÂâÂÂâ âÂÂ[37m [37mâÂÂâÂÂâÂÂ[37m processed [37m90%[37m of [37m9[37m/[37m10[37m [37m3.875[37m/[37m0.431[37m[0m
[3;1f
[2K[37mâÂÂâÂÂâÂÂâÂÂâ âÂÂ[37m [37mâÂÂâÂÂâÂÂ[37m processed [37m18%[37m of [37m9[37m/[37m50[37m [37m3.875[37m/[37m17.653[37m[0m
[4;1f
[2K[37mâÂÂâÂÂâÂÂâÂÂâÂÂâÂÂâ âÂÂ[37m [37mâÂÂâÂÂâÂÂ[37m processed [37m30%[37m of [37m9[37m/[37m30[37m [37m3.875[37m/[37m9.042[37m[0m
[1;1f
[2K[37mâÂÂâÂÂâÂÂâÂÂâÂÂâÂÂâÂÂâÂÂâÂÂâÂÂâ âÂÂ[37m [37mâÂÂâÂÂâÂÂ[37m processed [37m50%[37m of [37m10[37m/[37m20[37m [37m3.983[37m/[37m3.983[37m[0m
[2;1f
[2K[37mâÂÂâÂÂâÂÂâÂÂâÂÂâÂÂâÂÂâÂÂâÂÂâÂÂâÂÂâÂÂâÂÂâÂÂâÂÂâÂÂâÂÂâÂÂâ âÂÂ[37m [37mâÂÂâÂÂâÂÂ[37m processed [37m90%[37m of [37m9[37m/[37m10[37m [37m3.983[37m/[37m0.443[37m[0m
[3;1f
[2K[37mâÂÂâÂÂâÂÂâÂÂâ âÂÂ[37m [37mâÂÂâÂÂâÂÂ[37m processed [37m18%[37m of [37m9[37m/[37m50[37m [37m3.984[37m/[37m18.149[37m[0m
[4;1f
[2K[37mâÂÂâÂÂâÂÂâÂÂâÂÂâÂÂâ âÂÂ[37m [37mâÂÂâÂÂâÂÂ[37m processed [37m30%[37m of [37m9[37m/[37m30[37m [37m3.983[37m/[37m9.294[37m[0m
[1;1f
[2K[37mâÂÂâÂÂâÂÂâÂÂâÂÂâÂÂâÂÂâÂÂâÂÂâÂÂâ âÂÂ[37m [37mâÂÂâÂÂâÂÂ
[37m processed [37m50%[37m of [37m10[37m/[37m20[37m [37m4.092[37m/[37m4.092[37m[0m
[2;1f
[2K[37mâÂÂâÂÂâÂÂâÂÂâÂÂâÂÂâÂÂâÂÂâÂÂâÂÂâÂÂâÂÂâÂÂâÂÂâÂÂâÂÂâÂÂâÂÂâÂÂâÂÂâÂÂâÂÂ[37m [37mâÂÂâÂÂâÂÂ
[37m processed [37m100%[37m of [37m10[37m/[37m10[37m [37m4.092[37m/[37m0[37m[0m
[3;1f
[2K[37mâÂÂâÂÂâÂÂâÂÂâ âÂÂ[37m [37mâÂÂâÂÂâÂÂ
[37m processed [37m18%[37m of [37m9[37m/[37m50[37m [37m4.092[37m/[37m18.641[37m[0m
[4;1f
[2K[37mâÂÂâÂÂâÂÂâÂÂâÂÂâÂÂâ âÂÂ[37m [37mâÂÂâÂÂâÂÂ
[37m processed [37m30%[37m of [37m9[37m/[37m30[37m [37m4.092[37m/[37m9.548[37m[0m
[1;1f
[2K[37mâÂÂâÂÂâÂÂâÂÂâÂÂâÂÂâÂÂâÂÂâÂÂâÂÂâ âÂÂ[37m [37mâÂÂâÂÂâÂÂ[37m processed [37m50%[37m of [37m10[37m/[37m20[37m [37m4.193[37m/[37m4.193[37m[0m
[2;1f
[2K[37mâÂÂâÂÂâÂÂâÂÂâÂÂâÂÂâÂÂâÂÂâÂÂâÂÂâÂÂâÂÂâÂÂâÂÂâÂÂâÂÂâÂÂâÂÂâÂÂâÂÂâÂÂâÂÂ[37m [37mâÂÂâÂÂâÂÂ[37m processed [37m100%[37m of [37m10[37m/[37m10[37m [37m4.194[37m/[37m0[37m[0m
[3;1f
[2K[37mâÂÂâÂÂâÂÂâÂÂâ âÂÂ[37m [37mâÂÂâÂÂâÂÂ[37m processed [37m20%[37m of [37m10[37m/[37m50[37m [37m4.194[37m/[37m16.776[37m[0m
[4;1f
[2K[37mâÂÂâÂÂâÂÂâÂÂâÂÂâÂÂâ âÂÂ[37m [37mâÂÂâÂÂâÂÂ[37m processed [37m30%[37m of [37m9[37m/[37m30[37m [37m4.193[37m/[37m9.784[37m[0m
[1;1f
[2K[37mâÂÂâÂÂâÂÂâÂÂâÂÂâÂÂâÂÂâÂÂâÂÂâÂÂâ âÂÂ[37m [37mâÂÂ
âÂÂâÂÂ[37m processed [37m50%[37m of [37m10[37m/[37m20[37m [37m4.302[37m/[37m4.302[37m[0m
[2;1f
[2K[37mâÂÂâÂÂâÂÂâÂÂâÂÂâÂÂâÂÂâÂÂâÂÂâÂÂâÂÂâÂÂâÂÂâÂÂâÂÂâÂÂâÂÂâÂÂâÂÂâÂÂâÂÂâÂÂ[37m [37mâÂÂ
âÂÂâÂÂ[37m processed [37m100%[37m of [37m10[37m/[37m10[37m [37m4.302[37m/[37m0[37m[0m
[3;1f
[2K[37mâÂÂâÂÂâÂÂâÂÂâ âÂÂ[37m [37mâÂÂ
âÂÂâÂÂ[37m processed [37m20%[37m of [37m10[37m/[37m50[37m [37m4.302[37m/[37m17.208[37m[0m
[4;1f
[2K[37mâÂÂâÂÂâÂÂâÂÂâÂÂâÂÂâÂÂâ âÂÂ[37m [37mâÂÂ
âÂÂâÂÂ[37m processed [37m33%[37m of [37m10[37m/[37m30[37m [37m4.302[37m/[37m8.734[37m[0m
[1;1f
[2K[37mâÂÂâÂÂâÂÂâÂÂâÂÂâÂÂâÂÂâÂÂâÂÂâÂÂâÂÂâ âÂÂ[37m [37mâÂÂâÂÂâÂÂ[37m processed [37m55%[37m of [37m11[37m/[37m20[37m [37m4.41[37m/[37m3.608[37m[0m
[2;1f
[2K[37mâÂÂâÂÂâÂÂâÂÂâÂÂâÂÂâÂÂâÂÂâÂÂâÂÂâÂÂâÂÂâÂÂâÂÂâÂÂâÂÂâÂÂâÂÂâÂÂâÂÂâÂÂâÂÂ[37m [37mâÂÂâÂÂâÂÂ[37m processed [37m100%[37m of [37m10[37m/[37m10[37m [37m4.41[37m/[37m0[37m[0m
[3;1f
[2K[37mâÂÂâÂÂâÂÂâÂÂâ âÂÂ[37m [37mâÂÂâÂÂâÂÂ[37m processed [37m20%[37m of [37m10[37m/[37m50[37m [37m4.41[37m/[37m17.64[37m[0m
[4;1f
[2K[37mâÂÂâÂÂâÂÂâÂÂâÂÂâÂÂâÂÂâ âÂÂ[37m [37mâÂÂâÂÂâÂÂ[37m processed [37m33%[37m of [37m10[37m/[37m30[37m [37m4.41[37m/[37m8.954[37m[0m
[1;1f
[2K[37mâÂÂâÂÂâÂÂâÂÂâÂÂâÂÂâÂÂâÂÂâÂÂâÂÂâÂÂâ âÂÂ[37m [37mâÂÂâÂÂ
âÂÂ[37m processed [37m55%[37m of [37m11[37m/[37m20[37m [37m4.518[37m/[37m3.697[37m[0m
[3;1f
[2K[37mâÂÂâÂÂâÂÂâÂÂâ âÂÂ[37m [37mâÂÂâÂÂ
âÂÂ[37m processed [37m22%[37m of [37m11[37m/[37m50[37m [37m4.518[37m/[37m16.018[37m[0m
[4;1f
[2K[37mâÂÂâÂÂâÂÂâÂÂâÂÂâÂÂâÂÂâ âÂÂ[37m [37mâÂÂâÂÂ
âÂÂ[37m processed [37m33%[37m of [37m10[37m/[37m30[37m [37m4.518[37m/[37m9.173[37m[0m
[1;1f
[2K[37mâÂÂâÂÂâÂÂâÂÂâÂÂâÂÂâÂÂâÂÂâÂÂâÂÂâÂÂâ âÂÂ[37m [37mâÂÂâÂÂâÂÂ[37m processed [37m55%[37m of [37m11[37m/[37m20[37m [37m4.626[37m/[37m3.785[37m[0m
[3;1f
[2K[37mâÂÂâÂÂâÂÂâÂÂâ âÂÂ[37m [37mâÂÂâÂÂâÂÂ[37m processed [37m22%[37m of [37m11[37m/[37m50[37m [37m4.626[37m/[37m16.401[37m[0m
[4;1f
[2K[37mâÂÂâÂÂâÂÂâÂÂâÂÂâÂÂâÂÂâ âÂÂ[37m [37mâÂÂâÂÂâÂÂ[37m processed [37m36%[37m of [37m11[37m/[37m30[37m [37m4.625[37m/[37m8.222[37m[0m
[1;1f
[2K[37mâÂÂâÂÂâÂÂâÂÂâÂÂâÂÂâÂÂâÂÂâÂÂâÂÂâÂÂâÂÂâ âÂÂ[37m [37mâÂÂâÂÂâÂÂ[37m processed [37m60%[37m of [37m12[37m/[37m20[37m [37m4.734[37m/[37m3.156[37m[0m
[3;1f
[2K[37mâÂÂâÂÂâÂÂâÂÂâ âÂÂ[37m [37mâÂÂâÂÂâÂÂ[37m processed [37m22%[37m of [37m11[37m/[37m50[37m [37m4.734[37m/[37m16.784[37m[0m
[4;1f
[2K[37mâÂÂâÂÂâÂÂâÂÂâÂÂâÂÂâÂÂâ âÂÂ[37m [37mâÂÂâÂÂâÂÂ[37m processed [37m36%[37m of [37m11[37m/[37m30[37m [37m4.733[37m/[37m8.414[37m[0m
[1;1f
[2K[37mâÂÂâÂÂâÂÂâÂÂâÂÂâÂÂâÂÂâÂÂâÂÂâÂÂâÂÂâÂÂâ âÂÂ[37m [37mâÂÂâÂÂâÂÂ[37m processed [37m60%[37m of [37m12[37m/[37m20[37m [37m4.842[37m/[37m3.228[37m[0m
[3;1f
[2K[37mâÂÂâÂÂâÂÂâÂÂâÂÂâ âÂÂ[37m [37mâÂÂâÂÂâÂÂ[37m processed [37m24%[37m of [37m12[37m/[37m50[37m [37m4.842[37m/[37m15.333[37m[0m
[4;1f
[2K[37mâÂÂâÂÂâÂÂâÂÂâÂÂâÂÂâÂÂâ âÂÂ[37m [37mâÂÂâÂÂâÂÂ[37m processed [37m36%[37m of [37m11[37m/[37m30[37m [37m4.841[37m/[37m8.606[37m[0m
[1;1f
[2K[37mâÂÂâÂÂâÂÂâÂÂâÂÂâÂÂâÂÂâÂÂâÂÂâÂÂâÂÂâÂÂâ âÂÂ[37m [37mâÂÂâÂÂâÂÂ
[37m processed [37m60%[37m of [37m12[37m/[37m20[37m [37m4.95[37m/[37m3.3[37m[0m
[3;1f
[2K[37mâÂÂâÂÂâÂÂâÂÂâÂÂâ âÂÂ[37m [37mâÂÂâÂÂâÂÂ
[37m processed [37m24%[37m of [37m12[37m/[37m50[37m [37m4.95[37m/[37m15.675[37m[0m
[4;1f
[2K[37mâÂÂâÂÂâÂÂâÂÂâÂÂâÂÂâÂÂâÂÂâ âÂÂ[37m [37mâÂÂâÂÂâÂÂ
[37m processed [37m40%[37m of [37m12[37m/[37m30[37m [37m4.95[37m/[37m7.425[37m[0m
[1;1f
[2K[37mâÂÂâÂÂâÂÂâÂÂâÂÂâÂÂâÂÂâÂÂâÂÂâÂÂâÂÂâÂÂâÂÂâ âÂÂ[37m [37mâÂÂâÂÂâÂÂ[37m processed [37m65%[37m of [37m13[37m/[37m20[37m [37m5.058[37m/[37m2.724[37m[0m
[3;1f
[2K[37mâÂÂâÂÂâÂÂâÂÂâÂÂâ âÂÂ[37m [37mâÂÂâÂÂâÂÂ[37m processed [37m24%[37m of [37m12[37m/[37m50[37m [37m5.058[37m/[37m16.017[37m[0m
[4;1f
[2K[37mâÂÂâÂÂâÂÂâÂÂâÂÂâÂÂâÂÂâÂÂâ âÂÂ[37m [37mâÂÂâÂÂâÂÂ[37m processed [37m40%[37m of [37m12[37m/[37m30[37m [37m5.057[37m/[37m7.586[37m[0m
[1;1f
[2K[37mâÂÂâÂÂâÂÂâÂÂâÂÂâÂÂâÂÂâÂÂâÂÂâÂÂâÂÂâÂÂâÂÂâ âÂÂ[37m [37mâÂÂ
âÂÂâÂÂ[37m processed [37m65%[37m of [37m13[37m/[37m20[37m [37m5.166[37m/[37m2.782[37m[0m
[3;1f
[2K[37mâÂÂâÂÂâÂÂâÂÂâÂÂâ âÂÂ[37m [37mâÂÂ
âÂÂâÂÂ[37m processed [37m26%[37m of [37m13[37m/[37m50[37m [37m5.166[37m/[37m14.703[37m[0m
[4;1f
[2K[37mâÂÂâÂÂâÂÂâÂÂâÂÂâÂÂâÂÂâÂÂâ âÂÂ[37m [37mâÂÂ
âÂÂâÂÂ[37m processed [37m40%[37m of [37m12[37m/[37m30[37m [37m5.165[37m/[37m7.747[37m[0m
[1;1f
[2K[37mâÂÂâÂÂâÂÂâÂÂâÂÂâÂÂâÂÂâÂÂâÂÂâÂÂâÂÂâÂÂâÂÂâ âÂÂ[37m [37mâÂÂâÂÂâÂÂ[37m processed [37m65%[37m of [37m13[37m/[37m20[37m [37m5.274[37m/[37m2.84[37m[0m
[3;1f
[2K[37mâÂÂâÂÂâÂÂâÂÂâÂÂâ âÂÂ[37m [37mâÂÂâÂÂâÂÂ[37m processed [37m26%[37m of [37m13[37m/[37m50[37m [37m5.274[37m/[37m15.011[37m[0m
[4;1f
[2K[37mâÂÂâÂÂâÂÂâÂÂâÂÂâÂÂâÂÂâÂÂâÂÂâ âÂÂ[37m [37mâÂÂâÂÂâÂÂ[37m processed [37m43%[37m of [37m13[37m/[37m30[37m [37m5.273[37m/[37m6.99[37m[0m
[1;1f
[2K[37mâÂÂâÂÂâÂÂâÂÂâÂÂâÂÂâÂÂâÂÂâÂÂâÂÂâÂÂâÂÂâÂÂâÂÂâ âÂÂ[37m [37mâÂÂâÂÂ
âÂÂ[37m processed [37m70%[37m of [37m14[37m/[37m20[37m [37m5.382[37m/[37m2.307[37m[0m
[3;1f
[2K[37mâÂÂâÂÂâÂÂâÂÂâÂÂâ âÂÂ[37m [37mâÂÂâÂÂ
âÂÂ[37m processed [37m26%[37m of [37m13[37m/[37m50[37m [37m5.382[37m/[37m15.318[37m[0m
[4;1f
[2K[37mâÂÂâÂÂâÂÂâÂÂâÂÂâÂÂâÂÂâÂÂâÂÂâ âÂÂ[37m [37mâÂÂâÂÂ
âÂÂ[37m processed [37m43%[37m of [37m13[37m/[37m30[37m [37m5.381[37m/[37m7.133[37m[0m
[1;1f
[2K[37mâÂÂâÂÂâÂÂâÂÂâÂÂâÂÂâÂÂâÂÂâÂÂâÂÂâÂÂâÂÂâÂÂâÂÂâ âÂÂ[37m [37mâÂÂâÂÂâÂÂ[37m processed [37m70%[37m of [37m14[37m/[37m20[37m [37m5.483[37m/[37m2.35[37m[0m
[3;1f
[2K[37mâÂÂâÂÂâÂÂâÂÂâÂÂâÂÂâ âÂÂ[37m [37mâÂÂâÂÂâÂÂ[37m processed [37m28%[37m of [37m14[37m/[37m50[37m [37m5.484[37m/[37m14.102[37m[0m
[4;1f
[2K[37mâÂÂâÂÂâÂÂâÂÂâÂÂâÂÂâÂÂâÂÂâÂÂâ âÂÂ[37m [37mâÂÂâÂÂâÂÂ[37m processed [37m43%[37m of [37m13[37m/[37m30[37m [37m5.483[37m/[37m7.268[37m[0m
[1;1f
[2K[37mâÂÂâÂÂâÂÂâÂÂâÂÂâÂÂâÂÂâÂÂâÂÂâÂÂâÂÂâÂÂâÂÂâÂÂâ âÂÂ[37m [37mâÂÂâÂÂâÂÂ[37m processed [37m70%[37m of [37m14[37m/[37m20[37m [37m5.589[37m/[37m2.395[37m[0m
[3;1f
[2K[37mâÂÂâÂÂâÂÂâÂÂâÂÂâÂÂâ âÂÂ[37m [37mâÂÂâÂÂâÂÂ[37m processed [37m28%[37m of [37m14[37m/[37m50[37m [37m5.59[37m/[37m14.374[37m[0m
[4;1f
[2K[37mâÂÂâÂÂâÂÂâÂÂâÂÂâÂÂâÂÂâÂÂâÂÂâ âÂÂ[37m [37mâÂÂâÂÂâÂÂ[37m processed [37m46%[37m of [37m14[37m/[37m30[37m [37m5.589[37m/[37m6.561[37m[0m
[1;1f
[2K[37mâÂÂâÂÂâÂÂâÂÂâÂÂâÂÂâÂÂâÂÂâÂÂâÂÂâÂÂâÂÂâÂÂâÂÂâÂÂâ âÂÂ[37m [37mâÂÂâÂÂâÂÂ[37m processed [37m75%[37m of [37m15[37m/[37m20[37m [37m5.698[37m/[37m1.899[37m[0m
[3;1f
[2K[37mâÂÂâÂÂâÂÂâÂÂâÂÂâÂÂâ âÂÂ[37m [37mâÂÂâÂÂâÂÂ[37m processed [37m28%[37m of [37m14[37m/[37m50[37m [37m5.698[37m/[37m14.652[37m[0m
[4;1f
[2K[37mâÂÂâÂÂâÂÂâÂÂâÂÂâÂÂâÂÂâÂÂâÂÂâ âÂÂ[37m [37mâÂÂâÂÂâÂÂ[37m processed [37m46%[37m of [37m14[37m/[37m30[37m [37m5.698[37m/[37m6.689[37m[0m
[1;1f
[2K[37mâÂÂâÂÂâÂÂâÂÂâÂÂâÂÂâÂÂâÂÂâÂÂâÂÂâÂÂâÂÂâÂÂâÂÂâÂÂâ âÂÂ[37m [37mâÂÂâÂÂâÂÂ
[37m processed [37m75%[37m of [37m15[37m/[37m20[37m [37m5.806[37m/[37m1.935[37m[0m
[3;1f
[2K[37mâÂÂâÂÂâÂÂâÂÂâÂÂâÂÂâ âÂÂ[37m [37mâÂÂâÂÂâÂÂ
[37m processed [37m30%[37m of [37m15[37m/[37m50[37m [37m5.806[37m/[37m13.547[37m[0m
[4;1f
[2K[37mâÂÂâÂÂâÂÂâÂÂâÂÂâÂÂâÂÂâÂÂâÂÂâ âÂÂ[37m [37mâÂÂâÂÂâÂÂ
[37m processed [37m46%[37m of [37m14[37m/[37m30[37m [37m5.806[37m/[37m6.816[37m[0m
[1;1f
[2K[37mâÂÂâÂÂâÂÂâÂÂâÂÂâÂÂâÂÂâÂÂâÂÂâÂÂâÂÂâÂÂâÂÂâÂÂâÂÂâ âÂÂ[37m [37mâÂÂâÂÂâÂÂ[37m processed [37m75%[37m of [37m15[37m/[37m20[37m [37m5.914[37m/[37m1.971[37m[0m
[3;1f
[2K[37mâÂÂâÂÂâÂÂâÂÂâÂÂâÂÂâ âÂÂ[37m [37mâÂÂâÂÂâÂÂ[37m processed [37m30%[37m of [37m15[37m/[37m50[37m [37m5.914[37m/[37m13.799[37m[0m
[4;1f
[2K[37mâÂÂâÂÂâÂÂâÂÂâÂÂâÂÂâÂÂâÂÂâÂÂâÂÂâ âÂÂ[37m [37mâÂÂâÂÂâÂÂ[37m processed [37m50%[37m of [37m15[37m/[37m30[37m [37m5.913[37m/[37m5.913[37m[0m
[1;1f
[2K[37mâÂÂâÂÂâÂÂâÂÂâÂÂâÂÂâÂÂâÂÂâÂÂâÂÂâÂÂâÂÂâÂÂâÂÂâÂÂâÂÂâ âÂÂ[37m [37mâÂÂ
âÂÂâÂÂ[37m processed [37m80%[37m of [37m16[37m/[37m20[37m [37m6.022[37m/[37m1.506[37m[0m
[3;1f
[2K[37mâÂÂâÂÂâÂÂâÂÂâÂÂâÂÂâ âÂÂ[37m [37mâÂÂ
âÂÂâÂÂ[37m processed [37m30%[37m of [37m15[37m/[37m50[37m [37m6.022[37m/[37m14.051[37m[0m
[4;1f
[2K[37mâÂÂâÂÂâÂÂâÂÂâÂÂâÂÂâÂÂâÂÂâÂÂâÂÂâ âÂÂ[37m [37mâÂÂ
âÂÂâÂÂ[37m processed [37m50%[37m of [37m15[37m/[37m30[37m [37m6.021[37m/[37m6.021[37m[0m
[1;1f
[2K[37mâÂÂâÂÂâÂÂâÂÂâÂÂâÂÂâÂÂâÂÂâÂÂâÂÂâÂÂâÂÂâÂÂâÂÂâÂÂâÂÂâ âÂÂ[37m [37mâÂÂâÂÂâÂÂ[37m processed [37m80%[37m of [37m16[37m/[37m20[37m [37m6.13[37m/[37m1.532[37m[0m
[3;1f
[2K[37mâÂÂâÂÂâÂÂâÂÂâÂÂâÂÂâ âÂÂ[37m [37mâÂÂâÂÂâÂÂ[37m processed [37m32%[37m of [37m16[37m/[37m50[37m [37m6.13[37m/[37m13.026[37m[0m
[4;1f
[2K[37mâÂÂâÂÂâÂÂâÂÂâÂÂâÂÂâÂÂâÂÂâÂÂâÂÂâ âÂÂ[37m [37mâÂÂâÂÂâÂÂ[37m processed [37m50%[37m of [37m15[37m/[37m30[37m [37m6.13[37m/[37m6.13[37m[0m
[1;1f
[2K[37mâÂÂâÂÂâÂÂâÂÂâÂÂâÂÂâÂÂâÂÂâÂÂâÂÂâÂÂâÂÂâÂÂâÂÂâÂÂâÂÂâ âÂÂ[37m [37mâÂÂâÂÂ
âÂÂ[37m processed [37m80%[37m of [37m16[37m/[37m20[37m [37m6.238[37m/[37m1.559[37m[0m
[3;1f
[2K[37mâÂÂâÂÂâÂÂâÂÂâÂÂâÂÂâ âÂÂ[37m [37mâÂÂâÂÂ
âÂÂ[37m processed [37m32%[37m of [37m16[37m/[37m50[37m [37m6.238[37m/[37m13.256[37m[0m
[4;1f
[2K[37mâÂÂâÂÂâÂÂâÂÂâÂÂâÂÂâÂÂâÂÂâÂÂâÂÂâÂÂâ âÂÂ[37m [37mâÂÂâÂÂ
âÂÂ[37m processed [37m53%[37m of [37m16[37m/[37m30[37m [37m6.238[37m/[37m5.532[37m[0m
[1;1f
[2K[37mâÂÂâÂÂâÂÂâÂÂâÂÂâÂÂâÂÂâÂÂâÂÂâÂÂâÂÂâÂÂâÂÂâÂÂâÂÂâÂÂâÂÂâ âÂÂ[37m [37mâÂÂâÂÂâÂÂ[37m processed [37m85%[37m of [37m17[37m/[37m20[37m [37m6.346[37m/[37m1.12[37m[0m
[3;1f
[2K[37mâÂÂâÂÂâÂÂâÂÂâÂÂâÂÂâ âÂÂ[37m [37mâÂÂâÂÂâÂÂ[37m processed [37m32%[37m of [37m16[37m/[37m50[37m [37m6.346[37m/[37m13.485[37m[0m
[4;1f
[2K[37mâÂÂâÂÂâÂÂâÂÂâÂÂâÂÂâÂÂâÂÂâÂÂâÂÂâÂÂâ âÂÂ[37m [37mâÂÂâÂÂâÂÂ[37m processed [37m53%[37m of [37m16[37m/[37m30[37m [37m6.346[37m/[37m5.628[37m[0m
[1;1f
[2K[37mâÂÂâÂÂâÂÂâÂÂâÂÂâÂÂâÂÂâÂÂâÂÂâÂÂâÂÂâÂÂâÂÂâÂÂâÂÂâÂÂâÂÂâ âÂÂ[37m [37mâÂÂâÂÂâÂÂ[37m processed [37m85%[37m of [37m17[37m/[37m20[37m [37m6.454[37m/[37m1.139[37m[0m
[3;1f
[2K[37mâÂÂâÂÂâÂÂâÂÂâÂÂâÂÂâÂÂâ âÂÂ[37m [37mâÂÂâÂÂâÂÂ[37m processed [37m34%[37m of [37m17[37m/[37m50[37m [37m6.454[37m/[37m12.528[37m[0m
[4;1f
[2K[37mâÂÂâÂÂâÂÂâÂÂâÂÂâÂÂâÂÂâÂÂâÂÂâÂÂâÂÂâ âÂÂ[37m [37mâÂÂâÂÂâÂÂ[37m processed [37m53%[37m of [37m16[37m/[37m30[37m [37m6.453[37m/[37m5.722[37m[0m
[1;1f
[2K[37mâÂÂâÂÂâÂÂâÂÂâÂÂâÂÂâÂÂâÂÂâÂÂâÂÂâÂÂâÂÂâÂÂâÂÂâÂÂâÂÂâÂÂâ âÂÂ[37m [37mâÂÂâÂÂâÂÂ[37m processed [37m85%[37m of [37m17[37m/[37m20[37m [37m6.555[37m/[37m1.157[37m[0m
[3;1f
[2K[37mâÂÂâÂÂâÂÂâÂÂâÂÂâÂÂâÂÂâ âÂÂ[37m [37mâÂÂâÂÂâÂÂ[37m processed [37m34%[37m of [37m17[37m/[37m50[37m [37m6.556[37m/[37m12.726[37m[0m
[4;1f
[2K[37mâÂÂâÂÂâÂÂâÂÂâÂÂâÂÂâÂÂâÂÂâÂÂâÂÂâÂÂâ âÂÂ[37m [37mâÂÂâÂÂâÂÂ[37m processed [37m56%[37m of [37m17[37m/[37m30[37m [37m6.555[37m/[37m5.15[37m[0m
[1;1f
[2K[37mâÂÂâÂÂâÂÂâÂÂâÂÂâÂÂâÂÂâÂÂâÂÂâÂÂâÂÂâÂÂâÂÂâÂÂâÂÂâÂÂâÂÂâÂÂâ âÂÂ[37m [37mâÂÂâÂÂâÂÂ
[37m processed [37m90%[37m of [37m18[37m/[37m20[37m [37m6.664[37m/[37m0.74[37m[0m
[3;1f
[2K[37mâÂÂâÂÂâÂÂâÂÂâÂÂâÂÂâÂÂâ âÂÂ[37m [37mâÂÂâÂÂâÂÂ
[37m processed [37m34%[37m of [37m17[37m/[37m50[37m [37m6.664[37m/[37m12.936[37m[0m
[4;1f
[2K[37mâÂÂâÂÂâÂÂâÂÂâÂÂâÂÂâÂÂâÂÂâÂÂâÂÂâÂÂâ âÂÂ[37m [37mâÂÂâÂÂâÂÂ
[37m processed [37m56%[37m of [37m17[37m/[37m30[37m [37m6.663[37m/[37m5.235[37m[0m
[1;1f
[2K[37mâÂÂâÂÂâÂÂâÂÂâÂÂâÂÂâÂÂâÂÂâÂÂâÂÂâÂÂâÂÂâÂÂâÂÂâÂÂâÂÂâÂÂâÂÂâ âÂÂ[37m [37mâÂÂâÂÂâÂÂ[37m processed [37m90%[37m of [37m18[37m/[37m20[37m [37m6.766[37m/[37m0.752[37m[0m
[3;1f
[2K[37mâÂÂâÂÂâÂÂâÂÂâÂÂâÂÂâÂÂâ âÂÂ[37m [37mâÂÂâÂÂâÂÂ[37m processed [37m36%[37m of [37m18[37m/[37m50[37m [37m6.767[37m/[37m12.03[37m[0m
[4;1f
[2K[37mâÂÂâÂÂâÂÂâÂÂâÂÂâÂÂâÂÂâÂÂâÂÂâÂÂâÂÂâ âÂÂ[37m [37mâÂÂâÂÂâÂÂ[37m processed [37m56%[37m of [37m17[37m/[37m30[37m [37m6.766[37m/[37m5.316[37m[0m
[1;1f
[2K[37mâÂÂâÂÂâÂÂâÂÂâÂÂâÂÂâÂÂâÂÂâÂÂâÂÂâÂÂâÂÂâÂÂâÂÂâÂÂâÂÂâÂÂâÂÂâ âÂÂ[37m [37mâÂÂ
âÂÂâÂÂ[37m processed [37m90%[37m of [37m18[37m/[37m20[37m [37m6.875[37m/[37m0.764[37m[0m
[3;1f
[2K[37mâÂÂâÂÂâÂÂâÂÂâÂÂâÂÂâÂÂâ âÂÂ[37m [37mâÂÂ
âÂÂâÂÂ[37m processed [37m36%[37m of [37m18[37m/[37m50[37m [37m6.875[37m/[37m12.222[37m[0m
[4;1f
[2K[37mâÂÂâÂÂâÂÂâÂÂâÂÂâÂÂâÂÂâÂÂâÂÂâÂÂâÂÂâÂÂâ âÂÂ[37m [37mâÂÂ
âÂÂâÂÂ[37m processed [37m60%[37m of [37m18[37m/[37m30[37m [37m6.874[37m/[37m4.583[37m[0m
[1;1f
[2K[37mâÂÂâÂÂâÂÂâÂÂâÂÂâÂÂâÂÂâÂÂâÂÂâÂÂâÂÂâÂÂâÂÂâÂÂâÂÂâÂÂâÂÂâÂÂâÂÂâ âÂÂ[37m [37mâÂÂâÂÂâÂÂ[37m processed [37m95%[37m of [37m19[37m/[37m20[37m [37m6.983[37m/[37m0.368[37m[0m
[3;1f
[2K[37mâÂÂâÂÂâÂÂâÂÂâÂÂâÂÂâÂÂâ âÂÂ[37m [37mâÂÂâÂÂâÂÂ[37m processed [37m36%[37m of [37m18[37m/[37m50[37m [37m6.983[37m/[37m12.414[37m[0m
[4;1f
[2K[37mâÂÂâÂÂâÂÂâÂÂâÂÂâÂÂâÂÂâÂÂâÂÂâÂÂâÂÂâÂÂâ âÂÂ[37m [37mâÂÂâÂÂâÂÂ[37m processed [37m60%[37m of [37m18[37m/[37m30[37m [37m6.983[37m/[37m4.655[37m[0m
[1;1f
[2K[37mâÂÂâÂÂâÂÂâÂÂâÂÂâÂÂâÂÂâÂÂâÂÂâÂÂâÂÂâÂÂâÂÂâÂÂâÂÂâÂÂâÂÂâÂÂâÂÂâ âÂÂ[37m [37mâÂÂâÂÂ
âÂÂ[37m processed [37m95%[37m of [37m19[37m/[37m20[37m [37m7.091[37m/[37m0.373[37m[0m
[3;1f
[2K[37mâÂÂâÂÂâÂÂâÂÂâÂÂâÂÂâÂÂâÂÂâ âÂÂ[37m [37mâÂÂâÂÂ
âÂÂ[37m processed [37m38%[37m of [37m19[37m/[37m50[37m [37m7.091[37m/[37m11.57[37m[0m
[4;1f
[2K[37mâÂÂâÂÂâÂÂâÂÂâÂÂâÂÂâÂÂâÂÂâÂÂâÂÂâÂÂâÂÂâ âÂÂ[37m [37mâÂÂâÂÂ
âÂÂ[37m processed [37m60%[37m of [37m18[37m/[37m30[37m [37m7.09[37m/[37m4.727[37m[0m
[1;1f
[2K[37mâÂÂâÂÂâÂÂâÂÂâÂÂâÂÂâÂÂâÂÂâÂÂâÂÂâÂÂâÂÂâÂÂâÂÂâÂÂâÂÂâÂÂâÂÂâÂÂâ âÂÂ[37m [37mâÂÂâÂÂâÂÂ[37m processed [37m95%[37m of [37m19[37m/[37m20[37m [37m7.199[37m/[37m0.379[37m[0m
[3;1f
[2K[37mâÂÂâÂÂâÂÂâÂÂâÂÂâÂÂâÂÂâÂÂâ âÂÂ[37m [37mâÂÂâÂÂâÂÂ[37m processed [37m38%[37m of [37m19[37m/[37m50[37m [37m7.199[37m/[37m11.746[37m[0m
[4;1f
[2K[37mâÂÂâÂÂâÂÂâÂÂâÂÂâÂÂâÂÂâÂÂâÂÂâÂÂâÂÂâÂÂâÂÂâ âÂÂ[37m [37mâÂÂâÂÂâÂÂ[37m processed [37m63%[37m of [37m19[37m/[37m30[37m [37m7.199[37m/[37m4.228[37m[0m
[1;1f
[2K[37mâÂÂâÂÂâÂÂâÂÂâÂÂâÂÂâÂÂâÂÂâÂÂâÂÂâÂÂâÂÂâÂÂâÂÂâÂÂâÂÂâÂÂâÂÂâÂÂâÂÂâÂÂâÂÂ[37m [37mâÂÂâÂÂâÂÂ[37m processed [37m100%[37m of [37m20[37m/[37m20[37m [37m7.307[37m/[37m0[37m[0m
[3;1f
[2K[37mâÂÂâÂÂâÂÂâÂÂâÂÂâÂÂâÂÂâÂÂâ âÂÂ[37m [37mâÂÂâÂÂâÂÂ[37m processed [37m38%[37m of [37m19[37m/[37m50[37m [37m7.307[37m/[37m11.922[37m[0m
[4;1f
[2K[37mâÂÂâÂÂâÂÂâÂÂâÂÂâÂÂâÂÂâÂÂâÂÂâÂÂâÂÂâÂÂâÂÂâ âÂÂ[37m [37mâÂÂâÂÂâÂÂ[37m processed [37m63%[37m of [37m19[37m/[37m30[37m [37m7.307[37m/[37m4.291[37m[0m
[1;1f
[2K[37mâÂÂâÂÂâÂÂâÂÂâÂÂâÂÂâÂÂâÂÂâÂÂâÂÂâÂÂâÂÂâÂÂâÂÂâÂÂâÂÂâÂÂâÂÂâÂÂâÂÂâÂÂâÂÂ[37m [37mâÂÂâÂÂâÂÂ[37m processed [37m100%[37m of [37m20[37m/[37m20[37m [37m7.415[37m/[37m0[37m[0m
[3;1f
[2K[37mâÂÂâÂÂâÂÂâÂÂâÂÂâÂÂâÂÂâÂÂâ âÂÂ[37m [37mâÂÂâÂÂâÂÂ[37m processed [37m40%[37m of [37m20[37m/[37m50[37m [37m7.415[37m/[37m11.123[37m[0m
[4;1f
[2K[37mâÂÂâÂÂâÂÂâÂÂâÂÂâÂÂâÂÂâÂÂâÂÂâÂÂâÂÂâÂÂâÂÂâ âÂÂ[37m [37mâÂÂâÂÂâÂÂ[37m processed [37m63%[37m of [37m19[37m/[37m30[37m [37m7.415[37m/[37m4.355[37m[0m
[1;1f
[2K[37mâÂÂâÂÂâÂÂâÂÂâÂÂâÂÂâÂÂâÂÂâÂÂâÂÂâÂÂâÂÂâÂÂâÂÂâÂÂâÂÂâÂÂâÂÂâÂÂâÂÂâÂÂâÂÂ[37m [37mâÂÂâÂÂâÂÂ
[37m processed [37m100%[37m of [37m20[37m/[37m20[37m [37m7.523[37m/[37m0[37m[0m
[3;1f
[2K[37mâÂÂâÂÂâÂÂâÂÂâÂÂâÂÂâÂÂâÂÂâ âÂÂ[37m [37mâÂÂâÂÂâÂÂ
[37m processed [37m40%[37m of [37m20[37m/[37m50[37m [37m7.523[37m/[37m11.284[37m[0m
[4;1f
[2K[37mâÂÂâÂÂâÂÂâÂÂâÂÂâÂÂâÂÂâÂÂâÂÂâÂÂâÂÂâÂÂâÂÂâ âÂÂ[37m [37mâÂÂâÂÂâÂÂ
[37m processed [37m66%[37m of [37m20[37m/[37m30[37m [37m7.522[37m/[37m3.875[37m[0m
[3;1f
[2K[37mâÂÂâÂÂâÂÂâÂÂâÂÂâÂÂâÂÂâÂÂâ âÂÂ[37m [37mâÂÂâÂÂâÂÂ[37m processed [37m42%[37m of [37m21[37m/[37m50[37m [37m7.631[37m/[37m10.538[37m[0m
[4;1f
[2K[37mâÂÂâÂÂâÂÂâÂÂâÂÂâÂÂâÂÂâÂÂâÂÂâÂÂâÂÂâÂÂâÂÂâ âÂÂ[37m [37mâÂÂâÂÂâÂÂ[37m processed [37m66%[37m of [37m20[37m/[37m30[37m [37m7.63[37m/[37m3.931[37m[0m
[3;1f
[2K[37mâÂÂâÂÂâÂÂâÂÂâÂÂâÂÂâÂÂâÂÂâ âÂÂ[37m [37mâÂÂ
âÂÂâÂÂ[37m processed [37m42%[37m of [37m21[37m/[37m50[37m [37m7.739[37m/[37m10.687[37m[0m
[4;1f
[2K[37mâÂÂâÂÂâÂÂâÂÂâÂÂâÂÂâÂÂâÂÂâÂÂâÂÂâÂÂâÂÂâÂÂâÂÂâ âÂÂ[37m [37mâÂÂ
âÂÂâÂÂ[37m processed [37m70%[37m of [37m21[37m/[37m30[37m [37m7.738[37m/[37m3.316[37m[0m
[3;1f
[2K[37mâÂÂâÂÂâÂÂâÂÂâÂÂâÂÂâÂÂâÂÂâÂÂâ âÂÂ[37m [37mâÂÂâÂÂâÂÂ[37m processed [37m44%[37m of [37m22[37m/[37m50[37m [37m7.847[37m/[37m9.987[37m[0m
[4;1f
[2K[37mâÂÂâÂÂâÂÂâÂÂâÂÂâÂÂâÂÂâÂÂâÂÂâÂÂâÂÂâÂÂâÂÂâÂÂâ âÂÂ[37m [37mâÂÂâÂÂâÂÂ[37m processed [37m70%[37m of [37m21[37m/[37m30[37m [37m7.846[37m/[37m3.363[37m[0m
[3;1f
[2K[37mâÂÂâÂÂâÂÂâÂÂâÂÂâÂÂâÂÂâÂÂâÂÂâ âÂÂ[37m [37mâÂÂâÂÂ
âÂÂ[37m processed [37m44%[37m of [37m22[37m/[37m50[37m [37m7.948[37m/[37m10.116[37m[0m
[4;1f
[2K[37mâÂÂâÂÂâÂÂâÂÂâÂÂâÂÂâÂÂâÂÂâÂÂâÂÂâÂÂâÂÂâÂÂâÂÂâÂÂâ âÂÂ[37m [37mâÂÂâÂÂ
âÂÂ[37m processed [37m73%[37m of [37m22[37m/[37m30[37m [37m7.948[37m/[37m2.94[37m[0m
[3;1f
[2K[37mâÂÂâÂÂâÂÂâÂÂâÂÂâÂÂâÂÂâÂÂâÂÂâ âÂÂ[37m [37mâÂÂâÂÂâÂÂ[37m processed [37m46%[37m of [37m23[37m/[37m50[37m [37m8.056[37m/[37m9.457[37m[0m
[4;1f
[2K[37mâÂÂâÂÂâÂÂâÂÂâÂÂâÂÂâÂÂâÂÂâÂÂâÂÂâÂÂâÂÂâÂÂâÂÂâÂÂâ âÂÂ[37m [37mâÂÂâÂÂâÂÂ[37m processed [37m73%[37m of [37m22[37m/[37m30[37m [37m8.055[37m/[37m2.979[37m[0m
[3;1f
[2K[37mâÂÂâÂÂâÂÂâÂÂâÂÂâÂÂâÂÂâÂÂâÂÂâ âÂÂ[37m [37mâÂÂâÂÂâÂÂ[37m processed [37m46%[37m of [37m23[37m/[37m50[37m [37m8.164[37m/[37m9.584[37m[0m
[4;1f
[2K[37mâÂÂâÂÂâÂÂâÂÂâÂÂâÂÂâÂÂâÂÂâÂÂâÂÂâÂÂâÂÂâÂÂâÂÂâÂÂâ âÂÂ[37m [37mâÂÂâÂÂâÂÂ[37m processed [37m76%[37m of [37m23[37m/[37m30[37m [37m8.163[37m/[37m2.578[37m[0m
[3;1f
[2K[37mâÂÂâÂÂâÂÂâÂÂâÂÂâÂÂâÂÂâÂÂâÂÂâÂÂâ âÂÂ[37m [37mâÂÂâÂÂâÂÂ[37m processed [37m48%[37m of [37m24[37m/[37m50[37m [37m8.271[37m/[37m8.96[37m[0m
[4;1f
[2K[37mâÂÂâÂÂâÂÂâÂÂâÂÂâÂÂâÂÂâÂÂâÂÂâÂÂâÂÂâÂÂâÂÂâÂÂâÂÂâ âÂÂ[37m [37mâÂÂâÂÂâÂÂ[37m processed [37m76%[37m of [37m23[37m/[37m30[37m [37m8.27[37m/[37m2.612[37m[0m
[3;1f
[2K[37mâÂÂâÂÂâÂÂâÂÂâÂÂâÂÂâÂÂâÂÂâÂÂâÂÂâ âÂÂ[37m [37mâÂÂâÂÂâÂÂ
[37m processed [37m48%[37m of [37m24[37m/[37m50[37m [37m8.379[37m/[37m9.077[37m[0m
[4;1f
[2K[37mâÂÂâÂÂâÂÂâÂÂâÂÂâÂÂâÂÂâÂÂâÂÂâÂÂâÂÂâÂÂâÂÂâÂÂâÂÂâÂÂâ âÂÂ[37m [37mâÂÂâÂÂâÂÂ
[37m processed [37m80%[37m of [37m24[37m/[37m30[37m [37m8.378[37m/[37m2.095[37m[0m
[3;1f
[2K[37mâÂÂâÂÂâÂÂâÂÂâÂÂâÂÂâÂÂâÂÂâÂÂâÂÂâ âÂÂ[37m [37mâÂÂâÂÂâÂÂ[37m processed [37m50%[37m of [37m25[37m/[37m50[37m [37m8.487[37m/[37m8.487[37m[0m
[4;1f
[2K[37mâÂÂâÂÂâÂÂâÂÂâÂÂâÂÂâÂÂâÂÂâÂÂâÂÂâÂÂâÂÂâÂÂâÂÂâÂÂâÂÂâ âÂÂ[37m [37mâÂÂâÂÂâÂÂ[37m processed [37m80%[37m of [37m24[37m/[37m30[37m [37m8.486[37m/[37m2.121[37m[0m
[3;1f
[2K[37mâÂÂâÂÂâÂÂâÂÂâÂÂâÂÂâÂÂâÂÂâÂÂâÂÂâ âÂÂ[37m [37mâÂÂ
âÂÂâÂÂ[37m processed [37m50%[37m of [37m25[37m/[37m50[37m [37m8.595[37m/[37m8.595[37m[0m
[4;1f
[2K[37mâÂÂâÂÂâÂÂâÂÂâÂÂâÂÂâÂÂâÂÂâÂÂâÂÂâÂÂâÂÂâÂÂâÂÂâÂÂâÂÂâÂÂâ âÂÂ[37m [37mâÂÂ
âÂÂâÂÂ[37m processed [37m83%[37m of [37m25[37m/[37m30[37m [37m8.594[37m/[37m1.76[37m[0m
[3;1f
[2K[37mâÂÂâÂÂâÂÂâÂÂâÂÂâÂÂâÂÂâÂÂâÂÂâÂÂâ âÂÂ[37m [37mâÂÂâÂÂâÂÂ[37m processed [37m52%[37m of [37m26[37m/[37m50[37m [37m8.703[37m/[37m8.034[37m[0m
[4;1f
[2K[37mâÂÂâÂÂâÂÂâÂÂâÂÂâÂÂâÂÂâÂÂâÂÂâÂÂâÂÂâÂÂâÂÂâÂÂâÂÂâÂÂâÂÂâ âÂÂ[37m [37mâÂÂâÂÂâÂÂ[37m processed [37m83%[37m of [37m25[37m/[37m30[37m [37m8.702[37m/[37m1.782[37m[0m
[3;1f
[2K[37mâÂÂâÂÂâÂÂâÂÂâÂÂâÂÂâÂÂâÂÂâÂÂâÂÂâ âÂÂ[37m [37mâÂÂâÂÂ
âÂÂ[37m processed [37m52%[37m of [37m26[37m/[37m50[37m [37m8.811[37m/[37m8.133[37m[0m
[4;1f
[2K[37mâÂÂâÂÂâÂÂâÂÂâÂÂâÂÂâÂÂâÂÂâÂÂâÂÂâÂÂâÂÂâÂÂâÂÂâÂÂâÂÂâÂÂâ âÂÂ[37m [37mâÂÂâÂÂ
âÂÂ[37m processed [37m86%[37m of [37m26[37m/[37m30[37m [37m8.81[37m/[37m1.434[37m[0m
[3;1f
[2K[37mâÂÂâÂÂâÂÂâÂÂâÂÂâÂÂâÂÂâÂÂâÂÂâÂÂâÂÂâ âÂÂ[37m [37mâÂÂâÂÂâÂÂ[37m processed [37m54%[37m of [37m27[37m/[37m50[37m [37m8.918[37m/[37m7.597[37m[0m
[4;1f
[2K[37mâÂÂâÂÂâÂÂâÂÂâÂÂâÂÂâÂÂâÂÂâÂÂâÂÂâÂÂâÂÂâÂÂâÂÂâÂÂâÂÂâÂÂâ âÂÂ[37m [37mâÂÂâÂÂâÂÂ[37m processed [37m86%[37m of [37m26[37m/[37m30[37m [37m8.917[37m/[37m1.452[37m[0m
[3;1f
[2K[37mâÂÂâÂÂâÂÂâÂÂâÂÂâÂÂâÂÂâÂÂâÂÂâÂÂâÂÂâ âÂÂ[37m [37mâÂÂâÂÂâÂÂ[37m processed [37m54%[37m of [37m27[37m/[37m50[37m [37m9.026[37m/[37m7.689[37m[0m
[4;1f
[2K[37mâÂÂâÂÂâÂÂâÂÂâÂÂâÂÂâÂÂâÂÂâÂÂâÂÂâÂÂâÂÂâÂÂâÂÂâÂÂâÂÂâÂÂâÂÂâ âÂÂ[37m [37mâÂÂâÂÂâÂÂ[37m processed [37m90%[37m of [37m27[37m/[37m30[37m [37m9.025[37m/[37m1.003[37m[0m
[3;1f
[2K[37mâÂÂâÂÂâÂÂâÂÂâÂÂâÂÂâÂÂâÂÂâÂÂâÂÂâÂÂâ âÂÂ[37m [37mâÂÂâÂÂâÂÂ[37m processed [37m56%[37m of [37m28[37m/[37m50[37m [37m9.134[37m/[37m7.177[37m[0m
[4;1f
[2K[37mâÂÂâÂÂâÂÂâÂÂâÂÂâÂÂâÂÂâÂÂâÂÂâÂÂâÂÂâÂÂâÂÂâÂÂâÂÂâÂÂâÂÂâÂÂâ âÂÂ[37m [37mâÂÂâÂÂâÂÂ[37m processed [37m90%[37m of [37m27[37m/[37m30[37m [37m9.133[37m/[37m1.015[37m[0m
[3;1f
[2K[37mâÂÂâÂÂâÂÂâÂÂâÂÂâÂÂâÂÂâÂÂâÂÂâÂÂâÂÂâ âÂÂ[37m [37mâÂÂâÂÂâÂÂ
[37m processed [37m56%[37m of [37m28[37m/[37m50[37m [37m9.242[37m/[37m7.262[37m[0m
[4;1f
[2K[37mâÂÂâÂÂâÂÂâÂÂâÂÂâÂÂâÂÂâÂÂâÂÂâÂÂâÂÂâÂÂâÂÂâÂÂâÂÂâÂÂâÂÂâÂÂâÂÂâ âÂÂ[37m [37mâÂÂâÂÂâÂÂ
[37m processed [37m93%[37m of [37m28[37m/[37m30[37m [37m9.241[37m/[37m0.696[37m[0m
[3;1f
[2K[37mâÂÂâÂÂâÂÂâÂÂâÂÂâÂÂâÂÂâÂÂâÂÂâÂÂâÂÂâ âÂÂ[37m [37mâÂÂâÂÂâÂÂ[37m processed [37m57%[37m of [37m29[37m/[37m50[37m [37m9.35[37m/[37m7.054[37m[0m
[4;1f
[2K[37mâÂÂâÂÂâÂÂâÂÂâÂÂâÂÂâÂÂâÂÂâÂÂâÂÂâÂÂâÂÂâÂÂâÂÂâÂÂâÂÂâÂÂâÂÂâÂÂâ âÂÂ[37m [37mâÂÂâÂÂâÂÂ[37m processed [37m93%[37m of [37m28[37m/[37m30[37m [37m9.349[37m/[37m0.704[37m[0m
[3;1f
[2K[37mâÂÂâÂÂâÂÂâÂÂâÂÂâÂÂâÂÂâÂÂâÂÂâÂÂâÂÂâ âÂÂ[37m [37mâÂÂ
âÂÂâÂÂ[37m processed [37m57%[37m of [37m29[37m/[37m50[37m [37m9.458[37m/[37m7.135[37m[0m
[4;1f
[2K[37mâÂÂâÂÂâÂÂâÂÂâÂÂâÂÂâÂÂâÂÂâÂÂâÂÂâÂÂâÂÂâÂÂâÂÂâÂÂâÂÂâÂÂâÂÂâÂÂâ âÂÂ[37m [37mâÂÂ
âÂÂâÂÂ[37m processed [37m96%[37m of [37m29[37m/[37m30[37m [37m9.457[37m/[37m0.394[37m[0m
[3;1f
[2K[37mâÂÂâÂÂâÂÂâÂÂâÂÂâÂÂâÂÂâÂÂâÂÂâÂÂâÂÂâÂÂâ âÂÂ[37m [37mâÂÂâÂÂâÂÂ[37m processed [37m60%[37m of [37m30[37m/[37m50[37m [37m9.566[37m/[37m6.377[37m[0m
[4;1f
[2K[37mâÂÂâÂÂâÂÂâÂÂâÂÂâÂÂâÂÂâÂÂâÂÂâÂÂâÂÂâÂÂâÂÂâÂÂâÂÂâÂÂâÂÂâÂÂâÂÂâ âÂÂ[37m [37mâÂÂâÂÂâÂÂ[37m processed [37m96%[37m of [37m29[37m/[37m30[37m [37m9.565[37m/[37m0.399[37m[0m
[3;1f
[2K[37mâÂÂâÂÂâÂÂâÂÂâÂÂâÂÂâÂÂâÂÂâÂÂâÂÂâÂÂâÂÂâ âÂÂ[37m [37mâÂÂâÂÂ
âÂÂ[37m processed [37m60%[37m of [37m30[37m/[37m50[37m [37m9.674[37m/[37m6.449[37m[0m
[4;1f
[2K[37mâÂÂâÂÂâÂÂâÂÂâÂÂâÂÂâÂÂâÂÂâÂÂâÂÂâÂÂâÂÂâÂÂâÂÂâÂÂâÂÂâÂÂâÂÂâÂÂâÂÂâÂÂâÂÂ[37m [37mâÂÂâÂÂ
âÂÂ[37m processed [37m100%[37m of [37m30[37m/[37m30[37m [37m9.673[37m/[37m0[37m[0m
[3;1f
[2K[37mâÂÂâÂÂâÂÂâÂÂâÂÂâÂÂâÂÂâÂÂâÂÂâÂÂâÂÂâÂÂâ âÂÂ[37m [37mâÂÂâÂÂâÂÂ[37m processed [37m62%[37m of [37m31[37m/[37m50[37m [37m9.782[37m/[37m5.995[37m[0m
[4;1f
[2K[37mâÂÂâÂÂâÂÂâÂÂâÂÂâÂÂâÂÂâÂÂâÂÂâÂÂâÂÂâÂÂâÂÂâÂÂâÂÂâÂÂâÂÂâÂÂâÂÂâÂÂâÂÂâÂÂ[37m [37mâÂÂâÂÂâÂÂ[37m processed [37m100%[37m of [37m30[37m/[37m30[37m [37m9.781[37m/[37m0[37m[0m
[3;1f
[2K[37mâÂÂâÂÂâÂÂâÂÂâÂÂâÂÂâÂÂâÂÂâÂÂâÂÂâÂÂâÂÂâÂÂâ âÂÂ[37m [37mâÂÂâÂÂâÂÂ[37m processed [37m64%[37m of [37m32[37m/[37m50[37m [37m9.888[37m/[37m5.562[37m[0m
[3;1f
[2K[37mâÂÂâÂÂâÂÂâÂÂâÂÂâÂÂâÂÂâÂÂâÂÂâÂÂâÂÂâÂÂâÂÂâ âÂÂ[37m [37mâÂÂâÂÂâÂÂ[37m processed [37m66%[37m of [37m33[37m/[37m50[37m [37m9.996[37m/[37m5.149[37m[0m
[3;1f
[2K[37mâÂÂâÂÂâÂÂâÂÂâÂÂâÂÂâÂÂâÂÂâÂÂâÂÂâÂÂâÂÂâÂÂâÂÂâ âÂÂ[37m [37mâÂÂâÂÂâÂÂ
[37m processed [37m68%[37m of [37m34[37m/[37m50[37m [37m10.104[37m/[37m4.755[37m[0m
[3;1f
[2K[37mâÂÂâÂÂâÂÂâÂÂâÂÂâÂÂâÂÂâÂÂâÂÂâÂÂâÂÂâÂÂâÂÂâÂÂâ âÂÂ[37m [37mâÂÂâÂÂâÂÂ[37m processed [37m70%[37m of [37m35[37m/[37m50[37m [37m10.211[37m/[37m4.376[37m[0m
[3;1f
[2K[37mâÂÂâÂÂâÂÂâÂÂâÂÂâÂÂâÂÂâÂÂâÂÂâÂÂâÂÂâÂÂâÂÂâÂÂâ âÂÂ[37m [37mâÂÂ
âÂÂâÂÂ[37m processed [37m72%[37m of [37m36[37m/[37m50[37m [37m10.318[37m/[37m4.013[37m[0m
[3;1f
[2K[37mâÂÂâÂÂâÂÂâÂÂâÂÂâÂÂâÂÂâÂÂâÂÂâÂÂâÂÂâÂÂâÂÂâÂÂâÂÂâ âÂÂ[37m [37mâÂÂâÂÂâÂÂ[37m processed [37m74%[37m of [37m37[37m/[37m50[37m [37m10.426[37m/[37m3.663[37m[0m
[3;1f
[2K[37mâÂÂâÂÂâÂÂâÂÂâÂÂâÂÂâÂÂâÂÂâÂÂâÂÂâÂÂâÂÂâÂÂâÂÂâÂÂâ âÂÂ[37m [37mâÂÂâÂÂ
âÂÂ[37m processed [37m76%[37m of [37m38[37m/[37m50[37m [37m10.533[37m/[37m3.326[37m[0m
[3;1f
[2K[37mâÂÂâÂÂâÂÂâÂÂâÂÂâÂÂâÂÂâÂÂâÂÂâÂÂâÂÂâÂÂâÂÂâÂÂâÂÂâÂÂâ âÂÂ[37m [37mâÂÂâÂÂâÂÂ[37m processed [37m78%[37m of [37m39[37m/[37m50[37m [37m10.634[37m/[37m2.999[37m[0m
[3;1f
[2K[37mâÂÂâÂÂâÂÂâÂÂâÂÂâÂÂâÂÂâÂÂâÂÂâÂÂâÂÂâÂÂâÂÂâÂÂâÂÂâÂÂâ âÂÂ[37m [37mâÂÂâÂÂâÂÂ[37m processed [37m80%[37m of [37m40[37m/[37m50[37m [37m10.742[37m/[37m2.685[37m[0m
[3;1f
[2K[37mâÂÂâÂÂâÂÂâÂÂâÂÂâÂÂâÂÂâÂÂâÂÂâÂÂâÂÂâÂÂâÂÂâÂÂâÂÂâÂÂâ âÂÂ[37m [37mâÂÂâÂÂâÂÂ[37m processed [37m82%[37m of [37m41[37m/[37m50[37m [37m10.85[37m/[37m2.382[37m[0m
[3;1f
[2K[37mâÂÂâÂÂâÂÂâÂÂâÂÂâÂÂâÂÂâÂÂâÂÂâÂÂâÂÂâÂÂâÂÂâÂÂâÂÂâÂÂâÂÂâ âÂÂ[37m [37mâÂÂâÂÂâÂÂ
[37m processed [37m84%[37m of [37m42[37m/[37m50[37m [37m10.957[37m/[37m2.087[37m[0m
[3;1f
[2K[37mâÂÂâÂÂâÂÂâÂÂâÂÂâÂÂâÂÂâÂÂâÂÂâÂÂâÂÂâÂÂâÂÂâÂÂâÂÂâÂÂâÂÂâ âÂÂ[37m [37mâÂÂâÂÂâÂÂ[37m processed [37m86%[37m of [37m43[37m/[37m50[37m [37m11.058[37m/[37m1.8[37m[0m
[3;1f
[2K[37mâÂÂâÂÂâÂÂâÂÂâÂÂâÂÂâÂÂâÂÂâÂÂâÂÂâÂÂâÂÂâÂÂâÂÂâÂÂâÂÂâÂÂâÂÂâ âÂÂ[37m [37mâÂÂ
âÂÂâÂÂ[37m processed [37m88%[37m of [37m44[37m/[37m50[37m [37m11.166[37m/[37m1.523[37m[0m
[3;1f
[2K[37mâÂÂâÂÂâÂÂâÂÂâÂÂâÂÂâÂÂâÂÂâÂÂâÂÂâÂÂâÂÂâÂÂâÂÂâÂÂâÂÂâÂÂâÂÂâ âÂÂ[37m [37mâÂÂâÂÂâÂÂ[37m processed [37m90%[37m of [37m45[37m/[37m50[37m [37m11.273[37m/[37m1.253[37m[0m
[3;1f
[2K[37mâÂÂâÂÂâÂÂâÂÂâÂÂâÂÂâÂÂâÂÂâÂÂâÂÂâÂÂâÂÂâÂÂâÂÂâÂÂâÂÂâÂÂâÂÂâ âÂÂ[37m [37mâÂÂâÂÂ
âÂÂ[37m processed [37m92%[37m of [37m46[37m/[37m50[37m [37m11.38[37m/[37m0.99[37m[0m
[3;1f
[2K[37mâÂÂâÂÂâÂÂâÂÂâÂÂâÂÂâÂÂâÂÂâÂÂâÂÂâÂÂâÂÂâÂÂâÂÂâÂÂâÂÂâÂÂâÂÂâÂÂâ âÂÂ[37m [37mâÂÂâÂÂâÂÂ[37m processed [37m94%[37m of [37m47[37m/[37m50[37m [37m11.484[37m/[37m0.733[37m[0m
[3;1f
[2K[37mâÂÂâÂÂâÂÂâÂÂâÂÂâÂÂâÂÂâÂÂâÂÂâÂÂâÂÂâÂÂâÂÂâÂÂâÂÂâÂÂâÂÂâÂÂâÂÂâ âÂÂ[37m [37mâÂÂâÂÂâÂÂ[37m processed [37m96%[37m of [37m48[37m/[37m50[37m [37m11.585[37m/[37m0.483[37m[0m
[3;1f
[2K[37mâÂÂâÂÂâÂÂâÂÂâÂÂâÂÂâÂÂâÂÂâÂÂâÂÂâÂÂâÂÂâÂÂâÂÂâÂÂâÂÂâÂÂâÂÂâÂÂâÂÂâÂÂâÂÂ[37m [37mâÂÂâÂÂâÂÂ[37m processed [37m98%[37m of [37m49[37m/[37m50[37m [37m11.694[37m/[37m0.239[37m[0m
[3;1f
[2K[37mâÂÂâÂÂâÂÂâÂÂâÂÂâÂÂâÂÂâÂÂâÂÂâÂÂâÂÂâÂÂâÂÂâÂÂâÂÂâÂÂâÂÂâÂÂâÂÂâÂÂâÂÂâÂÂ[37m [37mâÂÂâÂÂâÂÂ
[37m processed [37m100%[37m of [37m50[37m/[37m50[37m [37m11.794[37m/[37m0[37m[0m
[?25h[?25l
[?25l
[?25l
[?25l
[5;1f
[2K[37mâÂÂâ âÂÂ[37m [37mâÂÂâÂÂ
âÂÂ[37m processed [37m5%[37m of [37m1[37m/[37m20[37m [37m0.424[37m/[37m8.056[37m[0m
[6;1f
[2K[37mâÂÂâÂÂâ âÂÂ[37m [37mâÂÂâÂÂ
âÂÂ[37m processed [37m10%[37m of [37m1[37m/[37m10[37m [37m0.424[37m/[37m3.816[37m[0m
[7;1f
[2K[37mâ âÂÂ[37m [37mâÂÂâÂÂ
âÂÂ[37m processed [37m2%[37m of [37m1[37m/[37m50[37m [37m0.424[37m/[37m20.776[37m[0m
[8;1f
[2K[37mâÂÂâ âÂÂ[37m [37mâÂÂâÂÂ
âÂÂ[37m processed [37m3%[37m of [37m1[37m/[37m30[37m [37m0.424[37m/[37m13.709[37m[0m
[5;1f
[2K[37mâÂÂâÂÂâ âÂÂ[37m [37mâÂÂâÂÂâÂÂ
[37m processed [37m10%[37m of [37m2[37m/[37m20[37m [37m0.853[37m/[37m7.677[37m[0m
[6;1f
[2K[37mâÂÂâÂÂâÂÂâÂÂâ âÂÂ[37m [37mâÂÂâÂÂâÂÂ
[37m processed [37m20%[37m of [37m2[37m/[37m10[37m [37m0.853[37m/[37m3.412[37m[0m
[7;1f
[2K[37mâÂÂâ âÂÂ[37m [37mâÂÂâÂÂâÂÂ
[37m processed [37m4%[37m of [37m2[37m/[37m50[37m [37m0.854[37m/[37m20.496[37m[0m
[8;1f
[2K[37mâÂÂâ âÂÂ[37m [37mâÂÂâÂÂâÂÂ
[37m processed [37m6%[37m of [37m2[37m/[37m30[37m [37m0.854[37m/[37m13.379[37m[0m
[5;1f
[2K[37mâÂÂâÂÂâÂÂâ âÂÂ[37m [37mâÂÂâÂÂ
âÂÂ[37m processed [37m15%[37m of [37m3[37m/[37m20[37m [37m1.278[37m/[37m7.242[37m[0m
[6;1f
[2K[37mâÂÂâÂÂâÂÂâÂÂâÂÂâÂÂâ âÂÂ[37m [37mâÂÂâÂÂ
âÂÂ[37m processed [37m30%[37m of [37m3[37m/[37m10[37m [37m1.278[37m/[37m2.982[37m[0m
[7;1f
[2K[37mâÂÂâ âÂÂ[37m [37mâÂÂâÂÂ
âÂÂ[37m processed [37m6%[37m of [37m3[37m/[37m50[37m [37m1.278[37m/[37m20.022[37m[0m
[8;1f
[2K[37mâÂÂâÂÂâ âÂÂ[37m [37mâÂÂâÂÂ
âÂÂ[37m processed [37m10%[37m of [37m3[37m/[37m30[37m [37m1.279[37m/[37m11.511[37m[0m
[5;1f
[2K[37mâÂÂâÂÂâÂÂâÂÂâ âÂÂ[37m [37mâÂÂâÂÂâÂÂ
[37m processed [37m20%[37m of [37m4[37m/[37m20[37m [37m1.694[37m/[37m6.776[37m[0m
[6;1f
[2K[37mâÂÂâÂÂâÂÂâÂÂâÂÂâÂÂâÂÂâÂÂâ âÂÂ[37m [37mâÂÂâÂÂâÂÂ
[37m processed [37m40%[37m of [37m4[37m/[37m10[37m [37m1.695[37m/[37m2.543[37m[0m
[7;1f
[2K[37mâÂÂâÂÂâ âÂÂ[37m [37mâÂÂâÂÂâÂÂ
[37m processed [37m8%[37m of [37m4[37m/[37m50[37m [37m1.695[37m/[37m19.492[37m[0m
[8;1f
[2K[37mâÂÂâÂÂâÂÂâ âÂÂ[37m [37mâÂÂâÂÂâÂÂ
[37m processed [37m13%[37m of [37m4[37m/[37m30[37m [37m1.696[37m/[37m11.35[37m[0m
[5;1f
[2K[37mâÂÂâÂÂâÂÂâÂÂâÂÂâ âÂÂ[37m [37mâÂÂâÂÂ
âÂÂ[37m processed [37m25%[37m of [37m5[37m/[37m20[37m [37m2.118[37m/[37m6.354[37m[0m
[6;1f
[2K[37mâÂÂâÂÂâÂÂâÂÂâÂÂâÂÂâÂÂâÂÂâÂÂâÂÂâ âÂÂ[37m [37mâÂÂâÂÂ
âÂÂ[37m processed [37m50%[37m of [37m5[37m/[37m10[37m [37m2.118[37m/[37m2.118[37m[0m
[7;1f
[2K[37mâÂÂâÂÂâ âÂÂ[37m [37mâÂÂâÂÂ
âÂÂ[37m processed [37m10%[37m of [37m5[37m/[37m50[37m [37m2.118[37m/[37m19.062[37m[0m
[8;1f
[2K[37mâÂÂâÂÂâÂÂâ âÂÂ[37m [37mâÂÂâÂÂ
âÂÂ[37m processed [37m16%[37m of [37m5[37m/[37m30[37m [37m2.118[37m/[37m11.119[37m[0m
[5;1f
[2K[37mâÂÂâÂÂâÂÂâÂÂâÂÂâÂÂâ âÂÂ[37m [37mâÂÂâÂÂâÂÂ
[37m processed [37m30%[37m of [37m6[37m/[37m20[37m [37m2.547[37m/[37m5.943[37m[0m
[6;1f
[2K[37mâÂÂâÂÂâÂÂâÂÂâÂÂâÂÂâÂÂâÂÂâÂÂâÂÂâÂÂâÂÂâ âÂÂ[37m [37mâÂÂâÂÂâÂÂ
[37m processed [37m60%[37m of [37m6[37m/[37m10[37m [37m2.547[37m/[37m1.698[37m[0m
[7;1f
[2K[37mâÂÂâÂÂâ âÂÂ[37m [37mâÂÂâÂÂâÂÂ
[37m processed [37m12%[37m of [37m6[37m/[37m50[37m [37m2.547[37m/[37m18.678[37m[0m
[8;1f
[2K[37mâÂÂâÂÂâÂÂâÂÂâ âÂÂ[37m [37mâÂÂâÂÂâÂÂ
[37m processed [37m20%[37m of [37m6[37m/[37m30[37m [37m2.547[37m/[37m10.188[37m[0m
[5;1f
[2K[37mâÂÂâÂÂâÂÂâÂÂâÂÂâÂÂâÂÂâ âÂÂ[37m [37mâÂÂâÂÂ
âÂÂ[37m processed [37m35%[37m of [37m7[37m/[37m20[37m [37m2.976[37m/[37m5.527[37m[0m
[6;1f
[2K[37mâÂÂâÂÂâÂÂâÂÂâÂÂâÂÂâÂÂâÂÂâÂÂâÂÂâÂÂâÂÂâÂÂâÂÂâ âÂÂ[37m [37mâÂÂâÂÂ
âÂÂ[37m processed [37m70%[37m of [37m7[37m/[37m10[37m [37m2.976[37m/[37m1.275[37m[0m
[7;1f
[2K[37mâÂÂâÂÂâÂÂâ âÂÂ[37m [37mâÂÂâÂÂ
âÂÂ[37m processed [37m14%[37m of [37m7[37m/[37m50[37m [37m2.977[37m/[37m18.287[37m[0m
[8;1f
[2K[37mâÂÂâÂÂâÂÂâÂÂâÂÂâ âÂÂ[37m [37mâÂÂâÂÂ
âÂÂ[37m processed [37m23%[37m of [37m7[37m/[37m30[37m [37m2.977[37m/[37m9.966[37m[0m
[5;1f
[2K[37mâÂÂâÂÂâÂÂâÂÂâÂÂâÂÂâÂÂâÂÂâ âÂÂ[37m [37mâÂÂâÂÂâÂÂ
[37m processed [37m40%[37m of [37m8[37m/[37m20[37m [37m3.399[37m/[37m5.098[37m[0m
[6;1f
[2K[37mâÂÂâÂÂâÂÂâÂÂâÂÂâÂÂâÂÂâÂÂâÂÂâÂÂâÂÂâÂÂâÂÂâÂÂâÂÂâÂÂâ âÂÂ[37m [37mâÂÂâÂÂâÂÂ
[37m processed [37m80%[37m of [37m8[37m/[37m10[37m [37m3.399[37m/[37m0.85[37m[0m
[7;1f
[2K[37mâÂÂâÂÂâÂÂâ âÂÂ[37m [37mâÂÂâÂÂâÂÂ
[37m processed [37m16%[37m of [37m8[37m/[37m50[37m [37m3.4[37m/[37m17.85[37m[0m
[8;1f
[2K[37mâÂÂâÂÂâÂÂâÂÂâÂÂâ âÂÂ[37m [37mâÂÂâÂÂâÂÂ
[37m processed [37m26%[37m of [37m8[37m/[37m30[37m [37m3.4[37m/[37m9.677[37m[0m
[5;1f
[2K[37mâÂÂâÂÂâÂÂâÂÂâÂÂâÂÂâÂÂâÂÂâÂÂâ âÂÂ[37m [37mâÂÂâÂÂ
âÂÂ[37m processed [37m45%[37m of [37m9[37m/[37m20[37m [37m3.823[37m/[37m4.673[37m[0m
[6;1f
[2K[37mâÂÂâÂÂâÂÂâÂÂâÂÂâÂÂâÂÂâÂÂâÂÂâÂÂâÂÂâÂÂâÂÂâÂÂâÂÂâÂÂâÂÂâÂÂâ âÂÂ[37m [37mâÂÂâÂÂ
âÂÂ[37m processed [37m90%[37m of [37m9[37m/[37m10[37m [37m3.823[37m/[37m0.425[37m[0m
[7;1f
[2K[37mâÂÂâÂÂâÂÂâÂÂâ âÂÂ[37m [37mâÂÂâÂÂ
âÂÂ[37m processed [37m18%[37m of [37m9[37m/[37m50[37m [37m3.824[37m/[37m17.42[37m[0m
[8;1f
[2K[37mâÂÂâÂÂâÂÂâÂÂâÂÂâÂÂâ âÂÂ[37m [37mâÂÂâÂÂ
âÂÂ[37m processed [37m30%[37m of [37m9[37m/[37m30[37m [37m3.824[37m/[37m8.923[37m[0m
[5;1f
[2K[37mâÂÂâÂÂâÂÂâÂÂâÂÂâÂÂâÂÂâÂÂâÂÂâÂÂâ âÂÂ[37m [37mâÂÂâÂÂâÂÂ
[37m processed [37m50%[37m of [37m10[37m/[37m20[37m [37m4.25[37m/[37m4.25[37m[0m
[6;1f
[2K[37mâÂÂâÂÂâÂÂâÂÂâÂÂâÂÂâÂÂâÂÂâÂÂâÂÂâÂÂâÂÂâÂÂâÂÂâÂÂâÂÂâÂÂâÂÂâÂÂâÂÂâÂÂâÂÂ[37m [37mâÂÂâÂÂâÂÂ
[37m processed [37m100%[37m of [37m10[37m/[37m10[37m [37m4.25[37m/[37m0[37m[0m
[7;1f
[2K[37mâÂÂâÂÂâÂÂâÂÂâ âÂÂ[37m [37mâÂÂâÂÂâÂÂ
[37m processed [37m20%[37m of [37m10[37m/[37m50[37m [37m4.251[37m/[37m17.004[37m[0m
[8;1f
[2K[37mâÂÂâÂÂâÂÂâÂÂâÂÂâÂÂâÂÂâ âÂÂ[37m [37mâÂÂâÂÂâÂÂ
[37m processed [37m33%[37m of [37m10[37m/[37m30[37m [37m4.252[37m/[37m8.633[37m[0m
[5;1f
[2K[37mâÂÂâÂÂâÂÂâÂÂâÂÂâÂÂâÂÂâÂÂâÂÂâÂÂâÂÂâ âÂÂ[37m [37mâÂÂ
âÂÂâÂÂ[37m processed [37m55%[37m of [37m11[37m/[37m20[37m [37m4.462[37m/[37m3.651[37m[0m
[7;1f
[2K[37mâÂÂâÂÂâÂÂâÂÂâ âÂÂ[37m [37mâÂÂ
âÂÂâÂÂ[37m processed [37m20%[37m of [37m10[37m/[37m50[37m [37m4.463[37m/[37m17.852[37m[0m
[8;1f
[2K[37mâÂÂâÂÂâÂÂâÂÂâÂÂâÂÂâÂÂâ âÂÂ[37m [37mâÂÂ
âÂÂâÂÂ[37m processed [37m36%[37m of [37m11[37m/[37m30[37m [37m4.463[37m/[37m7.934[37m[0m
[5;1f
[2K[37mâÂÂâÂÂâÂÂâÂÂâÂÂâÂÂâÂÂâÂÂâÂÂâÂÂâÂÂâÂÂâ âÂÂ[37m [37mâÂÂâÂÂâÂÂ[37m processed [37m60%[37m of [37m12[37m/[37m20[37m [37m4.785[37m/[37m3.19[37m[0m
[7;1f
[2K[37mâÂÂâÂÂâÂÂâÂÂâ âÂÂ[37m [37mâÂÂâÂÂâÂÂ[37m processed [37m22%[37m of [37m11[37m/[37m50[37m [37m4.785[37m/[37m16.965[37m[0m
[8;1f
[2K[37mâÂÂâÂÂâÂÂâÂÂâÂÂâÂÂâÂÂâÂÂâ âÂÂ[37m [37mâÂÂâÂÂâÂÂ[37m processed [37m40%[37m of [37m12[37m/[37m30[37m [37m4.785[37m/[37m7.178[37m[0m
[5;1f
[2K[37mâÂÂâÂÂâÂÂâÂÂâÂÂâÂÂâÂÂâÂÂâÂÂâÂÂâÂÂâÂÂâÂÂâ âÂÂ[37m [37mâÂÂâÂÂâÂÂ
[37m processed [37m65%[37m of [37m13[37m/[37m20[37m [37m5.107[37m/[37m2.75[37m[0m
[7;1f
[2K[37mâÂÂâÂÂâÂÂâÂÂâÂÂâ âÂÂ[37m [37mâÂÂâÂÂâÂÂ
[37m processed [37m24%[37m of [37m12[37m/[37m50[37m [37m5.107[37m/[37m16.172[37m[0m
[8;1f
[2K[37mâÂÂâÂÂâÂÂâÂÂâÂÂâÂÂâÂÂâÂÂâÂÂâ âÂÂ[37m [37mâÂÂâÂÂâÂÂ
[37m processed [37m43%[37m of [37m13[37m/[37m30[37m [37m5.107[37m/[37m6.77[37m[0m
[5;1f
[2K[37mâÂÂâÂÂâÂÂâÂÂâÂÂâÂÂâÂÂâÂÂâÂÂâÂÂâÂÂâÂÂâÂÂâÂÂâ âÂÂ[37m [37mâÂÂâÂÂâÂÂ[37m processed [37m70%[37m of [37m14[37m/[37m20[37m [37m5.429[37m/[37m2.327[37m[0m
[7;1f
[2K[37mâÂÂâÂÂâÂÂâÂÂâÂÂâ âÂÂ[37m [37mâÂÂâÂÂâÂÂ[37m processed [37m26%[37m of [37m13[37m/[37m50[37m [37m5.429[37m/[37m15.452[37m[0m
[8;1f
[2K[37mâÂÂâÂÂâÂÂâÂÂâÂÂâÂÂâÂÂâÂÂâÂÂâ âÂÂ[37m [37mâÂÂâÂÂâÂÂ[37m processed [37m46%[37m of [37m14[37m/[37m30[37m [37m5.429[37m/[37m6.373[37m[0m
[5;1f
[2K[37mâÂÂâÂÂâÂÂâÂÂâÂÂâÂÂâÂÂâÂÂâÂÂâÂÂâÂÂâÂÂâÂÂâÂÂâÂÂâ âÂÂ[37m [37mâÂÂâÂÂâÂÂ[37m processed [37m75%[37m of [37m15[37m/[37m20[37m [37m5.753[37m/[37m1.918[37m[0m
[7;1f
[2K[37mâÂÂâÂÂâÂÂâÂÂâÂÂâÂÂâ âÂÂ[37m [37mâÂÂâÂÂâÂÂ[37m processed [37m28%[37m of [37m14[37m/[37m50[37m [37m5.753[37m/[37m14.793[37m[0m
[8;1f
[2K[37mâÂÂâÂÂâÂÂâÂÂâÂÂâÂÂâÂÂâÂÂâÂÂâÂÂâ âÂÂ[37m [37mâÂÂâÂÂâÂÂ[37m processed [37m50%[37m of [37m15[37m/[37m30[37m [37m5.754[37m/[37m5.754[37m[0m
[5;1f
[2K[37mâÂÂâÂÂâÂÂâÂÂâÂÂâÂÂâÂÂâÂÂâÂÂâÂÂâÂÂâÂÂâÂÂâÂÂâÂÂâÂÂâ âÂÂ[37m [37mâÂÂâÂÂâÂÂ[37m processed [37m80%[37m of [37m16[37m/[37m20[37m [37m6.069[37m/[37m1.517[37m[0m
[7;1f
[2K[37mâÂÂâÂÂâÂÂâÂÂâÂÂâÂÂâ âÂÂ[37m [37mâÂÂâÂÂâÂÂ[37m processed [37m30%[37m of [37m15[37m/[37m50[37m [37m6.069[37m/[37m14.161[37m[0m
[8;1f
[2K[37mâÂÂâÂÂâÂÂâÂÂâÂÂâÂÂâÂÂâÂÂâÂÂâÂÂâÂÂâ âÂÂ[37m [37mâÂÂâÂÂâÂÂ[37m processed [37m53%[37m of [37m16[37m/[37m30[37m [37m6.069[37m/[37m5.382[37m[0m
[5;1f
[2K[37mâÂÂâÂÂâÂÂâÂÂâÂÂâÂÂâÂÂâÂÂâÂÂâÂÂâÂÂâÂÂâÂÂâÂÂâÂÂâÂÂâÂÂâ âÂÂ[37m [37mâÂÂâÂÂ
âÂÂ[37m processed [37m85%[37m of [37m17[37m/[37m20[37m [37m6.391[37m/[37m1.128[37m[0m
[7;1f
[2K[37mâÂÂâÂÂâÂÂâÂÂâÂÂâÂÂâ âÂÂ[37m [37mâÂÂâÂÂ
âÂÂ[37m processed [37m32%[37m of [37m16[37m/[37m50[37m [37m6.391[37m/[37m13.581[37m[0m
[8;1f
[2K[37mâÂÂâÂÂâÂÂâÂÂâÂÂâÂÂâÂÂâÂÂâÂÂâÂÂâÂÂâ âÂÂ[37m [37mâÂÂâÂÂ
âÂÂ[37m processed [37m56%[37m of [37m17[37m/[37m30[37m [37m6.392[37m/[37m5.022[37m[0m
[5;1f
[2K[37mâÂÂâÂÂâÂÂâÂÂâÂÂâÂÂâÂÂâÂÂâÂÂâÂÂâÂÂâÂÂâÂÂâÂÂâÂÂâÂÂâÂÂâÂÂâ âÂÂ[37m [37mâÂÂâÂÂâÂÂ[37m processed [37m90%[37m of [37m18[37m/[37m20[37m [37m6.704[37m/[37m0.745[37m[0m
[7;1f
[2K[37mâÂÂâÂÂâÂÂâÂÂâÂÂâÂÂâÂÂâ âÂÂ[37m [37mâÂÂâÂÂâÂÂ[37m processed [37m34%[37m of [37m17[37m/[37m50[37m [37m6.704[37m/[37m13.014[37m[0m
[8;1f
[2K[37mâÂÂâÂÂâÂÂâÂÂâÂÂâÂÂâÂÂâÂÂâÂÂâÂÂâÂÂâÂÂâ âÂÂ[37m [37mâÂÂâÂÂâÂÂ[37m processed [37m60%[37m of [37m18[37m/[37m30[37m [37m6.704[37m/[37m4.469[37m[0m
[5;1f
[2K[37mâÂÂâÂÂâÂÂâÂÂâÂÂâÂÂâÂÂâÂÂâÂÂâÂÂâÂÂâÂÂâÂÂâÂÂâÂÂâÂÂâÂÂâÂÂâÂÂâ âÂÂ[37m [37mâÂÂ
âÂÂâÂÂ[37m processed [37m95%[37m of [37m19[37m/[37m20[37m [37m7.023[37m/[37m0.37[37m[0m
[7;1f
[2K[37mâÂÂâÂÂâÂÂâÂÂâÂÂâÂÂâÂÂâ âÂÂ[37m [37mâÂÂ
âÂÂâÂÂ[37m processed [37m36%[37m of [37m18[37m/[37m50[37m [37m7.023[37m/[37m12.485[37m[0m
[8;1f
[2K[37mâÂÂâÂÂâÂÂâÂÂâÂÂâÂÂâÂÂâÂÂâÂÂâÂÂâÂÂâÂÂâÂÂâ âÂÂ[37m [37mâÂÂ
âÂÂâÂÂ[37m processed [37m63%[37m of [37m19[37m/[37m30[37m [37m7.023[37m/[37m4.125[37m[0m
[5;1f
[2K[37mâÂÂâÂÂâÂÂâÂÂâÂÂâÂÂâÂÂâÂÂâÂÂâÂÂâÂÂâÂÂâÂÂâÂÂâÂÂâÂÂâÂÂâÂÂâÂÂâÂÂâÂÂâÂÂ[37m [37mâÂÂâÂÂâÂÂ[37m processed [37m100%[37m of [37m20[37m/[37m20[37m [37m7.328[37m/[37m0[37m[0m
[7;1f
[2K[37mâÂÂâÂÂâÂÂâÂÂâÂÂâÂÂâÂÂâÂÂâ âÂÂ[37m [37mâÂÂâÂÂâÂÂ[37m processed [37m38%[37m of [37m19[37m/[37m50[37m [37m7.329[37m/[37m11.958[37m[0m
[8;1f
[2K[37mâÂÂâÂÂâÂÂâÂÂâÂÂâÂÂâÂÂâÂÂâÂÂâÂÂâÂÂâÂÂâÂÂâ âÂÂ[37m [37mâÂÂâÂÂâÂÂ[37m processed [37m66%[37m of [37m20[37m/[37m30[37m [37m7.33[37m/[37m3.776[37m[0m
[7;1f
[2K[37mâÂÂâÂÂâÂÂâÂÂâÂÂâÂÂâÂÂâÂÂâ âÂÂ[37m [37mâÂÂâÂÂâÂÂ[37m processed [37m38%[37m of [37m19[37m/[37m50[37m [37m7.437[37m/[37m12.134[37m[0m
[8;1f
[2K[37mâÂÂâÂÂâÂÂâÂÂâÂÂâÂÂâÂÂâÂÂâÂÂâÂÂâÂÂâÂÂâÂÂâÂÂâ âÂÂ[37m [37mâÂÂâÂÂâÂÂ[37m processed [37m70%[37m of [37m21[37m/[37m30[37m [37m7.437[37m/[37m3.187[37m[0m
[7;1f
[2K[37mâÂÂâÂÂâÂÂâÂÂâÂÂâÂÂâÂÂâÂÂâ âÂÂ[37m [37mâÂÂâÂÂâÂÂ
[37m processed [37m40%[37m of [37m20[37m/[37m50[37m [37m7.65[37m/[37m11.475[37m[0m
[8;1f
[2K[37mâÂÂâÂÂâÂÂâÂÂâÂÂâÂÂâÂÂâÂÂâÂÂâÂÂâÂÂâÂÂâÂÂâÂÂâÂÂâ âÂÂ[37m [37mâÂÂâÂÂâÂÂ
[37m processed [37m73%[37m of [37m22[37m/[37m30[37m [37m7.65[37m/[37m2.829[37m[0m
[7;1f
[2K[37mâÂÂâÂÂâÂÂâÂÂâÂÂâÂÂâÂÂâÂÂâ âÂÂ[37m [37mâÂÂ
âÂÂâÂÂ[37m processed [37m42%[37m of [37m21[37m/[37m50[37m [37m7.865[37m/[37m10.861[37m[0m
[8;1f
[2K[37mâÂÂâÂÂâÂÂâÂÂâÂÂâÂÂâÂÂâÂÂâÂÂâÂÂâÂÂâÂÂâÂÂâÂÂâÂÂâ âÂÂ[37m [37mâÂÂ
âÂÂâÂÂ[37m processed [37m76%[37m of [37m23[37m/[37m30[37m [37m7.865[37m/[37m2.484[37m[0m
[7;1f
[2K[37mâÂÂâÂÂâÂÂâÂÂâÂÂâÂÂâÂÂâÂÂâÂÂâ âÂÂ[37m [37mâÂÂâÂÂ
âÂÂ[37m processed [37m44%[37m of [37m22[37m/[37m50[37m [37m8.08[37m/[37m10.284[37m[0m
[8;1f
[2K[37mâÂÂâÂÂâÂÂâÂÂâÂÂâÂÂâÂÂâÂÂâÂÂâÂÂâÂÂâÂÂâÂÂâÂÂâÂÂâÂÂâ âÂÂ[37m [37mâÂÂâÂÂ
âÂÂ[37m processed [37m80%[37m of [37m24[37m/[37m30[37m [37m8.08[37m/[37m2.02[37m[0m
[7;1f
[2K[37mâÂÂâÂÂâÂÂâÂÂâÂÂâÂÂâÂÂâÂÂâÂÂâ âÂÂ[37m [37mâÂÂâÂÂâÂÂ[37m processed [37m46%[37m of [37m23[37m/[37m50[37m [37m8.294[37m/[37m9.736[37m[0m
[8;1f
[2K[37mâÂÂâÂÂâÂÂâÂÂâÂÂâÂÂâÂÂâÂÂâÂÂâÂÂâÂÂâÂÂâÂÂâÂÂâÂÂâÂÂâÂÂâ âÂÂ[37m [37mâÂÂâÂÂâÂÂ[37m processed [37m83%[37m of [37m25[37m/[37m30[37m [37m8.294[37m/[37m1.699[37m[0m
[7;1f
[2K[37mâÂÂâÂÂâÂÂâÂÂâÂÂâÂÂâÂÂâÂÂâÂÂâÂÂâ âÂÂ[37m [37mâÂÂâÂÂâÂÂ
[37m processed [37m48%[37m of [37m24[37m/[37m50[37m [37m8.509[37m/[37m9.218[37m[0m
[8;1f
[2K[37mâÂÂâÂÂâÂÂâÂÂâÂÂâÂÂâÂÂâÂÂâÂÂâÂÂâÂÂâÂÂâÂÂâÂÂâÂÂâÂÂâÂÂâ âÂÂ[37m [37mâÂÂâÂÂâÂÂ
[37m processed [37m86%[37m of [37m26[37m/[37m30[37m [37m8.509[37m/[37m1.385[37m[0m
[7;1f
[2K[37mâÂÂâÂÂâÂÂâÂÂâÂÂâÂÂâÂÂâÂÂâÂÂâÂÂâ âÂÂ[37m [37mâÂÂ
âÂÂâÂÂ[37m processed [37m50%[37m of [37m25[37m/[37m50[37m [37m8.711[37m/[37m8.711[37m[0m
[8;1f
[2K[37mâÂÂâÂÂâÂÂâÂÂâÂÂâÂÂâÂÂâÂÂâÂÂâÂÂâÂÂâÂÂâÂÂâÂÂâÂÂâÂÂâÂÂâÂÂâ âÂÂ[37m [37mâÂÂ
âÂÂâÂÂ[37m processed [37m90%[37m of [37m27[37m/[37m30[37m [37m8.712[37m/[37m0.968[37m[0m
[7;1f
[2K[37mâÂÂâÂÂâÂÂâÂÂâÂÂâÂÂâÂÂâÂÂâÂÂâÂÂâ âÂÂ[37m [37mâÂÂâÂÂ
âÂÂ[37m processed [37m52%[37m of [37m26[37m/[37m50[37m [37m8.921[37m/[37m8.235[37m[0m
[8;1f
[2K[37mâÂÂâÂÂâÂÂâÂÂâÂÂâÂÂâÂÂâÂÂâÂÂâÂÂâÂÂâÂÂâÂÂâÂÂâÂÂâÂÂâÂÂâÂÂâÂÂâ âÂÂ[37m [37mâÂÂâÂÂ
âÂÂ[37m processed [37m93%[37m of [37m28[37m/[37m30[37m [37m8.921[37m/[37m0.671[37m[0m
[7;1f
[2K[37mâÂÂâÂÂâÂÂâÂÂâÂÂâÂÂâÂÂâÂÂâÂÂâÂÂâÂÂâ âÂÂ[37m [37mâÂÂâÂÂâÂÂ[37m processed [37m54%[37m of [37m27[37m/[37m50[37m [37m9.129[37m/[37m7.777[37m[0m
[8;1f
[2K[37mâÂÂâÂÂâÂÂâÂÂâÂÂâÂÂâÂÂâÂÂâÂÂâÂÂâÂÂâÂÂâÂÂâÂÂâÂÂâÂÂâÂÂâÂÂâÂÂâ âÂÂ[37m [37mâÂÂâÂÂâÂÂ[37m processed [37m96%[37m of [37m29[37m/[37m30[37m [37m9.13[37m/[37m0.38[37m[0m
[7;1f
[2K[37mâÂÂâÂÂâÂÂâÂÂâÂÂâÂÂâÂÂâÂÂâÂÂâÂÂâÂÂâ âÂÂ[37m [37mâÂÂâÂÂâÂÂ
[37m processed [37m56%[37m of [37m28[37m/[37m50[37m [37m9.331[37m/[37m7.331[37m[0m
[8;1f
[2K[37mâÂÂâÂÂâÂÂâÂÂâÂÂâÂÂâÂÂâÂÂâÂÂâÂÂâÂÂâÂÂâÂÂâÂÂâÂÂâÂÂâÂÂâÂÂâÂÂâÂÂâÂÂâÂÂ[37m [37mâÂÂâÂÂâÂÂ
[37m processed [37m100%[37m of [37m30[37m/[37m30[37m [37m9.332[37m/[37m0[37m[0m
[7;1f
[2K[37mâÂÂâÂÂâÂÂâÂÂâÂÂâÂÂâÂÂâÂÂâÂÂâÂÂâÂÂâ âÂÂ[37m [37mâÂÂâÂÂâÂÂ[37m processed [37m57%[37m of [37m29[37m/[37m50[37m [37m9.439[37m/[37m7.121[37m[0m
[7;1f
[2K[37mâÂÂâÂÂâÂÂâÂÂâÂÂâÂÂâÂÂâÂÂâÂÂâÂÂâÂÂâÂÂâ âÂÂ[37m [37mâÂÂ
âÂÂâÂÂ[37m processed [37m60%[37m of [37m30[37m/[37m50[37m [37m9.546[37m/[37m6.364[37m[0m
[7;1f
[2K[37mâÂÂâÂÂâÂÂâÂÂâÂÂâÂÂâÂÂâÂÂâÂÂâÂÂâÂÂâÂÂâ âÂÂ[37m [37mâÂÂâÂÂâÂÂ[37m processed [37m62%[37m of [37m31[37m/[37m50[37m [37m9.653[37m/[37m5.916[37m[0m
[7;1f
[2K[37mâÂÂâÂÂâÂÂâÂÂâÂÂâÂÂâÂÂâÂÂâÂÂâÂÂâÂÂâÂÂâÂÂâ âÂÂ[37m [37mâÂÂâÂÂ
âÂÂ[37m processed [37m64%[37m of [37m32[37m/[37m50[37m [37m9.758[37m/[37m5.489[37m[0m
[7;1f
[2K[37mâÂÂâÂÂâÂÂâÂÂâÂÂâÂÂâÂÂâÂÂâÂÂâÂÂâÂÂâÂÂâÂÂâ âÂÂ[37m [37mâÂÂâÂÂâÂÂ[37m processed [37m66%[37m of [37m33[37m/[37m50[37m [37m9.864[37m/[37m5.081[37m[0m
[7;1f
[2K[37mâÂÂâÂÂâÂÂâÂÂâÂÂâÂÂâÂÂâÂÂâÂÂâÂÂâÂÂâÂÂâÂÂâÂÂâ âÂÂ[37m [37mâÂÂâÂÂâÂÂ[37m processed [37m68%[37m of [37m34[37m/[37m50[37m [37m9.965[37m/[37m4.689[37m[0m
[7;1f
[2K[37mâÂÂâÂÂâÂÂâÂÂâÂÂâÂÂâÂÂâÂÂâÂÂâÂÂâÂÂâÂÂâÂÂâÂÂâ âÂÂ[37m [37mâÂÂâÂÂâÂÂ[37m processed [37m70%[37m of [37m35[37m/[37m50[37m [37m10.073[37m/[37m4.317[37m[0m
[7;1f
[2K[37mâÂÂâÂÂâÂÂâÂÂâÂÂâÂÂâÂÂâÂÂâÂÂâÂÂâÂÂâÂÂâÂÂâÂÂâ âÂÂ[37m [37mâÂÂâÂÂâÂÂ
[37m processed [37m72%[37m of [37m36[37m/[37m50[37m [37m10.18[37m/[37m3.959[37m[0m
[7;1f
[2K[37mâÂÂâÂÂâÂÂâÂÂâÂÂâÂÂâÂÂâÂÂâÂÂâÂÂâÂÂâÂÂâÂÂâÂÂâÂÂâ âÂÂ[37m [37mâÂÂâÂÂâÂÂ[37m processed [37m74%[37m of [37m37[37m/[37m50[37m [37m10.287[37m/[37m3.614[37m[0m
[7;1f
[2K[37mâÂÂâÂÂâÂÂâÂÂâÂÂâÂÂâÂÂâÂÂâÂÂâÂÂâÂÂâÂÂâÂÂâÂÂâÂÂâ âÂÂ[37m [37mâÂÂ
âÂÂâÂÂ[37m processed [37m76%[37m of [37m38[37m/[37m50[37m [37m10.387[37m/[37m3.28[37m[0m
[7;1f
[2K[37mâÂÂâÂÂâÂÂâÂÂâÂÂâÂÂâÂÂâÂÂâÂÂâÂÂâÂÂâÂÂâÂÂâÂÂâÂÂâÂÂâ âÂÂ[37m [37mâÂÂâÂÂâÂÂ[37m processed [37m78%[37m of [37m39[37m/[37m50[37m [37m10.488[37m/[37m2.958[37m[0m
[7;1f
[2K[37mâÂÂâÂÂâÂÂâÂÂâÂÂâÂÂâÂÂâÂÂâÂÂâÂÂâÂÂâÂÂâÂÂâÂÂâÂÂâÂÂâ âÂÂ[37m [37mâÂÂâÂÂ
âÂÂ[37m processed [37m80%[37m of [37m40[37m/[37m50[37m [37m10.595[37m/[37m2.649[37m[0m
[7;1f
[2K[37mâÂÂâÂÂâÂÂâÂÂâÂÂâÂÂâÂÂâÂÂâÂÂâÂÂâÂÂâÂÂâÂÂâÂÂâÂÂâÂÂâ âÂÂ[37m [37mâÂÂâÂÂâÂÂ[37m processed [37m82%[37m of [37m41[37m/[37m50[37m [37m10.695[37m/[37m2.348[37m[0m
[7;1f
[2K[37mâÂÂâÂÂâÂÂâÂÂâÂÂâÂÂâÂÂâÂÂâÂÂâÂÂâÂÂâÂÂâÂÂâÂÂâÂÂâÂÂâÂÂâ âÂÂ[37m [37mâÂÂâÂÂâÂÂ[37m processed [37m84%[37m of [37m42[37m/[37m50[37m [37m10.797[37m/[37m2.057[37m[0m
[7;1f
[2K[37mâÂÂâÂÂâÂÂâÂÂâÂÂâÂÂâÂÂâÂÂâÂÂâÂÂâÂÂâÂÂâÂÂâÂÂâÂÂâÂÂâÂÂâ âÂÂ[37m [37mâÂÂâÂÂâÂÂ[37m processed [37m86%[37m of [37m43[37m/[37m50[37m [37m10.898[37m/[37m1.774[37m[0m
[7;1f
[2K[37mâÂÂâÂÂâÂÂâÂÂâÂÂâÂÂâÂÂâÂÂâÂÂâÂÂâÂÂâÂÂâÂÂâÂÂâÂÂâÂÂâÂÂâÂÂâ âÂÂ[37m [37mâÂÂâÂÂâÂÂ
[37m processed [37m88%[37m of [37m44[37m/[37m50[37m [37m11[37m/[37m1.5[37m[0m
[7;1f
[2K[37mâÂÂâÂÂâÂÂâÂÂâÂÂâÂÂâÂÂâÂÂâÂÂâÂÂâÂÂâÂÂâÂÂâÂÂâÂÂâÂÂâÂÂâÂÂâ âÂÂ[37m [37mâÂÂâÂÂâÂÂ[37m processed [37m90%[37m of [37m45[37m/[37m50[37m [37m11.101[37m/[37m1.233[37m[0m
[7;1f
[2K[37mâÂÂâÂÂâÂÂâÂÂâÂÂâÂÂâÂÂâÂÂâÂÂâÂÂâÂÂâÂÂâÂÂâÂÂâÂÂâÂÂâÂÂâÂÂâ âÂÂ[37m [37mâÂÂ
âÂÂâÂÂ[37m processed [37m92%[37m of [37m46[37m/[37m50[37m [37m11.209[37m/[37m0.975[37m[0m
[7;1f
[2K[37mâÂÂâÂÂâÂÂâÂÂâÂÂâÂÂâÂÂâÂÂâÂÂâÂÂâÂÂâÂÂâÂÂâÂÂâÂÂâÂÂâÂÂâÂÂâÂÂâ âÂÂ[37m [37mâÂÂâÂÂâÂÂ[37m processed [37m94%[37m of [37m47[37m/[37m50[37m [37m11.31[37m/[37m0.722[37m[0m
[7;1f
[2K[37mâÂÂâÂÂâÂÂâÂÂâÂÂâÂÂâÂÂâÂÂâÂÂâÂÂâÂÂâÂÂâÂÂâÂÂâÂÂâÂÂâÂÂâÂÂâÂÂâ âÂÂ[37m [37mâÂÂâÂÂ
âÂÂ[37m processed [37m96%[37m of [37m48[37m/[37m50[37m [37m11.418[37m/[37m0.476[37m[0m
[7;1f
[2K[37mâÂÂâÂÂâÂÂâÂÂâÂÂâÂÂâÂÂâÂÂâÂÂâÂÂâÂÂâÂÂâÂÂâÂÂâÂÂâÂÂâÂÂâÂÂâÂÂâÂÂâÂÂâÂÂ[37m [37mâÂÂâÂÂâÂÂ[37m processed [37m98%[37m of [37m49[37m/[37m50[37m [37m11.525[37m/[37m0.235[37m[0m
[7;1f
[2K[37mâÂÂâÂÂâÂÂâÂÂâÂÂâÂÂâÂÂâÂÂâÂÂâÂÂâÂÂâÂÂâÂÂâÂÂâÂÂâÂÂâÂÂâÂÂâÂÂâÂÂâÂÂâÂÂ[37m [37mâÂÂâÂÂâÂÂ[37m processed [37m100%[37m of [37m50[37m/[37m50[37m [37m11.625[37m/[37m0[37m[0m
[?25ht/02-multiple.t ... ok
t/manifest.t ...... skipped: Author tests not required for installation
t/pod-coverage.t .. skipped: Author tests not required for installation
t/pod.t ........... skipped: Author tests not required for installation
All tests successful.
Files=6, Tests=3, 57 wallclock secs ( 0.09 usr 0.02 sys + 0.64 cusr 0.09 csys = 0.84 CPU)
Result: PASS
------------------------------
PREREQUISITES
------------------------------
Prerequisite modules loaded:
requires:
Module Need Have
------------------- ----- --------
IO::Handle 0 1.55
perl 5.006 5.042000
Term::ANSIColor 5.01 5.01
Term::Size::Any 0.002 0.002
Time::HiRes 0 1.9778
build_requires:
Module Need Have
------------------- ----- --------
ExtUtils::MakeMaker 0 7.76
Test::More 0 1.302214
configure_requires:
Module Need Have
------------------- ----- --------
ExtUtils::MakeMaker 0 7.76
------------------------------
ENVIRONMENT AND OTHER CONTEXT
------------------------------
Environment variables:
LANG = C.UTF-8
PATH = /usr/local/bin:/usr/bin:/bin:/usr/local/sbin:/usr/sbin:/sbin:/home/cpansand/bin/freebsd14.1:/home/cpansand/bin/sh:/home/cpansand/bin:/usr/games:/home/cpansand/devel:/home/eserte/src/srezic-misc/scripts
PERL5LIB = /home/cpansand/.cpan/build/2025062911/Phone-Valid-International-Loose-0.04-0/blib/arch:/home/cpansand/.cpan/build/2025062911/Phone-Valid-International-Loose-0.04-0/blib/lib
PERL5OPT =
PERL5_CPANPLUS_IS_RUNNING = 79962
PERL5_CPAN_IS_RUNNING = 79962
PERL5_CPAN_IS_RUNNING_IN_RECURSION = 79917,79962
PERLDOC = -MPod::Perldoc::ToTextOverstrike
PERL_BATCH = yes
PERL_CANARY_STABILITY_NOPROMPT = 1
PERL_CPAN_REPORTER_CONFIG = /var/tmp/cpansmoker-1023/2025062911/cpanreporter_001_config.ini
PERL_EXTUTILS_AUTOINSTALL = --defaultdeps
PERL_USE_UNSAFE_INC = 1
SHELL = /usr/local/bin/zsh
TERM = screen
TMPDIR = /var/tmp/cpansmoker-1023/2025062911
Perl special variables (and OS-specific diagnostics, for MSWin32):
$^X = /usr/perl5.42.0-RC2/bin/perl
$UID/$EUID = 1023 / 1023
$GID = 1023 1023
$EGID = 1023 1023
Perl module toolchain versions installed:
Module Have
------------------- --------
CPAN 2.38
CPAN::Meta 2.150010
Cwd 3.94
ExtUtils::CBuilder 0.280242
ExtUtils::Command 7.76
ExtUtils::Install 2.22
ExtUtils::MakeMaker 7.76
ExtUtils::Manifest 1.75
ExtUtils::ParseXS 3.57
File::Spec 3.94
JSON 4.10
JSON::PP 4.16
Module::Build 0.4234
Module::Signature n/a
Parse::CPAN::Meta 2.150010
Test2 1.302214
Test::Harness 3.52
Test::More 1.302214
YAML 1.31
YAML::Syck 1.34
version 0.9933
--
Summary of my perl5 (revision 5 version 42 subversion 0) configuration:
Platform:
osname=freebsd
osvers=14.3-stable
archname=aarch64-freebsd
uname='freebsd cloud9.bbbike.org 14.3-stable freebsd 14.3-stable stable14-n271785-fad4064226b2 generic arm64 '
config_args='-ds -e -Dprefix=/usr/perl5.42.0-RC2 -Uinstallusrbinperl -Dcf_email=srezic@cpan.org -Doptimize=-O2 -pipe'
hint=recommended
useposix=true
d_sigaction=define
useithreads=undef
usemultiplicity=undef
use64bitint=define
use64bitall=define
uselongdouble=undef
usemymalloc=n
default_inc_excludes_dot=define
Compiler:
cc='cc'
ccflags ='-DHAS_FPSETMASK -DHAS_FLOATINGPOINT_H -DNO_POSIX_2008_LOCALE -fno-strict-aliasing -pipe -fstack-protector-strong -I/usr/local/include'
optimize='-O2 -pipe'
cppflags='-DHAS_FPSETMASK -DHAS_FLOATINGPOINT_H -DNO_POSIX_2008_LOCALE -fno-strict-aliasing -pipe -fstack-protector-strong -I/usr/local/include'
ccversion=''
gccversion='FreeBSD Clang 19.1.7 (https://github.com/llvm/llvm-project.git llvmorg-19.1.7-0-gcd708029e0b2)'
gccosandvers=''
intsize=4
longsize=8
ptrsize=8
doublesize=8
byteorder=12345678
doublekind=3
d_longlong=define
longlongsize=8
d_longdbl=define
longdblsize=16
longdblkind=1
ivtype='long'
ivsize=8
nvtype='double'
nvsize=8
Off_t='off_t'
lseeksize=8
alignbytes=8
prototype=define
Linker and Libraries:
ld='cc'
ldflags ='-Wl,-E -fstack-protector-strong -L/usr/local/lib'
libpth=/usr/lib /usr/local/lib /usr/lib/clang/19/lib
libs=-lpthread -lgdbm -ldl -lm -lcrypt -lutil -lc
perllibs=-lpthread -ldl -lm -lcrypt -lutil -lc
libc=
so=so
useshrplib=false
libperl=libperl.a
gnulibc_version=''
Dynamic Linking:
dlsrc=dl_dlopen.xs
dlext=so
d_dlsymun=undef
ccdlflags=' '
cccdlflags='-DPIC -fPIC'
lddlflags='-shared -L/usr/local/lib -fstack-protector-strong'
Characteristics of this binary (from libperl):
Compile-time options:
HAS_LONG_DOUBLE
HAS_STRTOLD
HAS_TIMES
PERLIO_LAYERS
PERL_COPY_ON_WRITE
PERL_DONT_CREATE_GVSV
PERL_HASH_FUNC_SIPHASH13
PERL_HASH_USE_SBOX32
PERL_MALLOC_WRAP
PERL_OP_PARENT
PERL_PRESERVE_IVUV
PERL_USE_SAFE_PUTENV
USE_64_BIT_ALL
USE_64_BIT_INT
USE_LARGE_FILES
USE_LOCALE
USE_LOCALE_COLLATE
USE_LOCALE_CTYPE
USE_LOCALE_NUMERIC
USE_LOCALE_TIME
USE_PERLIO
USE_PERL_ATOF
Locally applied patches:
RC2
Built under freebsd
Compiled at Jun 28 2025 11:27:41
%ENV:
PERL5LIB="/home/cpansand/.cpan/build/2025062911/Phone-Valid-International-Loose-0.04-0/blib/arch:/home/cpansand/.cpan/build/2025062911/Phone-Valid-International-Loose-0.04-0/blib/lib"
PERL5OPT=""
PERL5_CPANPLUS_IS_RUNNING="79962"
PERL5_CPAN_IS_RUNNING="79962"
PERL5_CPAN_IS_RUNNING_IN_RECURSION="79917,79962"
PERLDOC="-MPod::Perldoc::ToTextOverstrike"
PERL_BATCH="yes"
PERL_CANARY_STABILITY_NOPROMPT="1"
PERL_CPAN_REPORTER_CONFIG="/var/tmp/cpansmoker-1023/2025062911/cpanreporter_001_config.ini"
PERL_EXTUTILS_AUTOINSTALL="--defaultdeps"
PERL_USE_UNSAFE_INC="1"
@INC:
/home/cpansand/.cpan/build/2025062911/Phone-Valid-International-Loose-0.04-0/blib/arch
/home/cpansand/.cpan/build/2025062911/Phone-Valid-International-Loose-0.04-0/blib/lib
/usr/perl5.42.0-RC2/lib/site_perl/5.42.0/aarch64-freebsd
/usr/perl5.42.0-RC2/lib/site_perl/5.42.0
/usr/perl5.42.0-RC2/lib/5.42.0/aarch64-freebsd
/usr/perl5.42.0-RC2/lib/5.42.0
.