Report for Net-FastCGI-0.14

Back
From: metabase:user:820ffd20-7a42-11e2-848c-1cbd19f161ad
Subject: PASS Net-FastCGI-0.14 v5.16.2 GNU/Linux
Date: 2013-03-27T13:15:28Z

This distribution has been tested as part of the CPAN Testers
project, supporting the Perl programming language.  See
http://wiki.cpantesters.org/ for more information or email
questions to cpan-testers-discuss@perl.org


--
Dear Christian Hansen,

This is a computer-generated report for Net-FastCGI-0.14
on perl 5.16.2, created by CPAN-Reporter-1.2009.

Thank you for uploading your work to CPAN.  Congratulations!
All tests were successful.

Sections of this report:

    * Tester comments
    * Program output
    * Prerequisites
    * Environment and other context

------------------------------
TESTER COMMENTS
------------------------------

Additional comments from tester:

none provided

------------------------------
PROGRAM OUTPUT
------------------------------

Output from '/bin/make test':

PERL_DL_NONLAZY=1 /usr/bin/perl "-MExtUtils::Command::MM" "-e" "test_harness(0, 'inc', 'blib/lib', 'blib/arch')" t/*.t t/*/*.t
# Net::FastCGI 0.14, Perl 5.016002, /usr/bin/perl
# NET_FASTCGI_PP=1
t/000_load.t ............................... ok
t/020_protocol/001_header.t ................ ok
t/020_protocol/005_record_length.t ......... ok
t/020_protocol/010_build_record.t .......... ok
t/020_protocol/015_build_stream.t .......... ok
t/020_protocol/020_begin_request_body.t .... ok
t/020_protocol/025_begin_request_record.t .. ok
t/020_protocol/027_begin_request.t ......... ok
t/020_protocol/030_end_request_body.t ...... ok
t/020_protocol/035_end_request_record.t .... ok
t/020_protocol/037_end_request.t ........... ok
t/020_protocol/040_unknown_type_body.t ..... ok
t/020_protocol/045_unknown_type_record.t ... ok
t/020_protocol/050_parse_record.t .......... ok
t/020_protocol/055_parse_record_body.t ..... ok
t/020_protocol/060_params.t ................ ok
t/020_protocol/065_record_type.t ........... ok
t/020_protocol/070_names.t ................. ok
t/020_protocol/080_dump_record.t ........... ok
t/020_protocol/085_dump_record_body.t ...... ok
All tests successful.
Files=20, Tests=408,  1 wallclock secs ( 0.12 usr  0.02 sys +  0.65 cusr  0.12 csys =  0.91 CPU)
Result: PASS

------------------------------
PREREQUISITES
------------------------------

Prerequisite modules loaded:

requires:

    Module              Need  Have    
    ------------------- ----- --------
    Carp                0     1.26    
    Exporter            0     5.67    
    perl                5.006 5.016002

build_requires:

    Module              Need  Have    
    ------------------- ----- --------
    ExtUtils::MakeMaker 6.59  6.64    
    Test::Exception     0     0.31    
    Test::HexString     0     0.03    
    Test::More          0.47  0.98    

configure_requires:

    Module              Need  Have    
    ------------------- ----- --------
    ExtUtils::MakeMaker 6.59  6.64    


------------------------------
ENVIRONMENT AND OTHER CONTEXT
------------------------------

Environment variables:

    DBIC_NO_WARN_BAD_PERL = 1
    LANG = en_US.UTF-8
    LD_LIBRARY_PATH = :/usr/lib:/usr/lib64:/usr/local/lib:/usr/local/lib64:/u01/app/oracle/product/11.2.0/xe/lib
    PATH = /root/bin:/root/.local/bin:/sbin:/bin:/usr/local/sbin:/usr/local/bin:/usr/sbin:/usr/bin:/usr/lib/jvm/java/bin:/usr/lib64/qt4/bin:/u01/app/oracle/product/11.2.0/xe/bin:/u01/app/oracle/product/11.2.0/xe/config/scripts:/opt/glassfish3/bin:/opt/ncbi/gbench-2.6.5/bin:/opt/ugene-1.11.4:/usr/local/share/axiom/mnt/fedora64/bin
    PERL5LIB = .:/usr/local/lib64/perl5:/usr/local/share/perl5:/usr/lib64/perl5/vendor_perl:/usr/share/perl5/vendor_perl:/usr/lib64/perl5:/usr/share/perl5:.:/usr/lib64/urxvt/perl
    PERL5OPT = 
    PERL5_CPANPLUS_IS_RUNNING = 12711
    PERL5_CPAN_IS_RUNNING = 12711
    SHELL = /bin/bash
    TERM = xterm-256color

Perl special variables (and OS-specific diagnostics, for MSWin32):

    $^X = /usr/bin/perl
    $UID/$EUID = 0 / 0
    $GID = 0 0
    $EGID = 0 0

Perl module toolchain versions installed:

    Module              Have    
    ------------------- --------
    CPAN                1.9800  
    CPAN::Meta          2.120921
    Cwd                 3.40    
    ExtUtils::CBuilder  0.280205
    ExtUtils::Command   1.17    
    ExtUtils::Install   1.58    
    ExtUtils::MakeMaker 6.64    
    ExtUtils::Manifest  1.61    
    ExtUtils::ParseXS   3.18    
    File::Spec          3.40    
    JSON                2.53    
    JSON::PP            2.27202 
    Module::Build       0.4003  
    Module::Signature   0.70    
    Parse::CPAN::Meta   1.4404  
    Test::Harness       3.26    
    Test::More          0.98    
    YAML                0.84    
    YAML::Syck          1.25    
    version             0.9902  


--

Summary of my perl5 (revision 5 version 16 subversion 2) configuration:
   
  Platform:
    osname=linux, osvers=2.6.32-279.19.1.el6.x86_64, archname=x86_64-linux-thread-multi
    uname='linux buildvm-26.phx2.fedoraproject.org 2.6.32-279.19.1.el6.x86_64 #1 smp sat nov 24 14:35:28 est 2012 x86_64 x86_64 x86_64 gnulinux '
    config_args='-des -Doptimize=-O2 -g -pipe -Wall -Wp,-D_FORTIFY_SOURCE=2 -fexceptions -fstack-protector --param=ssp-buffer-size=4  -m64 -mtune=generic -Dccdlflags=-Wl,--enable-new-dtags -Dlddlflags=-shared -O2 -g -pipe -Wall -Wp,-D_FORTIFY_SOURCE=2 -fexceptions -fstack-protector --param=ssp-buffer-size=4  -m64 -mtune=generic -Wl,-z,relro  -DDEBUGGING=-g -Dversion=5.16.2 -Dmyhostname=localhost -Dperladmin=root@localhost -Dcc=gcc -Dcf_by=Red Hat, Inc. -Dprefix=/usr -Dvendorprefix=/usr -Dsiteprefix=/usr/local -Dsitelib=/usr/local/share/perl5 -Dsitearch=/usr/local/lib64/perl5 -Dprivlib=/usr/share/perl5 -Dvendorlib=/usr/share/perl5/vendor_perl -Darchlib=/usr/lib64/perl5 -Dvendorarch=/usr/lib64/perl5/vendor_perl -Darchname=x86_64-linux-thread-multi -Dlibpth=/usr/local/lib64 /lib64 /usr/lib64 -Duseshrplib -Dusethreads -Duseithreads -Dusedtrace=/usr/bin/dtrace -Duselargefiles -Dd_semctl_semun -Di_db -Ui_ndbm -Di_gdbm -Di_shadow -Di_syslog -Dman3ext=3pm -Duseperlio -Dinstallusrbinperl=n -Ubincompat5005 -Uversiononly -Dpager=/usr/bin/less -isr -Dd_gethostent_r_proto -Ud_endhostent_r_proto -Ud_sethostent_r_proto -Ud_endprotoent_r_proto -Ud_setprotoent_r_proto -Ud_endservent_r_proto -Ud_setservent_r_proto -Dscriptdir=/usr/bin -Dusesitecustomize'
    hint=recommended, useposix=true, d_sigaction=define
    useithreads=define, usemultiplicity=define
    useperlio=define, d_sfio=undef, uselargefiles=define, usesocks=undef
    use64bitint=define, use64bitall=define, uselongdouble=undef
    usemymalloc=n, bincompat5005=undef
  Compiler:
    cc='gcc', ccflags ='-D_REENTRANT -D_GNU_SOURCE -fno-strict-aliasing -pipe -fstack-protector -I/usr/local/include -D_LARGEFILE_SOURCE -D_FILE_OFFSET_BITS=64',
    optimize='-O2 -g -pipe -Wall -Wp,-D_FORTIFY_SOURCE=2 -fexceptions -fstack-protector --param=ssp-buffer-size=4 -m64 -mtune=generic',
    cppflags='-D_REENTRANT -D_GNU_SOURCE -fno-strict-aliasing -pipe -fstack-protector -I/usr/local/include'
    ccversion='', gccversion='4.7.2 20121109 (Red Hat 4.7.2-8)', gccosandvers=''
    intsize=4, longsize=8, ptrsize=8, doublesize=8, byteorder=12345678
    d_longlong=define, longlongsize=8, d_longdbl=define, longdblsize=16
    ivtype='long', ivsize=8, nvtype='double', nvsize=8, Off_t='off_t', lseeksize=8
    alignbytes=8, prototype=define
  Linker and Libraries:
    ld='gcc', ldflags =' -fstack-protector'
    libpth=/usr/local/lib64 /lib64 /usr/lib64
    libs=-lresolv -lnsl -lgdbm -ldb -ldl -lm -lcrypt -lutil -lpthread -lc -lgdbm_compat
    perllibs=-lresolv -lnsl -ldl -lm -lcrypt -lutil -lpthread -lc
    libc=, so=so, useshrplib=true, libperl=libperl.so
    gnulibc_version='2.16'
  Dynamic Linking:
    dlsrc=dl_dlopen.xs, dlext=so, d_dlsymun=undef, ccdlflags='-Wl,--enable-new-dtags -Wl,-rpath,/usr/lib64/perl5/CORE'
    cccdlflags='-fPIC', lddlflags='-shared -O2 -g -pipe -Wall -Wp,-D_FORTIFY_SOURCE=2 -fexceptions -fstack-protector --param=ssp-buffer-size=4 -m64 -mtune=generic -Wl,-z,relro '


Characteristics of this binary (from libperl): 
  Compile-time options: HAS_TIMES MULTIPLICITY PERLIO_LAYERS
                        PERL_DONT_CREATE_GVSV PERL_IMPLICIT_CONTEXT
                        PERL_MALLOC_WRAP PERL_PRESERVE_IVUV USE_64_BIT_ALL
                        USE_64_BIT_INT USE_ITHREADS USE_LARGE_FILES
                        USE_LOCALE USE_LOCALE_COLLATE USE_LOCALE_CTYPE
                        USE_LOCALE_NUMERIC USE_PERLIO USE_PERL_ATOF
                        USE_REENTRANT_API USE_SITECUSTOMIZE
  Built under linux
  Compiled at Mar  5 2013 13:01:18
  %ENV:
    PERL5LIB=".:/usr/local/lib64/perl5:/usr/local/share/perl5:/usr/lib64/perl5/vendor_perl:/usr/share/perl5/vendor_perl:/usr/lib64/perl5:/usr/share/perl5:.:/usr/lib64/urxvt/perl"
    PERL5OPT=""
    PERL5_CPANPLUS_IS_RUNNING="12711"
    PERL5_CPAN_IS_RUNNING="12711"
  @INC:
    .
    /usr/local/lib64/perl5
    /usr/local/share/perl5
    /usr/lib64/perl5/vendor_perl
    /usr/share/perl5/vendor_perl
    /usr/lib64/perl5
    /usr/share/perl5
    .
    /usr/lib64/urxvt/perl
    /usr/local/lib64/perl5
    /usr/local/share/perl5
    /usr/lib64/perl5/vendor_perl
    /usr/share/perl5/vendor_perl
    /usr/lib64/perl5
    /usr/share/perl5
    .