MooseX-Extended v0.35 Perl 5 v5.41.11 amd64-midnightbsd

Status
Pass
From
Carlos Guevara
Dist
MooseX-Extended v0.35
Platform
Perl 5 v5.41.11 amd64-midnightbsd
Date
2025-04-10 13:19:11
ID
6460e08a-160e-11f0-a797-87fb766f7fea
This distribution has been tested as part of the CPAN Testers
project, supporting the Perl programming language.  See
http://wiki.cpantesters.org/ for more information or email
questions to cpan-testers-discuss@perl.org


--
Dear Curtis Poe,

This is a computer-generated report for MooseX-Extended-0.35
on perl 5.41.11, created by CPAN-Reporter-1.2020.

Thank you for uploading your work to CPAN.  Congratulations!
All tests were successful.

Sections of this report:

    * Tester comments
    * Program output
    * Prerequisites
    * Environment and other context

------------------------------
TESTER COMMENTS
------------------------------

Additional comments from tester:

this report is from an automated smoke testing program
and was not reviewed by a human for accuracy

------------------------------
PROGRAM OUTPUT
------------------------------

Output from '/usr/bin/make test':

PERL_DL_NONLAZY=1 "/usr/home/cpan/bin/perl/bin/perl5.41.11" "-MExtUtils::Command::MM" "-MTest::Harness" "-e" "undef *Test::Harness::Switches; test_harness(0, 'blib/lib', 'blib/arch')" t/*.t
# Testing MooseX::Extended 0.35, Perl 5.041011, /usr/home/cpan/bin/perl/bin/perl5.41.11
t/00-load.t ............... ok
# 
# Versions for all modules listed in MYMETA.json (including optional ones):
# 
# === Configure Requires ===
# 
#     Module              Want Have
#     ------------------- ---- ----
#     ExtUtils::MakeMaker  any 7.72
# 
# === Build Requires ===
# 
#     Module              Want Have
#     ------------------- ---- ----
#     ExtUtils::MakeMaker  any 7.72
# 
# === Test Requires ===
# 
#     Module              Want     Have
#     ------------------- ---- --------
#     Capture::Tiny        any     0.50
#     DateTime             any     1.66
#     ExtUtils::MakeMaker  any     7.72
#     File::Spec           any     3.94
#     List::Util           any  1.68_01
#     Scalar::Util         any  1.68_01
#     Test::Builder        any 1.302210
#     Test::More           any 1.302210
#     Test::Most           any     0.38
#     base                 any     2.27
#     lib                  any     0.65
#     version              any   0.9933
# 
# === Test Recommends ===
# 
#     Module              Want     Have
#     --------------- -------- --------
#     CPAN::Meta      2.120900 2.150010
#     Data::Printer        any 1.002001
#     IO::Async::Loop      any    0.803
# 
# === Runtime Requires ===
# 
#     Module                            Want     Have
#     ----------------------------- -------- --------
#     B::Hooks::AtRuntime                  8        8
#     Carp                               any     1.54
#     Data::Printer                      any 1.002001
#     Exporter                           any     5.79
#     Import::Into                       any 1.002005
#     Module::Load                       any     0.36
#     Moose                              any   2.2207
#     Moose::Exception                   any   2.2207
#     Moose::Exception::Role::Class      any   2.2207
#     Moose::Exporter                    any   2.2207
#     Moose::Meta::Role                  any   2.2207
#     Moose::Role                        any   2.2207
#     Moose::Util                        any   2.2207
#     MooseX::Role::WarnOnConflict       any     0.01
#     MooseX::StrictConstructor          any     0.21
#     Ref::Util                          any    0.204
#     Storable                           any     3.37
#     Type::Library                      any 2.008000
#     Type::Params                       any 2.008000
#     Type::Tiny                    1.012004 2.008000
#     Type::Utils                        any 2.008000
#     Types::Common::Numeric             any 2.008000
#     Types::Common::String              any 2.008000
#     Types::Standard                    any 2.008000
#     constant                           any     1.33
#     feature                            any     1.95
#     mro                                any     1.29
#     namespace::autoclean               any     0.31
#     parent                             any    0.244
#     perl                          5.020000 5.041011
#     strict                             any     1.13
#     true                            v1.0.2   v1.0.2
#     warnings                           any     1.74
# 
# === Runtime Suggests ===
# 
#     Module                        Want     Have
#     ------------------------- -------- --------
#     Function::Parameters      2.001003 2.002005
#     Future                        0.48     0.51
#     Future::AsyncAwait            0.58  missing
#     Syntax::Keyword::MultiSub     0.03  missing
#     Syntax::Keyword::Try         0.027     0.30
# 
t/00-report-prereqs.t ..... ok
t/async.t ................. skipped: Could not load Future::AsyncAwait: Can't locate Future/AsyncAwait.pm in @INC (you may need to install the Future::AsyncAwait module) (@INC entries checked: t/lib /usr/home/cpan/.cpan/build/MooseX-Extended-0.35-0/blib/lib /usr/home/cpan/.cpan/build/MooseX-Extended-0.35-0/blib/arch /home/cpan/bin/perl/lib/site_perl/5.41.11/amd64-midnightbsd /home/cpan/bin/perl/lib/site_perl/5.41.11 /home/cpan/bin/perl/lib/5.41.11/amd64-midnightbsd /home/cpan/bin/perl/lib/5.41.11 .) at /home/cpan/bin/perl/lib/5.41.11/Module/Load.pm line 78.
t/basic.t ................. ok
t/clone.t ................. ok
t/configuration.t ......... ok
t/custom.t ................ ok
t/exceptions.t ............ ok
t/excludes_field_param.t .. ok
t/field_init_arg.t ........ ok
t/import-lists.t .......... ok
t/inheritance.t ........... ok
t/inline.t ................ ok
t/method-keyword.t ........ ok
t/moose_compatibility.t ... ok
t/multimethods.t .......... skipped: Could not load Syntax::Keyword::MultiSub: Can't locate Syntax/Keyword/MultiSub.pm in @INC (you may need to install the Syntax::Keyword::MultiSub module) (@INC entries checked: t/lib /usr/home/cpan/.cpan/build/MooseX-Extended-0.35-0/blib/lib /usr/home/cpan/.cpan/build/MooseX-Extended-0.35-0/blib/arch /home/cpan/bin/perl/lib/site_perl/5.41.11/amd64-midnightbsd /home/cpan/bin/perl/lib/site_perl/5.41.11 /home/cpan/bin/perl/lib/5.41.11/amd64-midnightbsd /home/cpan/bin/perl/lib/5.41.11 .) at /home/cpan/bin/perl/lib/5.41.11/Module/Load.pm line 78.
t/roles.t ................. ok
t/rwp.t ................... ok
t/stringy-eval.t .......... ok
t/try.t ................... ok
t/types.t ................. ok
t/warnings.t .............. ok
All tests successful.
Files=22, Tests=118,  5 wallclock secs ( 0.05 usr  0.02 sys +  5.04 cusr  0.66 csys =  5.77 CPU)
Result: PASS

------------------------------
PREREQUISITES
------------------------------

Prerequisite modules loaded:

requires:

    Module                        Need     Have    
    ----------------------------- -------- --------
    B::Hooks::AtRuntime           8        8       
    Carp                          0        1.54    
    constant                      0        1.33    
    Data::Printer                 0        1.002001
    Exporter                      0        5.79    
    feature                       0        1.95    
    Import::Into                  0        1.002005
    Module::Load                  0        0.36    
    Moose                         0        2.2207  
    Moose::Exception              0        2.2207  
    Moose::Exception::Role::Class 0        2.2207  
    Moose::Exporter               0        2.2207  
    Moose::Meta::Role             0        2.2207  
    Moose::Role                   0        2.2207  
    Moose::Util                   0        2.2207  
    MooseX::Role::WarnOnConflict  0        0.01    
    MooseX::StrictConstructor     0        0.21    
    mro                           0        1.29    
    namespace::autoclean          0        0.31    
    parent                        0        0.244   
    perl                          5.020000 5.041011
    Ref::Util                     0        0.204   
    Storable                      0        3.37    
    strict                        0        1.13    
    true                          v1.0.2   v1.0.2  
    Type::Library                 0        2.008000
    Type::Params                  0        2.008000
    Type::Tiny                    1.012004 2.008000
    Type::Utils                   0        2.008000
    Types::Common::Numeric        0        2.008000
    Types::Common::String         0        2.008000
    Types::Standard               0        2.008000
    warnings                      0        1.74    

build_requires:

    Module                        Need     Have    
    ----------------------------- -------- --------
    base                          0        2.27    
    Capture::Tiny                 0        0.50    
    DateTime                      0        1.66    
    ExtUtils::MakeMaker           0        7.72    
    File::Spec                    0        3.94    
    lib                           0        0.65    
    List::Util                    0        1.68_01 
    Scalar::Util                  0        1.68_01 
    Test::Builder                 0        1.302210
    Test::More                    0        1.302210
    Test::Most                    0        0.38    
    version                       0        0.9933  

configure_requires:

    Module                        Need     Have    
    ----------------------------- -------- --------
    ExtUtils::MakeMaker           0        7.72    


------------------------------
ENVIRONMENT AND OTHER CONTEXT
------------------------------

Environment variables:

    AUTOMATED_TESTING = 1
    DATE_MANIP_TEST_DM5 = 1
    LC_ALL = C
    NONINTERACTIVE_TESTING = 1
    NO_NETWORK_TESTING = 1
    PATH = /home/cpan/bin/perl/bin:/home/cpan/bin:/sbin:/bin:/usr/sbin:/usr/bin:/usr/games:/usr/local/sbin:/usr/local/bin:/home/cpan/bin
    PERL5LIB = 
    PERL5OPT = 
    PERL5_CPANPLUS_IS_RUNNING = 8924
    PERL5_CPAN_IS_RUNNING = 8924
    PERL_MM_USE_DEFAULT = 1
    PERL_USE_UNSAFE_INC = 1
    SHELL = /usr/local/bin/bash
    TERM = screen
    TMPDIR = /home/cpan/tmp

Perl special variables (and OS-specific diagnostics, for MSWin32):

    $^X = /usr/home/cpan/bin/perl/bin/perl5.41.11
    $UID/$EUID = 1002 / 1002
    $GID = 1002 1002
    $EGID = 1002 1002

Perl module toolchain versions installed:

    Module              Have    
    ------------------- --------
    CPAN                2.38    
    CPAN::Meta          2.150010
    Cwd                 3.94    
    ExtUtils::CBuilder  0.280240
    ExtUtils::Command   7.72    
    ExtUtils::Install   2.22    
    ExtUtils::MakeMaker 7.72    
    ExtUtils::Manifest  1.75    
    ExtUtils::ParseXS   3.57    
    File::Spec          3.94    
    JSON                4.10    
    JSON::PP            4.16    
    Module::Build       0.4234  
    Module::Signature   0.89    
    Parse::CPAN::Meta   2.150010
    Test2               1.302210
    Test::Harness       3.50    
    Test::More          1.302210
    YAML                1.31    
    YAML::Syck          n/a     
    version             0.9933  


--

Summary of my perl5 (revision 5 version 41 subversion 11) configuration:
  Commit id: 3862d0fe942275854fcb426fb7d8471bd72af1e4
  Platform:
    osname=midnightbsd
    osvers=3.2.1
    archname=amd64-midnightbsd
    uname='midnightbsd cjg-midnightbsd3 3.2.1 midnightbsd 3.2.1 #15n13132-0869ed7092(stable3.2)-dirty: wed nov 6 12:53:25 est 2024 root@m3264:usrobjusrsrcamd64.amd64sysgeneric amd64 '
    config_args='-des -Dprefix=/home/cpan/bin/perl -Dscriptdir=/home/cpan/bin/perl/bin -Dusedevel -Duse64bitall'
    hint=recommended
    useposix=true
    d_sigaction=define
    useithreads=undef
    usemultiplicity=undef
    use64bitint=define
    use64bitall=define
    uselongdouble=undef
    usemymalloc=n
    default_inc_excludes_dot=define
  Compiler:
    cc='cc'
    ccflags ='-DHAS_FPSETMASK -DHAS_FLOATINGPOINT_H -fno-strict-aliasing -pipe -fstack-protector-strong -I/usr/local/include'
    optimize='-O'
    cppflags='-DHAS_FPSETMASK -DHAS_FLOATINGPOINT_H -fno-strict-aliasing -pipe -fstack-protector-strong -I/usr/local/include'
    ccversion=''
    gccversion='MidnightBSD Clang 13.0.0 (git@github.com:llvm/llvm-project.git llvmorg-13.0.0-0-gd7b669b3a303)'
    gccosandvers=''
    intsize=4
    longsize=8
    ptrsize=8
    doublesize=8
    byteorder=12345678
    doublekind=3
    d_longlong=define
    longlongsize=8
    d_longdbl=define
    longdblsize=16
    longdblkind=3
    ivtype='long'
    ivsize=8
    nvtype='double'
    nvsize=8
    Off_t='off_t'
    lseeksize=8
    alignbytes=8
    prototype=define
  Linker and Libraries:
    ld='cc'
    ldflags ='-Wl,-E  -fstack-protector-strong -L/usr/local/lib'
    libpth=/usr/lib /usr/local/lib /usr/lib/clang/13.0.0/lib
    libs=-lpthread -lgdbm -ldl -lm -lcrypt -lutil -lc
    perllibs=-lpthread -ldl -lm -lcrypt -lutil -lc
    libc=
    so=so
    useshrplib=false
    libperl=libperl.a
    gnulibc_version=''
  Dynamic Linking:
    dlsrc=dl_dlopen.xs
    dlext=so
    d_dlsymun=undef
    ccdlflags=' '
    cccdlflags='-DPIC -fPIC'
    lddlflags='-shared  -L/usr/local/lib -fstack-protector-strong'


Characteristics of this binary (from libperl): 
  Compile-time options:
    HAS_LONG_DOUBLE
    HAS_STRTOLD
    HAS_TIMES
    PERLIO_LAYERS
    PERL_COPY_ON_WRITE
    PERL_DONT_CREATE_GVSV
    PERL_HASH_FUNC_SIPHASH13
    PERL_HASH_USE_SBOX32
    PERL_MALLOC_WRAP
    PERL_OP_PARENT
    PERL_PRESERVE_IVUV
    PERL_USE_DEVEL
    PERL_USE_SAFE_PUTENV
    USE_64_BIT_ALL
    USE_64_BIT_INT
    USE_LARGE_FILES
    USE_LOCALE
    USE_LOCALE_COLLATE
    USE_LOCALE_CTYPE
    USE_LOCALE_NUMERIC
    USE_LOCALE_TIME
    USE_PERLIO
    USE_PERL_ATOF
  Built under midnightbsd
  Compiled at Apr 10 2025 04:11:06
  %ENV:
    PERL5LIB=""
    PERL5OPT=""
    PERL5_CPANPLUS_IS_RUNNING="8924"
    PERL5_CPAN_IS_RUNNING="8924"
    PERL_MM_USE_DEFAULT="1"
    PERL_USE_UNSAFE_INC="1"
  @INC:
    /home/cpan/bin/perl/lib/site_perl/5.41.11/amd64-midnightbsd
    /home/cpan/bin/perl/lib/site_perl/5.41.11
    /home/cpan/bin/perl/lib/5.41.11/amd64-midnightbsd
    /home/cpan/bin/perl/lib/5.41.11
    .