File-Remove v1.61 Perl 5 v5.32.1 amd64-openbsd
        
            - Status
 
            - Pass
 
            - From
 
            - Alceu Rodrigues de Freitas Junior
 
            - Dist
 
            - 
                File-Remove v1.61
            
 
            - Platform
 
            - Perl 5 v5.32.1 amd64-openbsd
 
            - Date
 
            - 2023-04-30 04:13:42
 
            - ID
 
            - 64520b64-e70d-11ed-8ab5-367c5758adf6
 
        
        This distribution has been tested as part of the CPAN Testers
project, supporting the Perl programming language.  See
http://wiki.cpantesters.org/ for more information or email
questions to cpan-testers-discuss@perl.org
--
Dear Shlomi Fish,
This is a computer-generated report for File-Remove-1.61
on perl 5.32.1, created by CPAN-Reporter-1.2018.
Thank you for uploading your work to CPAN.  Congratulations!
All tests were successful.
Sections of this report:
    * Tester comments
    * Program output
    * Prerequisites
    * Environment and other context
------------------------------
TESTER COMMENTS
------------------------------
Additional comments from tester:
this report is from an automated smoke testing program
and was not reviewed by a human for accuracy
If you would like to try to reproduce this report results or even to work with
the same environment for a bug fix, please refer to
https://github.com/glasswalk3r/cpan-openbsd-smoker to see how to use the
prebuilt virtual machines available.
------------------------------
PROGRAM OUTPUT
------------------------------
Output from './Build test':
t/00-compile.t ........ ok
t/01_compile.t ........ ok
t/02_directories.t .... ok
t/03_deep_readonly.t .. ok
t/04_can_delete.t ..... ok
t/05_links.t .......... ok
t/06_curly.t .......... ok
t/07_cwd.t ............ ok
t/08_spaces.t ......... ok
t/09_fork.t ........... ok
t/10_noglob.t ......... ok
All tests successful.
Files=11, Tests=222,  4 wallclock secs ( 0.05 usr  0.05 sys +  0.94 cusr  0.28 csys =  1.32 CPU)
Result: PASS
------------------------------
PREREQUISITES
------------------------------
Prerequisite modules loaded:
requires:
    Module                Need  Have    
    --------------------- ----- --------
    constant              0     1.33    
    Cwd                   3.29  3.78    
    File::Glob            0     1.33    
    File::Path            0     2.18    
    File::Spec            3.29  3.78    
    perl                  5.008 5.032001
    strict                0     1.11    
    vars                  0     1.05    
    warnings              0     1.47    
build_requires:
    Module                Need  Have    
    --------------------- ----- --------
    File::Copy            0     2.34    
    File::Spec            3.29  3.78    
    File::Spec::Functions 0     3.78    
    IO::Handle            0     1.51    
    IPC::Open3            0     1.21    
    Module::Build         0.28  0.4232  
    Test::More            0.88  1.302194
configure_requires:
    Module                Need  Have    
    --------------------- ----- --------
    ExtUtils::MakeMaker   0     7.70    
    Module::Build         0.28  0.4232  
------------------------------
ENVIRONMENT AND OTHER CONTEXT
------------------------------
Environment variables:
    AUTOMATED_TESTING = 1
    PATH = /home/goku/perl5/bin:/usr/bin:/bin:/usr/sbin:/sbin:/usr/X11R6/bin:/usr/local/bin:/usr/local/sbin
    PERL5LIB = /home/goku/perl5/lib/perl5
    PERL5OPT = 
    PERL5_CPANPLUS_IS_RUNNING = 15422
    PERL5_CPAN_IS_RUNNING = 15422
    PERL5_CPAN_IS_RUNNING_IN_RECURSION = 11465,15422
    PERL_CR_SMOKER_CURRENT = File-Remove-1.61
    PERL_EXTUTILS_AUTOINSTALL = --defaultdeps
    PERL_LOCAL_LIB_ROOT = /home/goku/perl5
    PERL_MB_OPT = --install_base "/home/goku/perl5"
    PERL_MM_OPT = INSTALL_BASE=/home/goku/perl5
    PERL_MM_USE_DEFAULT = 1
    PERL_USE_UNSAFE_INC = 1
    SHELL = /bin/ksh
    TERM = xterm-256color
Perl special variables (and OS-specific diagnostics, for MSWin32):
    $^X = /usr/bin/perl
    $UID/$EUID = 1001 / 1001
    $GID = 1002 1002 1001
    $EGID = 1002 1002 1001
Perl module toolchain versions installed:
    Module              Have    
    ------------------- --------
    CPAN                2.35    
    CPAN::Meta          2.150010
    Cwd                 3.78    
    ExtUtils::CBuilder  0.280236
    ExtUtils::Command   7.70    
    ExtUtils::Install   2.22    
    ExtUtils::MakeMaker 7.70    
    ExtUtils::Manifest  1.72    
    ExtUtils::ParseXS   3.40    
    File::Spec          3.78    
    JSON                4.10    
    JSON::PP            4.16    
    Module::Build       0.4232  
    Module::Signature   n/a     
    Parse::CPAN::Meta   2.150010
    Test::Harness       3.44    
    Test::More          1.302194
    YAML                1.30    
    YAML::Syck          1.34    
    version             0.9929  
--
Summary of my perl5 (revision 5 version 32 subversion 1) configuration:
   
  Platform:
    osname=openbsd
    osvers=7.2
    archname=amd64-openbsd
    uname='openbsd'
    config_args='-dse -Dopenbsd_distribution=defined -Dmksymlinks'
    hint=recommended
    useposix=true
    d_sigaction=define
    useithreads=undef
    usemultiplicity=undef
    use64bitint=define
    use64bitall=define
    uselongdouble=undef
    usemymalloc=n
    default_inc_excludes_dot=define
    bincompat5005=undef
  Compiler:
    cc='cc'
    ccflags ='-DNO_LOCALE_NUMERIC -DNO_LOCALE_COLLATE -fno-strict-aliasing -fno-delete-null-pointer-checks -pipe -fstack-protector-strong -I/usr/local/include'
    optimize='-O2'
    cppflags='-DBIG_TIME -DNO_LOCALE_NUMERIC -DNO_LOCALE_COLLATE -fno-strict-aliasing -fno-delete-null-pointer-checks -pipe -fstack-protector-strong -I/usr/local/include'
    ccversion=''
    gccversion='OpenBSD Clang 13.0.0'
    gccosandvers=''
    intsize=4
    longsize=8
    ptrsize=8
    doublesize=8
    byteorder=12345678
    doublekind=3
    d_longlong=define
    longlongsize=8
    d_longdbl=define
    longdblsize=16
    longdblkind=3
    ivtype='long'
    ivsize=8
    nvtype='double'
    nvsize=8
    Off_t='off_t'
    lseeksize=8
    alignbytes=8
    prototype=define
  Linker and Libraries:
    ld='cc'
    ldflags ='-Wl,-E  -fstack-protector-strong -L/usr/local/lib'
    libpth=/usr/lib /usr/lib/clang/13.0.0/lib /usr/lib
    libs=-lm -lc
    perllibs=-lm -lc
    libc=/usr/lib/libc.so.96.2
    so=so
    useshrplib=true
    libperl=libperl.so.22.0
    gnulibc_version=''
  Dynamic Linking:
    dlsrc=dl_dlopen.xs
    dlext=so
    d_dlsymun=undef
    ccdlflags='-Wl,-R/usr/libdata/perl5/amd64-openbsd/CORE'
    cccdlflags='-DPIC -fpic '
    lddlflags='-shared -fpic  -fstack-protector-strong -L/usr/local/lib'
Characteristics of this binary (from libperl): 
  Compile-time options:
    HAS_TIMES
    PERLIO_LAYERS
    PERL_COPY_ON_WRITE
    PERL_DONT_CREATE_GVSV
    PERL_MALLOC_WRAP
    PERL_OP_PARENT
    PERL_PRESERVE_IVUV
    USE_64_BIT_ALL
    USE_64_BIT_INT
    USE_LARGE_FILES
    USE_LOCALE
    USE_LOCALE_CTYPE
    USE_LOCALE_TIME
    USE_PERLIO
    USE_PERL_ATOF
  Built under openbsd
  %ENV:
    PERL5LIB="/home/goku/perl5/lib/perl5"
    PERL5OPT=""
    PERL5_CPANPLUS_IS_RUNNING="15422"
    PERL5_CPAN_IS_RUNNING="15422"
    PERL5_CPAN_IS_RUNNING_IN_RECURSION="11465,15422"
    PERL_CR_SMOKER_CURRENT="File-Remove-1.61"
    PERL_EXTUTILS_AUTOINSTALL="--defaultdeps"
    PERL_LOCAL_LIB_ROOT="/home/goku/perl5"
    PERL_MB_OPT="--install_base "/home/goku/perl5""
    PERL_MM_OPT="INSTALL_BASE=/home/goku/perl5"
    PERL_MM_USE_DEFAULT="1"
    PERL_USE_UNSAFE_INC="1"
  @INC:
    /home/goku/perl5/lib/perl5/amd64-openbsd
    /home/goku/perl5/lib/perl5
    /usr/local/libdata/perl5/site_perl/amd64-openbsd
    /usr/local/libdata/perl5/site_perl
    /usr/libdata/perl5/amd64-openbsd
    /usr/libdata/perl5
    .