Data-Float v0.010 Perl 5 v5.10.1 i686-cygwin-thread-multi-64int
- Status
- Pass
- From
- Sebastian Woetzel
- Dist
-
Data-Float v0.010
- Platform
- Perl 5 v5.10.1 i686-cygwin-thread-multi-64int
- Date
- 2010-08-18 15:43:28
- ID
- 644cd294-993c-1015-b66c-8fb6276d408b
This distribution has been tested as part of the CPAN Testers
project, supporting the Perl programming language. See
http://wiki.cpantesters.org/ for more information or email
questions to cpan-testers-discuss@perl.org
--
Dear Andrew Main (Zefram),
This is a computer-generated report for Data-Float-0.010
on perl 5.10.1, created by CPAN-Reporter-1.1711.
Thank you for uploading your work to CPAN. Congratulations!
All tests were successful.
Sections of this report:
* Tester comments
* Program output
* Prerequisites
* Environment and other context
------------------------------
TESTER COMMENTS
------------------------------
Additional comments from tester:
this report is from an automated smoke testing program
and was not reviewed by a human for accuracy
------------------------------
PROGRAM OUTPUT
------------------------------
Output from './Build test':
t/class.t ...... ok
t/const.t ...... ok
t/copysign.t ... ok
t/hex.t ........ ok
t/id_cmp.t ..... ok
t/nextafter.t .. ok
t/parts.t ...... ok
t/pod_cvg.t .... ok
t/pod_syn.t .... ok
t/pow2.t ....... ok
All tests successful.
Files=10, Tests=719, 5 wallclock secs ( 0.11 usr 0.27 sys + 2.49 cusr 2.45 csys = 5.31 CPU)
Result: PASS
------------------------------
PREREQUISITES
------------------------------
Prerequisite modules loaded:
requires:
Module Need Have
------------- ----- --------
Carp 0 1.11
constant 0 1.17
Exporter 0 5.63
integer 0 1.00
parent 0 0.221
perl 5.006 5.010001
strict 0 1.04
warnings 0 1.06
build_requires:
Module Need Have
------------- ----- --------
Module::Build 0 0.3607
perl 5.006 5.010001
strict 0 1.04
Test::More 0 0.92
warnings 0 1.06
configure_requires:
Module Need Have
------------- ----- --------
Module::Build 0 0.3607
perl 5.006 5.010001
strict 0 1.04
warnings 0 1.06
------------------------------
ENVIRONMENT AND OTHER CONTEXT
------------------------------
Environment variables:
AUTOMATED_TESTING = 1
COMSPEC = C:\WINDOWS\system32\cmd.exe
LANG = C.UTF-8
NUMBER_OF_PROCESSORS = 1
PATH = /usr/local/bin:/usr/bin:/bin:/cygdrive/c/WINDOWS/system32:/cygdrive/c/WINDOWS:/cygdrive/c/WINDOWS/System32/Wbem:/cygdrive/c/Program Files/TortoiseGit/bin:/cygdrive/c/strawberry/c/bin:/cygdrive/c/strawberry/perl/site/bin:/cygdrive/c/strawberry/perl/bin:/usr/lib/lapack
PERL5LIB = /home/wose/.cpan/build/constant-lexical-2-YVSBo9/blib/arch:/home/wose/.cpan/build/constant-lexical-2-YVSBo9/blib/lib:/home/wose/.cpan/build/Sub-Delete-1.00002-ZeRbQv/blib/arch:/home/wose/.cpan/build/Sub-Delete-1.00002-ZeRbQv/blib/lib:/home/wose/.cpan/build/XML-DOM-Lite-0.15-olDZiY/blib/arch:/home/wose/.cpan/build/XML-DOM-Lite-0.15-olDZiY/blib/lib
PERL5OPT =
PERL5_CPANPLUS_IS_RUNNING = 15332
PERL5_CPAN_IS_RUNNING = 15332
PERL5_CPAN_IS_RUNNING_IN_RECURSION = 2220,15332
PERL_CR_SMOKER_CURRENT = WWW-Scripter-Plugin-Ajax-0.08
PERL_EXTUTILS_AUTOINSTALL = --defaultdeps
PERL_MM_USE_DEFAULT = 1
PROCESSOR_IDENTIFIER = x86 Family 6 Model 2 Stepping 3, GenuineIntel
TEMP = /cygdrive/c/DOCUME~1/wose/LOCALS~1/Temp
TERM = xterm
Perl special variables (and OS-specific diagnostics, for MSWin32):
$^X = /usr/bin/perl
$UID/$EUID = 1003 / 1003
$GID = 513 0 544 555 545 513
$EGID = 513 0 544 555 545 513
Perl module toolchain versions installed:
Module Have
------------------- -------
CPAN 1.9402
Cwd 3.31
ExtUtils::CBuilder 0.2703
ExtUtils::Command 1.16_01
ExtUtils::Install 1.54
ExtUtils::MakeMaker 6.55_02
ExtUtils::Manifest 1.56
ExtUtils::ParseXS 2.2203
File::Spec 3.31
Module::Build 0.3607
Module::Signature 0.61
Test::Harness 3.17
Test::More 0.92
YAML 0.71
YAML::Syck 1.10
version 0.82
--
Summary of my perl5 (revision 5 version 10 subversion 1) configuration:
Platform:
osname=cygwin, osvers=1.7.0(0.21853), archname=i686-cygwin-thread-multi-64int
uname='cygwin_nt-5.1 reini 1.7.0(0.21853) 2009-12-04 17:08 i686 cygwin '
config_args='-de -Dlibperl=cygperl5_10.dll -Dmksymlinks -Dusethreads -Doptimize=-O3'
hint=recommended, useposix=true, d_sigaction=define
useithreads=define, usemultiplicity=define
useperlio=define, d_sfio=undef, uselargefiles=define, usesocks=undef
use64bitint=define, use64bitall=undef, uselongdouble=undef
usemymalloc=y, bincompat5005=undef
Compiler:
cc='gcc', ccflags ='-DPERL_USE_SAFE_PUTENV -U__STRICT_ANSI__ -fno-strict-aliasing -pipe -fstack-protector -I/usr/local/include',
optimize='-O3',
cppflags='-DPERL_USE_SAFE_PUTENV -U__STRICT_ANSI__ -fno-strict-aliasing -pipe -fstack-protector -I/usr/local/include'
ccversion='', gccversion='4.3.4 20090804 (release) 1', gccosandvers=''
intsize=4, longsize=4, ptrsize=4, doublesize=8, byteorder=12345678
d_longlong=define, longlongsize=8, d_longdbl=define, longdblsize=12
ivtype='long long', ivsize=8, nvtype='double', nvsize=8, Off_t='off_t', lseeksize=8
alignbytes=8, prototype=define
Linker and Libraries:
ld='g++', ldflags =' -Wl,--enable-auto-import -Wl,--export-all-symbols -Wl,--stack,8388608 -Wl,--enable-auto-image-base -fstack-protector -L/usr/local/lib'
libpth=/usr/local/lib /usr/lib /lib
libs=-lgdbm -ldb -ldl -lcrypt -lgdbm_compat
perllibs=-ldl -lcrypt
libc=/usr/lib/libc.a, so=dll, useshrplib=true, libperl=cygperl5_10.dll
gnulibc_version=''
Dynamic Linking:
dlsrc=dl_dlopen.xs, dlext=dll, d_dlsymun=undef, ccdlflags=' '
cccdlflags=' ', lddlflags=' --shared -Wl,--enable-auto-import -Wl,--export-all-symbols -Wl,--stack,8388608 -Wl,--enable-auto-image-base -L/usr/local/lib -fstack-protector'
Characteristics of this binary (from libperl):
Compile-time options: MULTIPLICITY MYMALLOC PERL_DONT_CREATE_GVSV
PERL_IMPLICIT_CONTEXT PERL_USE_SAFE_PUTENV
USE_64_BIT_INT USE_ITHREADS USE_LARGE_FILES
USE_PERLIO USE_REENTRANT_API
Locally applied patches:
CYG11 no-bs
CYG12 no archlib in otherlibdirs
CYG14 Dynaloader
CYG15 static-Win32CORE
CYG17 utf8-paths
CYG21 LibList-Kid.patch
CYG22 cygwin-1.7 hints
CYG23 544-stat
CYG24 build man pages
CYG26 Cwd for svk
Bug#55162 File::Spec::case_tolerant performance
disable ExtUtils::MakeMaker::Coverage in Sys-Syslog
Built under cygwin
Compiled at Dec 18 2009 14:54:24
%ENV:
PERL5LIB="/home/wose/.cpan/build/constant-lexical-2-YVSBo9/blib/arch:/home/wose/.cpan/build/constant-lexical-2-YVSBo9/blib/lib:/home/wose/.cpan/build/Sub-Delete-1.00002-ZeRbQv/blib/arch:/home/wose/.cpan/build/Sub-Delete-1.00002-ZeRbQv/blib/lib:/home/wose/.cpan/build/XML-DOM-Lite-0.15-olDZiY/blib/arch:/home/wose/.cpan/build/XML-DOM-Lite-0.15-olDZiY/blib/lib"
PERL5OPT=""
PERL5_CPANPLUS_IS_RUNNING="15332"
PERL5_CPAN_IS_RUNNING="15332"
PERL5_CPAN_IS_RUNNING_IN_RECURSION="2220,15332"
PERL_CR_SMOKER_CURRENT="WWW-Scripter-Plugin-Ajax-0.08"
PERL_EXTUTILS_AUTOINSTALL="--defaultdeps"
PERL_MM_USE_DEFAULT="1"
CYGWIN=""
@INC:
/home/wose/.cpan/build/constant-lexical-2-YVSBo9/blib/arch
/home/wose/.cpan/build/constant-lexical-2-YVSBo9/blib/lib
/home/wose/.cpan/build/Sub-Delete-1.00002-ZeRbQv/blib/arch
/home/wose/.cpan/build/Sub-Delete-1.00002-ZeRbQv/blib/lib
/home/wose/.cpan/build/XML-DOM-Lite-0.15-olDZiY/blib/arch
/home/wose/.cpan/build/XML-DOM-Lite-0.15-olDZiY/blib/lib
/usr/lib/perl5/5.10/i686-cygwin
/usr/lib/perl5/5.10
/usr/lib/perl5/site_perl/5.10/i686-cygwin
/usr/lib/perl5/site_perl/5.10
/usr/lib/perl5/vendor_perl/5.10/i686-cygwin
/usr/lib/perl5/vendor_perl/5.10
/usr/lib/perl5/vendor_perl/5.10
/usr/lib/perl5/site_perl/5.8
/usr/lib/perl5/vendor_perl/5.8
.