Kelp-Module-Template-XslateTT v1.002 Perl 5 v5.24.0 MSWin32-x86-multi-thread

Status
Pass
From
Alexandr Ciornii (CHORNY)
Dist
Kelp-Module-Template-XslateTT v1.002
Platform
Perl 5 v5.24.0 MSWin32-x86-multi-thread
Date
2018-11-21 21:23:25
ID
6402e867-6bf4-1014-bf3a-2cb7058e4086
This distribution has been tested as part of the CPAN Testers
project, supporting the Perl programming language.  See
http://wiki.cpantesters.org/ for more information or email
questions to cpan-testers-discuss@perl.org


--
Dear Serguei Trouchelle,

This is a computer-generated report for Kelp-Module-Template-XslateTT-1.002
on perl 5.24.0, created by CPAN-Reporter-1.2018.

Thank you for uploading your work to CPAN.  Congratulations!
All tests were successful.

Sections of this report:

    * Tester comments
    * Program output
    * Prerequisites
    * Environment and other context

------------------------------
TESTER COMMENTS
------------------------------

Additional comments from tester:

this report is from an automated smoke testing program
and was not reviewed by a human for accuracy

------------------------------
PROGRAM OUTPUT
------------------------------

Output from 'C:\STRAWB~1\c\bin\dmake.exe test':

"C:\Strawberry240\perl\bin\perl.exe" "-MExtUtils::Command::MM" "-MTest::Harness" "-e" "undef *Test::Harness::Switches; test_harness(0, 'blib\lib', 'blib\arch')" t/*.t t/00-compile/*.t
# Listing %INC
#           B::Hooks::EndOfScope 0.21
#       B::Hooks::EndOfScope::XS 0.21
#                           Carp 1.40
#              Data::MessagePack 1.00
#                       Exporter 5.72
#                     File::Spec 3.63
#               File::Spec::Unix 3.63
#              File::Spec::Win32 3.63
#                     Kelp::Base undef
#                   Kelp::Module undef
#         Kelp::Module::Template undef
# Kelp::Module::Template::Xslate 0.01
#                 Kelp::Template undef
#                     List::Util 1.47
#         Module::Implementation 0.09
#                Module::Runtime 0.014
#                 Package::Stash 0.37
#             Package::Stash::XS 0.28
#                   Scalar::Util 1.47
#     Sub::Exporter::Progressive 0.001013
#                  Sub::Identify 0.12
#                      Sub::Util 1.47
#                 Template::Tiny 1.12
#                   Text::Xslate 3.3.9
#             Text::Xslate::Util undef
#                      Try::Tiny 0.27
#                Variable::Magic 0.60
#                       XSLoader 0.24
#                           base 2.23
#                       constant 1.33
#                        feature 1.42
#           namespace::autoclean 0.28
#               namespace::clean 0.27
#        namespace::clean::_Util undef
#                         parent 0.236
#                         strict 1.11
#                           vars 1.03
#                       warnings 1.36
#             warnings::register 1.04
t/00-all_prereqs.t ................................... ok
t/00-compile.t ....................................... ok
t/00-compile/lib_Kelp_Module_Template_XslateTT_pm.t .. ok
# 
# Versions for all modules listed in MYMETA.json (including optional ones):
# 
# === Configure Requires ===
# 
#     Module              Want Have
#     ------------------- ---- ----
#     ExtUtils::MakeMaker  any 7.24
# 
# === Build Requires ===
# 
#     Module              Want Have
#     ------------------- ---- ----
#     ExtUtils::MakeMaker  any 7.24
# 
# === Test Requires ===
# 
#     Module              Want     Have
#     ------------------- ---- --------
#     ExtUtils::MakeMaker  any     7.24
#     File::Spec           any     3.63
#     IO::Handle           any     1.36
#     IPC::Open3           any     1.20
#     Test::More           any 1.302073
# 
# === Test Recommends ===
# 
#     Module         Want     Have
#     ---------- -------- --------
#     CPAN::Meta 2.120900 2.150010
# 
# === Runtime Requires ===
# 
#     Module                         Want Have
#     ------------------------------ ---- ----
#     Kelp::Module::Template::Xslate 0.01 0.01
# 
t/00-report-prereqs.t ................................ ok
# Testing with Perl 5.024000, C:\Strawberry240\perl\bin\perl.exe
#     ExtUtils::MakeMaker version is 7.24
#     File::Spec version is 3.63
#     IO::Handle version is 1.36
#     IPC::Open3 version is 1.20
#     Kelp::Module::Template::Xslate version is 0.01
#     Test::More version is 1.302073
t/000-report-versions.t .............................. ok
t/01sanity.t ......................................... ok
t/02template.t ....................................... ok
t/author-critic.t .................................... skipped: these tests are for testing by the author
t/author-eol.t ....................................... skipped: these tests are for testing by the author
t/author-minimum-version.t ........................... skipped: these tests are for testing by the author
t/author-no-tabs.t ................................... skipped: these tests are for testing by the author
t/author-pod-syntax.t ................................ skipped: these tests are for testing by the author
t/release-distmeta.t ................................. skipped: these tests are for release candidate testing
t/release-fixme.t .................................... skipped: these tests are for release candidate testing
t/release-has-version.t .............................. skipped: these tests are for release candidate testing
t/release-meta-json.t ................................ skipped: these tests are for release candidate testing
t/release-pause-permissions.t ........................ skipped: these tests are for release candidate testing
All tests successful.
Files=17, Tests=45,  3 wallclock secs ( 0.07 usr +  0.08 sys =  0.15 CPU)
Result: PASS

------------------------------
PREREQUISITES
------------------------------

Prerequisite modules loaded:

requires:

    Module                         Need Have    
    ------------------------------ ---- --------
    Kelp::Module::Template::Xslate 0.01 0.01    

build_requires:

    Module                         Need Have    
    ------------------------------ ---- --------
    ExtUtils::MakeMaker            0    7.24    
    File::Spec                     0    3.63    
    IO::Handle                     0    1.36    
    IPC::Open3                     0    1.20    
    Test::More                     0    1.302073

configure_requires:

    Module                         Need Have    
    ------------------------------ ---- --------
    ExtUtils::MakeMaker            0    7.24    


------------------------------
ENVIRONMENT AND OTHER CONTEXT
------------------------------

Environment variables:

    AUTOMATED_TESTING = 1
    COMSPEC = C:\WINDOWS\system32\cmd.exe
    NUMBER_OF_PROCESSORS = 1
    PATH = C:\WINDOWS\system32;C:\WINDOWS;C:\WINDOWS\System32\Wbem;C:\Git\cmd;C:\Strawberry240\c\bin;C:\Strawberry240\perl\site\bin;C:\Strawberry240\perl\bin
    PERL5LIB = C:\STRAWB~1\cpan\build\Kelp-Module-Template-Xslate-0.01-0/blib/arch;C:\STRAWB~1\cpan\build\Kelp-Module-Template-Xslate-0.01-0/blib/lib;C:\STRAWB~1\cpan\build\Kelp-1.02-0/blib/arch;C:\STRAWB~1\cpan\build\Kelp-1.02-0/blib/lib
    PERL5OPT = 
    PERL5_CPANPLUS_IS_RUNNING = 1848
    PERL5_CPAN_IS_RUNNING = 1848
    PERL5_CPAN_IS_RUNNING_IN_RECURSION = 1624,1848
    PERL_CR_SMOKER_CURRENT = Kelp-Module-Template-XslateTT-1.002
    PERL_CR_SMOKER_RUNONCE = 1
    PERL_EXTUTILS_AUTOINSTALL = --defaultdeps
    PERL_HASH_SEED = 0x11111111
    PERL_MM_USE_DEFAULT = 1
    PROCESSOR_IDENTIFIER = x86 Family 16 Model 5 Stepping 3, AuthenticAMD
    TEMP = C:\DOCUME~1\a\LOCALS~1\Temp

Perl special variables (and OS-specific diagnostics, for MSWin32):

    $^X = C:\Strawberry240\perl\bin\perl.exe
    $UID/$EUID = 0 / 0
    $GID = 0
    $EGID = 0
    Win32::GetOSName = WinXP/.Net
    Win32::GetOSVersion = Service Pack 3, 5, 1, 2600, 2, 3, 0, 256, 1
    Win32::FsType = NTFS
    Win32::IsAdminUser = 1

Perl module toolchain versions installed:

    Module              Have    
    ------------------- --------
    CPAN                2.14    
    CPAN::Meta          2.150010
    Cwd                 3.63    
    ExtUtils::CBuilder  0.280225
    ExtUtils::Command   7.24    
    ExtUtils::Install   2.04    
    ExtUtils::MakeMaker 7.24    
    ExtUtils::Manifest  1.70    
    ExtUtils::ParseXS   3.31    
    File::Spec          3.63    
    JSON                2.90    
    JSON::PP            2.27400 
    Module::Build       0.4220  
    Module::Signature   0.81    
    Parse::CPAN::Meta   2.150010
    Test::Harness       3.36    
    Test::More          1.302073
    YAML                1.21    
    YAML::Syck          1.29    
    version             0.9917  


--

Summary of my perl5 (revision 5 version 24 subversion 0) configuration:
   
  Platform:
    osname=MSWin32, osvers=4.0, archname=MSWin32-x86-multi-thread
    uname='Win32 strawberry-perl 5.24.0.1-beta1 #1 Thu Dec 29 16:46:05 2016 i386'
    config_args='undef'
    hint=recommended, useposix=true, d_sigaction=undef
    useithreads=define, usemultiplicity=define
    use64bitint=undef, use64bitall=undef, uselongdouble=undef
    usemymalloc=n, bincompat5005=undef
  Compiler:
    cc='gcc', ccflags =' -s -O2 -DWIN32  -DPERL_TEXTMODE_SCRIPTS -DPERL_IMPLICIT_CONTEXT -DPERL_IMPLICIT_SYS -fwrapv -fno-strict-aliasing -mms-bitfields',
    optimize='-s -O2',
    cppflags='-DWIN32'
    ccversion='', gccversion='4.9.2', gccosandvers=''
    intsize=4, longsize=4, ptrsize=4, doublesize=8, byteorder=1234, doublekind=3
    d_longlong=define, longlongsize=8, d_longdbl=define, longdblsize=12, longdblkind=3
    ivtype='long', ivsize=4, nvtype='double', nvsize=8, Off_t='long long', lseeksize=8
    alignbytes=8, prototype=define
  Linker and Libraries:
    ld='g++', ldflags ='-s -L"C:\STRAWB~1\perl\lib\CORE" -L"C:\STRAWB~1\c\lib"'
    libpth=C:\STRAWB~1\c\lib C:\STRAWB~1\c\i686-w64-mingw32\lib C:\STRAWB~1\c\lib\gcc\i686-w64-mingw32\4.9.2
    libs=-lmoldname -lkernel32 -luser32 -lgdi32 -lwinspool -lcomdlg32 -ladvapi32 -lshell32 -lole32 -loleaut32 -lnetapi32 -luuid -lws2_32 -lmpr -lwinmm -lversion -lodbc32 -lodbccp32 -lcomctl32
    perllibs=-lmoldname -lkernel32 -luser32 -lgdi32 -lwinspool -lcomdlg32 -ladvapi32 -lshell32 -lole32 -loleaut32 -lnetapi32 -luuid -lws2_32 -lmpr -lwinmm -lversion -lodbc32 -lodbccp32 -lcomctl32
    libc=, so=dll, useshrplib=true, libperl=libperl524.a
    gnulibc_version=''
  Dynamic Linking:
    dlsrc=dl_win32.xs, dlext=xs.dll, d_dlsymun=undef, ccdlflags=' '
    cccdlflags=' ', lddlflags='-mdll -s -L"C:\STRAWB~1\perl\lib\CORE" -L"C:\STRAWB~1\c\lib"'


Characteristics of this binary (from libperl): 
  Compile-time options: HAS_TIMES HAVE_INTERP_INTERN MULTIPLICITY
                        PERLIO_LAYERS PERL_COPY_ON_WRITE
                        PERL_DONT_CREATE_GVSV
                        PERL_HASH_FUNC_ONE_AT_A_TIME_HARD
                        PERL_IMPLICIT_CONTEXT PERL_IMPLICIT_SYS
                        PERL_MALLOC_WRAP PERL_PRESERVE_IVUV USE_ITHREADS
                        USE_LARGE_FILES USE_LOCALE USE_LOCALE_COLLATE
                        USE_LOCALE_CTYPE USE_LOCALE_NUMERIC USE_LOCALE_TIME
                        USE_PERLIO USE_PERL_ATOF
  Built under MSWin32
  Compiled at Dec 29 2016 16:55:33
  %ENV:
    PERL5LIB="C:\STRAWB~1\cpan\build\Kelp-Module-Template-Xslate-0.01-0/blib/arch;C:\STRAWB~1\cpan\build\Kelp-Module-Template-Xslate-0.01-0/blib/lib;C:\STRAWB~1\cpan\build\Kelp-1.02-0/blib/arch;C:\STRAWB~1\cpan\build\Kelp-1.02-0/blib/lib"
    PERL5_CPANPLUS_IS_RUNNING="1848"
    PERL5_CPAN_IS_RUNNING="1848"
    PERL5_CPAN_IS_RUNNING_IN_RECURSION="1624,1848"
    PERL_CR_SMOKER_CURRENT="Kelp-Module-Template-XslateTT-1.002"
    PERL_CR_SMOKER_RUNONCE="1"
    PERL_EXTUTILS_AUTOINSTALL="--defaultdeps"
    PERL_HASH_SEED="0x11111111"
    PERL_MM_USE_DEFAULT="1"
  @INC:
    C:\STRAWB~1\cpan\build\Kelp-Module-Template-Xslate-0.01-0/blib/arch
    C:\STRAWB~1\cpan\build\Kelp-Module-Template-Xslate-0.01-0/blib/lib
    C:\STRAWB~1\cpan\build\Kelp-1.02-0/blib/arch
    C:\STRAWB~1\cpan\build\Kelp-1.02-0/blib/lib
    C:/Strawberry240/perl/site/lib
    C:/Strawberry240/perl/vendor/lib
    C:/Strawberry240/perl/lib
    .