Mail-Mbox-MessageParser v1.5111 Perl 5 v5.24.4 amd64-freebsd-thread-multi

Status
Pass
From
Chris Williams (BINGOS)
Dist
Mail-Mbox-MessageParser v1.5111
Platform
Perl 5 v5.24.4 amd64-freebsd-thread-multi
Date
2018-07-17 17:25:24
ID
63f2fcb6-89e6-11e8-919d-ffef68b7f98c
This distribution has been tested as part of the CPAN Testers
project, supporting the Perl programming language.  See
http://wiki.cpantesters.org/ for more information or email
questions to cpan-testers-discuss@perl.org


--

Dear DCOPPIT,

This is a computer-generated error report created automatically by
CPANPLUS, version 0.9176. Testers personal comments may appear
at the end of this report.


Thank you for uploading your work to CPAN.  Congratulations!
All tests were successful.

TEST RESULTS:

Below is the error stack from stage 'make test':

PERL_DL_NONLAZY=1 "/usr/home/cpan/pit/thr/perl-5.24.4/bin/perl" "-MExtUtils::Command::MM" "-MTest::Harness" "-e" "undef *Test::Harness::Switches; test_harness(1, 'blib/lib', 'blib/arch')" t/*.t
t/000_standard__compile.t ....... 
1..6
ok 1 - Compile test for blib/lib/Mail/Mbox/MessageParser.pm
ok 2 - Compile test for blib/lib/Mail/Mbox/MessageParser/Grep.pm
ok 3 - Compile test for blib/lib/Mail/Mbox/MessageParser/Cache.pm
ok 4 - Compile test for blib/lib/Mail/Mbox/MessageParser/Perl.pm
ok 5 - Compile test for blib/lib/Mail/Mbox/MessageParser/MetaInfo.pm
ok 6 - Compile test for blib/lib/Mail/Mbox/MessageParser/Config.pm
ok
t/000_standard__perl_critic.t ... skipped: Author test. Set $ENV{TEST_AUTHOR} to a true value to run.
t/000_standard__pod.t ........... skipped: Test::Pod required for testing POD
t/000_standard__pod_coverage.t .. skipped: Test::Pod::Coverage required for testing POD coverage
t/appended_mailbox.t ............ 
1..6
Testing modified mailbox with Perl implementation
Comparing /tmp/3FGgQn_6eg to t/mailboxes/mailarc-1.txt
Output /tmp/3FGgQn_6eg looks good.
ok 1 - Computing differences
Testing modified mailbox with Cache implementation
Comparing /tmp/mmGEPQ4Cvi to t/mailboxes/mailarc-1.txt
Output /tmp/mmGEPQ4Cvi looks good.
ok 2 - Computing differences
Testing modified mailbox with Grep implementation
ok 3 # skip GNU grep not available
Testing modified mailbox with Perl implementation
Comparing /tmp/IxcaoB5LSb to t/mailboxes/mailarc-1.txt
Output /tmp/IxcaoB5LSb looks good.
ok 4 - Computing differences
Testing modified mailbox with Cache implementation
Comparing /tmp/UZwiO1UWjp to t/mailboxes/mailarc-1.txt
Output /tmp/UZwiO1UWjp looks good.
ok 5 - Computing differences
Testing modified mailbox with Grep implementation
ok 6 # skip GNU grep not available
ok
t/bzip2.t ....................... 
1..1
Running test:
  "/bin/cat" "t/mailboxes/mailarc-2.txt.bz2" | "/usr/bin/bzip2" -cd
Comparing /tmp/Ra6WYzzR84 to t/results/mailarc-2.txt
Output /tmp/Ra6WYzzR84 looks good.
Comparing /tmp/ULMlpHiBeZ to t/results/none
Output /tmp/ULMlpHiBeZ looks good.
ok 1 - Computing differences
ok
t/endline.t ..................... 
1..8
Testing filename: t/mailboxes/mailarc-1-dos.txt
ok 1 - Dos endline expected
ok 2 - Dos endline expected
ok 3 - Dos endline expected
ok 4 # skip GNU grep not available
Testing filename: t/mailboxes/mailarc-1.txt
ok 5 - Unix endline expected
ok 6 - Unix endline expected
ok 7 - Unix endline expected
ok 8 # skip GNU grep not available
ok
t/filehandle_compressed.t ....... 
1..16
Testing filename: t/mailboxes/mailarc-2.txt.bz2
Comparing /tmp/XMfCxxBYPa to t/mailboxes/mailarc-2.txt
Output /tmp/XMfCxxBYPa looks good.
ok 1 - Computing differences
Comparing /tmp/A7_SEJTmEO to t/mailboxes/mailarc-2.txt
Output /tmp/A7_SEJTmEO looks good.
ok 2 - Computing differences
Comparing /tmp/751aMRSIpJ to t/mailboxes/mailarc-2.txt
Output /tmp/751aMRSIpJ looks good.
ok 3 - Computing differences
ok 4 # skip GNU grep not available
Testing filename: t/mailboxes/mailarc-2.txt.gz
Comparing /tmp/44E2rhRzCj to t/mailboxes/mailarc-2.txt
Output /tmp/44E2rhRzCj looks good.
ok 5 - Computing differences
Comparing /tmp/FYNVWZ2xa8 to t/mailboxes/mailarc-2.txt
Output /tmp/FYNVWZ2xa8 looks good.
ok 6 - Computing differences
Comparing /tmp/aN5o4dB91q to t/mailboxes/mailarc-2.txt
Output /tmp/aN5o4dB91q looks good.
ok 7 - Computing differences
ok 8 # skip GNU grep not available
Testing filename: t/mailboxes/mailarc-2.txt.lz
ok 9 # skip lzip not available
ok 10 # skip lzip not available
ok 11 # skip lzip not available
ok 12 # skip lzip not available
Testing filename: t/mailboxes/mailarc-2.txt.xz
Comparing /tmp/mI81AXjQYA to t/mailboxes/mailarc-2.txt
Output /tmp/mI81AXjQYA looks good.
ok 13 - Computing differences
Comparing /tmp/HQAkzY8jHZ to t/mailboxes/mailarc-2.txt
Output /tmp/HQAkzY8jHZ looks good.
ok 14 - Computing differences
Comparing /tmp/RmBZ7uSbaW to t/mailboxes/mailarc-2.txt
Output /tmp/RmBZ7uSbaW looks good.
ok 15 - Computing differences
ok 16 # skip GNU grep not available
ok
t/filehandle_noncompressed.t .... 
1..44
Testing filename: t/mailboxes/binary_body.txt
Comparing /tmp/GJ1XDJSJae to t/mailboxes/binary_body.txt
Output /tmp/GJ1XDJSJae looks good.
ok 1 - Computing differences
Comparing /tmp/r6iZctoQni to t/mailboxes/binary_body.txt
Output /tmp/r6iZctoQni looks good.
ok 2 - Computing differences
Comparing /tmp/2rZmdoVi_K to t/mailboxes/binary_body.txt
Output /tmp/2rZmdoVi_K looks good.
ok 3 - Computing differences
ok 4 # skip GNU grep not available
Testing filename: t/mailboxes/hessbug.txt
Comparing /tmp/drAuCrUHH5 to t/mailboxes/hessbug.txt
Output /tmp/drAuCrUHH5 looks good.
ok 5 - Computing differences
Comparing /tmp/IVtRuKgblJ to t/mailboxes/hessbug.txt
Output /tmp/IVtRuKgblJ looks good.
ok 6 - Computing differences
Comparing /tmp/9oTgEESs83 to t/mailboxes/hessbug.txt
Output /tmp/9oTgEESs83 looks good.
ok 7 - Computing differences
ok 8 # skip GNU grep not available
Testing filename: t/mailboxes/invalid-boundaries.txt
Comparing /tmp/rahA1uSbO5 to t/mailboxes/invalid-boundaries.txt
Output /tmp/rahA1uSbO5 looks good.
ok 9 - Computing differences
Comparing /tmp/0LMIQI3d6p to t/mailboxes/invalid-boundaries.txt
Output /tmp/0LMIQI3d6p looks good.
ok 10 - Computing differences
Comparing /tmp/o8k7_Y0Oju to t/mailboxes/invalid-boundaries.txt
Output /tmp/o8k7_Y0Oju looks good.
ok 11 - Computing differences
ok 12 # skip GNU grep not available
Testing filename: t/mailboxes/mailarc-1-dos.txt
Comparing /tmp/J8VxSDoUhF to t/mailboxes/mailarc-1-dos.txt
Output /tmp/J8VxSDoUhF looks good.
ok 13 - Computing differences
Comparing /tmp/AWBsjbe7yq to t/mailboxes/mailarc-1-dos.txt
Output /tmp/AWBsjbe7yq looks good.
ok 14 - Computing differences
Comparing /tmp/n5dUZdpNi9 to t/mailboxes/mailarc-1-dos.txt
Output /tmp/n5dUZdpNi9 looks good.
ok 15 - Computing differences
ok 16 # skip GNU grep not available
Testing filename: t/mailboxes/mailarc-1.txt
Comparing /tmp/uWTlMIqP5z to t/mailboxes/mailarc-1.txt
Output /tmp/uWTlMIqP5z looks good.
ok 17 - Computing differences
Comparing /tmp/U4nH_oEh5n to t/mailboxes/mailarc-1.txt
Output /tmp/U4nH_oEh5n looks good.
ok 18 - Computing differences
Comparing /tmp/qIRvH7jE3S to t/mailboxes/mailarc-1.txt
Output /tmp/qIRvH7jE3S looks good.
ok 19 - Computing differences
ok 20 # skip GNU grep not available
Testing filename: t/mailboxes/mailarc-2.txt
Comparing /tmp/MGjnpqTiMz to t/mailboxes/mailarc-2.txt
Output /tmp/MGjnpqTiMz looks good.
ok 21 - Computing differences
Comparing /tmp/0KKIfxlRDT to t/mailboxes/mailarc-2.txt
Output /tmp/0KKIfxlRDT looks good.
ok 22 - Computing differences
Comparing /tmp/mt6F82u5sa to t/mailboxes/mailarc-2.txt
Output /tmp/mt6F82u5sa looks good.
ok 23 - Computing differences
ok 24 # skip GNU grep not available
Testing filename: t/mailboxes/mailarc-3.txt
Comparing /tmp/lug_E8l53_ to t/mailboxes/mailarc-3.txt
Output /tmp/lug_E8l53_ looks good.
ok 25 - Computing differences
Comparing /tmp/hGJNMk1vEm to t/mailboxes/mailarc-3.txt
Output /tmp/hGJNMk1vEm looks good.
ok 26 - Computing differences
Comparing /tmp/wV1ENBdylo to t/mailboxes/mailarc-3.txt
Output /tmp/wV1ENBdylo looks good.
ok 27 - Computing differences
ok 28 # skip GNU grep not available
Testing filename: t/mailboxes/mailseparators.txt
Comparing /tmp/446XfmpHBo to t/mailboxes/mailseparators.txt
Output /tmp/446XfmpHBo looks good.
ok 29 - Computing differences
Comparing /tmp/ZmfE20IQIN to t/mailboxes/mailseparators.txt
Output /tmp/ZmfE20IQIN looks good.
ok 30 - Computing differences
Comparing /tmp/cpPYRA6NcK to t/mailboxes/mailseparators.txt
Output /tmp/cpPYRA6NcK looks good.
ok 31 - Computing differences
ok 32 # skip GNU grep not available
Testing filename: t/mailboxes/malformed.txt
Comparing /tmp/FdBBSslunE to t/mailboxes/malformed.txt
Output /tmp/FdBBSslunE looks good.
ok 33 - Computing differences
Comparing /tmp/HhCRL5EVr1 to t/mailboxes/malformed.txt
Output /tmp/HhCRL5EVr1 looks good.
ok 34 - Computing differences
Comparing /tmp/5Z4vEacPjK to t/mailboxes/malformed.txt
Output /tmp/5Z4vEacPjK looks good.
ok 35 - Computing differences
ok 36 # skip GNU grep not available
Testing filename: t/mailboxes/newlines_at_beginning.txt
Comparing /tmp/wYsYDeABmy to t/mailboxes/newlines_at_beginning.txt
Output /tmp/wYsYDeABmy looks good.
ok 37 - Computing differences
Comparing /tmp/sRbpT3QmJc to t/mailboxes/newlines_at_beginning.txt
Output /tmp/sRbpT3QmJc looks good.
ok 38 - Computing differences
Comparing /tmp/7R5Jcs1hGw to t/mailboxes/newlines_at_beginning.txt
Output /tmp/7R5Jcs1hGw looks good.
ok 39 - Computing differences
ok 40 # skip GNU grep not available
Testing filename: t/mailboxes/vm-emacs.txt
Comparing /tmp/TKZd0ZEOma to t/mailboxes/vm-emacs.txt
Output /tmp/TKZd0ZEOma looks good.
ok 41 - Computing differences
Comparing /tmp/qgRBKv1AxP to t/mailboxes/vm-emacs.txt
Output /tmp/qgRBKv1AxP looks good.
ok 42 - Computing differences
Comparing /tmp/Vh1sKD71bZ to t/mailboxes/vm-emacs.txt
Output /tmp/Vh1sKD71bZ looks good.
ok 43 - Computing differences
ok 44 # skip GNU grep not available
ok
t/filename_compressed.t ......... 
1..4
Testing filename: t/mailboxes/mailarc-2.txt.bz2
Comparing /tmp/fcZRdoYc_t to t/mailboxes/mailarc-2.txt
Output /tmp/fcZRdoYc_t looks good.
ok 1 - Computing differences
Testing filename: t/mailboxes/mailarc-2.txt.gz
Comparing /tmp/Ae91sMEyHh to t/mailboxes/mailarc-2.txt
Output /tmp/Ae91sMEyHh looks good.
ok 2 - Computing differences
Testing filename: t/mailboxes/mailarc-2.txt.lz
ok 3 # skip lzip not available
Testing filename: t/mailboxes/mailarc-2.txt.xz
Comparing /tmp/RnOMoFP3v5 to t/mailboxes/mailarc-2.txt
Output /tmp/RnOMoFP3v5 looks good.
ok 4 - Computing differences
ok
t/filename_noncompressed.t ...... 
1..11
Testing filename: t/mailboxes/binary_body.txt
Comparing /tmp/nPoEAIZExt to t/mailboxes/binary_body.txt
Output /tmp/nPoEAIZExt looks good.
ok 1 - Computing differences
Testing filename: t/mailboxes/hessbug.txt
Comparing /tmp/mx4R1NqLCD to t/mailboxes/hessbug.txt
Output /tmp/mx4R1NqLCD looks good.
ok 2 - Computing differences
Testing filename: t/mailboxes/invalid-boundaries.txt
Comparing /tmp/X9OFR1Rf5u to t/mailboxes/invalid-boundaries.txt
Output /tmp/X9OFR1Rf5u looks good.
ok 3 - Computing differences
Testing filename: t/mailboxes/mailarc-1-dos.txt
Comparing /tmp/cQt59vaDRI to t/mailboxes/mailarc-1-dos.txt
Output /tmp/cQt59vaDRI looks good.
ok 4 - Computing differences
Testing filename: t/mailboxes/mailarc-1.txt
Comparing /tmp/2wucTkJghS to t/mailboxes/mailarc-1.txt
Output /tmp/2wucTkJghS looks good.
ok 5 - Computing differences
Testing filename: t/mailboxes/mailarc-2.txt
Comparing /tmp/YYwJ7jVfyf to t/mailboxes/mailarc-2.txt
Output /tmp/YYwJ7jVfyf looks good.
ok 6 - Computing differences
Testing filename: t/mailboxes/mailarc-3.txt
Comparing /tmp/xT3RMcBEyx to t/mailboxes/mailarc-3.txt
Output /tmp/xT3RMcBEyx looks good.
ok 7 - Computing differences
Testing filename: t/mailboxes/mailseparators.txt
Comparing /tmp/sXTjrCQLu5 to t/mailboxes/mailseparators.txt
Output /tmp/sXTjrCQLu5 looks good.
ok 8 - Computing differences
Testing filename: t/mailboxes/malformed.txt
Comparing /tmp/eg6jfG7fqb to t/mailboxes/malformed.txt
Output /tmp/eg6jfG7fqb looks good.
ok 9 - Computing differences
Testing filename: t/mailboxes/newlines_at_beginning.txt
Comparing /tmp/Vnys8n36qj to t/mailboxes/newlines_at_beginning.txt
Output /tmp/Vnys8n36qj looks good.
ok 10 - Computing differences
Testing filename: t/mailboxes/vm-emacs.txt
Comparing /tmp/x_vBEROCn5 to t/mailboxes/vm-emacs.txt
Output /tmp/x_vBEROCn5 looks good.
ok 11 - Computing differences
ok
t/grep.t ........................ 
1..4
Running test:
  unset LC_ALL LC_COLLATE LANG LC_CTYPE LC_MESSAGES; grep --extended-regexp --line-number --byte-offset --binary-files=text "^From [^:]+(:[0-9][0-9]){1,2}(  *([A-Z]{2,6}|[+-]?[0-9]{4})){1,3}( remote from .*)?
?$" t/mailboxes/mailarc-1.txt
ok 1 # skip 1
Running test:
  unset LC_ALL LC_COLLATE LANG LC_CTYPE LC_MESSAGES; grep --extended-regexp --line-number --byte-offset --binary-files=text "^From [^:]+(:[0-9][0-9]){1,2}(  *([A-Z]{2,6}|[+-]?[0-9]{4})){1,3}( remote from .*)?
?$" t/mailboxes/mailarc-2.txt
ok 2 # skip 1
Running test:
  unset LC_ALL LC_COLLATE LANG LC_CTYPE LC_MESSAGES; grep --extended-regexp --line-number --byte-offset --binary-files=text "^From [^:]+(:[0-9][0-9]){1,2}(  *([A-Z]{2,6}|[+-]?[0-9]{4})){1,3}( remote from .*)?
?$" t/mailboxes/mailarc-3.txt
ok 3 # skip 1
Running test:
  unset LC_ALL LC_COLLATE LANG LC_CTYPE LC_MESSAGES; grep --extended-regexp --line-number --byte-offset --binary-files=text "^From [^:]+(:[0-9][0-9]){1,2}(  *([A-Z]{2,6}|[+-]?[0-9]{4})){1,3}( remote from .*)?
?$" t/mailboxes/mailseparators.txt
ok 4 # skip 1
ok
t/gzip.t ........................ 
1..1
Running test:
  "/bin/cat" "t/mailboxes/mailarc-2.txt.gz" | "/usr/bin/gzip" -cd
Comparing /tmp/RIUeXGH0wC to t/results/mailarc-2.txt
Output /tmp/RIUeXGH0wC looks good.
Comparing /tmp/XgIx1ZmOV5 to t/results/none
Output /tmp/XgIx1ZmOV5 looks good.
ok 1 - Computing differences
ok
t/length.t ...................... 
1..30
Testing filename: t/mailboxes/binary_body.txt
Comparing /tmp/6Y_DdP9vy4 to t/results/length_binary_body.stdout
Output /tmp/6Y_DdP9vy4 looks good.
ok 1 - Computing differences
Comparing /tmp/h4yofCtv96 to t/results/length_binary_body.stdout
Output /tmp/h4yofCtv96 looks good.
ok 2 - Computing differences
ok 3 # skip GNU grep not available
Testing filename: t/mailboxes/hessbug.txt
Comparing /tmp/EYM1DZie_G to t/results/length_hessbug.stdout
Output /tmp/EYM1DZie_G looks good.
ok 4 - Computing differences
Comparing /tmp/H0CqZ9XDrI to t/results/length_hessbug.stdout
Output /tmp/H0CqZ9XDrI looks good.
ok 5 - Computing differences
ok 6 # skip GNU grep not available
Testing filename: t/mailboxes/invalid-boundaries.txt
Comparing /tmp/HzgovugFLj to t/results/length_invalid-boundaries.stdout
Output /tmp/HzgovugFLj looks good.
ok 7 - Computing differences
Comparing /tmp/_qRbx4XgUp to t/results/length_invalid-boundaries.stdout
Output /tmp/_qRbx4XgUp looks good.
ok 8 - Computing differences
ok 9 # skip GNU grep not available
Testing filename: t/mailboxes/mailarc-1-dos.txt
Comparing /tmp/kIehuQ8NIO to t/results/length_mailarc-1-dos.stdout
Output /tmp/kIehuQ8NIO looks good.
ok 10 - Computing differences
Comparing /tmp/sfrKZq9gFD to t/results/length_mailarc-1-dos.stdout
Output /tmp/sfrKZq9gFD looks good.
ok 11 - Computing differences
ok 12 # skip GNU grep not available
Testing filename: t/mailboxes/mailarc-1.txt
Comparing /tmp/JT9gu8gbbp to t/results/length_mailarc-1.stdout
Output /tmp/JT9gu8gbbp looks good.
ok 13 - Computing differences
Comparing /tmp/R390z5T8Hr to t/results/length_mailarc-1.stdout
Output /tmp/R390z5T8Hr looks good.
ok 14 - Computing differences
ok 15 # skip GNU grep not available
Testing filename: t/mailboxes/mailarc-2.txt
Comparing /tmp/3nhLfeAaCS to t/results/length_mailarc-2.stdout
Output /tmp/3nhLfeAaCS looks good.
ok 16 - Computing differences
Comparing /tmp/qEb3bB0kld to t/results/length_mailarc-2.stdout
Output /tmp/qEb3bB0kld looks good.
ok 17 - Computing differences
ok 18 # skip GNU grep not available
Testing filename: t/mailboxes/mailarc-3.txt
Comparing /tmp/sLZtZDXy2D to t/results/length_mailarc-3.stdout
Output /tmp/sLZtZDXy2D looks good.
ok 19 - Computing differences
Comparing /tmp/WAY23e3LKi to t/results/length_mailarc-3.stdout
Output /tmp/WAY23e3LKi looks good.
ok 20 - Computing differences
ok 21 # skip GNU grep not available
Testing filename: t/mailboxes/mailseparators.txt
Comparing /tmp/FHr6YBa0xm to t/results/length_mailseparators.stdout
Output /tmp/FHr6YBa0xm looks good.
ok 22 - Computing differences
Comparing /tmp/KGlyYk74Gv to t/results/length_mailseparators.stdout
Output /tmp/KGlyYk74Gv looks good.
ok 23 - Computing differences
ok 24 # skip GNU grep not available
Testing filename: t/mailboxes/malformed.txt
Comparing /tmp/r0YA2eVudv to t/results/length_malformed.stdout
Output /tmp/r0YA2eVudv looks good.
ok 25 - Computing differences
Comparing /tmp/mGfvN3Zdwd to t/results/length_malformed.stdout
Output /tmp/mGfvN3Zdwd looks good.
ok 26 - Computing differences
ok 27 # skip GNU grep not available
Testing filename: t/mailboxes/newlines_at_beginning.txt
Comparing /tmp/R6Yv3h_zok to t/results/length_newlines_at_beginning.stdout
Output /tmp/R6Yv3h_zok looks good.
ok 28 - Computing differences
Comparing /tmp/anIQAjxN7G to t/results/length_newlines_at_beginning.stdout
Output /tmp/anIQAjxN7G looks good.
ok 29 - Computing differences
ok 30 # skip GNU grep not available
ok
t/line_number.t ................. 
1..30
Testing filename: t/mailboxes/binary_body.txt
Comparing /tmp/dYanrOey5a to t/results/line_number_binary_body.stdout
Output /tmp/dYanrOey5a looks good.
ok 1 - Computing differences
Comparing /tmp/RgDwcUks6b to t/results/line_number_binary_body.stdout
Output /tmp/RgDwcUks6b looks good.
ok 2 - Computing differences
ok 3 # skip GNU grep not available
Testing filename: t/mailboxes/hessbug.txt
Comparing /tmp/b72hAvaBZ_ to t/results/line_number_hessbug.stdout
Output /tmp/b72hAvaBZ_ looks good.
ok 4 - Computing differences
Comparing /tmp/oArgNpTrnz to t/results/line_number_hessbug.stdout
Output /tmp/oArgNpTrnz looks good.
ok 5 - Computing differences
ok 6 # skip GNU grep not available
Testing filename: t/mailboxes/invalid-boundaries.txt
Comparing /tmp/DNNeqqsUgB to t/results/line_number_invalid-boundaries.stdout
Output /tmp/DNNeqqsUgB looks good.
ok 7 - Computing differences
Comparing /tmp/ikvCj3PZiR to t/results/line_number_invalid-boundaries.stdout
Output /tmp/ikvCj3PZiR looks good.
ok 8 - Computing differences
ok 9 # skip GNU grep not available
Testing filename: t/mailboxes/mailarc-1-dos.txt
Comparing /tmp/1_p1mra3jE to t/results/line_number_mailarc-1-dos.stdout
Output /tmp/1_p1mra3jE looks good.
ok 10 - Computing differences
Comparing /tmp/A3Ezaqm_Gh to t/results/line_number_mailarc-1-dos.stdout
Output /tmp/A3Ezaqm_Gh looks good.
ok 11 - Computing differences
ok 12 # skip GNU grep not available
Testing filename: t/mailboxes/mailarc-1.txt
Comparing /tmp/tUgNJdbtZ_ to t/results/line_number_mailarc-1.stdout
Output /tmp/tUgNJdbtZ_ looks good.
ok 13 - Computing differences
Comparing /tmp/8OxonHL7sn to t/results/line_number_mailarc-1.stdout
Output /tmp/8OxonHL7sn looks good.
ok 14 - Computing differences
ok 15 # skip GNU grep not available
Testing filename: t/mailboxes/mailarc-2.txt
Comparing /tmp/iRw82hBGQv to t/results/line_number_mailarc-2.stdout
Output /tmp/iRw82hBGQv looks good.
ok 16 - Computing differences
Comparing /tmp/vl4_0yAbWC to t/results/line_number_mailarc-2.stdout
Output /tmp/vl4_0yAbWC looks good.
ok 17 - Computing differences
ok 18 # skip GNU grep not available
Testing filename: t/mailboxes/mailarc-3.txt
Comparing /tmp/121wMNkQJY to t/results/line_number_mailarc-3.stdout
Output /tmp/121wMNkQJY looks good.
ok 19 - Computing differences
Comparing /tmp/EE9EG9KVav to t/results/line_number_mailarc-3.stdout
Output /tmp/EE9EG9KVav looks good.
ok 20 - Computing differences
ok 21 # skip GNU grep not available
Testing filename: t/mailboxes/mailseparators.txt
Comparing /tmp/atf8JxwsnV to t/results/line_number_mailseparators.stdout
Output /tmp/atf8JxwsnV looks good.
ok 22 - Computing differences
Comparing /tmp/NyfUpz37wZ to t/results/line_number_mailseparators.stdout
Output /tmp/NyfUpz37wZ looks good.
ok 23 - Computing differences
ok 24 # skip GNU grep not available
Testing filename: t/mailboxes/malformed.txt
Comparing /tmp/pYGJ1rZAAq to t/results/line_number_malformed.stdout
Output /tmp/pYGJ1rZAAq looks good.
ok 25 - Computing differences
Comparing /tmp/Z345GU3nJG to t/results/line_number_malformed.stdout
Output /tmp/Z345GU3nJG looks good.
ok 26 - Computing differences
ok 27 # skip GNU grep not available
Testing filename: t/mailboxes/newlines_at_beginning.txt
Comparing /tmp/3E3b72q903 to t/results/line_number_newlines_at_beginning.stdout
Output /tmp/3E3b72q903 looks good.
ok 28 - Computing differences
Comparing /tmp/Jj8yklAv7R to t/results/line_number_newlines_at_beginning.stdout
Output /tmp/Jj8yklAv7R looks good.
ok 29 - Computing differences
ok 30 # skip GNU grep not available
ok
t/lzip.t ........................ 
1..1
Running test:
  "/bin/cat" "t/mailboxes/mailarc-2.txt.lz" | "lzip" -cd
ok 1 # skip lzip not available
ok
t/number.t ...................... 
1..30
Testing filename: t/mailboxes/binary_body.txt
Comparing /tmp/6w1Jt3Osle to t/results/number_binary_body.stdout
Output /tmp/6w1Jt3Osle looks good.
ok 1 - Computing differences
Comparing /tmp/yo66wlFLik to t/results/number_binary_body.stdout
Output /tmp/yo66wlFLik looks good.
ok 2 - Computing differences
ok 3 # skip GNU grep not available
Testing filename: t/mailboxes/hessbug.txt
Comparing /tmp/0R0sXPLcaw to t/results/number_hessbug.stdout
Output /tmp/0R0sXPLcaw looks good.
ok 4 - Computing differences
Comparing /tmp/zJ744x82fn to t/results/number_hessbug.stdout
Output /tmp/zJ744x82fn looks good.
ok 5 - Computing differences
ok 6 # skip GNU grep not available
Testing filename: t/mailboxes/invalid-boundaries.txt
Comparing /tmp/JWQpoWUL8l to t/results/number_invalid-boundaries.stdout
Output /tmp/JWQpoWUL8l looks good.
ok 7 - Computing differences
Comparing /tmp/2f2QgJmHON to t/results/number_invalid-boundaries.stdout
Output /tmp/2f2QgJmHON looks good.
ok 8 - Computing differences
ok 9 # skip GNU grep not available
Testing filename: t/mailboxes/mailarc-1-dos.txt
Comparing /tmp/BxEIuOm6BN to t/results/number_mailarc-1-dos.stdout
Output /tmp/BxEIuOm6BN looks good.
ok 10 - Computing differences
Comparing /tmp/D4bi6Ttyf6 to t/results/number_mailarc-1-dos.stdout
Output /tmp/D4bi6Ttyf6 looks good.
ok 11 - Computing differences
ok 12 # skip GNU grep not available
Testing filename: t/mailboxes/mailarc-1.txt
Comparing /tmp/U7HAmVDSV5 to t/results/number_mailarc-1.stdout
Output /tmp/U7HAmVDSV5 looks good.
ok 13 - Computing differences
Comparing /tmp/vfin52Hg90 to t/results/number_mailarc-1.stdout
Output /tmp/vfin52Hg90 looks good.
ok 14 - Computing differences
ok 15 # skip GNU grep not available
Testing filename: t/mailboxes/mailarc-2.txt
Comparing /tmp/ckFqS6Qik4 to t/results/number_mailarc-2.stdout
Output /tmp/ckFqS6Qik4 looks good.
ok 16 - Computing differences
Comparing /tmp/tzuumd9RVC to t/results/number_mailarc-2.stdout
Output /tmp/tzuumd9RVC looks good.
ok 17 - Computing differences
ok 18 # skip GNU grep not available
Testing filename: t/mailboxes/mailarc-3.txt
Comparing /tmp/Lww3UfJK7J to t/results/number_mailarc-3.stdout
Output /tmp/Lww3UfJK7J looks good.
ok 19 - Computing differences
Comparing /tmp/qz0daE9w4Z to t/results/number_mailarc-3.stdout
Output /tmp/qz0daE9w4Z looks good.
ok 20 - Computing differences
ok 21 # skip GNU grep not available
Testing filename: t/mailboxes/mailseparators.txt
Comparing /tmp/WsPPEi45D_ to t/results/number_mailseparators.stdout
Output /tmp/WsPPEi45D_ looks good.
ok 22 - Computing differences
Comparing /tmp/WTI6zKwbRJ to t/results/number_mailseparators.stdout
Output /tmp/WTI6zKwbRJ looks good.
ok 23 - Computing differences
ok 24 # skip GNU grep not available
Testing filename: t/mailboxes/malformed.txt
Comparing /tmp/e1sY1QwYUK to t/results/number_malformed.stdout
Output /tmp/e1sY1QwYUK looks good.
ok 25 - Computing differences
Comparing /tmp/QaYDxxyTdL to t/results/number_malformed.stdout
Output /tmp/QaYDxxyTdL looks good.
ok 26 - Computing differences
ok 27 # skip GNU grep not available
Testing filename: t/mailboxes/newlines_at_beginning.txt
Comparing /tmp/H37LHWRDnw to t/results/number_newlines_at_beginning.stdout
Output /tmp/H37LHWRDnw looks good.
ok 28 - Computing differences
Comparing /tmp/5SJfFwSQPk to t/results/number_newlines_at_beginning.stdout
Output /tmp/5SJfFwSQPk looks good.
ok 29 - Computing differences
ok 30 # skip GNU grep not available
ok
t/offset.t ...................... 
1..30
Testing filename: t/mailboxes/binary_body.txt
Comparing /tmp/6pbapRR50s to t/results/offset_binary_body.stdout
Output /tmp/6pbapRR50s looks good.
ok 1 - Computing differences
Comparing /tmp/3uQJhR_GCk to t/results/offset_binary_body.stdout
Output /tmp/3uQJhR_GCk looks good.
ok 2 - Computing differences
ok 3 # skip GNU grep not available
Testing filename: t/mailboxes/hessbug.txt
Comparing /tmp/XEqqxbxyp7 to t/results/offset_hessbug.stdout
Output /tmp/XEqqxbxyp7 looks good.
ok 4 - Computing differences
Comparing /tmp/G2TxFcoltv to t/results/offset_hessbug.stdout
Output /tmp/G2TxFcoltv looks good.
ok 5 - Computing differences
ok 6 # skip GNU grep not available
Testing filename: t/mailboxes/invalid-boundaries.txt
Comparing /tmp/rwKPo4HEsJ to t/results/offset_invalid-boundaries.stdout
Output /tmp/rwKPo4HEsJ looks good.
ok 7 - Computing differences
Comparing /tmp/IBuH4s1fZJ to t/results/offset_invalid-boundaries.stdout
Output /tmp/IBuH4s1fZJ looks good.
ok 8 - Computing differences
ok 9 # skip GNU grep not available
Testing filename: t/mailboxes/mailarc-1-dos.txt
Comparing /tmp/N0N7gYno1m to t/results/offset_mailarc-1-dos.stdout
Output /tmp/N0N7gYno1m looks good.
ok 10 - Computing differences
Comparing /tmp/vddQ6VXXIE to t/results/offset_mailarc-1-dos.stdout
Output /tmp/vddQ6VXXIE looks good.
ok 11 - Computing differences
ok 12 # skip GNU grep not available
Testing filename: t/mailboxes/mailarc-1.txt
Comparing /tmp/bd69fnxEwF to t/results/offset_mailarc-1.stdout
Output /tmp/bd69fnxEwF looks good.
ok 13 - Computing differences
Comparing /tmp/1lcfG0J3FZ to t/results/offset_mailarc-1.stdout
Output /tmp/1lcfG0J3FZ looks good.
ok 14 - Computing differences
ok 15 # skip GNU grep not available
Testing filename: t/mailboxes/mailarc-2.txt
Comparing /tmp/pJAFx7qCtC to t/results/offset_mailarc-2.stdout
Output /tmp/pJAFx7qCtC looks good.
ok 16 - Computing differences
Comparing /tmp/bx8rIOTqjk to t/results/offset_mailarc-2.stdout
Output /tmp/bx8rIOTqjk looks good.
ok 17 - Computing differences
ok 18 # skip GNU grep not available
Testing filename: t/mailboxes/mailarc-3.txt
Comparing /tmp/tC6x2LZTD5 to t/results/offset_mailarc-3.stdout
Output /tmp/tC6x2LZTD5 looks good.
ok 19 - Computing differences
Comparing /tmp/G1FqT1TJgm to t/results/offset_mailarc-3.stdout
Output /tmp/G1FqT1TJgm looks good.
ok 20 - Computing differences
ok 21 # skip GNU grep not available
Testing filename: t/mailboxes/mailseparators.txt
Comparing /tmp/kF6N1zIF5C to t/results/offset_mailseparators.stdout
Output /tmp/kF6N1zIF5C looks good.
ok 22 - Computing differences
Comparing /tmp/426uI3J29M to t/results/offset_mailseparators.stdout
Output /tmp/426uI3J29M looks good.
ok 23 - Computing differences
ok 24 # skip GNU grep not available
Testing filename: t/mailboxes/malformed.txt
Comparing /tmp/xkvrZ8qDjI to t/results/offset_malformed.stdout
Output /tmp/xkvrZ8qDjI looks good.
ok 25 - Computing differences
Comparing /tmp/C5SVqpLsIT to t/results/offset_malformed.stdout
Output /tmp/C5SVqpLsIT looks good.
ok 26 - Computing differences
ok 27 # skip GNU grep not available
Testing filename: t/mailboxes/newlines_at_beginning.txt
Comparing /tmp/saCSurdr2g to t/results/offset_newlines_at_beginning.stdout
Output /tmp/saCSurdr2g looks good.
ok 28 - Computing differences
Comparing /tmp/8PBXrb4kmB to t/results/offset_newlines_at_beginning.stdout
Output /tmp/8PBXrb4kmB looks good.
ok 29 - Computing differences
ok 30 # skip GNU grep not available
ok
t/prologue.t .................... 
1..33
Testing filename: t/mailboxes/binary_body.txt
Comparing /tmp/tRqNhG1DOw to t/mailboxes/binary_body.txt
Output /tmp/tRqNhG1DOw looks good.
ok 1 - Computing differences
Comparing /tmp/LFznMemova to t/mailboxes/binary_body.txt
Output /tmp/LFznMemova looks good.
ok 2 - Computing differences
ok 3 # skip GNU grep not available
Testing filename: t/mailboxes/hessbug.txt
Comparing /tmp/JI01RxeXao to t/mailboxes/hessbug.txt
Output /tmp/JI01RxeXao looks good.
ok 4 - Computing differences
Comparing /tmp/W96XCthH4e to t/mailboxes/hessbug.txt
Output /tmp/W96XCthH4e looks good.
ok 5 - Computing differences
ok 6 # skip GNU grep not available
Testing filename: t/mailboxes/invalid-boundaries.txt
Comparing /tmp/wrtXsGItX3 to t/mailboxes/invalid-boundaries.txt
Output /tmp/wrtXsGItX3 looks good.
ok 7 - Computing differences
Comparing /tmp/q79BhobRrU to t/mailboxes/invalid-boundaries.txt
Output /tmp/q79BhobRrU looks good.
ok 8 - Computing differences
ok 9 # skip GNU grep not available
Testing filename: t/mailboxes/mailarc-1-dos.txt
Comparing /tmp/5IABrlSGbW to t/mailboxes/mailarc-1-dos.txt
Output /tmp/5IABrlSGbW looks good.
ok 10 - Computing differences
Comparing /tmp/rBVNhs4cGE to t/mailboxes/mailarc-1-dos.txt
Output /tmp/rBVNhs4cGE looks good.
ok 11 - Computing differences
ok 12 # skip GNU grep not available
Testing filename: t/mailboxes/mailarc-1.txt
Comparing /tmp/lFfukMVM3O to t/mailboxes/mailarc-1.txt
Output /tmp/lFfukMVM3O looks good.
ok 13 - Computing differences
Comparing /tmp/F01XQdzrV7 to t/mailboxes/mailarc-1.txt
Output /tmp/F01XQdzrV7 looks good.
ok 14 - Computing differences
ok 15 # skip GNU grep not available
Testing filename: t/mailboxes/mailarc-2.txt
Comparing /tmp/UYoOTCBW4y to t/mailboxes/mailarc-2.txt
Output /tmp/UYoOTCBW4y looks good.
ok 16 - Computing differences
Comparing /tmp/WnZpji_mta to t/mailboxes/mailarc-2.txt
Output /tmp/WnZpji_mta looks good.
ok 17 - Computing differences
ok 18 # skip GNU grep not available
Testing filename: t/mailboxes/mailarc-3.txt
Comparing /tmp/NJCFVg7zff to t/mailboxes/mailarc-3.txt
Output /tmp/NJCFVg7zff looks good.
ok 19 - Computing differences
Comparing /tmp/M4OftCpEzV to t/mailboxes/mailarc-3.txt
Output /tmp/M4OftCpEzV looks good.
ok 20 - Computing differences
ok 21 # skip GNU grep not available
Testing filename: t/mailboxes/mailseparators.txt
Comparing /tmp/ycGktdjogZ to t/mailboxes/mailseparators.txt
Output /tmp/ycGktdjogZ looks good.
ok 22 - Computing differences
Comparing /tmp/CROwmsZY1N to t/mailboxes/mailseparators.txt
Output /tmp/CROwmsZY1N looks good.
ok 23 - Computing differences
ok 24 # skip GNU grep not available
Testing filename: t/mailboxes/malformed.txt
Comparing /tmp/wsTD4f0BBY to t/mailboxes/malformed.txt
Output /tmp/wsTD4f0BBY looks good.
ok 25 - Computing differences
Comparing /tmp/llstL_Wka7 to t/mailboxes/malformed.txt
Output /tmp/llstL_Wka7 looks good.
ok 26 - Computing differences
ok 27 # skip GNU grep not available
Testing filename: t/mailboxes/newlines_at_beginning.txt
Comparing /tmp/iZBgbTSGUD to t/mailboxes/newlines_at_beginning.txt
Output /tmp/iZBgbTSGUD looks good.
ok 28 - Computing differences
Comparing /tmp/sFrs4Ym0l2 to t/mailboxes/newlines_at_beginning.txt
Output /tmp/sFrs4Ym0l2 looks good.
ok 29 - Computing differences
ok 30 # skip GNU grep not available
Testing filename: t/mailboxes/vm-emacs.txt
Comparing /tmp/XbAxI8M2Wj to t/mailboxes/vm-emacs.txt
Output /tmp/XbAxI8M2Wj looks good.
ok 31 - Computing differences
Comparing /tmp/HXeIE9jC0G to t/mailboxes/vm-emacs.txt
Output /tmp/HXeIE9jC0G looks good.
ok 32 - Computing differences
ok 33 # skip GNU grep not available
ok
t/reset.t ....................... 
1..60
Testing filename: t/mailboxes/binary_body.txt
Testing partial mailbox reset with Perl implementation
Comparing /tmp/U6xVEAHXX6 to t/results/reset_binary_body.stdout
Output /tmp/U6xVEAHXX6 looks good.
ok 1 - Computing differences
Testing partial mailbox reset with Cache implementation
Comparing /tmp/c8V5blI93i to t/results/reset_binary_body.stdout
Output /tmp/c8V5blI93i looks good.
ok 2 - Computing differences
Testing partial mailbox reset with Grep implementation
ok 3 # skip GNU grep not available
Testing full mailbox reset with Perl implementation
Comparing /tmp/SzZMtQtSv1 to t/results/reset_binary_body.stdout
Output /tmp/SzZMtQtSv1 looks good.
ok 4 - Computing differences
Testing full mailbox reset with Cache implementation
Comparing /tmp/ITYSWGh0zC to t/results/reset_binary_body.stdout
Output /tmp/ITYSWGh0zC looks good.
ok 5 - Computing differences
Testing full mailbox reset with Grep implementation
ok 6 # skip GNU grep not available
Testing filename: t/mailboxes/hessbug.txt
Testing partial mailbox reset with Perl implementation
Comparing /tmp/dPbFhh098F to t/results/reset_hessbug.stdout
Output /tmp/dPbFhh098F looks good.
ok 7 - Computing differences
Testing partial mailbox reset with Cache implementation
Comparing /tmp/dWO0hftB9Z to t/results/reset_hessbug.stdout
Output /tmp/dWO0hftB9Z looks good.
ok 8 - Computing differences
Testing partial mailbox reset with Grep implementation
ok 9 # skip GNU grep not available
Testing full mailbox reset with Perl implementation
Comparing /tmp/PvpfjzGRZI to t/results/reset_hessbug.stdout
Output /tmp/PvpfjzGRZI looks good.
ok 10 - Computing differences
Testing full mailbox reset with Cache implementation
Comparing /tmp/M4CqaTJfW7 to t/results/reset_hessbug.stdout
Output /tmp/M4CqaTJfW7 looks good.
ok 11 - Computing differences
Testing full mailbox reset with Grep implementation
ok 12 # skip GNU grep not available
Testing filename: t/mailboxes/invalid-boundaries.txt
Testing partial mailbox reset with Perl implementation
Comparing /tmp/pY7F9Cw9n8 to t/results/reset_invalid-boundaries.stdout
Output /tmp/pY7F9Cw9n8 looks good.
ok 13 - Computing differences
Testing partial mailbox reset with Cache implementation
Comparing /tmp/9zq0C7oCmm to t/results/reset_invalid-boundaries.stdout
Output /tmp/9zq0C7oCmm looks good.
ok 14 - Computing differences
Testing partial mailbox reset with Grep implementation
ok 15 # skip GNU grep not available
Testing full mailbox reset with Perl implementation
Comparing /tmp/R8E8kS5zOS to t/results/reset_invalid-boundaries.stdout
Output /tmp/R8E8kS5zOS looks good.
ok 16 - Computing differences
Testing full mailbox reset with Cache implementation
Comparing /tmp/_GbjWvvomz to t/results/reset_invalid-boundaries.stdout
Output /tmp/_GbjWvvomz looks good.
ok 17 - Computing differences
Testing full mailbox reset with Grep implementation
ok 18 # skip GNU grep not available
Testing filename: t/mailboxes/mailarc-1-dos.txt
Testing partial mailbox reset with Perl implementation
Comparing /tmp/Bgly8EjmKi to t/results/reset_mailarc-1-dos.stdout
Output /tmp/Bgly8EjmKi looks good.
ok 19 - Computing differences
Testing partial mailbox reset with Cache implementation
Comparing /tmp/38lfTwvc8E to t/results/reset_mailarc-1-dos.stdout
Output /tmp/38lfTwvc8E looks good.
ok 20 - Computing differences
Testing partial mailbox reset with Grep implementation
ok 21 # skip GNU grep not available
Testing full mailbox reset with Perl implementation
Comparing /tmp/h_YdUfCzCQ to t/results/reset_mailarc-1-dos.stdout
Output /tmp/h_YdUfCzCQ looks good.
ok 22 - Computing differences
Testing full mailbox reset with Cache implementation
Comparing /tmp/wXfriRz9jW to t/results/reset_mailarc-1-dos.stdout
Output /tmp/wXfriRz9jW looks good.
ok 23 - Computing differences
Testing full mailbox reset with Grep implementation
ok 24 # skip GNU grep not available
Testing filename: t/mailboxes/mailarc-1.txt
Testing partial mailbox reset with Perl implementation
Comparing /tmp/KalxFHpIoq to t/results/reset_mailarc-1.stdout
Output /tmp/KalxFHpIoq looks good.
ok 25 - Computing differences
Testing partial mailbox reset with Cache implementation
Comparing /tmp/7F2kl7CAR2 to t/results/reset_mailarc-1.stdout
Output /tmp/7F2kl7CAR2 looks good.
ok 26 - Computing differences
Testing partial mailbox reset with Grep implementation
ok 27 # skip GNU grep not available
Testing full mailbox reset with Perl implementation
Comparing /tmp/oP9Z44ogkH to t/results/reset_mailarc-1.stdout
Output /tmp/oP9Z44ogkH looks good.
ok 28 - Computing differences
Testing full mailbox reset with Cache implementation
Comparing /tmp/h9eRe3tqjq to t/results/reset_mailarc-1.stdout
Output /tmp/h9eRe3tqjq looks good.
ok 29 - Computing differences
Testing full mailbox reset with Grep implementation
ok 30 # skip GNU grep not available
Testing filename: t/mailboxes/mailarc-2.txt
Testing partial mailbox reset with Perl implementation
Comparing /tmp/z6k97c46Qv to t/results/reset_mailarc-2.stdout
Output /tmp/z6k97c46Qv looks good.
ok 31 - Computing differences
Testing partial mailbox reset with Cache implementation
Comparing /tmp/Al03F1CK5f to t/results/reset_mailarc-2.stdout
Output /tmp/Al03F1CK5f looks good.
ok 32 - Computing differences
Testing partial mailbox reset with Grep implementation
ok 33 # skip GNU grep not available
Testing full mailbox reset with Perl implementation
Comparing /tmp/6p99YRwlof to t/results/reset_mailarc-2.stdout
Output /tmp/6p99YRwlof looks good.
ok 34 - Computing differences
Testing full mailbox reset with Cache implementation
Comparing /tmp/mv27eRb41n to t/results/reset_mailarc-2.stdout
Output /tmp/mv27eRb41n looks good.
ok 35 - Computing differences
Testing full mailbox reset with Grep implementation
ok 36 # skip GNU grep not available
Testing filename: t/mailboxes/mailarc-3.txt
Testing partial mailbox reset with Perl implementation
Comparing /tmp/mzr1JVM2Ig to t/results/reset_mailarc-3.stdout
Output /tmp/mzr1JVM2Ig looks good.
ok 37 - Computing differences
Testing partial mailbox reset with Cache implementation
Comparing /tmp/x3yUMAx68d to t/results/reset_mailarc-3.stdout
Output /tmp/x3yUMAx68d looks good.
ok 38 - Computing differences
Testing partial mailbox reset with Grep implementation
ok 39 # skip GNU grep not available
Testing full mailbox reset with Perl implementation
Comparing /tmp/T6OFkHEPal to t/results/reset_mailarc-3.stdout
Output /tmp/T6OFkHEPal looks good.
ok 40 - Computing differences
Testing full mailbox reset with Cache implementation
Comparing /tmp/eBY88QU07h to t/results/reset_mailarc-3.stdout
Output /tmp/eBY88QU07h looks good.
ok 41 - Computing differences
Testing full mailbox reset with Grep implementation
ok 42 # skip GNU grep not available
Testing filename: t/mailboxes/mailseparators.txt
Testing partial mailbox reset with Perl implementation
Comparing /tmp/PyHtqun0SY to t/results/reset_mailseparators.stdout
Output /tmp/PyHtqun0SY looks good.
ok 43 - Computing differences
Testing partial mailbox reset with Cache implementation
Comparing /tmp/D440oasuto to t/results/reset_mailseparators.stdout
Output /tmp/D440oasuto looks good.
ok 44 - Computing differences
Testing partial mailbox reset with Grep implementation
ok 45 # skip GNU grep not available
Testing full mailbox reset with Perl implementation
Comparing /tmp/DI0g3V0qsM to t/results/reset_mailseparators.stdout
Output /tmp/DI0g3V0qsM looks good.
ok 46 - Computing differences
Testing full mailbox reset with Cache implementation
Comparing /tmp/h6haejAQLh to t/results/reset_mailseparators.stdout
Output /tmp/h6haejAQLh looks good.
ok 47 - Computing differences
Testing full mailbox reset with Grep implementation
ok 48 # skip GNU grep not available
Testing filename: t/mailboxes/malformed.txt
Testing partial mailbox reset with Perl implementation
Comparing /tmp/a6nWL5CoaD to t/results/reset_malformed.stdout
Output /tmp/a6nWL5CoaD looks good.
ok 49 - Computing differences
Testing partial mailbox reset with Cache implementation
Comparing /tmp/dT_BIIHDUF to t/results/reset_malformed.stdout
Output /tmp/dT_BIIHDUF looks good.
ok 50 - Computing differences
Testing partial mailbox reset with Grep implementation
ok 51 # skip GNU grep not available
Testing full mailbox reset with Perl implementation
Comparing /tmp/IKMHqh8Fo4 to t/results/reset_malformed.stdout
Output /tmp/IKMHqh8Fo4 looks good.
ok 52 - Computing differences
Testing full mailbox reset with Cache implementation
Comparing /tmp/ZSgqMcvLt5 to t/results/reset_malformed.stdout
Output /tmp/ZSgqMcvLt5 looks good.
ok 53 - Computing differences
Testing full mailbox reset with Grep implementation
ok 54 # skip GNU grep not available
Testing filename: t/mailboxes/newlines_at_beginning.txt
Testing partial mailbox reset with Perl implementation
Comparing /tmp/Rig02iT0LS to t/results/reset_newlines_at_beginning.stdout
Output /tmp/Rig02iT0LS looks good.
ok 55 - Computing differences
Testing partial mailbox reset with Cache implementation
Comparing /tmp/muqH3bZmIg to t/results/reset_newlines_at_beginning.stdout
Output /tmp/muqH3bZmIg looks good.
ok 56 - Computing differences
Testing partial mailbox reset with Grep implementation
ok 57 # skip GNU grep not available
Testing full mailbox reset with Perl implementation
Comparing /tmp/qR9rM9q64G to t/results/reset_newlines_at_beginning.stdout
Output /tmp/qR9rM9q64G looks good.
ok 58 - Computing differences
Testing full mailbox reset with Cache implementation
Comparing /tmp/lynOFf935a to t/results/reset_newlines_at_beginning.stdout
Output /tmp/lynOFf935a looks good.
ok 59 - Computing differences
Testing full mailbox reset with Grep implementation
ok 60 # skip GNU grep not available
ok
t/separators.t .................. 
1..6
Testing filename: t/mailboxes/separators2.sep
ok 1 - Number of emails in t/mailboxes/separators2.sep
ok 2 - Number of emails in t/mailboxes/separators2.sep
ok 3 # skip GNU grep not available
Testing filename: t/mailboxes/separators1.sep
ok 4 - Number of emails in t/mailboxes/separators1.sep
ok 5 - Number of emails in t/mailboxes/separators1.sep
ok 6 # skip GNU grep not available
ok
t/stdin_compressed.t ............ 
1..4
Testing filename: t/mailboxes/mailarc-2.txt.bz2
Comparing /tmp/dn0sInfHQh to t/mailboxes/mailarc-2.txt
Output /tmp/dn0sInfHQh looks good.
ok 1 - Computing differences
Testing filename: t/mailboxes/mailarc-2.txt.gz
Comparing /tmp/VTfQyWGYBU to t/mailboxes/mailarc-2.txt
Output /tmp/VTfQyWGYBU looks good.
ok 2 - Computing differences
Testing filename: t/mailboxes/mailarc-2.txt.lz
ok 3 # skip lzip not available
Testing filename: t/mailboxes/mailarc-2.txt.xz
Comparing /tmp/EH75gioRMc to t/mailboxes/mailarc-2.txt
Output /tmp/EH75gioRMc looks good.
ok 4 - Computing differences
ok
t/stdin_uncompressed.t .......... 
1..11
Testing filename: t/mailboxes/binary_body.txt
Comparing /tmp/Y4BZP9Rydb to t/mailboxes/binary_body.txt
Output /tmp/Y4BZP9Rydb looks good.
ok 1 - Computing differences
Testing filename: t/mailboxes/hessbug.txt
Comparing /tmp/BkLBTOyhvH to t/mailboxes/hessbug.txt
Output /tmp/BkLBTOyhvH looks good.
ok 2 - Computing differences
Testing filename: t/mailboxes/invalid-boundaries.txt
Comparing /tmp/BdcaTzbMWl to t/mailboxes/invalid-boundaries.txt
Output /tmp/BdcaTzbMWl looks good.
ok 3 - Computing differences
Testing filename: t/mailboxes/mailarc-1-dos.txt
Comparing /tmp/Qq2X8ZmoD_ to t/mailboxes/mailarc-1-dos.txt
Output /tmp/Qq2X8ZmoD_ looks good.
ok 4 - Computing differences
Testing filename: t/mailboxes/mailarc-1.txt
Comparing /tmp/ACdw_IgFV6 to t/mailboxes/mailarc-1.txt
Output /tmp/ACdw_IgFV6 looks good.
ok 5 - Computing differences
Testing filename: t/mailboxes/mailarc-2.txt
Comparing /tmp/6iD_lWtzhQ to t/mailboxes/mailarc-2.txt
Output /tmp/6iD_lWtzhQ looks good.
ok 6 - Computing differences
Testing filename: t/mailboxes/mailarc-3.txt
Comparing /tmp/ouSmFidWgx to t/mailboxes/mailarc-3.txt
Output /tmp/ouSmFidWgx looks good.
ok 7 - Computing differences
Testing filename: t/mailboxes/mailseparators.txt
Comparing /tmp/OvHz_rfxu4 to t/mailboxes/mailseparators.txt
Output /tmp/OvHz_rfxu4 looks good.
ok 8 - Computing differences
Testing filename: t/mailboxes/malformed.txt
Comparing /tmp/_SK4lciTEO to t/mailboxes/malformed.txt
Output /tmp/_SK4lciTEO looks good.
ok 9 - Computing differences
Testing filename: t/mailboxes/newlines_at_beginning.txt
Comparing /tmp/aX_Nu379Bj to t/mailboxes/newlines_at_beginning.txt
Output /tmp/aX_Nu379Bj looks good.
ok 10 - Computing differences
Testing filename: t/mailboxes/vm-emacs.txt
Comparing /tmp/J97Sxcb4v6 to t/mailboxes/vm-emacs.txt
Output /tmp/J97Sxcb4v6 looks good.
ok 11 - Computing differences
ok
t/undef_return_value.t .......... 
1..33
Testing Perl 
Comparing /tmp/bIpYnguWG4 to t/mailboxes/binary_body.txt
Output /tmp/bIpYnguWG4 looks good.
ok 1 - Computing differences
Testing Cache implementation
Comparing /tmp/y_AsKPrB0t to t/mailboxes/binary_body.txt
Output /tmp/y_AsKPrB0t looks good.
ok 2 - Computing differences
ok 3 # skip GNU grep not available
Testing Perl 
Comparing /tmp/rxwV3JdAcz to t/mailboxes/hessbug.txt
Output /tmp/rxwV3JdAcz looks good.
ok 4 - Computing differences
Testing Cache implementation
Comparing /tmp/YszU1sw1d7 to t/mailboxes/hessbug.txt
Output /tmp/YszU1sw1d7 looks good.
ok 5 - Computing differences
ok 6 # skip GNU grep not available
Testing Perl 
Comparing /tmp/R7lNFzHzsL to t/mailboxes/invalid-boundaries.txt
Output /tmp/R7lNFzHzsL looks good.
ok 7 - Computing differences
Testing Cache implementation
Comparing /tmp/fzvT7roOI9 to t/mailboxes/invalid-boundaries.txt
Output /tmp/fzvT7roOI9 looks good.
ok 8 - Computing differences
ok 9 # skip GNU grep not available
Testing Perl 
Comparing /tmp/63quU8GO3Z to t/mailboxes/mailarc-1-dos.txt
Output /tmp/63quU8GO3Z looks good.
ok 10 - Computing differences
Testing Cache implementation
Comparing /tmp/UiKuFC707I to t/mailboxes/mailarc-1-dos.txt
Output /tmp/UiKuFC707I looks good.
ok 11 - Computing differences
ok 12 # skip GNU grep not available
Testing Perl 
Comparing /tmp/aH3Y3QxFie to t/mailboxes/mailarc-1.txt
Output /tmp/aH3Y3QxFie looks good.
ok 13 - Computing differences
Testing Cache implementation
Comparing /tmp/rKZt9mV8iz to t/mailboxes/mailarc-1.txt
Output /tmp/rKZt9mV8iz looks good.
ok 14 - Computing differences
ok 15 # skip GNU grep not available
Testing Perl 
Comparing /tmp/wG9JOjyUQC to t/mailboxes/mailarc-2.txt
Output /tmp/wG9JOjyUQC looks good.
ok 16 - Computing differences
Testing Cache implementation
Comparing /tmp/IdkkZDDziZ to t/mailboxes/mailarc-2.txt
Output /tmp/IdkkZDDziZ looks good.
ok 17 - Computing differences
ok 18 # skip GNU grep not available
Testing Perl 
Comparing /tmp/obwf7JrSDn to t/mailboxes/mailarc-3.txt
Output /tmp/obwf7JrSDn looks good.
ok 19 - Computing differences
Testing Cache implementation
Comparing /tmp/tFnGY9r1aY to t/mailboxes/mailarc-3.txt
Output /tmp/tFnGY9r1aY looks good.
ok 20 - Computing differences
ok 21 # skip GNU grep not available
Testing Perl 
Comparing /tmp/15bfHdLCa5 to t/mailboxes/mailseparators.txt
Output /tmp/15bfHdLCa5 looks good.
ok 22 - Computing differences
Testing Cache implementation
Comparing /tmp/adVXoVk_84 to t/mailboxes/mailseparators.txt
Output /tmp/adVXoVk_84 looks good.
ok 23 - Computing differences
ok 24 # skip GNU grep not available
Testing Perl 
Comparing /tmp/_gsloGgI4s to t/mailboxes/malformed.txt
Output /tmp/_gsloGgI4s looks good.
ok 25 - Computing differences
Testing Cache implementation
Comparing /tmp/rIY3v0sBT_ to t/mailboxes/malformed.txt
Output /tmp/rIY3v0sBT_ looks good.
ok 26 - Computing differences
ok 27 # skip GNU grep not available
Testing Perl 
Comparing /tmp/RE_4vRSXYD to t/mailboxes/newlines_at_beginning.txt
Output /tmp/RE_4vRSXYD looks good.
ok 28 - Computing differences
Testing Cache implementation
Comparing /tmp/kbwjh3Jhic to t/mailboxes/newlines_at_beginning.txt
Output /tmp/kbwjh3Jhic looks good.
ok 29 - Computing differences
ok 30 # skip GNU grep not available
Testing Perl 
Comparing /tmp/2rVPJRyoUX to t/mailboxes/vm-emacs.txt
Output /tmp/2rVPJRyoUX looks good.
ok 31 - Computing differences
Testing Cache implementation
Comparing /tmp/FSIOfDjGbB to t/mailboxes/vm-emacs.txt
Output /tmp/FSIOfDjGbB looks good.
ok 32 - Computing differences
ok 33 # skip GNU grep not available
ok
t/xz.t .......................... 
1..1
Running test:
  "/bin/cat" "t/mailboxes/mailarc-2.txt.xz" | "/usr/bin/xz" -cd
Comparing /tmp/jZFECYiaz7 to t/results/mailarc-2.txt
Output /tmp/jZFECYiaz7 looks good.
Comparing /tmp/MrCBEfZEbQ to t/results/none
Output /tmp/MrCBEfZEbQ looks good.
ok 1 - Computing differences
ok
All tests successful.
Files=25, Tests=370, 15 wallclock secs ( 0.27 usr  0.20 sys +  7.63 cusr  5.80 csys = 13.89 CPU)
Result: PASS


PREREQUISITES:

Here is a list of prerequisites you specified and versions we
managed to load:

	  Module Name                        Have     Want
	  ExtUtils::MakeMaker                7.34     6.36
	  File::Path                         2.15     2.08
	  File::Slurper                     0.012        0
	  FileHandle::Unget                0.1634        0
	  Storable                           3.11        0
	  Test::Compile                    v1.3.0        0
	  Test::More                     1.302136        0
	  Text::Diff                         1.45        0
	  UNIVERSAL::require                 0.18        0
	  URI::Escape                        3.31        0

Perl module toolchain versions installed:
	Module Name                        Have
	CPANPLUS                         0.9176
	CPANPLUS::Dist::Build              0.90
	Cwd                                3.74
	ExtUtils::CBuilder             0.280230
	ExtUtils::Command                  7.34
	ExtUtils::Install                  2.14
	ExtUtils::MakeMaker                7.34
	ExtUtils::Manifest                 1.71
	ExtUtils::ParseXS                  3.35
	File::Spec                         3.74
	Module::Build                    0.4224
	Pod::Parser                        1.63
	Pod::Simple                        3.32
	Test2                          1.302136
	Test::Harness                      3.42
	Test::More                     1.302136
	version                          0.9924

******************************** NOTE ********************************
The comments above are created mechanically, possibly without manual
checking by the sender.  As there are many people performing automatic
tests on each upload to CPAN, it is likely that you will receive
identical messages about the same problem.

If you believe that the message is mistaken, please reply to the first
one with correction and/or additional informations, and do not take
it personally.  We appreciate your patience. :)
**********************************************************************

Additional comments:


This report was machine-generated by CPANPLUS::Dist::YACSmoke 1.02.
Powered by minismokebox version 0.68

------------------------------
ENVIRONMENT AND OTHER CONTEXT
------------------------------

Environment variables:

    AUTOMATED_TESTING = 1
    NONINTERACTIVE_TESTING = 1
    PATH = /sbin:/bin:/usr/sbin:/usr/bin:/usr/local/sbin:/usr/local/bin:/home/cpan/bin
    PERL5LIB = :/usr/home/cpan/pit/thr/conf/perl-5.24.4/.cpanplus/5.24.4/build/LwqM4qduki/Test-Needs-0.002005/blib/lib:/usr/home/cpan/pit/thr/conf/perl-5.24.4/.cpanplus/5.24.4/build/LwqM4qduki/Test-Needs-0.002005/blib/arch:/usr/home/cpan/pit/thr/conf/perl-5.24.4/.cpanplus/5.24.4/build/GJJed_kXew/URI-1.74/blib/lib:/usr/home/cpan/pit/thr/conf/perl-5.24.4/.cpanplus/5.24.4/build/GJJed_kXew/URI-1.74/blib/arch:/usr/home/cpan/pit/thr/conf/perl-5.24.4/.cpanplus/5.24.4/build/sm03jBajow/Test-Warnings-0.026/blib/lib:/usr/home/cpan/pit/thr/conf/perl-5.24.4/.cpanplus/5.24.4/build/sm03jBajow/Test-Warnings-0.026/blib/arch:/usr/home/cpan/pit/thr/conf/perl-5.24.4/.cpanplus/5.24.4/build/WXv7KYqmBm/File-Slurper-0.012/blib/lib:/usr/home/cpan/pit/thr/conf/perl-5.24.4/.cpanplus/5.24.4/build/WXv7KYqmBm/File-Slurper-0.012/blib/arch:/usr/home/cpan/pit/thr/conf/perl-5.24.4/.cpanplus/5.24.4/build/tyLKzO2x84/UNIVERSAL-require-0.18/blib/lib:/usr/home/cpan/pit/thr/conf/perl-5.24.4/.cpanplus/5.24.4/build/tyLKzO2x84/UNIVERSAL-require-0.18/blib/arch:/usr/home/cpan/pit/thr/conf/perl-5.24.4/.cpanplus/5.24.4/build/kRwQf2cXLY/Test-Compile-v1.3.0/blib/lib:/usr/home/cpan/pit/thr/conf/perl-5.24.4/.cpanplus/5.24.4/build/kRwQf2cXLY/Test-Compile-v1.3.0/blib/arch:/usr/home/cpan/pit/thr/conf/perl-5.24.4/.cpanplus/5.24.4/build/fvU_WZZyZF/FileHandle-Unget-0.1634/blib/lib:/usr/home/cpan/pit/thr/conf/perl-5.24.4/.cpanplus/5.24.4/build/fvU_WZZyZF/FileHandle-Unget-0.1634/blib/arch:/usr/home/cpan/pit/thr/conf/perl-5.24.4/.cpanplus/5.24.4/build/O0xNL9RQ5v/Algorithm-Diff-1.1903/blib/lib:/usr/home/cpan/pit/thr/conf/perl-5.24.4/.cpanplus/5.24.4/build/O0xNL9RQ5v/Algorithm-Diff-1.1903/blib/arch:/usr/home/cpan/pit/thr/conf/perl-5.24.4/.cpanplus/5.24.4/build/014I2mM3bA/Text-Diff-1.45/blib/lib:/usr/home/cpan/pit/thr/conf/perl-5.24.4/.cpanplus/5.24.4/build/014I2mM3bA/Text-Diff-1.45/blib/arch:/usr/home/cpan/pit/thr/conf/perl-5.24.4/.cpanplus/5.24.4/build/_xoaHaXZDE/Mail-Mbox-MessageParser-1.5111/blib/lib:/usr/home/cpan/pit/thr/conf/perl-5.24.4/.cpanplus/5.24.4/build/_xoaHaXZDE/Mail-Mbox-MessageParser-1.5111/blib/arch
    PERL5_CPANPLUS_IS_RUNNING = 89592
    PERL5_CPANPLUS_IS_VERSION = 0.9176
    PERL5_MINISMOKEBOX = 0.68
    PERL5_YACSMOKE_BASE = /usr/home/cpan/pit/thr/conf/perl-5.24.4
    PERL_EXTUTILS_AUTOINSTALL = --defaultdeps
    PERL_MM_USE_DEFAULT = 1
    SHELL = /usr/local/bin/bash
    TERM = screen

Perl special variables (and OS-specific diagnostics, for MSWin32):

    Perl: $^X = /usr/home/cpan/pit/thr/perl-5.24.4/bin/perl
    UID:  $<  = 1002
    EUID: $>  = 1002
    GID:  $(  = 1002 1002
    EGID: $)  = 1002 1002


-------------------------------


--

Summary of my perl5 (revision 5 version 24 subversion 4) configuration:
   
  Platform:
    osname=freebsd, osvers=11.1-release, archname=amd64-freebsd-thread-multi
    uname='freebsd fforc 11.1-release freebsd 11.1-release #0 r321309: fri jul 21 02:08:28 utc 2017 root@releng2.nyi.freebsd.org:usrobjusrsrcsysgeneric amd64 '
    config_args='-des -Dprefix=/usr/home/cpan/pit/thr/perl-5.24.4 -Dusethreads'
    hint=recommended, useposix=true, d_sigaction=define
    useithreads=define, usemultiplicity=define
    use64bitint=define, use64bitall=define, uselongdouble=undef
    usemymalloc=n, bincompat5005=undef
  Compiler:
    cc='cc', ccflags ='-DHAS_FPSETMASK -DHAS_FLOATINGPOINT_H -fno-strict-aliasing -pipe -fstack-protector-strong -I/usr/local/include -D_FORTIFY_SOURCE=2',
    optimize='-O',
    cppflags='-DHAS_FPSETMASK -DHAS_FLOATINGPOINT_H -fno-strict-aliasing -pipe -fstack-protector-strong -I/usr/local/include'
    ccversion='', gccversion='4.2.1 Compatible FreeBSD Clang 4.0.0 (tags/RELEASE_400/final 297347)', gccosandvers=''
    intsize=4, longsize=8, ptrsize=8, doublesize=8, byteorder=12345678, doublekind=3
    d_longlong=define, longlongsize=8, d_longdbl=define, longdblsize=16, longdblkind=3
    ivtype='long', ivsize=8, nvtype='double', nvsize=8, Off_t='off_t', lseeksize=8
    alignbytes=8, prototype=define
  Linker and Libraries:
    ld='cc', ldflags ='-pthread -Wl,-E  -fstack-protector-strong -L/usr/local/lib'
    libpth=/usr/lib /usr/local/lib /usr/bin/../lib/clang/4.0.0/lib /usr/lib
    libs=-lpthread -lgdbm -lm -lcrypt -lutil
    perllibs=-lpthread -lm -lcrypt -lutil
    libc=, so=so, useshrplib=false, libperl=libperl.a
    gnulibc_version=''
  Dynamic Linking:
    dlsrc=dl_dlopen.xs, dlext=so, d_dlsymun=undef, ccdlflags=' '
    cccdlflags='-DPIC -fPIC', lddlflags='-shared  -L/usr/local/lib -fstack-protector-strong'


Characteristics of this binary (from libperl): 
  Compile-time options: HAS_TIMES MULTIPLICITY PERLIO_LAYERS
                        PERL_COPY_ON_WRITE PERL_DONT_CREATE_GVSV
                        PERL_HASH_FUNC_ONE_AT_A_TIME_HARD
                        PERL_IMPLICIT_CONTEXT PERL_MALLOC_WRAP
                        PERL_PRESERVE_IVUV USE_64_BIT_ALL USE_64_BIT_INT
                        USE_ITHREADS USE_LARGE_FILES USE_LOCALE
                        USE_LOCALE_COLLATE USE_LOCALE_CTYPE
                        USE_LOCALE_NUMERIC USE_LOCALE_TIME USE_PERLIO
                        USE_PERL_ATOF USE_REENTRANT_API
  Locally applied patches:
	Devel::PatchPerl 1.48
  Built under freebsd
  Compiled at Apr 19 2018 21:16:14
  %ENV:
    PERL5LIB=":/usr/home/cpan/pit/thr/conf/perl-5.24.4/.cpanplus/5.24.4/build/LwqM4qduki/Test-Needs-0.002005/blib/lib:/usr/home/cpan/pit/thr/conf/perl-5.24.4/.cpanplus/5.24.4/build/LwqM4qduki/Test-Needs-0.002005/blib/arch:/usr/home/cpan/pit/thr/conf/perl-5.24.4/.cpanplus/5.24.4/build/GJJed_kXew/URI-1.74/blib/lib:/usr/home/cpan/pit/thr/conf/perl-5.24.4/.cpanplus/5.24.4/build/GJJed_kXew/URI-1.74/blib/arch:/usr/home/cpan/pit/thr/conf/perl-5.24.4/.cpanplus/5.24.4/build/sm03jBajow/Test-Warnings-0.026/blib/lib:/usr/home/cpan/pit/thr/conf/perl-5.24.4/.cpanplus/5.24.4/build/sm03jBajow/Test-Warnings-0.026/blib/arch:/usr/home/cpan/pit/thr/conf/perl-5.24.4/.cpanplus/5.24.4/build/WXv7KYqmBm/File-Slurper-0.012/blib/lib:/usr/home/cpan/pit/thr/conf/perl-5.24.4/.cpanplus/5.24.4/build/WXv7KYqmBm/File-Slurper-0.012/blib/arch:/usr/home/cpan/pit/thr/conf/perl-5.24.4/.cpanplus/5.24.4/build/tyLKzO2x84/UNIVERSAL-require-0.18/blib/lib:/usr/home/cpan/pit/thr/conf/perl-5.24.4/.cpanplus/5.24.4/build/tyLKzO2x84/UNIVERSAL-require-0.18/blib/arch:/usr/home/cpan/pit/thr/conf/perl-5.24.4/.cpanplus/5.24.4/build/kRwQf2cXLY/Test-Compile-v1.3.0/blib/lib:/usr/home/cpan/pit/thr/conf/perl-5.24.4/.cpanplus/5.24.4/build/kRwQf2cXLY/Test-Compile-v1.3.0/blib/arch:/usr/home/cpan/pit/thr/conf/perl-5.24.4/.cpanplus/5.24.4/build/fvU_WZZyZF/FileHandle-Unget-0.1634/blib/lib:/usr/home/cpan/pit/thr/conf/perl-5.24.4/.cpanplus/5.24.4/build/fvU_WZZyZF/FileHandle-Unget-0.1634/blib/arch:/usr/home/cpan/pit/thr/conf/perl-5.24.4/.cpanplus/5.24.4/build/O0xNL9RQ5v/Algorithm-Diff-1.1903/blib/lib:/usr/home/cpan/pit/thr/conf/perl-5.24.4/.cpanplus/5.24.4/build/O0xNL9RQ5v/Algorithm-Diff-1.1903/blib/arch:/usr/home/cpan/pit/thr/conf/perl-5.24.4/.cpanplus/5.24.4/build/014I2mM3bA/Text-Diff-1.45/blib/lib:/usr/home/cpan/pit/thr/conf/perl-5.24.4/.cpanplus/5.24.4/build/014I2mM3bA/Text-Diff-1.45/blib/arch:/usr/home/cpan/pit/thr/conf/perl-5.24.4/.cpanplus/5.24.4/build/_xoaHaXZDE/Mail-Mbox-MessageParser-1.5111/blib/lib:/usr/home/cpan/pit/thr/conf/perl-5.24.4/.cpanplus/5.24.4/build/_xoaHaXZDE/Mail-Mbox-MessageParser-1.5111/blib/arch"
    PERL5_CPANPLUS_IS_RUNNING="89592"
    PERL5_CPANPLUS_IS_VERSION="0.9176"
    PERL5_MINISMOKEBOX="0.68"
    PERL5_YACSMOKE_BASE="/usr/home/cpan/pit/thr/conf/perl-5.24.4"
    PERL_EXTUTILS_AUTOINSTALL="--defaultdeps"
    PERL_MM_USE_DEFAULT="1"
  @INC:
    /usr/home/cpan/pit/thr/conf/perl-5.24.4/.cpanplus/5.24.4/build/LwqM4qduki/Test-Needs-0.002005/blib/lib
    /usr/home/cpan/pit/thr/conf/perl-5.24.4/.cpanplus/5.24.4/build/LwqM4qduki/Test-Needs-0.002005/blib/arch
    /usr/home/cpan/pit/thr/conf/perl-5.24.4/.cpanplus/5.24.4/build/GJJed_kXew/URI-1.74/blib/lib
    /usr/home/cpan/pit/thr/conf/perl-5.24.4/.cpanplus/5.24.4/build/GJJed_kXew/URI-1.74/blib/arch
    /usr/home/cpan/pit/thr/conf/perl-5.24.4/.cpanplus/5.24.4/build/sm03jBajow/Test-Warnings-0.026/blib/lib
    /usr/home/cpan/pit/thr/conf/perl-5.24.4/.cpanplus/5.24.4/build/sm03jBajow/Test-Warnings-0.026/blib/arch
    /usr/home/cpan/pit/thr/conf/perl-5.24.4/.cpanplus/5.24.4/build/WXv7KYqmBm/File-Slurper-0.012/blib/lib
    /usr/home/cpan/pit/thr/conf/perl-5.24.4/.cpanplus/5.24.4/build/WXv7KYqmBm/File-Slurper-0.012/blib/arch
    /usr/home/cpan/pit/thr/conf/perl-5.24.4/.cpanplus/5.24.4/build/tyLKzO2x84/UNIVERSAL-require-0.18/blib/lib
    /usr/home/cpan/pit/thr/conf/perl-5.24.4/.cpanplus/5.24.4/build/tyLKzO2x84/UNIVERSAL-require-0.18/blib/arch
    /usr/home/cpan/pit/thr/conf/perl-5.24.4/.cpanplus/5.24.4/build/kRwQf2cXLY/Test-Compile-v1.3.0/blib/lib
    /usr/home/cpan/pit/thr/conf/perl-5.24.4/.cpanplus/5.24.4/build/kRwQf2cXLY/Test-Compile-v1.3.0/blib/arch
    /usr/home/cpan/pit/thr/conf/perl-5.24.4/.cpanplus/5.24.4/build/fvU_WZZyZF/FileHandle-Unget-0.1634/blib/lib
    /usr/home/cpan/pit/thr/conf/perl-5.24.4/.cpanplus/5.24.4/build/fvU_WZZyZF/FileHandle-Unget-0.1634/blib/arch
    /usr/home/cpan/pit/thr/conf/perl-5.24.4/.cpanplus/5.24.4/build/O0xNL9RQ5v/Algorithm-Diff-1.1903/blib/lib
    /usr/home/cpan/pit/thr/conf/perl-5.24.4/.cpanplus/5.24.4/build/O0xNL9RQ5v/Algorithm-Diff-1.1903/blib/arch
    /usr/home/cpan/pit/thr/conf/perl-5.24.4/.cpanplus/5.24.4/build/014I2mM3bA/Text-Diff-1.45/blib/lib
    /usr/home/cpan/pit/thr/conf/perl-5.24.4/.cpanplus/5.24.4/build/014I2mM3bA/Text-Diff-1.45/blib/arch
    /usr/home/cpan/pit/thr/conf/perl-5.24.4/.cpanplus/5.24.4/build/_xoaHaXZDE/Mail-Mbox-MessageParser-1.5111/blib/lib
    /usr/home/cpan/pit/thr/conf/perl-5.24.4/.cpanplus/5.24.4/build/_xoaHaXZDE/Mail-Mbox-MessageParser-1.5111/blib/arch
    /usr/home/cpan/pit/thr/perl-5.24.4/lib/site_perl/5.24.4/amd64-freebsd-thread-multi
    /usr/home/cpan/pit/thr/perl-5.24.4/lib/site_perl/5.24.4
    /usr/home/cpan/pit/thr/perl-5.24.4/lib/5.24.4/amd64-freebsd-thread-multi
    /usr/home/cpan/pit/thr/perl-5.24.4/lib/5.24.4
    .