IO-Socket-SSL v2.089 Perl 5 v5.32.0 i86pc-solaris-thread-multi-64

Status
Pass
From
Roland van Ipenburg (IPENBURG)
Dist
IO-Socket-SSL v2.089
Platform
Perl 5 v5.32.0 i86pc-solaris-thread-multi-64
Date
2024-09-03 16:05:50
ID
63e5b006-6a0e-11ef-8e87-e9a9d5310877
This distribution has been tested as part of the CPAN Testers
project, supporting the Perl programming language.  See
http://wiki.cpantesters.org/ for more information or email
questions to cpan-testers-discuss@perl.org


--
Dear Steffen Ullrich,

This is a computer-generated report for IO-Socket-SSL-2.089
on perl 5.32.0, created by CPAN-Reporter-1.2019.

Thank you for uploading your work to CPAN.  Congratulations!
All tests were successful.

Sections of this report:

    * Tester comments
    * Program output
    * Prerequisites
    * Environment and other context

------------------------------
TESTER COMMENTS
------------------------------

Additional comments from tester:

none provided

------------------------------
PROGRAM OUTPUT
------------------------------

Output from '/usr/bin/make test':

PERL_DL_NONLAZY=1 "/usr/perl5/5.32/bin/perl" "-MExtUtils::Command::MM" "-MTest::Harness" "-e" "undef *Test::Harness::Switches; test_harness(0, 'blib/lib', 'blib/arch')" t/*.t t/external/*.t
# openssl version compiled=0x100021af linked=0x100021af -- OpenSSL 1.0.2za  24 Aug 2021
# Net::SSLeay version=1.92
# parent IO::Socket::IP version=0.42
t/01loadmodule.t .................. ok
t/acceptSSL-timeout.t ............. ok
t/alpn.t .......................... ok
t/auto_verify_hostname.t .......... ok
t/cert_formats.t .................. ok
t/cert_no_file.t .................. ok
t/compatibility.t ................. ok
t/connectSSL-timeout.t ............ ok
t/core.t .......................... ok
t/dhe.t ........................... ok
t/ecdhe.t ......................... ok
# tcp connect to www.chksum.de:443 ok
# fingerprint matches
# validation with default CA w/o OCSP ok
# got stapled response as expected
# validation with default CA with OCSP defaults ok
# validation with default CA with OCSP full chain ok
# tcp connect to www.bild.de:443 ok
# fingerprint matches
# validation with default CA w/o OCSP ok
# validation with default CA with OCSP defaults ok
# validation with default CA with OCSP full chain ok
# tcp connect to revoked.grc.com:443 ok
# fingerprint matches
# validation with default CA w/o OCSP ok
t/external/ocsp.t ................. ok
# found 155 CA certs
# have root CA for www.bild.de in store
# 5 connections to www.bild.de ok
# have root CA for www.yahoo.com in store
# 5 connections to www.yahoo.com ok
# fingerprint www.yahoo.com matches
# have root CA for www.comdirect.de in store
# 5 connections to www.comdirect.de ok
# fingerprint www.comdirect.de matches
# have root CA for meine.deutsche-bank.de in store
# 5 connections to meine.deutsche-bank.de ok
# fingerprint meine.deutsche-bank.de matches
# have root CA for www.twitter.com in store
# 5 connections to www.twitter.com ok
# fingerprint www.twitter.com matches
# have root CA for www.facebook.com in store
# 5 connections to www.facebook.com ok
# have root CA for www.live.com in store
# 5 connections to www.live.com ok
# fingerprint www.live.com matches
t/external/usable_ca.t ............ ok
t/io-socket-inet6.t ............... skipped: no IO::Socket::INET6 available
t/io-socket-ip.t .................. ok
t/memleak_bad_handshake.t ......... skipped: no usable ps
t/mitm.t .......................... ok
t/multiple-cert-rsa-ecc.t ......... ok
t/nonblock.t ...................... ok
t/npn.t ........................... ok
# -- test: newINET start_SSL stop_SSL start_SSL
# server accepted new client
# wait for initial data from client
# got 0x666f6f from client
# server: got plain data at start of connection
# server: TLS upgrade
# server: TLS downgrade
# server: TLS upgrade#2
# -- test: newSSL stop_SSL connect_SSL
# server accepted new client
# wait for initial data from client
# got 0x160301 from client
# server: TLS upgrade
# server: TLS downgrade
# server: TLS upgrade#2
# -- test: newSSL:0 connect_SSL stop_SSL connect_SSL
# server accepted new client
# wait for initial data from client
# got 0x666f6f from client
# server: got plain data at start of connection
# server: TLS upgrade
# server: TLS downgrade
# server: TLS upgrade#2
# -- test: newSSL:0 start_SSL stop_SSL connect_SSL
# server accepted new client
# wait for initial data from client
# got 0x666f6f from client
# server: got plain data at start of connection
# server: TLS upgrade
# server: TLS downgrade
# server: TLS upgrade#2
# server accepted new client
# wait for initial data from client
# got 0x656e64 from client
# client requested end of tests
t/plain_upgrade_downgrade.t ....... ok
# Failed to set SSL cipher list error:140E6118:SSL routines:SSL_CIPHER_PROCESS_RULESTR:invalid command - assuming SECLEVEL not supported
# looks like OpenSSL was compiled without SSLv3 support
# looks like OpenSSL was compiled without TLSv1_3 support
t/protocol_version.t .............. ok
t/psk.t ........................... skipped: insufficient support for PSK in Net::SSLeay
t/public_suffix_lib_encode_idn.t .. ok
t/public_suffix_lib_libidn.t ...... ok
t/public_suffix_lib_uri.t ......... ok
t/public_suffix_ssl.t ............. ok
t/readline.t ...................... ok
t/session_cache.t ................. ok
# listen at 127.0.0.1:56257
# listen at 127.0.0.1:61485
# connect to 0: success reuse=0 version=TLSv1_2
# connect to 0: success reuse=1 version=TLSv1_2
# connect to 1: success reuse=1 version=TLSv1_2
# connect to 1: success reuse=0 version=TLSv1_2
# connect to 0: success reuse=0 version=TLSv1_2
# connect to 0: success reuse=1 version=TLSv1_2
t/session_ticket.t ................ ok
t/sessions.t ...................... ok
t/set_curves.t .................... ok
t/signal-readline.t ............... ok
t/sni.t ........................... ok
t/sni_verify.t .................... ok
t/start-stopssl.t ................. ok
t/startssl-failed.t ............... ok
t/startssl.t ...................... ok
t/sysread_write.t ................. ok
t/verify_fingerprint.t ............ ok
t/verify_hostname.t ............... ok
t/verify_hostname_standalone.t .... ok
t/verify_partial_chain.t .......... ok
All tests successful.
Files=43, Tests=813, 53 wallclock secs ( 0.15 usr  0.11 sys +  3.56 cusr  1.07 csys =  4.89 CPU)
Result: PASS

------------------------------
PREREQUISITES
------------------------------

Prerequisite modules loaded:

requires:

    Module              Need Have
    ------------------- ---- ----
    Net::SSLeay         1.46 1.92
    Scalar::Util        0    1.63

build_requires:

    Module              Need Have
    ------------------- ---- ----
    ExtUtils::MakeMaker 0    7.70

configure_requires:

    Module              Need Have
    ------------------- ---- ----
    ExtUtils::MakeMaker 0    7.70
    Net::SSLeay         1.46 1.92


------------------------------
ENVIRONMENT AND OTHER CONTEXT
------------------------------

Environment variables:

    LANG = en_US.UTF-8
    LC_ALL = en_US.UTF-8
    LC_COLLATE = 
    LC_CTYPE = UTF-8
    LC_MESSAGES = 
    LC_MONETARY = 
    LC_NUMERIC = 
    LC_TIME = 
    NONINTERACTIVE_TESTING = 1
    PATH = /usr/bin:/usr/bin:/bin:/usr/sbin:/sbin
    PERL5LIB = 
    PERL5OPT = 
    PERL5_CPANPLUS_IS_RUNNING = 2167
    PERL5_CPAN_IS_RUNNING = 2167
    PERL_MM_USE_DEFAULT = 1
    PERL_USE_UNSAFE_INC = 1
    SHELL = /usr/bin/bash
    TERM = screen

Perl special variables (and OS-specific diagnostics, for MSWin32):

    $^X = /usr/perl5/5.32/bin/perl
    $UID/$EUID = 100 / 100
    $GID = 10 10
    $EGID = 10 10

Perl module toolchain versions installed:

    Module              Have    
    ------------------- --------
    CPAN                2.37    
    CPAN::Meta          2.150010
    Cwd                 3.78    
    ExtUtils::CBuilder  0.280236
    ExtUtils::Command   7.70    
    ExtUtils::Install   2.22    
    ExtUtils::MakeMaker 7.70    
    ExtUtils::Manifest  1.75    
    ExtUtils::ParseXS   3.51    
    File::Spec          3.78    
    JSON                4.10    
    JSON::PP            4.16    
    Module::Build       0.4234  
    Module::Signature   0.88    
    Parse::CPAN::Meta   2.150010
    Test2               1.302195
    Test::Harness       3.44    
    Test::More          1.302195
    YAML                1.30    
    YAML::Syck          n/a     
    version             0.9929  


--

Summary of my perl5 (revision 5 version 32 subversion 0) configuration:
   
  Platform:
    osname=solaris
    osvers=2.11
    archname=i86pc-solaris-thread-multi-64
    uname='sunos localhost 5.11 i86pc i386 i86pc'
    config_args='-de -Dmksymlinks -Ulocincpth= -Dbin=/usr/perl5/5.32/bin -Dcc=gcc -Dcf_by=perl-bugs -Dcf_email=first.last@example.invalid -Dlibperl=libperl.so -Dmyhostname=localhost -Dmydomain=foobar.example.org -Dperl_static_inline=static -Dprefix=/usr/perl5/5.32 -Dprivlib=/usr/perl5/5.32/lib -Dsitelib=/usr/perl5/site_perl/5.32 -Dsiteprefix=/usr/perl5/5.32 -Dvendorlib=/usr/perl5/vendor_perl/5.32 -Dvendorprefix=/usr/perl5/5.32 -Duseshrplib -Dusedtrace -Duse64bitall -Dusethreads -Dlibpth=/lib/64 /usr/lib/64 -Doptimize=-O3   '
    hint=recommended
    useposix=true
    d_sigaction=define
    useithreads=define
    usemultiplicity=define
    use64bitint=define
    use64bitall=define
    uselongdouble=undef
    usemymalloc=n
    default_inc_excludes_dot=define
    bincompat5005=undef
  Compiler:
    cc='gcc'
    ccflags ='-D_REENTRANT -m64 -fwrapv -fno-strict-aliasing -pipe -fstack-protector-strong -D_LARGEFILE64_SOURCE -D_FORTIFY_SOURCE=2 -DPERL_USE_SAFE_PUTENV'
    optimize='-O3 '
    cppflags='-D_REENTRANT -m64 -fwrapv -fno-strict-aliasing -pipe -fstack-protector-strong'
    ccversion=''
    gccversion='10.3.0'
    gccosandvers=''
    intsize=4
    longsize=8
    ptrsize=8
    doublesize=8
    byteorder=12345678
    doublekind=3
    d_longlong=define
    longlongsize=8
    d_longdbl=define
    longdblsize=16
    longdblkind=3
    ivtype='long'
    ivsize=8
    nvtype='double'
    nvsize=8
    Off_t='off_t'
    lseeksize=8
    alignbytes=8
    prototype=define
  Linker and Libraries:
    ld='gcc'
    ldflags =' -m64 -fstack-protector-strong -L/usr/gnu/lib '
    libpth=/lib/64 /usr/lib/64 /usr/gcc/10/lib /usr/gcc/10/lib/gcc/x86_64-pc-solaris2.11/10.3.0/include-fixed /usr/lib /usr/gnu/lib /usr/ccs/lib
    libs=-lpthread -lsocket -lnsl -lgdbm -ldb -ldl -lm -lc
    perllibs=-lpthread -lsocket -lnsl -ldl -lm -lc
    libc=/lib/libc.so
    so=so
    useshrplib=true
    libperl=libperl.so
    gnulibc_version=''
  Dynamic Linking:
    dlsrc=dl_dlopen.xs
    dlext=so
    d_dlsymun=undef
    ccdlflags='  -R /usr/perl5/5.32/lib/i86pc-solaris-thread-multi-64/CORE'
    cccdlflags='-fPIC'
    lddlflags=' -shared -m64 -L/usr/gnu/lib -fstack-protector-strong'


Characteristics of this binary (from libperl): 
  Compile-time options:
    HAS_TIMES
    MULTIPLICITY
    PERLIO_LAYERS
    PERL_COPY_ON_WRITE
    PERL_DONT_CREATE_GVSV
    PERL_IMPLICIT_CONTEXT
    PERL_MALLOC_WRAP
    PERL_OP_PARENT
    PERL_PRESERVE_IVUV
    PERL_USE_SAFE_PUTENV
    USE_64_BIT_ALL
    USE_64_BIT_INT
    USE_ITHREADS
    USE_LARGE_FILES
    USE_LOCALE
    USE_LOCALE_COLLATE
    USE_LOCALE_CTYPE
    USE_LOCALE_NUMERIC
    USE_LOCALE_TIME
    USE_PERLIO
    USE_PERL_ATOF
    USE_REENTRANT_API
    USE_THREAD_SAFE_LOCALE
  Built under solaris
  Compiled at Nov 19 2021 12:12:16
  %ENV:
    PERL5LIB=""
    PERL5OPT=""
    PERL5_CPANPLUS_IS_RUNNING="2167"
    PERL5_CPAN_IS_RUNNING="2167"
    PERL_MM_USE_DEFAULT="1"
    PERL_USE_UNSAFE_INC="1"
  @INC:
    /usr/perl5/site_perl/5.32/i86pc-solaris-thread-multi-64
    /usr/perl5/site_perl/5.32
    /usr/perl5/vendor_perl/5.32/i86pc-solaris-thread-multi-64
    /usr/perl5/vendor_perl/5.32
    /usr/perl5/5.32/lib/i86pc-solaris-thread-multi-64
    /usr/perl5/5.32/lib
    .