Report for MooseX-Configuration-0.02

Back
From: metabase:user:a2f211e6-b4d8-11e3-8cef-17f887cd97f7
Subject: PASS MooseX-Configuration-0.02 v5.14.4 GNU/Linux
Date: 2014-03-26T11:40:11Z

This distribution has been tested as part of the CPAN Testers
project, supporting the Perl programming language.  See
http://wiki.cpantesters.org/ for more information or email
questions to cpan-testers-discuss@perl.org


--
Dear Dave Rolsky,

This is a computer-generated report for MooseX-Configuration-0.02
on perl 5.14.4, created by CPAN-Reporter-1.2010.

Thank you for uploading your work to CPAN.  Congratulations!
All tests were successful.

Sections of this report:

    * Tester comments
    * Program output
    * Prerequisites
    * Environment and other context

------------------------------
TESTER COMMENTS
------------------------------

Additional comments from tester:

none provided

------------------------------
PROGRAM OUTPUT
------------------------------

Output from '/usr/bin/make test':

PERL_DL_NONLAZY=1 /opt/perl5/perls/perl-5.14.4/bin/perl "-MExtUtils::Command::MM" "-MTest::Harness" "-e" "undef *Test::Harness::Switches; test_harness(0, 'blib/lib', 'blib/arch')" t/*.t
t/basic.t ................. ok
t/release-eol.t ........... skipped: these tests are for release candidate testing
t/release-no-tabs.t ....... skipped: these tests are for release candidate testing
t/release-pod-coverage.t .. skipped: these tests are for release candidate testing
t/release-pod-spell.t ..... skipped: these tests are for release candidate testing
t/release-pod-syntax.t .... skipped: these tests are for release candidate testing
All tests successful.
Files=6, Tests=5,  1 wallclock secs ( 0.04 usr  0.04 sys +  0.46 cusr  0.08 csys =  0.62 CPU)
Result: PASS

------------------------------
PREREQUISITES
------------------------------

Prerequisite modules loaded:

requires:

    Module                     Need Have    
    -------------------------- ---- --------
    autodie                    0    2.23    
    Config::INI                0    0.023   
    List::AllUtils             0    0.07    
    Moose                      0    2.1204  
    MooseX::Types              0    0.41    
    MooseX::Types::Path::Class 0    0.06    
    namespace::autoclean       0    0.15    
    Path::Class                0    0.33    
    Text::Autoformat           0    1.669004

build_requires:

    Module                     Need Have    
    -------------------------- ---- --------
    File::Temp                 0    0.2304  
    Test::More                 0.88 1.001002

configure_requires:

    Module                     Need Have    
    -------------------------- ---- --------
    ExtUtils::MakeMaker        6.31 6.88    


------------------------------
ENVIRONMENT AND OTHER CONTEXT
------------------------------

Environment variables:

    LANG = en_US.UTF-8
    PATH = /opt/perl-5.14.4/bin:/opt/perl-5.14.4/lib:/opt/python3.3.4/bin:/opt/python3.3.4/lib:/opt/python3.3.4/include:/opt/gcc-4.8.1/bin:/opt/gcc-4.8.1/lib:/opt/gcc-4.8.1/include:/opt/perl-5.14.4/bin:/opt/Komodo/bin:/opt/perl5/bin:/opt/perl5/perls/perl-5.14.4/bin:/opt/perl-5.14.4/bin:/opt/perl-5.14.4/lib:/opt/python3.3.4/bin:/opt/python3.3.4/lib:/opt/python3.3.4/include:/opt/gcc-4.8.1/bin:/opt/gcc-4.8.1/lib:/opt/gcc-4.8.1/include:/opt/perl-5.14.4/bin:/opt/Komodo/bin:/opt/perl-5.14.4/bin:/opt/perl-5.14.4/lib:/opt/python3.3.4/bin:/opt/python3.3.4/lib:/opt/python3.3.4/include:/opt/gcc-4.8.1/bin:/opt/gcc-4.8.1/lib:/opt/gcc-4.8.1/include:/opt/perl-5.14.4/bin:/opt/Komodo/bin:/opt/perl-5.14.4/bin:/opt/perl-5.14.4/lib:/opt/python3.3.4/bin:/opt/python3.3.4/lib:/opt/python3.3.4/include:/opt/gcc-4.8.1/bin:/opt/gcc-4.8.1/lib:/opt/gcc-4.8.1/include:/opt/perl-5.14.4/bin:/opt/Komodo/bin:/opt/perl-5.14.4/bin:/opt/perl-5.14.4/lib:/opt/python3.3.4/bin:/opt/python3.3.4/lib:/opt/python3.3.4/include:/opt/gcc-4.8.1/bin:/opt/gcc-4.8.1/lib:/opt/gcc-4.8.1/include:/opt/perl-5.14.4/bin:/usr/local/sbin:/usr/local/bin:/usr/sbin:/usr/bin:/sbin:/bin
    PERL5LIB = /opt/perl-5.14.4/lib
    PERL5OPT = 
    PERL5_CPANPLUS_IS_RUNNING = 25768
    PERL5_CPAN_IS_RUNNING = 25768
    PERLBREW_BASHRC_VERSION = 0.67
    PERLBREW_HOME = /root/.perlbrew
    PERLBREW_MANPATH = /opt/perl5/perls/perl-5.14.4/man
    PERLBREW_PATH = /opt/perl5/bin:/opt/perl5/perls/perl-5.14.4/bin
    PERLBREW_PERL = perl-5.14.4
    PERLBREW_ROOT = /opt/perl5
    PERLBREW_VERSION = 0.67
    SHELL = /bin/bash
    TERM = xterm

Perl special variables (and OS-specific diagnostics, for MSWin32):

    $^X = /opt/perl5/perls/perl-5.14.4/bin/perl
    $UID/$EUID = 0 / 0
    $GID = 0 0
    $EGID = 0 0

Perl module toolchain versions installed:

    Module              Have    
    ------------------- --------
    CPAN                2.00    
    CPAN::Meta          2.133380
    Cwd                 3.40    
    ExtUtils::CBuilder  0.280203
    ExtUtils::Command   1.17    
    ExtUtils::Install   1.56    
    ExtUtils::MakeMaker 6.88    
    ExtUtils::Manifest  1.60    
    ExtUtils::ParseXS   3.22    
    File::Spec          3.40    
    JSON                2.90    
    JSON::PP            2.27203 
    Module::Build       0.4205  
    Module::Signature   n/a     
    Parse::CPAN::Meta   1.4405  
    Test::Harness       3.30    
    Test::More          1.001002
    YAML                0.90    
    YAML::Syck          1.27    
    version             0.88    


--

Summary of my perl5 (revision 5 version 14 subversion 4) configuration:
   
  Platform:
    osname=linux, osvers=3.8.0-35-generic, archname=x86_64-linux
    uname='linux ubuntu 3.8.0-35-generic #50-ubuntu smp tue dec 3 01:24:59 utc 2013 x86_64 x86_64 x86_64 gnulinux '
    config_args='-de -Dprefix=/opt/perl5/perls/perl-5.14.4 -Aeval:scriptdir=/opt/perl5/perls/perl-5.14.4/bin'
    hint=recommended, useposix=true, d_sigaction=define
    useithreads=undef, usemultiplicity=undef
    useperlio=define, d_sfio=undef, uselargefiles=define, usesocks=undef
    use64bitint=define, use64bitall=define, uselongdouble=undef
    usemymalloc=n, bincompat5005=undef
  Compiler:
    cc='cc', ccflags ='-fno-strict-aliasing -pipe -fstack-protector -I/usr/local/include -D_LARGEFILE_SOURCE -D_FILE_OFFSET_BITS=64',
    optimize='-O2',
    cppflags='-fno-strict-aliasing -pipe -fstack-protector -I/usr/local/include'
    ccversion='', gccversion='4.7.3', gccosandvers=''
    intsize=4, longsize=8, ptrsize=8, doublesize=8, byteorder=12345678
    d_longlong=define, longlongsize=8, d_longdbl=define, longdblsize=16
    ivtype='long', ivsize=8, nvtype='double', nvsize=8, Off_t='off_t', lseeksize=8
    alignbytes=8, prototype=define
  Linker and Libraries:
    ld='cc', ldflags =' -fstack-protector -L/usr/local/lib'
    libpth=/usr/local/lib /lib/x86_64-linux-gnu /lib/../lib /usr/lib/x86_64-linux-gnu /usr/lib/../lib /lib /usr/lib /lib64 /usr/lib64
    libs=-lnsl -lgdbm -ldl -lm -lcrypt -lutil -lc -lgdbm_compat
    perllibs=-lnsl -ldl -lm -lcrypt -lutil -lc
    libc=, so=so, useshrplib=false, libperl=libperl.a
    gnulibc_version='2.17'
  Dynamic Linking:
    dlsrc=dl_dlopen.xs, dlext=so, d_dlsymun=undef, ccdlflags='-Wl,-E'
    cccdlflags='-fPIC', lddlflags='-shared -O2 -L/usr/local/lib -fstack-protector'


Characteristics of this binary (from libperl): 
  Compile-time options: PERL_DONT_CREATE_GVSV PERL_MALLOC_WRAP
                        PERL_PRESERVE_IVUV USE_64_BIT_ALL USE_64_BIT_INT
                        USE_LARGE_FILES USE_PERLIO USE_PERL_ATOF
  Built under linux
  Compiled at Feb 19 2014 14:36:31
  %ENV:
    PERL5LIB="/opt/perl-5.14.4/lib"
    PERL5OPT=""
    PERL5_CPANPLUS_IS_RUNNING="25768"
    PERL5_CPAN_IS_RUNNING="25768"
    PERLBREW_BASHRC_VERSION="0.67"
    PERLBREW_HOME="/root/.perlbrew"
    PERLBREW_MANPATH="/opt/perl5/perls/perl-5.14.4/man"
    PERLBREW_PATH="/opt/perl5/bin:/opt/perl5/perls/perl-5.14.4/bin"
    PERLBREW_PERL="perl-5.14.4"
    PERLBREW_ROOT="/opt/perl5"
    PERLBREW_VERSION="0.67"
  @INC:
    /opt/perl-5.14.4/lib
    /opt/perl5/perls/perl-5.14.4/lib/site_perl/5.14.4/x86_64-linux
    /opt/perl5/perls/perl-5.14.4/lib/site_perl/5.14.4
    /opt/perl5/perls/perl-5.14.4/lib/5.14.4/x86_64-linux
    /opt/perl5/perls/perl-5.14.4/lib/5.14.4
    .