Alien-Build-Plugin-Download-GitHub v0.10 Perl 5 v5.41.10 x86_64-linux-thread-multi-quadmath
- Status
- Pass
- From
- Andreas J. König (ANDK)
- Dist
-
Alien-Build-Plugin-Download-GitHub v0.10
- Platform
- Perl 5 v5.41.10 x86_64-linux-thread-multi-quadmath
- Date
- 2025-04-08 13:07:14
- ID
- 63bdd7fe-147a-11f0-bfbd-aa9538def1cc
This distribution has been tested as part of the CPAN Testers
project, supporting the Perl programming language. See
http://wiki.cpantesters.org/ for more information or email
questions to cpan-testers-discuss@perl.org
--
Dear Graham Ollis,
This is a computer-generated report for Alien-Build-Plugin-Download-GitHub-0.10
on perl 5.41.10, created by CPAN-Reporter-1.2020.
Thank you for uploading your work to CPAN. Congratulations!
All tests were successful.
Sections of this report:
* Tester comments
* Program output
* Prerequisites
* Environment and other context
------------------------------
TESTER COMMENTS
------------------------------
Additional comments from tester:
this report is from an automated smoke testing program
and was not reviewed by a human for accuracy
------------------------------
PROGRAM OUTPUT
------------------------------
Output from '/usr/bin/make test':
PERL_DL_NONLAZY=1 "/home/sand/src/perl/repoperls/installed-perls/host/k93msid/v5.41.10/db45/bin/perl" "-MExtUtils::Command::MM" "-MTest::Harness" "-e" "undef *Test::Harness::Switches; test_harness(0, 'blib/lib', 'blib/arch')" t/*.t
#
#
#
# HARNESS_ACTIVE=1
# HARNESS_VERSION=3.50
# LANG=en_US.UTF-8
# PERL5LIB=/tmp/loop_over_bdir-2639088-YmqqrK/Alien-Build-Plugin-Download-GitHub-0.10-0/blib/lib:/tmp/loop_over_bdir-2639088-YmqqrK/Alien-Build-Plugin-Download-GitHub-0.10-0/blib/arch:
# PERL5OPT=
# PERL5_CPANPLUS_IS_RUNNING=232556
# PERL5_CPAN_IS_RUNNING=232556
# PERL_CANARY_STABILITY_NOPROMPT=1
# PERL_DL_NONLAZY=1
# PERL_MM_USE_DEFAULT=1
# PERL_USE_UNSAFE_INC=1
# SHELL=/usr/bin/zsh
#
#
#
# PERL5LIB path
# /tmp/loop_over_bdir-2639088-YmqqrK/Alien-Build-Plugin-Download-GitHub-0.10-0/blib/lib
# /tmp/loop_over_bdir-2639088-YmqqrK/Alien-Build-Plugin-Download-GitHub-0.10-0/blib/arch
#
#
#
# perl 5.041010 linux x86_64-linux-thread-multi-quadmath
# Alien::Build 2.84
# Alien::Build::Plugin 2.84
# Alien::Build::Plugin::Download::Negotiate 2.84
# Alien::Build::Plugin::Extract::Negotiate 2.84
# Capture::Tiny 0.50
# ExtUtils::MakeMaker 7.72
# HTTP::Tiny 0.090
# JSON::PP 4.16
# Path::Tiny 0.148
# Test2::V0 1.302209
# Test::Alien::Build 2.84
# URI 5.31
# YAML 1.31
#
#
#
t/00_diag.t ............................. ok
t/01_use.t .............................. ok
t/alien_build_plugin_download_github.t .. ok
All tests successful.
Files=3, Tests=4, 12 wallclock secs ( 0.03 usr 0.01 sys + 1.47 cusr 0.40 csys = 1.91 CPU)
Result: PASS
------------------------------
PREREQUISITES
------------------------------
Prerequisite modules loaded:
requires:
Module Need Have
----------------------------------------- -------- --------
Alien::Build 2.39 2.84
Alien::Build::Plugin 0 2.84
Alien::Build::Plugin::Download::Negotiate 0 2.84
Alien::Build::Plugin::Extract::Negotiate 0 2.84
JSON::PP 0 4.16
Path::Tiny 0 0.148
perl 5.008001 5.041010
URI 0 5.31
YAML 0 1.31
build_requires:
Module Need Have
----------------------------------------- -------- --------
Capture::Tiny 0 0.50
ExtUtils::MakeMaker 0 7.72
HTTP::Tiny 0 0.090
Test2::V0 0.000121 1.302209
Test::Alien::Build 0 2.84
configure_requires:
Module Need Have
----------------------------------------- -------- --------
ExtUtils::MakeMaker 0 7.72
perl 5.008001 5.041010
------------------------------
ENVIRONMENT AND OTHER CONTEXT
------------------------------
Environment variables:
AUTOMATED_TESTING = 1
LANG = en_US.UTF-8
LANGUAGE = en_US:en
PATH = /home/sand/bin:/usr/local/bin:/usr/bin:/bin:/usr/games:/usr/local/perl/bin:/usr/X11/bin:/sbin:/usr/sbin
PERL5LIB =
PERL5OPT =
PERL5_CPANPLUS_IS_RUNNING = 232556
PERL5_CPAN_IS_RUNNING = 232556
PERL_CANARY_STABILITY_NOPROMPT = 1
PERL_MM_USE_DEFAULT = 1
PERL_USE_UNSAFE_INC = 1
SHELL = /usr/bin/zsh
TERM = screen
Perl special variables (and OS-specific diagnostics, for MSWin32):
$^X = /home/sand/src/perl/repoperls/installed-perls/host/k93msid/v5.41.10/db45/bin/perl
$UID/$EUID = 1005 / 1005
$GID = 1005 1005
$EGID = 1005 1005
Perl module toolchain versions installed:
Module Have
------------------- --------
CPAN 2.38
CPAN::Meta 2.150010
Cwd 3.92
ExtUtils::CBuilder 0.280240
ExtUtils::Command 7.72
ExtUtils::Install 2.22
ExtUtils::MakeMaker 7.72
ExtUtils::Manifest 1.75
ExtUtils::ParseXS 3.57
File::Spec 3.93
JSON 4.10
JSON::PP 4.16
Module::Build 0.4234
Module::Signature 0.89
Parse::CPAN::Meta 2.150010
Test2 1.302209
Test::Harness 3.50
Test::More 1.302209
YAML 1.31
YAML::Syck 1.34
version 0.9933
--
Summary of my perl5 (revision 5 version 41 subversion 10) configuration:
Commit id: 6a1cf63fc3f0e8d25b8f3837f9ca46b3bbc65885
Platform:
osname=linux
osvers=6.8.12-amd64
archname=x86_64-linux-thread-multi-quadmath
uname='linux k93msid 6.8.12-amd64 #1 smp preempt_dynamic debian 6.8.12-1 (2024-05-31) x86_64 gnulinux '
config_args='-Dprefix=/home/sand/src/perl/repoperls/installed-perls/host/k93msid/v5.41.10/db45 -Dmyhostname=k93msid -Dinstallusrbinperl=n -Uversiononly -Dusedevel -des -Ui_db -Dlibswanted=cl pthread socket inet nsl gdbm dbm malloc dl ld sun m crypt sec util c cposix posix ucb BSD gdbm_compat -Duseithreads -Uuselongdouble -DEBUGGING=both -Dusequadmath'
hint=recommended
useposix=true
d_sigaction=define
useithreads=define
usemultiplicity=define
use64bitint=define
use64bitall=define
uselongdouble=undef
usemymalloc=n
default_inc_excludes_dot=define
Compiler:
cc='cc'
ccflags ='-D_REENTRANT -D_GNU_SOURCE -fwrapv -DDEBUGGING -fno-strict-aliasing -pipe -fstack-protector-strong -I/usr/local/include -D_LARGEFILE_SOURCE -D_FILE_OFFSET_BITS=64 -D_FORTIFY_SOURCE=2'
optimize='-O2 -g'
cppflags='-D_REENTRANT -D_GNU_SOURCE -fwrapv -DDEBUGGING -fno-strict-aliasing -pipe -fstack-protector-strong -I/usr/local/include'
ccversion=''
gccversion='13.3.0'
gccosandvers=''
intsize=4
longsize=8
ptrsize=8
doublesize=8
byteorder=12345678
doublekind=3
d_longlong=define
longlongsize=8
d_longdbl=define
longdblsize=16
longdblkind=3
ivtype='long'
ivsize=8
nvtype='__float128'
nvsize=16
Off_t='off_t'
lseeksize=8
alignbytes=16
prototype=define
Linker and Libraries:
ld='cc'
ldflags =' -fstack-protector-strong -L/usr/local/lib'
libpth=/usr/local/lib /usr/lib/x86_64-linux-gnu /usr/lib /usr/lib64
libs=-lpthread -ldl -lm -lcrypt -lutil -lc -lquadmath
perllibs=-lpthread -ldl -lm -lcrypt -lutil -lc -lquadmath
libc=/lib/x86_64-linux-gnu/libc.so.6
so=so
useshrplib=false
libperl=libperl.a
gnulibc_version='2.38'
Dynamic Linking:
dlsrc=dl_dlopen.xs
dlext=so
d_dlsymun=undef
ccdlflags='-Wl,-E'
cccdlflags='-fPIC'
lddlflags='-shared -O2 -g -L/usr/local/lib -fstack-protector-strong'
Characteristics of this binary (from libperl):
Compile-time options:
DEBUGGING
HAS_LONG_DOUBLE
HAS_STRTOLD
HAS_TIMES
MULTIPLICITY
PERLIO_LAYERS
PERL_COPY_ON_WRITE
PERL_DONT_CREATE_GVSV
PERL_HASH_FUNC_SIPHASH13
PERL_HASH_USE_SBOX32
PERL_MALLOC_WRAP
PERL_OP_PARENT
PERL_PRESERVE_IVUV
PERL_TRACK_MEMPOOL
PERL_USE_DEVEL
PERL_USE_SAFE_PUTENV
USE_64_BIT_ALL
USE_64_BIT_INT
USE_ITHREADS
USE_LARGE_FILES
USE_LOCALE
USE_LOCALE_COLLATE
USE_LOCALE_CTYPE
USE_LOCALE_NUMERIC
USE_LOCALE_TIME
USE_PERLIO
USE_PERL_ATOF
USE_QUADMATH
USE_REENTRANT_API
USE_THREAD_SAFE_LOCALE
Built under linux
Compiled at Mar 25 2025 18:51:12
%ENV:
PERL5LIB=""
PERL5OPT=""
PERL5_CPANPLUS_IS_RUNNING="232556"
PERL5_CPAN_IS_RUNNING="232556"
PERL_CANARY_STABILITY_NOPROMPT="1"
PERL_MM_USE_DEFAULT="1"
PERL_USE_UNSAFE_INC="1"
@INC:
/home/sand/src/perl/repoperls/installed-perls/host/k93msid/v5.41.10/db45/lib/site_perl/5.41.10/x86_64-linux-thread-multi-quadmath
/home/sand/src/perl/repoperls/installed-perls/host/k93msid/v5.41.10/db45/lib/site_perl/5.41.10
/home/sand/src/perl/repoperls/installed-perls/host/k93msid/v5.41.10/db45/lib/5.41.10/x86_64-linux-thread-multi-quadmath
/home/sand/src/perl/repoperls/installed-perls/host/k93msid/v5.41.10/db45/lib/5.41.10
.