Back
From: metabase:user:30ae4450-2aae-11df-837a-5e0a49663a4f
Subject: PASS Integrator-Module-Build-1.057 v5.12.3
Date: 2013-02-21T04:13:07Z
This distribution has been tested as part of the CPAN Testers
project, supporting the Perl programming language. See
http://wiki.cpantesters.org/ for more information or email
questions to cpan-testers-discuss@perl.org
--
Dear Francois Perron,
This is a computer-generated report for Integrator-Module-Build-1.057
on perl 5.12.3, created by CPAN-Reporter-1.2009.
Thank you for uploading your work to CPAN. Congratulations!
All tests were successful.
Sections of this report:
* Tester comments
* Program output
* Prerequisites
* Environment and other context
------------------------------
TESTER COMMENTS
------------------------------
Additional comments from tester:
this report is from an automated smoke testing program
and was not reviewed by a human for accuracy
------------------------------
PROGRAM OUTPUT
------------------------------
Output from 'C:\strawberry\perl\bin\perl.exe ./Build test':
# Testing Integrator::Module::Build 1.057, Perl 5.012003, C:\STRAWB~1\perl\bin\perl.exe
t\00-load.t .................................. ok
# Testing Integrator::Test::ConfigData 1.011, Perl 5.012003, C:\STRAWB~1\perl\bin\perl.exe
t\01-load-integrator-test-configdata.t ....... ok
# Testing Integrator::Test::TAP::Model::Patch 1.002, Perl 5.012003, C:\STRAWB~1\perl\bin\perl.exe
t\01-load-integrator-test-tap-model-patch.t .. ok
t\10persist.t ................................ ok
t\11persist.t ................................ ok
t\12persist.t ................................ ok
t\can_pass_through_other.t ................... ok
t\can_use_own.t .............................. ok
t\configdata.t ............................... ok
t\data_check_deep.t .......................... ok
t\integrator_deep.t .......................... ok
t\measurement.t .............................. ok
t\pod-coverage.t ............................. ok
t\pod.t ...................................... ok
All tests successful.
Files=14, Tests=267, 4 wallclock secs ( 0.00 usr + 0.12 sys = 0.12 CPU)
Result: PASS
------------------------------
PREREQUISITES
------------------------------
Prerequisite modules loaded:
requires:
Module Need Have
--------------------- ------- --------
Crypt::SSLeay 0 0.58
Data::UUID 0 1.218
Devel::Symdump 0 2.08
perl v5.8.8 5.012003
Term::ReadKey 0 2.30
Test::Cmd 0 1.05
Test::Harness 2.64 3.23
Test::Pod 0 1.45
Test::Pod::Coverage 0 1.08
XML::NamespaceSupport 0 1.11
XML::Parser 0 2.41
XML::SAX 0 0.99
XML::SAX::Expat 0 0.40
XML::Simple 0 2.18
YAML 0 0.84
build_requires:
Module Need Have
--------------------- ------- --------
Compress::Zlib 0 2.034
HTML::Parser 0 3.69
HTML::Tagset 0 3.20
LWP::UserAgent 0 6.04
Method::Alias 0 1.03
Module::Starter 0 1.60
Test::TAP::Model 0.06666 0.10
URI 0 1.60
------------------------------
ENVIRONMENT AND OTHER CONTEXT
------------------------------
Environment variables:
AUTOMATED_TESTING = 1
COMSPEC = C:\WINDOWS\system32\cmd.exe
NUMBER_OF_PROCESSORS = 1
PATH = C:\Program Files\Far Manager\;C:\WINDOWS\system32;C:\WINDOWS;C:\WINDOWS\System32\Wbem;C:\strawberry\c\bin;C:\strawberry\perl\site\bin;C:\strawberry\perl\bin
PERL5LIB = C:\strawberry\cpan\build\Test-TAP-Model-0.10-mssqBK/blib/arch;C:\strawberry\cpan\build\Test-TAP-Model-0.10-mssqBK/blib/lib;C:\strawberry\cpan\build\Test-Harness-Straps-0.30-Ia2JUi/blib/arch;C:\strawberry\cpan\build\Test-Harness-Straps-0.30-Ia2JUi/blib/lib;C:\strawberry\cpan\build\Method-Alias-1.03-8Yg5yO/blib/arch;C:\strawberry\cpan\build\Method-Alias-1.03-8Yg5yO/blib/lib;C:\strawberry\cpan\build\Test-Cmd-1.05-S5gQGy/blib/arch;C:\strawberry\cpan\build\Test-Cmd-1.05-S5gQGy/blib/lib
PERL5OPT =
PERL5_CPANPLUS_IS_RUNNING = 592
PERL5_CPAN_IS_RUNNING = 592
PERL5_CPAN_IS_RUNNING_IN_RECURSION = 708,592
PERL_CR_SMOKER_CURRENT = Integrator-Module-Build-1.057
PERL_EXTUTILS_AUTOINSTALL = --defaultdeps
PERL_JSON_BACKEND = JSON::XS
PERL_MM_USE_DEFAULT = 1
PERL_YAML_BACKEND = YAML
PROCESSOR_IDENTIFIER = x86 Family 16 Model 5 Stepping 3, AuthenticAMD
TEMP = C:\DOCUME~1\c\LOCALS~1\Temp
TERM = dumb
Perl special variables (and OS-specific diagnostics, for MSWin32):
$^X = C:\strawberry\perl\bin\perl.exe
$UID/$EUID = 0 / 0
$GID = 0
$EGID = 0
Win32::GetOSName = WinXP/.Net
Win32::GetOSVersion = Service Pack 3, 5, 1, 2600, 2, 3, 0, 256, 1
Win32::FsType = NTFS
Win32::IsAdminUser = 1
Perl module toolchain versions installed:
Module Have
------------------- --------
CPAN 1.9800
CPAN::Meta 2.120921
Cwd 3.40
ExtUtils::CBuilder 0.280202
ExtUtils::Command 1.17
ExtUtils::Install 1.55
ExtUtils::MakeMaker 6.64
ExtUtils::Manifest 1.60
ExtUtils::ParseXS 3.18
File::Spec 3.40
JSON 2.53
JSON::PP 2.27200
Module::Build 0.4003
Module::Signature 0.66
Parse::CPAN::Meta 1.4404
Test::Harness 3.23
Test::More 0.98
YAML 0.84
YAML::Syck 1.22
version 0.9901
--
Summary of my perl5 (revision 5 version 12 subversion 3) configuration:
Platform:
osname=MSWin32, osvers=5.1, archname=MSWin32-x86-multi-thread
uname='Win32 strawberryperl 5.12.3.0 #1 Sun May 15 09:44:53 2011 i386'
config_args='undef'
hint=recommended, useposix=true, d_sigaction=undef
useithreads=define, usemultiplicity=define
useperlio=define, d_sfio=undef, uselargefiles=define, usesocks=undef
use64bitint=undef, use64bitall=undef, uselongdouble=undef
usemymalloc=n, bincompat5005=undef
Compiler:
cc='gcc', ccflags =' -s -O2 -DWIN32 -DHAVE_DES_FCRYPT -DUSE_SITECUSTOMIZE -DPERL_IMPLICIT_CONTEXT -DPERL_IMPLICIT_SYS -fno-strict-aliasing -mms-bitfields -DPERL_MSVCRT_READFIX',
optimize='-s -O2',
cppflags='-DWIN32'
ccversion='', gccversion='4.4.3', gccosandvers=''
intsize=4, longsize=4, ptrsize=4, doublesize=8, byteorder=1234
d_longlong=undef, longlongsize=8, d_longdbl=define, longdblsize=12
ivtype='long', ivsize=4, nvtype='double', nvsize=8, Off_t='long long', lseeksize=8
alignbytes=8, prototype=define
Linker and Libraries:
ld='g++', ldflags ='-s -L"C:\strawberry\perl\lib\CORE" -L"C:\strawberry\c\lib"'
libpth=C:\strawberry\c\lib C:\strawberry\c\i686-w64-mingw32\lib
libs=-lmoldname -lkernel32 -luser32 -lgdi32 -lwinspool -lcomdlg32 -ladvapi32 -lshell32 -lole32 -loleaut32 -lnetapi32 -luuid -lws2_32 -lmpr -lwinmm -lversion -lodbc32 -lodbccp32 -lcomctl32
perllibs=-lmoldname -lkernel32 -luser32 -lgdi32 -lwinspool -lcomdlg32 -ladvapi32 -lshell32 -lole32 -loleaut32 -lnetapi32 -luuid -lws2_32 -lmpr -lwinmm -lversion -lodbc32 -lodbccp32 -lcomctl32
libc=, so=dll, useshrplib=true, libperl=libperl512.a
gnulibc_version=''
Dynamic Linking:
dlsrc=dl_win32.xs, dlext=dll, d_dlsymun=undef, ccdlflags=' '
cccdlflags=' ', lddlflags='-mdll -s -L"C:\strawberry\perl\lib\CORE" -L"C:\strawberry\c\lib"'
Characteristics of this binary (from libperl):
Compile-time options: MULTIPLICITY PERL_DONT_CREATE_GVSV
PERL_IMPLICIT_CONTEXT PERL_IMPLICIT_SYS
PERL_MALLOC_WRAP PL_OP_SLAB_ALLOC USE_ITHREADS
USE_LARGE_FILES USE_PERLIO USE_PERL_ATOF
USE_SITECUSTOMIZE
Built under MSWin32
Compiled at May 15 2011 17:02:01
%ENV:
PERL5LIB="C:\strawberry\cpan\build\Test-TAP-Model-0.10-mssqBK/blib/arch;C:\strawberry\cpan\build\Test-TAP-Model-0.10-mssqBK/blib/lib;C:\strawberry\cpan\build\Test-Harness-Straps-0.30-Ia2JUi/blib/arch;C:\strawberry\cpan\build\Test-Harness-Straps-0.30-Ia2JUi/blib/lib;C:\strawberry\cpan\build\Method-Alias-1.03-8Yg5yO/blib/arch;C:\strawberry\cpan\build\Method-Alias-1.03-8Yg5yO/blib/lib;C:\strawberry\cpan\build\Test-Cmd-1.05-S5gQGy/blib/arch;C:\strawberry\cpan\build\Test-Cmd-1.05-S5gQGy/blib/lib"
PERL5_CPANPLUS_IS_RUNNING="592"
PERL5_CPAN_IS_RUNNING="592"
PERL5_CPAN_IS_RUNNING_IN_RECURSION="708,592"
PERL_CR_SMOKER_CURRENT="Integrator-Module-Build-1.057"
PERL_EXTUTILS_AUTOINSTALL="--defaultdeps"
PERL_JSON_BACKEND="JSON::XS"
PERL_MM_USE_DEFAULT="1"
PERL_YAML_BACKEND="YAML"
@INC:
C:\strawberry\cpan\build\Test-TAP-Model-0.10-mssqBK/blib/arch
C:\strawberry\cpan\build\Test-TAP-Model-0.10-mssqBK/blib/lib
C:\strawberry\cpan\build\Test-Harness-Straps-0.30-Ia2JUi/blib/arch
C:\strawberry\cpan\build\Test-Harness-Straps-0.30-Ia2JUi/blib/lib
C:\strawberry\cpan\build\Method-Alias-1.03-8Yg5yO/blib/arch
C:\strawberry\cpan\build\Method-Alias-1.03-8Yg5yO/blib/lib
C:\strawberry\cpan\build\Test-Cmd-1.05-S5gQGy/blib/arch
C:\strawberry\cpan\build\Test-Cmd-1.05-S5gQGy/blib/lib
C:/strawberry/perl/site/lib
C:/strawberry/perl/vendor/lib
C:/strawberry/perl/lib
.