Test-OpenTracing-Integration vv0.104.1 Perl 5 v5.41.13 x86_64-linux-thread-multi

Status
Pass
From
Carlos Guevara
Dist
Test-OpenTracing-Integration vv0.104.1
Platform
Perl 5 v5.41.13 x86_64-linux-thread-multi
Date
2025-05-04 11:31:58
ID
63ae5138-28db-11f0-a211-844cb2de412b
This distribution has been tested as part of the CPAN Testers
project, supporting the Perl programming language.  See
http://wiki.cpantesters.org/ for more information or email
questions to cpan-testers-discuss@perl.org


--
Dear Theo van Hoesel,

This is a computer-generated report for Test-OpenTracing-Integration-v0.104.1
on perl 5.41.13, created by CPAN-Reporter-1.2020.

Thank you for uploading your work to CPAN.  Congratulations!
All tests were successful.

Sections of this report:

    * Tester comments
    * Program output
    * Prerequisites
    * Environment and other context

------------------------------
TESTER COMMENTS
------------------------------

Additional comments from tester:

this report is from an automated smoke testing program
and was not reviewed by a human for accuracy

------------------------------
PROGRAM OUTPUT
------------------------------

Output from '/usr/bin/make test':

PERL_DL_NONLAZY=1 "/home/cpan/bin/perl/bin/perl5.41.13" "-MExtUtils::Command::MM" "-MTest::Harness" "-e" "undef *Test::Harness::Switches; test_harness(0, 'blib/lib', 'blib/arch')" t/*.t t/*/*.t t/Implementation/Test/*/*.t
GlobalTracer can't find default implementation [OpenTracing::Implementation::NoOp::Tracer] at /home/cpan/.cpan/build/Test-OpenTracing-Integration-v0.104.1-0/blib/lib/Test/OpenTracing/Integration.pm line 9.
t/00_use_ok.t ....................................... ok
GlobalTracer can't find default implementation [OpenTracing::Implementation::NoOp::Tracer] at /home/cpan/.cpan/build/Test-OpenTracing-Integration-v0.104.1-0/blib/lib/Test/OpenTracing/Integration.pm line 9.
t/context_propagation.t ............................. ok
t/Implementation/Test/Scope/01_can_all_ok.t ......... ok
t/Implementation/Test/ScopeManager/01_can_all_ok.t .. ok
t/Implementation/Test/Span/01_can_all_ok.t .......... ok
t/Implementation/Test/SpanContext/01_can_all_ok.t ... ok
t/Implementation/Test/Tracer/01_can_all_ok.t ........ ok
t/spans.t ........................................... ok
All tests successful.
Files=8, Tests=27,  1 wallclock secs ( 0.03 usr  0.01 sys +  1.32 cusr  0.16 csys =  1.52 CPU)
Result: PASS

------------------------------
PREREQUISITES
------------------------------

Prerequisite modules loaded:

requires:

    Module                                            Need    Have    
    ------------------------------------------------- ------- --------
    aliased                                           0       0.34    
    Bytes::Random::Secure                             0       0.29    
    Carp                                              0       1.54    
    Moo                                               0       2.005005
    namespace::clean                                  0       0.27    
    OpenTracing::GlobalTracer                         0.04    0.04    
    OpenTracing::Implementation::Interface::Bootstrap 0       0       
    OpenTracing::Role                                 v0.84.0 v0.86.1 
    PerlX::Maybe                                      0       1.202   
    Scalar::Util                                      0       1.68_01 
    Test::Builder                                     0       1.302211
    Test::Deep                                        1.129   1.205   
    Tree                                              0       1.16    
    Types::Standard                                   0       2.008002

build_requires:

    Module                                            Need    Have    
    ------------------------------------------------- ------- --------
    Carp                                              0       1.54    
    ExtUtils::MakeMaker                               0       7.74    
    HTTP::Headers                                     0       7.00    
    List::Util                                        0       1.68_01 
    Moo                                               0       2.005005
    Test::Most                                        0       0.38    
    Test::OpenTracing::Interface                      v0.23.0 v0.23.1 
    Test::Time::HiRes                                 0       0.05    

configure_requires:

    Module                                            Need    Have    
    ------------------------------------------------- ------- --------
    ExtUtils::MakeMaker::CPANfile                     0.09    0.09    


------------------------------
ENVIRONMENT AND OTHER CONTEXT
------------------------------

Environment variables:

    AUTOMATED_TESTING = 1
    DATE_MANIP_TEST_DM5 = 1
    LANG = en_US.UTF-8
    LC_ALL = C
    NONINTERACTIVE_TESTING = 1
    NO_NETWORK_TESTING = 1
    PATH = /home/cpan/bin/perl/bin:/home/cpan/bin:/usr/share/Modules/bin:/home/cpan/bin:/usr/local/bin:/usr/bin:/usr/local/sbin:/usr/sbin
    PERL5LIB = 
    PERL5OPT = 
    PERL5_CPANPLUS_IS_RUNNING = 426846
    PERL5_CPAN_IS_RUNNING = 426846
    PERL_MM_USE_DEFAULT = 1
    PERL_USE_UNSAFE_INC = 1
    SHELL = /bin/bash
    TERM = screen
    TMPDIR = /home/cpan/tmp

Perl special variables (and OS-specific diagnostics, for MSWin32):

    $^X = /home/cpan/bin/perl/bin/perl5.41.13
    $UID/$EUID = 1001 / 1001
    $GID = 1001 1001
    $EGID = 1001 1001

Perl module toolchain versions installed:

    Module              Have    
    ------------------- --------
    CPAN                2.38    
    CPAN::Meta          2.150010
    Cwd                 3.94    
    ExtUtils::CBuilder  0.280241
    ExtUtils::Command   7.74    
    ExtUtils::Install   2.22    
    ExtUtils::MakeMaker 7.74    
    ExtUtils::Manifest  1.75    
    ExtUtils::ParseXS   3.57    
    File::Spec          3.94    
    JSON                4.10    
    JSON::PP            4.16    
    Module::Build       0.4234  
    Module::Signature   0.89    
    Parse::CPAN::Meta   2.150010
    Test2               1.302211
    Test::Harness       3.50    
    Test::More          1.302211
    YAML                1.31    
    YAML::Syck          1.34    
    version             0.9933  


--

Summary of my perl5 (revision 5 version 41 subversion 13) configuration:
  Commit id: d85c3a2e2b7401e23ca4b96c4c93b961af2e2229
  Platform:
    osname=linux
    osvers=5.14.0-503.40.1.el9_5.x86_64
    archname=x86_64-linux-thread-multi
    uname='linux cjg-rhel9 5.14.0-503.40.1.el9_5.x86_64 #1 smp preempt_dynamic thu apr 24 08:27:29 edt 2025 x86_64 x86_64 x86_64 gnulinux '
    config_args='-des -Dprefix=/home/cpan/bin/perl -Dscriptdir=/home/cpan/bin/perl/bin -Dusedevel -Duse64bitall -Duseithreads'
    hint=recommended
    useposix=true
    d_sigaction=define
    useithreads=define
    usemultiplicity=define
    use64bitint=define
    use64bitall=define
    uselongdouble=undef
    usemymalloc=n
    default_inc_excludes_dot=define
  Compiler:
    cc='cc'
    ccflags ='-D_REENTRANT -D_GNU_SOURCE -fwrapv -fno-strict-aliasing -pipe -fstack-protector-strong -I/usr/local/include -D_LARGEFILE_SOURCE -D_FILE_OFFSET_BITS=64 -D_FORTIFY_SOURCE=2'
    optimize='-O2'
    cppflags='-D_REENTRANT -D_GNU_SOURCE -fwrapv -fno-strict-aliasing -pipe -fstack-protector-strong -I/usr/local/include'
    ccversion=''
    gccversion='11.5.0 20240719 (Red Hat 11.5.0-5)'
    gccosandvers=''
    intsize=4
    longsize=8
    ptrsize=8
    doublesize=8
    byteorder=12345678
    doublekind=3
    d_longlong=define
    longlongsize=8
    d_longdbl=define
    longdblsize=16
    longdblkind=3
    ivtype='long'
    ivsize=8
    nvtype='double'
    nvsize=8
    Off_t='off_t'
    lseeksize=8
    alignbytes=8
    prototype=define
  Linker and Libraries:
    ld='cc'
    ldflags =' -fstack-protector-strong -L/usr/local/lib'
    libpth=/usr/local/lib /usr/lib /usr/lib64 /usr/local/lib64
    libs=-lpthread -ldb -ldl -lm -lcrypt -lutil -lc
    perllibs=-lpthread -ldl -lm -lcrypt -lutil -lc
    libc=/lib/../lib64/libc.so.6
    so=so
    useshrplib=false
    libperl=libperl.a
    gnulibc_version='2.34'
  Dynamic Linking:
    dlsrc=dl_dlopen.xs
    dlext=so
    d_dlsymun=undef
    ccdlflags='-Wl,-E'
    cccdlflags='-fPIC'
    lddlflags='-shared -O2 -L/usr/local/lib -fstack-protector-strong'


Characteristics of this binary (from libperl): 
  Compile-time options:
    HAS_LONG_DOUBLE
    HAS_STRTOLD
    HAS_TIMES
    MULTIPLICITY
    PERLIO_LAYERS
    PERL_COPY_ON_WRITE
    PERL_DONT_CREATE_GVSV
    PERL_HASH_FUNC_SIPHASH13
    PERL_HASH_USE_SBOX32
    PERL_MALLOC_WRAP
    PERL_OP_PARENT
    PERL_PRESERVE_IVUV
    PERL_USE_DEVEL
    PERL_USE_SAFE_PUTENV
    USE_64_BIT_ALL
    USE_64_BIT_INT
    USE_ITHREADS
    USE_LARGE_FILES
    USE_LOCALE
    USE_LOCALE_COLLATE
    USE_LOCALE_CTYPE
    USE_LOCALE_NUMERIC
    USE_LOCALE_TIME
    USE_PERLIO
    USE_PERL_ATOF
    USE_REENTRANT_API
    USE_THREAD_SAFE_LOCALE
  Built under linux
  Compiled at May  4 2025 03:22:47
  %ENV:
    PERL5LIB=""
    PERL5OPT=""
    PERL5_CPANPLUS_IS_RUNNING="426846"
    PERL5_CPAN_IS_RUNNING="426846"
    PERL_MM_USE_DEFAULT="1"
    PERL_USE_UNSAFE_INC="1"
  @INC:
    /home/cpan/bin/perl/lib/site_perl/5.41.13/x86_64-linux-thread-multi
    /home/cpan/bin/perl/lib/site_perl/5.41.13
    /home/cpan/bin/perl/lib/5.41.13/x86_64-linux-thread-multi
    /home/cpan/bin/perl/lib/5.41.13
    .