Shatterproof v0.14 Perl 5 v5.26.1 OpenBSD.amd64-openbsd

Status
Pass
From
Alceu Rodrigues de Freitas Junior
Dist
Shatterproof v0.14
Platform
Perl 5 v5.26.1 OpenBSD.amd64-openbsd
Date
2017-11-28 16:30:04
ID
63766266-d459-11e7-a862-96d3e93b64b5
This distribution has been tested as part of the CPAN Testers
project, supporting the Perl programming language.  See
http://wiki.cpantesters.org/ for more information or email
questions to cpan-testers-discuss@perl.org


--
Dear Boutros Lab Software,

This is a computer-generated report for Shatterproof-0.14
on perl 5.26.1, created by CPAN-Reporter-1.2018.

Thank you for uploading your work to CPAN.  Congratulations!
All tests were successful.

Sections of this report:

    * Tester comments
    * Program output
    * Prerequisites
    * Environment and other context

------------------------------
TESTER COMMENTS
------------------------------

Additional comments from tester:

this report is from an automated smoke testing program
and was not reviewed by a human for accuracy

------------------------------
PROGRAM OUTPUT
------------------------------

Output from '/usr/bin/make test':

PERL_DL_NONLAZY=1 "/home/foo/perl5/perlbrew/perls/perl-5.26.1/bin/perl" "-MExtUtils::Command::MM" "-MTest::Harness" "-e" "undef *Test::Harness::Switches; test_harness(0, 'blib/lib', 'blib/arch')" t/*.t
given is experimental at /mnt/cpan_build_dir/foo/Shatterproof-0.14-0/blib/lib/Shatterproof.pm line 429.
when is experimental at /mnt/cpan_build_dir/foo/Shatterproof-0.14-0/blib/lib/Shatterproof.pm line 430.
when is experimental at /mnt/cpan_build_dir/foo/Shatterproof-0.14-0/blib/lib/Shatterproof.pm line 432.
given is experimental at /mnt/cpan_build_dir/foo/Shatterproof-0.14-0/blib/lib/Shatterproof.pm line 3897.
when is experimental at /mnt/cpan_build_dir/foo/Shatterproof-0.14-0/blib/lib/Shatterproof.pm line 3898.
when is experimental at /mnt/cpan_build_dir/foo/Shatterproof-0.14-0/blib/lib/Shatterproof.pm line 3899.
when is experimental at /mnt/cpan_build_dir/foo/Shatterproof-0.14-0/blib/lib/Shatterproof.pm line 3900.
when is experimental at /mnt/cpan_build_dir/foo/Shatterproof-0.14-0/blib/lib/Shatterproof.pm line 3901.
when is experimental at /mnt/cpan_build_dir/foo/Shatterproof-0.14-0/blib/lib/Shatterproof.pm line 3902.
when is experimental at /mnt/cpan_build_dir/foo/Shatterproof-0.14-0/blib/lib/Shatterproof.pm line 3903.
when is experimental at /mnt/cpan_build_dir/foo/Shatterproof-0.14-0/blib/lib/Shatterproof.pm line 3904.
when is experimental at /mnt/cpan_build_dir/foo/Shatterproof-0.14-0/blib/lib/Shatterproof.pm line 3905.
when is experimental at /mnt/cpan_build_dir/foo/Shatterproof-0.14-0/blib/lib/Shatterproof.pm line 3906.
when is experimental at /mnt/cpan_build_dir/foo/Shatterproof-0.14-0/blib/lib/Shatterproof.pm line 3907.
when is experimental at /mnt/cpan_build_dir/foo/Shatterproof-0.14-0/blib/lib/Shatterproof.pm line 3908.
when is experimental at /mnt/cpan_build_dir/foo/Shatterproof-0.14-0/blib/lib/Shatterproof.pm line 3909.
when is experimental at /mnt/cpan_build_dir/foo/Shatterproof-0.14-0/blib/lib/Shatterproof.pm line 3910.
when is experimental at /mnt/cpan_build_dir/foo/Shatterproof-0.14-0/blib/lib/Shatterproof.pm line 3911.
when is experimental at /mnt/cpan_build_dir/foo/Shatterproof-0.14-0/blib/lib/Shatterproof.pm line 3912.
when is experimental at /mnt/cpan_build_dir/foo/Shatterproof-0.14-0/blib/lib/Shatterproof.pm line 3913.
when is experimental at /mnt/cpan_build_dir/foo/Shatterproof-0.14-0/blib/lib/Shatterproof.pm line 3914.
when is experimental at /mnt/cpan_build_dir/foo/Shatterproof-0.14-0/blib/lib/Shatterproof.pm line 3915.
when is experimental at /mnt/cpan_build_dir/foo/Shatterproof-0.14-0/blib/lib/Shatterproof.pm line 3916.
t/analyze_cnv_data.t ............................... ok
given is experimental at /mnt/cpan_build_dir/foo/Shatterproof-0.14-0/blib/lib/Shatterproof.pm line 429.
when is experimental at /mnt/cpan_build_dir/foo/Shatterproof-0.14-0/blib/lib/Shatterproof.pm line 430.
when is experimental at /mnt/cpan_build_dir/foo/Shatterproof-0.14-0/blib/lib/Shatterproof.pm line 432.
given is experimental at /mnt/cpan_build_dir/foo/Shatterproof-0.14-0/blib/lib/Shatterproof.pm line 3897.
when is experimental at /mnt/cpan_build_dir/foo/Shatterproof-0.14-0/blib/lib/Shatterproof.pm line 3898.
when is experimental at /mnt/cpan_build_dir/foo/Shatterproof-0.14-0/blib/lib/Shatterproof.pm line 3899.
when is experimental at /mnt/cpan_build_dir/foo/Shatterproof-0.14-0/blib/lib/Shatterproof.pm line 3900.
when is experimental at /mnt/cpan_build_dir/foo/Shatterproof-0.14-0/blib/lib/Shatterproof.pm line 3901.
when is experimental at /mnt/cpan_build_dir/foo/Shatterproof-0.14-0/blib/lib/Shatterproof.pm line 3902.
when is experimental at /mnt/cpan_build_dir/foo/Shatterproof-0.14-0/blib/lib/Shatterproof.pm line 3903.
when is experimental at /mnt/cpan_build_dir/foo/Shatterproof-0.14-0/blib/lib/Shatterproof.pm line 3904.
when is experimental at /mnt/cpan_build_dir/foo/Shatterproof-0.14-0/blib/lib/Shatterproof.pm line 3905.
when is experimental at /mnt/cpan_build_dir/foo/Shatterproof-0.14-0/blib/lib/Shatterproof.pm line 3906.
when is experimental at /mnt/cpan_build_dir/foo/Shatterproof-0.14-0/blib/lib/Shatterproof.pm line 3907.
when is experimental at /mnt/cpan_build_dir/foo/Shatterproof-0.14-0/blib/lib/Shatterproof.pm line 3908.
when is experimental at /mnt/cpan_build_dir/foo/Shatterproof-0.14-0/blib/lib/Shatterproof.pm line 3909.
when is experimental at /mnt/cpan_build_dir/foo/Shatterproof-0.14-0/blib/lib/Shatterproof.pm line 3910.
when is experimental at /mnt/cpan_build_dir/foo/Shatterproof-0.14-0/blib/lib/Shatterproof.pm line 3911.
when is experimental at /mnt/cpan_build_dir/foo/Shatterproof-0.14-0/blib/lib/Shatterproof.pm line 3912.
when is experimental at /mnt/cpan_build_dir/foo/Shatterproof-0.14-0/blib/lib/Shatterproof.pm line 3913.
when is experimental at /mnt/cpan_build_dir/foo/Shatterproof-0.14-0/blib/lib/Shatterproof.pm line 3914.
when is experimental at /mnt/cpan_build_dir/foo/Shatterproof-0.14-0/blib/lib/Shatterproof.pm line 3915.
when is experimental at /mnt/cpan_build_dir/foo/Shatterproof-0.14-0/blib/lib/Shatterproof.pm line 3916.
t/analyze_likely_regions.t ......................... ok
given is experimental at /mnt/cpan_build_dir/foo/Shatterproof-0.14-0/blib/lib/Shatterproof.pm line 429.
when is experimental at /mnt/cpan_build_dir/foo/Shatterproof-0.14-0/blib/lib/Shatterproof.pm line 430.
when is experimental at /mnt/cpan_build_dir/foo/Shatterproof-0.14-0/blib/lib/Shatterproof.pm line 432.
given is experimental at /mnt/cpan_build_dir/foo/Shatterproof-0.14-0/blib/lib/Shatterproof.pm line 3897.
when is experimental at /mnt/cpan_build_dir/foo/Shatterproof-0.14-0/blib/lib/Shatterproof.pm line 3898.
when is experimental at /mnt/cpan_build_dir/foo/Shatterproof-0.14-0/blib/lib/Shatterproof.pm line 3899.
when is experimental at /mnt/cpan_build_dir/foo/Shatterproof-0.14-0/blib/lib/Shatterproof.pm line 3900.
when is experimental at /mnt/cpan_build_dir/foo/Shatterproof-0.14-0/blib/lib/Shatterproof.pm line 3901.
when is experimental at /mnt/cpan_build_dir/foo/Shatterproof-0.14-0/blib/lib/Shatterproof.pm line 3902.
when is experimental at /mnt/cpan_build_dir/foo/Shatterproof-0.14-0/blib/lib/Shatterproof.pm line 3903.
when is experimental at /mnt/cpan_build_dir/foo/Shatterproof-0.14-0/blib/lib/Shatterproof.pm line 3904.
when is experimental at /mnt/cpan_build_dir/foo/Shatterproof-0.14-0/blib/lib/Shatterproof.pm line 3905.
when is experimental at /mnt/cpan_build_dir/foo/Shatterproof-0.14-0/blib/lib/Shatterproof.pm line 3906.
when is experimental at /mnt/cpan_build_dir/foo/Shatterproof-0.14-0/blib/lib/Shatterproof.pm line 3907.
when is experimental at /mnt/cpan_build_dir/foo/Shatterproof-0.14-0/blib/lib/Shatterproof.pm line 3908.
when is experimental at /mnt/cpan_build_dir/foo/Shatterproof-0.14-0/blib/lib/Shatterproof.pm line 3909.
when is experimental at /mnt/cpan_build_dir/foo/Shatterproof-0.14-0/blib/lib/Shatterproof.pm line 3910.
when is experimental at /mnt/cpan_build_dir/foo/Shatterproof-0.14-0/blib/lib/Shatterproof.pm line 3911.
when is experimental at /mnt/cpan_build_dir/foo/Shatterproof-0.14-0/blib/lib/Shatterproof.pm line 3912.
when is experimental at /mnt/cpan_build_dir/foo/Shatterproof-0.14-0/blib/lib/Shatterproof.pm line 3913.
when is experimental at /mnt/cpan_build_dir/foo/Shatterproof-0.14-0/blib/lib/Shatterproof.pm line 3914.
when is experimental at /mnt/cpan_build_dir/foo/Shatterproof-0.14-0/blib/lib/Shatterproof.pm line 3915.
when is experimental at /mnt/cpan_build_dir/foo/Shatterproof-0.14-0/blib/lib/Shatterproof.pm line 3916.
t/analyze_trans_data.t ............................. ok
given is experimental at /mnt/cpan_build_dir/foo/Shatterproof-0.14-0/blib/lib/Shatterproof.pm line 429.
when is experimental at /mnt/cpan_build_dir/foo/Shatterproof-0.14-0/blib/lib/Shatterproof.pm line 430.
when is experimental at /mnt/cpan_build_dir/foo/Shatterproof-0.14-0/blib/lib/Shatterproof.pm line 432.
given is experimental at /mnt/cpan_build_dir/foo/Shatterproof-0.14-0/blib/lib/Shatterproof.pm line 3897.
when is experimental at /mnt/cpan_build_dir/foo/Shatterproof-0.14-0/blib/lib/Shatterproof.pm line 3898.
when is experimental at /mnt/cpan_build_dir/foo/Shatterproof-0.14-0/blib/lib/Shatterproof.pm line 3899.
when is experimental at /mnt/cpan_build_dir/foo/Shatterproof-0.14-0/blib/lib/Shatterproof.pm line 3900.
when is experimental at /mnt/cpan_build_dir/foo/Shatterproof-0.14-0/blib/lib/Shatterproof.pm line 3901.
when is experimental at /mnt/cpan_build_dir/foo/Shatterproof-0.14-0/blib/lib/Shatterproof.pm line 3902.
when is experimental at /mnt/cpan_build_dir/foo/Shatterproof-0.14-0/blib/lib/Shatterproof.pm line 3903.
when is experimental at /mnt/cpan_build_dir/foo/Shatterproof-0.14-0/blib/lib/Shatterproof.pm line 3904.
when is experimental at /mnt/cpan_build_dir/foo/Shatterproof-0.14-0/blib/lib/Shatterproof.pm line 3905.
when is experimental at /mnt/cpan_build_dir/foo/Shatterproof-0.14-0/blib/lib/Shatterproof.pm line 3906.
when is experimental at /mnt/cpan_build_dir/foo/Shatterproof-0.14-0/blib/lib/Shatterproof.pm line 3907.
when is experimental at /mnt/cpan_build_dir/foo/Shatterproof-0.14-0/blib/lib/Shatterproof.pm line 3908.
when is experimental at /mnt/cpan_build_dir/foo/Shatterproof-0.14-0/blib/lib/Shatterproof.pm line 3909.
when is experimental at /mnt/cpan_build_dir/foo/Shatterproof-0.14-0/blib/lib/Shatterproof.pm line 3910.
when is experimental at /mnt/cpan_build_dir/foo/Shatterproof-0.14-0/blib/lib/Shatterproof.pm line 3911.
when is experimental at /mnt/cpan_build_dir/foo/Shatterproof-0.14-0/blib/lib/Shatterproof.pm line 3912.
when is experimental at /mnt/cpan_build_dir/foo/Shatterproof-0.14-0/blib/lib/Shatterproof.pm line 3913.
when is experimental at /mnt/cpan_build_dir/foo/Shatterproof-0.14-0/blib/lib/Shatterproof.pm line 3914.
when is experimental at /mnt/cpan_build_dir/foo/Shatterproof-0.14-0/blib/lib/Shatterproof.pm line 3915.
when is experimental at /mnt/cpan_build_dir/foo/Shatterproof-0.14-0/blib/lib/Shatterproof.pm line 3916.
t/calculate_chromosome_localization.t .............. ok
given is experimental at /mnt/cpan_build_dir/foo/Shatterproof-0.14-0/blib/lib/Shatterproof.pm line 429.
when is experimental at /mnt/cpan_build_dir/foo/Shatterproof-0.14-0/blib/lib/Shatterproof.pm line 430.
when is experimental at /mnt/cpan_build_dir/foo/Shatterproof-0.14-0/blib/lib/Shatterproof.pm line 432.
given is experimental at /mnt/cpan_build_dir/foo/Shatterproof-0.14-0/blib/lib/Shatterproof.pm line 3897.
when is experimental at /mnt/cpan_build_dir/foo/Shatterproof-0.14-0/blib/lib/Shatterproof.pm line 3898.
when is experimental at /mnt/cpan_build_dir/foo/Shatterproof-0.14-0/blib/lib/Shatterproof.pm line 3899.
when is experimental at /mnt/cpan_build_dir/foo/Shatterproof-0.14-0/blib/lib/Shatterproof.pm line 3900.
when is experimental at /mnt/cpan_build_dir/foo/Shatterproof-0.14-0/blib/lib/Shatterproof.pm line 3901.
when is experimental at /mnt/cpan_build_dir/foo/Shatterproof-0.14-0/blib/lib/Shatterproof.pm line 3902.
when is experimental at /mnt/cpan_build_dir/foo/Shatterproof-0.14-0/blib/lib/Shatterproof.pm line 3903.
when is experimental at /mnt/cpan_build_dir/foo/Shatterproof-0.14-0/blib/lib/Shatterproof.pm line 3904.
when is experimental at /mnt/cpan_build_dir/foo/Shatterproof-0.14-0/blib/lib/Shatterproof.pm line 3905.
when is experimental at /mnt/cpan_build_dir/foo/Shatterproof-0.14-0/blib/lib/Shatterproof.pm line 3906.
when is experimental at /mnt/cpan_build_dir/foo/Shatterproof-0.14-0/blib/lib/Shatterproof.pm line 3907.
when is experimental at /mnt/cpan_build_dir/foo/Shatterproof-0.14-0/blib/lib/Shatterproof.pm line 3908.
when is experimental at /mnt/cpan_build_dir/foo/Shatterproof-0.14-0/blib/lib/Shatterproof.pm line 3909.
when is experimental at /mnt/cpan_build_dir/foo/Shatterproof-0.14-0/blib/lib/Shatterproof.pm line 3910.
when is experimental at /mnt/cpan_build_dir/foo/Shatterproof-0.14-0/blib/lib/Shatterproof.pm line 3911.
when is experimental at /mnt/cpan_build_dir/foo/Shatterproof-0.14-0/blib/lib/Shatterproof.pm line 3912.
when is experimental at /mnt/cpan_build_dir/foo/Shatterproof-0.14-0/blib/lib/Shatterproof.pm line 3913.
when is experimental at /mnt/cpan_build_dir/foo/Shatterproof-0.14-0/blib/lib/Shatterproof.pm line 3914.
when is experimental at /mnt/cpan_build_dir/foo/Shatterproof-0.14-0/blib/lib/Shatterproof.pm line 3915.
when is experimental at /mnt/cpan_build_dir/foo/Shatterproof-0.14-0/blib/lib/Shatterproof.pm line 3916.
t/calculate_genome_localization.t .................. ok
given is experimental at /mnt/cpan_build_dir/foo/Shatterproof-0.14-0/blib/lib/Shatterproof.pm line 429.
when is experimental at /mnt/cpan_build_dir/foo/Shatterproof-0.14-0/blib/lib/Shatterproof.pm line 430.
when is experimental at /mnt/cpan_build_dir/foo/Shatterproof-0.14-0/blib/lib/Shatterproof.pm line 432.
given is experimental at /mnt/cpan_build_dir/foo/Shatterproof-0.14-0/blib/lib/Shatterproof.pm line 3897.
when is experimental at /mnt/cpan_build_dir/foo/Shatterproof-0.14-0/blib/lib/Shatterproof.pm line 3898.
when is experimental at /mnt/cpan_build_dir/foo/Shatterproof-0.14-0/blib/lib/Shatterproof.pm line 3899.
when is experimental at /mnt/cpan_build_dir/foo/Shatterproof-0.14-0/blib/lib/Shatterproof.pm line 3900.
when is experimental at /mnt/cpan_build_dir/foo/Shatterproof-0.14-0/blib/lib/Shatterproof.pm line 3901.
when is experimental at /mnt/cpan_build_dir/foo/Shatterproof-0.14-0/blib/lib/Shatterproof.pm line 3902.
when is experimental at /mnt/cpan_build_dir/foo/Shatterproof-0.14-0/blib/lib/Shatterproof.pm line 3903.
when is experimental at /mnt/cpan_build_dir/foo/Shatterproof-0.14-0/blib/lib/Shatterproof.pm line 3904.
when is experimental at /mnt/cpan_build_dir/foo/Shatterproof-0.14-0/blib/lib/Shatterproof.pm line 3905.
when is experimental at /mnt/cpan_build_dir/foo/Shatterproof-0.14-0/blib/lib/Shatterproof.pm line 3906.
when is experimental at /mnt/cpan_build_dir/foo/Shatterproof-0.14-0/blib/lib/Shatterproof.pm line 3907.
when is experimental at /mnt/cpan_build_dir/foo/Shatterproof-0.14-0/blib/lib/Shatterproof.pm line 3908.
when is experimental at /mnt/cpan_build_dir/foo/Shatterproof-0.14-0/blib/lib/Shatterproof.pm line 3909.
when is experimental at /mnt/cpan_build_dir/foo/Shatterproof-0.14-0/blib/lib/Shatterproof.pm line 3910.
when is experimental at /mnt/cpan_build_dir/foo/Shatterproof-0.14-0/blib/lib/Shatterproof.pm line 3911.
when is experimental at /mnt/cpan_build_dir/foo/Shatterproof-0.14-0/blib/lib/Shatterproof.pm line 3912.
when is experimental at /mnt/cpan_build_dir/foo/Shatterproof-0.14-0/blib/lib/Shatterproof.pm line 3913.
when is experimental at /mnt/cpan_build_dir/foo/Shatterproof-0.14-0/blib/lib/Shatterproof.pm line 3914.
when is experimental at /mnt/cpan_build_dir/foo/Shatterproof-0.14-0/blib/lib/Shatterproof.pm line 3915.
when is experimental at /mnt/cpan_build_dir/foo/Shatterproof-0.14-0/blib/lib/Shatterproof.pm line 3916.
t/calculate_interchromosomal_translocation_rate.t .. ok
given is experimental at /mnt/cpan_build_dir/foo/Shatterproof-0.14-0/blib/lib/Shatterproof.pm line 429.
when is experimental at /mnt/cpan_build_dir/foo/Shatterproof-0.14-0/blib/lib/Shatterproof.pm line 430.
when is experimental at /mnt/cpan_build_dir/foo/Shatterproof-0.14-0/blib/lib/Shatterproof.pm line 432.
given is experimental at /mnt/cpan_build_dir/foo/Shatterproof-0.14-0/blib/lib/Shatterproof.pm line 3897.
when is experimental at /mnt/cpan_build_dir/foo/Shatterproof-0.14-0/blib/lib/Shatterproof.pm line 3898.
when is experimental at /mnt/cpan_build_dir/foo/Shatterproof-0.14-0/blib/lib/Shatterproof.pm line 3899.
when is experimental at /mnt/cpan_build_dir/foo/Shatterproof-0.14-0/blib/lib/Shatterproof.pm line 3900.
when is experimental at /mnt/cpan_build_dir/foo/Shatterproof-0.14-0/blib/lib/Shatterproof.pm line 3901.
when is experimental at /mnt/cpan_build_dir/foo/Shatterproof-0.14-0/blib/lib/Shatterproof.pm line 3902.
when is experimental at /mnt/cpan_build_dir/foo/Shatterproof-0.14-0/blib/lib/Shatterproof.pm line 3903.
when is experimental at /mnt/cpan_build_dir/foo/Shatterproof-0.14-0/blib/lib/Shatterproof.pm line 3904.
when is experimental at /mnt/cpan_build_dir/foo/Shatterproof-0.14-0/blib/lib/Shatterproof.pm line 3905.
when is experimental at /mnt/cpan_build_dir/foo/Shatterproof-0.14-0/blib/lib/Shatterproof.pm line 3906.
when is experimental at /mnt/cpan_build_dir/foo/Shatterproof-0.14-0/blib/lib/Shatterproof.pm line 3907.
when is experimental at /mnt/cpan_build_dir/foo/Shatterproof-0.14-0/blib/lib/Shatterproof.pm line 3908.
when is experimental at /mnt/cpan_build_dir/foo/Shatterproof-0.14-0/blib/lib/Shatterproof.pm line 3909.
when is experimental at /mnt/cpan_build_dir/foo/Shatterproof-0.14-0/blib/lib/Shatterproof.pm line 3910.
when is experimental at /mnt/cpan_build_dir/foo/Shatterproof-0.14-0/blib/lib/Shatterproof.pm line 3911.
when is experimental at /mnt/cpan_build_dir/foo/Shatterproof-0.14-0/blib/lib/Shatterproof.pm line 3912.
when is experimental at /mnt/cpan_build_dir/foo/Shatterproof-0.14-0/blib/lib/Shatterproof.pm line 3913.
when is experimental at /mnt/cpan_build_dir/foo/Shatterproof-0.14-0/blib/lib/Shatterproof.pm line 3914.
when is experimental at /mnt/cpan_build_dir/foo/Shatterproof-0.14-0/blib/lib/Shatterproof.pm line 3915.
when is experimental at /mnt/cpan_build_dir/foo/Shatterproof-0.14-0/blib/lib/Shatterproof.pm line 3916.
t/check_copy_number_count.t ........................ ok
given is experimental at /mnt/cpan_build_dir/foo/Shatterproof-0.14-0/blib/lib/Shatterproof.pm line 429.
when is experimental at /mnt/cpan_build_dir/foo/Shatterproof-0.14-0/blib/lib/Shatterproof.pm line 430.
when is experimental at /mnt/cpan_build_dir/foo/Shatterproof-0.14-0/blib/lib/Shatterproof.pm line 432.
given is experimental at /mnt/cpan_build_dir/foo/Shatterproof-0.14-0/blib/lib/Shatterproof.pm line 3897.
when is experimental at /mnt/cpan_build_dir/foo/Shatterproof-0.14-0/blib/lib/Shatterproof.pm line 3898.
when is experimental at /mnt/cpan_build_dir/foo/Shatterproof-0.14-0/blib/lib/Shatterproof.pm line 3899.
when is experimental at /mnt/cpan_build_dir/foo/Shatterproof-0.14-0/blib/lib/Shatterproof.pm line 3900.
when is experimental at /mnt/cpan_build_dir/foo/Shatterproof-0.14-0/blib/lib/Shatterproof.pm line 3901.
when is experimental at /mnt/cpan_build_dir/foo/Shatterproof-0.14-0/blib/lib/Shatterproof.pm line 3902.
when is experimental at /mnt/cpan_build_dir/foo/Shatterproof-0.14-0/blib/lib/Shatterproof.pm line 3903.
when is experimental at /mnt/cpan_build_dir/foo/Shatterproof-0.14-0/blib/lib/Shatterproof.pm line 3904.
when is experimental at /mnt/cpan_build_dir/foo/Shatterproof-0.14-0/blib/lib/Shatterproof.pm line 3905.
when is experimental at /mnt/cpan_build_dir/foo/Shatterproof-0.14-0/blib/lib/Shatterproof.pm line 3906.
when is experimental at /mnt/cpan_build_dir/foo/Shatterproof-0.14-0/blib/lib/Shatterproof.pm line 3907.
when is experimental at /mnt/cpan_build_dir/foo/Shatterproof-0.14-0/blib/lib/Shatterproof.pm line 3908.
when is experimental at /mnt/cpan_build_dir/foo/Shatterproof-0.14-0/blib/lib/Shatterproof.pm line 3909.
when is experimental at /mnt/cpan_build_dir/foo/Shatterproof-0.14-0/blib/lib/Shatterproof.pm line 3910.
when is experimental at /mnt/cpan_build_dir/foo/Shatterproof-0.14-0/blib/lib/Shatterproof.pm line 3911.
when is experimental at /mnt/cpan_build_dir/foo/Shatterproof-0.14-0/blib/lib/Shatterproof.pm line 3912.
when is experimental at /mnt/cpan_build_dir/foo/Shatterproof-0.14-0/blib/lib/Shatterproof.pm line 3913.
when is experimental at /mnt/cpan_build_dir/foo/Shatterproof-0.14-0/blib/lib/Shatterproof.pm line 3914.
when is experimental at /mnt/cpan_build_dir/foo/Shatterproof-0.14-0/blib/lib/Shatterproof.pm line 3915.
when is experimental at /mnt/cpan_build_dir/foo/Shatterproof-0.14-0/blib/lib/Shatterproof.pm line 3916.
t/check_copy_number_switches.t ..................... ok
given is experimental at /mnt/cpan_build_dir/foo/Shatterproof-0.14-0/blib/lib/Shatterproof.pm line 429.
when is experimental at /mnt/cpan_build_dir/foo/Shatterproof-0.14-0/blib/lib/Shatterproof.pm line 430.
when is experimental at /mnt/cpan_build_dir/foo/Shatterproof-0.14-0/blib/lib/Shatterproof.pm line 432.
given is experimental at /mnt/cpan_build_dir/foo/Shatterproof-0.14-0/blib/lib/Shatterproof.pm line 3897.
when is experimental at /mnt/cpan_build_dir/foo/Shatterproof-0.14-0/blib/lib/Shatterproof.pm line 3898.
when is experimental at /mnt/cpan_build_dir/foo/Shatterproof-0.14-0/blib/lib/Shatterproof.pm line 3899.
when is experimental at /mnt/cpan_build_dir/foo/Shatterproof-0.14-0/blib/lib/Shatterproof.pm line 3900.
when is experimental at /mnt/cpan_build_dir/foo/Shatterproof-0.14-0/blib/lib/Shatterproof.pm line 3901.
when is experimental at /mnt/cpan_build_dir/foo/Shatterproof-0.14-0/blib/lib/Shatterproof.pm line 3902.
when is experimental at /mnt/cpan_build_dir/foo/Shatterproof-0.14-0/blib/lib/Shatterproof.pm line 3903.
when is experimental at /mnt/cpan_build_dir/foo/Shatterproof-0.14-0/blib/lib/Shatterproof.pm line 3904.
when is experimental at /mnt/cpan_build_dir/foo/Shatterproof-0.14-0/blib/lib/Shatterproof.pm line 3905.
when is experimental at /mnt/cpan_build_dir/foo/Shatterproof-0.14-0/blib/lib/Shatterproof.pm line 3906.
when is experimental at /mnt/cpan_build_dir/foo/Shatterproof-0.14-0/blib/lib/Shatterproof.pm line 3907.
when is experimental at /mnt/cpan_build_dir/foo/Shatterproof-0.14-0/blib/lib/Shatterproof.pm line 3908.
when is experimental at /mnt/cpan_build_dir/foo/Shatterproof-0.14-0/blib/lib/Shatterproof.pm line 3909.
when is experimental at /mnt/cpan_build_dir/foo/Shatterproof-0.14-0/blib/lib/Shatterproof.pm line 3910.
when is experimental at /mnt/cpan_build_dir/foo/Shatterproof-0.14-0/blib/lib/Shatterproof.pm line 3911.
when is experimental at /mnt/cpan_build_dir/foo/Shatterproof-0.14-0/blib/lib/Shatterproof.pm line 3912.
when is experimental at /mnt/cpan_build_dir/foo/Shatterproof-0.14-0/blib/lib/Shatterproof.pm line 3913.
when is experimental at /mnt/cpan_build_dir/foo/Shatterproof-0.14-0/blib/lib/Shatterproof.pm line 3914.
when is experimental at /mnt/cpan_build_dir/foo/Shatterproof-0.14-0/blib/lib/Shatterproof.pm line 3915.
when is experimental at /mnt/cpan_build_dir/foo/Shatterproof-0.14-0/blib/lib/Shatterproof.pm line 3916.
t/standard_deviation_and_mean.t .................... ok
All tests successful.
Files=9, Tests=64, 167 wallclock secs ( 0.09 usr  0.14 sys + 115.59 cusr 16.75 csys = 132.57 CPU)
Result: PASS

------------------------------
PREREQUISITES
------------------------------

Prerequisite modules loaded:

requires:

    Module                    Need Have    
    ------------------------- ---- --------
    File::Basename            2    2.85    
    JSON::XS                  2.3  3.04    
    List::Util                1    1.49    
    POSIX                     1    1.76    
    Statistics::Distributions 1.02 1.02    
    Test::Deep                0    1.127   
    Test::Exception           0    0.43    
    Test::More                0    1.302116

build_requires:

    Module                    Need Have    
    ------------------------- ---- --------
    ExtUtils::MakeMaker       0    7.31_05 

configure_requires:

    Module                    Need Have    
    ------------------------- ---- --------
    ExtUtils::MakeMaker       0    7.31_05 


------------------------------
ENVIRONMENT AND OTHER CONTEXT
------------------------------

Environment variables:

    AUTOMATED_TESTING = 1
    PATH = /home/foo/perl5/perlbrew/bin:/home/foo/perl5/perlbrew/perls/perl-5.26.1/bin:/home/foo/bin:/sbin:/usr/sbin:/bin:/usr/bin:/usr/X11R6/bin:/usr/local/sbin:/usr/local/bin
    PERL5LIB = 
    PERL5OPT = 
    PERL5_CPANPLUS_IS_RUNNING = 14179
    PERL5_CPAN_IS_RUNNING = 14179
    PERL5_CPAN_IS_RUNNING_IN_RECURSION = 38729,14179
    PERLBREW_BASHRC_VERSION = 0.80
    PERLBREW_HOME = /home/foo/.perlbrew
    PERLBREW_MANPATH = /home/foo/perl5/perlbrew/perls/perl-5.26.1/man
    PERLBREW_PATH = /home/foo/perl5/perlbrew/bin:/home/foo/perl5/perlbrew/perls/perl-5.26.1/bin
    PERLBREW_PERL = perl-5.26.1
    PERLBREW_ROOT = /home/foo/perl5/perlbrew
    PERLBREW_VERSION = 0.80
    PERL_CR_SMOKER_CURRENT = Shatterproof-0.14
    PERL_EXTUTILS_AUTOINSTALL = --defaultdeps
    PERL_MM_USE_DEFAULT = 1
    PERL_USE_UNSAFE_INC = 1
    SHELL = /usr/local/bin/bash
    TERM = xterm

Perl special variables (and OS-specific diagnostics, for MSWin32):

    $^X = /home/foo/perl5/perlbrew/perls/perl-5.26.1/bin/perl
    $UID/$EUID = 1001 / 1001
    $GID = 999 999 1001
    $EGID = 999 999 1001

Perl module toolchain versions installed:

    Module              Have    
    ------------------- --------
    CPAN                2.20    
    CPAN::Meta          2.150010
    Cwd                 3.62    
    ExtUtils::CBuilder  0.280230
    ExtUtils::Command   7.31_05 
    ExtUtils::Install   2.14    
    ExtUtils::MakeMaker 7.31_05 
    ExtUtils::Manifest  1.70    
    ExtUtils::ParseXS   3.35    
    File::Spec          3.62    
    JSON                2.97000 
    JSON::PP            2.97000 
    Module::Build       0.4224  
    Module::Signature   0.81    
    Parse::CPAN::Meta   2.150010
    Test::Harness       3.39    
    Test::More          1.302116
    YAML                1.24    
    YAML::Syck          1.30    
    version             0.9918  


--

Summary of my perl5 (revision 5 version 26 subversion 1) configuration:
   
  Platform:
    osname=openbsd
    osvers=6.1
    archname=OpenBSD.amd64-openbsd
    uname='openbsd cpansmoker.my.domain 6.1 generic.mp#20 amd64 '
    config_args='-de -Dprefix=/home/foo/perl5/perlbrew/perls/perl-5.26.1 -Aeval:scriptdir=/home/foo/perl5/perlbrew/perls/perl-5.26.1/bin'
    hint=recommended
    useposix=true
    d_sigaction=define
    useithreads=undef
    usemultiplicity=undef
    use64bitint=define
    use64bitall=define
    uselongdouble=undef
    usemymalloc=n
    default_inc_excludes_dot=define
    bincompat5005=undef
  Compiler:
    cc='cc'
    ccflags ='-fno-strict-aliasing -pipe -fstack-protector-strong -I/usr/local/include -D_FORTIFY_SOURCE=2'
    optimize='-O2'
    cppflags='-fno-strict-aliasing -pipe -fstack-protector-strong -I/usr/local/include'
    ccversion=''
    gccversion='4.2.1 20070719 '
    gccosandvers='openbsd6.1'
    intsize=4
    longsize=8
    ptrsize=8
    doublesize=8
    byteorder=12345678
    doublekind=3
    d_longlong=define
    longlongsize=8
    d_longdbl=define
    longdblsize=16
    longdblkind=3
    ivtype='long'
    ivsize=8
    nvtype='double'
    nvsize=8
    Off_t='off_t'
    lseeksize=8
    alignbytes=8
    prototype=define
  Linker and Libraries:
    ld='cc'
    ldflags ='-Wl,-E  -fstack-protector-strong -L/usr/local/lib'
    libpth=/usr/lib /usr/local/lib
    libs=-lpthread -lm -lutil -lc
    perllibs=-lpthread -lm -lutil -lc
    libc=/usr/lib/libc.so.89.3
    so=so
    useshrplib=false
    libperl=libperl.a
    gnulibc_version=''
  Dynamic Linking:
    dlsrc=dl_dlopen.xs
    dlext=so
    d_dlsymun=undef
    ccdlflags=' '
    cccdlflags='-DPIC -fPIC '
    lddlflags='-shared -fPIC  -L/usr/local/lib -fstack-protector-strong'


Characteristics of this binary (from libperl): 
  Compile-time options:
    HAS_TIMES
    PERLIO_LAYERS
    PERL_COPY_ON_WRITE
    PERL_DONT_CREATE_GVSV
    PERL_MALLOC_WRAP
    PERL_OP_PARENT
    PERL_PRESERVE_IVUV
    USE_64_BIT_ALL
    USE_64_BIT_INT
    USE_LARGE_FILES
    USE_LOCALE
    USE_LOCALE_COLLATE
    USE_LOCALE_CTYPE
    USE_LOCALE_NUMERIC
    USE_LOCALE_TIME
    USE_PERLIO
    USE_PERL_ATOF
  Locally applied patches:
    Devel::PatchPerl 1.48
  Built under openbsd
  Compiled at Nov 10 2017 20:02:38
  %ENV:
    PERL5LIB=""
    PERL5OPT=""
    PERL5_CPANPLUS_IS_RUNNING="14179"
    PERL5_CPAN_IS_RUNNING="14179"
    PERL5_CPAN_IS_RUNNING_IN_RECURSION="38729,14179"
    PERLBREW_BASHRC_VERSION="0.80"
    PERLBREW_HOME="/home/foo/.perlbrew"
    PERLBREW_MANPATH="/home/foo/perl5/perlbrew/perls/perl-5.26.1/man"
    PERLBREW_PATH="/home/foo/perl5/perlbrew/bin:/home/foo/perl5/perlbrew/perls/perl-5.26.1/bin"
    PERLBREW_PERL="perl-5.26.1"
    PERLBREW_ROOT="/home/foo/perl5/perlbrew"
    PERLBREW_VERSION="0.80"
    PERL_CR_SMOKER_CURRENT="Shatterproof-0.14"
    PERL_EXTUTILS_AUTOINSTALL="--defaultdeps"
    PERL_MM_USE_DEFAULT="1"
    PERL_USE_UNSAFE_INC="1"
  @INC:
    /home/foo/perl5/perlbrew/perls/perl-5.26.1/lib/site_perl/5.26.1/OpenBSD.amd64-openbsd
    /home/foo/perl5/perlbrew/perls/perl-5.26.1/lib/site_perl/5.26.1
    /home/foo/perl5/perlbrew/perls/perl-5.26.1/lib/5.26.1/OpenBSD.amd64-openbsd
    /home/foo/perl5/perlbrew/perls/perl-5.26.1/lib/5.26.1
    .