Crypt-Perl v0.38 Perl 5 v5.16.1 amd64-freebsd-thread-multi

Status
Pass
From
Chris Williams (BINGOS)
Dist
Crypt-Perl v0.38
Platform
Perl 5 v5.16.1 amd64-freebsd-thread-multi
Date
2022-10-21 18:30:07
ID
636dbc8c-516e-11ed-aba6-9a79f339625c
This distribution has been tested as part of the CPAN Testers
project, supporting the Perl programming language.  See
http://wiki.cpantesters.org/ for more information or email
questions to cpan-testers-discuss@perl.org


--

Dear FELIPE,

This is a computer-generated error report created automatically by
CPANPLUS, version 0.9914. Testers personal comments may appear
at the end of this report.


Thank you for uploading your work to CPAN.  Congratulations!
All tests were successful.

TEST RESULTS:

Below is the error stack from stage 'make test':

PERL_DL_NONLAZY=1 "/usr/home/cpan/pit/thr/perl-5.16.1/bin/perl" "-MExtUtils::Command::MM" "-MTest::Harness" "-e" "undef *Test::Harness::Switches; test_harness(0, 'blib/lib', 'blib/arch')" t/*.t
# Looking for OpenSSL binary …
# Found OpenSSL: /usr/bin/openssl
# OpenSSL 1.1.1o-freebsd  3 May 2022
# options:  bn(64,64) rc4(16x,int) des(int) idea(int) blowfish(ptr) 
# compiler: clang
t/Crypt-Perl-ASN1-BitString.t ..................... ok
# Math::BigInt 1.999837 (backend: Math::BigInt::Calc 1.999837)
t/Crypt-Perl-BigInt.t ............................. ok
# Math::BigInt 1.999837 (backend: Math::BigInt::Calc 1.999837)
# Math::BigInt::Calc 1.999837
t/Crypt-Perl-ECDSA-Deterministic.t ................ ok
t/Crypt-Perl-ECDSA-EC-Point.t ..................... ok
# Looking for OpenSSL binary …
# Found OpenSSL: /usr/bin/openssl
# OpenSSL 1.1.1o-freebsd  3 May 2022
# options:  bn(64,64) rc4(16x,int) des(int) idea(int) blowfish(ptr) 
# compiler: clang
# Skipping “c2pnb163v1” (Crypt::Perl::X::ECDSA::NoCurveForOID) …
# Skipping “c2pnb163v2” (Crypt::Perl::X::ECDSA::NoCurveForOID) …
# Skipping “c2pnb163v3” (Crypt::Perl::X::ECDSA::NoCurveForOID) …
# Skipping “c2pnb176v1” (Crypt::Perl::X::ECDSA::NoCurveForOID) …
# Skipping “c2pnb208w1” (Crypt::Perl::X::ECDSA::NoCurveForOID) …
# Skipping “c2pnb272w1” (Crypt::Perl::X::ECDSA::NoCurveForOID) …
# Skipping “c2pnb304w1” (Crypt::Perl::X::ECDSA::NoCurveForOID) …
# Skipping “c2pnb368w1” (Crypt::Perl::X::ECDSA::NoCurveForOID) …
# Skipping “c2tnb191v1” (Crypt::Perl::X::ECDSA::NoCurveForOID) …
# Skipping “c2tnb191v2” (Crypt::Perl::X::ECDSA::NoCurveForOID) …
# Skipping “c2tnb191v3” (Crypt::Perl::X::ECDSA::NoCurveForOID) …
# Skipping “c2tnb239v1” (Crypt::Perl::X::ECDSA::NoCurveForOID) …
# Skipping “c2tnb239v2” (Crypt::Perl::X::ECDSA::NoCurveForOID) …
# Skipping “c2tnb239v3” (Crypt::Perl::X::ECDSA::NoCurveForOID) …
# Skipping “c2tnb359v1” (Crypt::Perl::X::ECDSA::NoCurveForOID) …
# Skipping “c2tnb431r1” (Crypt::Perl::X::ECDSA::NoCurveForOID) …
# Skipping “sect113r1” (Crypt::Perl::X::ECDSA::NoCurveForOID) …
# Skipping “sect113r2” (Crypt::Perl::X::ECDSA::NoCurveForOID) …
# Skipping “sect131r1” (Crypt::Perl::X::ECDSA::NoCurveForOID) …
# Skipping “sect131r2” (Crypt::Perl::X::ECDSA::NoCurveForOID) …
# Skipping “sect163k1” (Crypt::Perl::X::ECDSA::NoCurveForOID) …
# Skipping “sect163r1” (Crypt::Perl::X::ECDSA::NoCurveForOID) …
# Skipping “sect163r2” (Crypt::Perl::X::ECDSA::NoCurveForOID) …
# Skipping “sect193r1” (Crypt::Perl::X::ECDSA::NoCurveForOID) …
# Skipping “sect193r2” (Crypt::Perl::X::ECDSA::NoCurveForOID) …
# Skipping “sect233k1” (Crypt::Perl::X::ECDSA::NoCurveForOID) …
# Skipping “sect233r1” (Crypt::Perl::X::ECDSA::NoCurveForOID) …
# Skipping “sect239k1” (Crypt::Perl::X::ECDSA::NoCurveForOID) …
# Skipping “sect283k1” (Crypt::Perl::X::ECDSA::NoCurveForOID) …
# Skipping “sect283r1” (Crypt::Perl::X::ECDSA::NoCurveForOID) …
# Skipping “sect409k1” (Crypt::Perl::X::ECDSA::NoCurveForOID) …
# Skipping “sect409r1” (Crypt::Perl::X::ECDSA::NoCurveForOID) …
# Skipping “sect571k1” (Crypt::Perl::X::ECDSA::NoCurveForOID) …
# Skipping “sect571r1” (Crypt::Perl::X::ECDSA::NoCurveForOID) …
# Skipping “wap_wsg_idm_ecid_wtls1” (Crypt::Perl::X::ECDSA::NoCurveForOID) …
# Skipping “wap_wsg_idm_ecid_wtls10” (Crypt::Perl::X::ECDSA::NoCurveForOID) …
# Skipping “wap_wsg_idm_ecid_wtls11” (Crypt::Perl::X::ECDSA::NoCurveForOID) …
# Skipping “wap_wsg_idm_ecid_wtls3” (Crypt::Perl::X::ECDSA::NoCurveForOID) …
# Skipping “wap_wsg_idm_ecid_wtls4” (Crypt::Perl::X::ECDSA::NoCurveForOID) …
# Skipping “wap_wsg_idm_ecid_wtls5” (Crypt::Perl::X::ECDSA::NoCurveForOID) …
# Math::BigInt 1.999837 (backend: Math::BigInt::Calc 1.999837)
# XXX NOTE: This test can take a while and/or spew a lot of text.
# Skipping “c2pnb163v1” (Crypt::Perl::X::ECDSA::NoCurveForOID) …
# Skipping “c2pnb163v2” (Crypt::Perl::X::ECDSA::NoCurveForOID) …
# Skipping “c2pnb163v3” (Crypt::Perl::X::ECDSA::NoCurveForOID) …
# Skipping “c2pnb176v1” (Crypt::Perl::X::ECDSA::NoCurveForOID) …
# Skipping “c2pnb208w1” (Crypt::Perl::X::ECDSA::NoCurveForOID) …
# Skipping “c2pnb272w1” (Crypt::Perl::X::ECDSA::NoCurveForOID) …
# Skipping “c2pnb304w1” (Crypt::Perl::X::ECDSA::NoCurveForOID) …
# Skipping “c2pnb368w1” (Crypt::Perl::X::ECDSA::NoCurveForOID) …
# Skipping “c2tnb191v1” (Crypt::Perl::X::ECDSA::NoCurveForOID) …
# Skipping “c2tnb191v2” (Crypt::Perl::X::ECDSA::NoCurveForOID) …
# Skipping “c2tnb191v3” (Crypt::Perl::X::ECDSA::NoCurveForOID) …
# Skipping “c2tnb239v1” (Crypt::Perl::X::ECDSA::NoCurveForOID) …
# Skipping “c2tnb239v2” (Crypt::Perl::X::ECDSA::NoCurveForOID) …
# Skipping “c2tnb239v3” (Crypt::Perl::X::ECDSA::NoCurveForOID) …
# Skipping “c2tnb359v1” (Crypt::Perl::X::ECDSA::NoCurveForOID) …
# Skipping “c2tnb431r1” (Crypt::Perl::X::ECDSA::NoCurveForOID) …
# Skipping “sect113r1” (Crypt::Perl::X::ECDSA::NoCurveForOID) …
# Skipping “sect113r2” (Crypt::Perl::X::ECDSA::NoCurveForOID) …
# Skipping “sect131r1” (Crypt::Perl::X::ECDSA::NoCurveForOID) …
# Skipping “sect131r2” (Crypt::Perl::X::ECDSA::NoCurveForOID) …
# Skipping “sect163k1” (Crypt::Perl::X::ECDSA::NoCurveForOID) …
# Skipping “sect163r1” (Crypt::Perl::X::ECDSA::NoCurveForOID) …
# Skipping “sect163r2” (Crypt::Perl::X::ECDSA::NoCurveForOID) …
# Skipping “sect193r1” (Crypt::Perl::X::ECDSA::NoCurveForOID) …
# Skipping “sect193r2” (Crypt::Perl::X::ECDSA::NoCurveForOID) …
# Skipping “sect233k1” (Crypt::Perl::X::ECDSA::NoCurveForOID) …
# Skipping “sect233r1” (Crypt::Perl::X::ECDSA::NoCurveForOID) …
# Skipping “sect239k1” (Crypt::Perl::X::ECDSA::NoCurveForOID) …
# Skipping “sect283k1” (Crypt::Perl::X::ECDSA::NoCurveForOID) …
# Skipping “sect283r1” (Crypt::Perl::X::ECDSA::NoCurveForOID) …
# Skipping “sect409k1” (Crypt::Perl::X::ECDSA::NoCurveForOID) …
# Skipping “sect409r1” (Crypt::Perl::X::ECDSA::NoCurveForOID) …
# Skipping “sect571k1” (Crypt::Perl::X::ECDSA::NoCurveForOID) …
# Skipping “sect571r1” (Crypt::Perl::X::ECDSA::NoCurveForOID) …
# Skipping “wap_wsg_idm_ecid_wtls1” (Crypt::Perl::X::ECDSA::NoCurveForOID) …
# Skipping “wap_wsg_idm_ecid_wtls10” (Crypt::Perl::X::ECDSA::NoCurveForOID) …
# Skipping “wap_wsg_idm_ecid_wtls11” (Crypt::Perl::X::ECDSA::NoCurveForOID) …
# Skipping “wap_wsg_idm_ecid_wtls3” (Crypt::Perl::X::ECDSA::NoCurveForOID) …
# Skipping “wap_wsg_idm_ecid_wtls4” (Crypt::Perl::X::ECDSA::NoCurveForOID) …
# Skipping “wap_wsg_idm_ecid_wtls5” (Crypt::Perl::X::ECDSA::NoCurveForOID) …
# curve: brainpoolP160r1
# curve: brainpoolP160t1
# curve: brainpoolP192r1
# curve: brainpoolP192t1
# curve: brainpoolP224r1
# curve: brainpoolP224t1
# curve: brainpoolP256r1
# curve: brainpoolP256t1
# curve: brainpoolP320r1
# curve: brainpoolP320t1
# curve: brainpoolP384r1
# curve: brainpoolP384t1
# curve: brainpoolP512r1
# curve: brainpoolP512t1
# curve: prime192v1
# curve: prime192v2
# curve: prime192v3
# curve: prime239v1
# curve: prime239v2
# curve: prime239v3
# curve: prime256v1
# curve: secp112r1
read EC key
writing EC key
# curve: secp112r2
# curve: secp128r1
# curve: secp128r2
# curve: secp160k1
# curve: secp160r1
# curve: secp160r2
# curve: secp192k1
# curve: secp224k1
# curve: secp224r1
# curve: secp256k1
# curve: secp384r1
# curve: secp521r1
# curve: wap_wsg_idm_ecid_wtls12
# curve: wap_wsg_idm_ecid_wtls6
# curve: wap_wsg_idm_ecid_wtls7
# curve: wap_wsg_idm_ecid_wtls8
# curve: wap_wsg_idm_ecid_wtls9
t/Crypt-Perl-ECDSA-Generate.t ..................... ok
# Math::BigInt 1.999837 (backend: Math::BigInt::Calc 1.999837)
t/Crypt-Perl-ECDSA-Math.t ......................... ok
# Looking for OpenSSL binary …
# Found OpenSSL: /usr/bin/openssl
# OpenSSL 1.1.1o-freebsd  3 May 2022
# options:  bn(64,64) rc4(16x,int) des(int) idea(int) blowfish(ptr) 
# compiler: clang
# Math::BigInt 1.999837 (backend: Math::BigInt::Calc 1.999837)
t/Crypt-Perl-ECDSA-Parse.t ........................ ok
# Looking for OpenSSL binary …
# Found OpenSSL: /usr/bin/openssl
# OpenSSL 1.1.1o-freebsd  3 May 2022
# options:  bn(64,64) rc4(16x,int) des(int) idea(int) blowfish(ptr) 
# compiler: clang
# Math::BigInt 1.999837 (backend: Math::BigInt::Calc 1.999837)
# ---------- This test takes a while and spews a lot of text.
# Message: [Hello-0.476483623121517]
# brainpoolP160r1 (named_curve, compressed public point)
# Random Sig: 302d02144fc6e3b2cb1dce2eee1b6bdd3d7f1730ce69ca200215009db84d55a9e74a8f29e025235f2c3e20c08b84c8
# Deterministic Sig: 302d021500dfe8fca0f4900d3234cb7db176f42dbab747080102142ee590c85891dc9f7dff85a368bf48064fe744e1
# brainpoolP160t1 (named_curve, compressed public point)
# Random Sig: 302c02141d7183a2562bf3e8f1247129c6a05136134e1503021419b5ec6f7d94d0163ed1d83b5a6476adffce2ef1
# Deterministic Sig: 302e021500dc8c22b20c89d5ca8d2f19cf7a0fb7b390386edf02150096bbc7ddb5d773ff68147b00ff5f23dc94b84677
# brainpoolP192r1 (named_curve, compressed public point)
# Random Sig: 303402181fb046c734155c86a34605f8aefb0242b1e7b6849bd5a855021807e01a9ac504583ed1b98fa32e6fabc6ae24ff743db2e07a
# Deterministic Sig: 303502182b7747bbbe4b59c8c567397b83c3d8ab9ab44f89fbe43846021900a274827e09c49c6392c8a36ed0ac6f6d55ca8b5bd6ba1c51
# brainpoolP192t1 (named_curve, compressed public point)
# Random Sig: 30340218280da63009a3093f62e6d08ea4753bdc8fd2417e2f2e35c50218464e4ac3e14c4585bd1d8c0e1784856a2af17be7f576dfb9
# Deterministic Sig: 3036021900b23082af410dcafcfff9dff94e53f16e9e306e914b0cdc2a0219008c05ba0bd8602252267cedfdfec54e3e7a59714dbfba00c4
# brainpoolP224r1 (named_curve, compressed public point)
# Random Sig: 303e021d00992d4dff99d543d0c047074e769791a94761f48e0384ec5427645aa8021d00969ba76cdf56ec6b0dfe20f83b675d3b0c3ece7dcc7d2fa97ee9ae46
# Deterministic Sig: 303d021c112f27199ee9c8256a5dff5d9378e8c9f4077a26a5ee4ad36c1fef75021d00b47eaefedb00d86a4dfa37edc750e596a78d072a630e651d5078c856
# brainpoolP224t1 (named_curve, compressed public point)
# Random Sig: 303d021c1de1ff476fd2efdb70ed5ba270cfd8e5009726dfbe0eb14968161414021d00a0267e20496a23e253e68b05e15b6da97e506935fd17a869c0001c14
# Deterministic Sig: 303e021d00a3665164073fab1a758b7bce990ca750903d3d06aba5eb01f31c4a66021d00b28358982aaba529afd898400fef8bcf99f8bcfa08ce55499df91794
# brainpoolP256r1 (named_curve, compressed public point)
# Random Sig: 304502200fcba4e1d636a81b48f99f919734193ed6ead8991b298a0a9ee3e77d79f32c980221009920f9569fff59345cb074d9f6cc5e454b25841f387724597b9f0fbd44b2e15e
# Deterministic Sig: 30450220149ffaec9296d5ec6d0968c388af81d3b760996e28ff71567bf0cc191841231702210095120bcfe2d75ef66df7946f7fca23fd0313492a16a95960b6fc546afdcf317f
# brainpoolP256t1 (named_curve, compressed public point)
# Random Sig: 3045022100a6c2abffd21539b05f1e12a758bd39c89121617729033ab2a1198df2ee09915702201652f41a698707b57bf92984f9829c670227660e64037990b6ba5f0c475751cf
# Deterministic Sig: 3044022047851ca78eb7d40017de495fc6434d0923b29a4adcf03f94a0ecafdafa857a4702207afc70e2ce3023eaf122a66c4ffc71d17d5d08b0bcd316fb19da7cd061e21659
# brainpoolP320r1 (named_curve, compressed public point)
# Random Sig: 305402287076b1c644ce358c046e12a1f3b64e746a1e12016ba49cc339d1ef3a9344e8b8b6027ae6af603e7302280fd63c68895c7c760ac7eda7f5ddc59e012a8f8adcb385c9a15181e86e88f8874941070672d36bf7
# Deterministic Sig: 305402281e7312cdb7fff5a972339726579bc1b47024acd1705941cdc93916c2ea0dc5091d05ab1204ca81200228037288cb4743e3f6f5bd1fdeb4e51a4deaa09775006f3e61571d7352677dcf63f4bbe350b152b4e2
# brainpoolP320t1 (named_curve, compressed public point)
# Random Sig: 3054022863f8621219c2a089154c4428dd4568e183e94b5d3dfdf5ee1c284a3cbc64643537a0b264a43796b2022854c7e563a430e337d4a0d1092d2101299e99442115e4e5768ce3c55bca33b36080b9bf962539309d
# Deterministic Sig: 305502290086c1ec0707c37e24505fad070f05048959152ac93afa56bacf28f5c8af16ee9772e0804d6cc101ba0228235d795b295f4659b87e6adbd93903657249a2b5ea33c30382d41228aed34b6063a21e2fadb0b469
# brainpoolP384r1 (named_curve, compressed public point)
# Random Sig: 306402307f960e79e5d207898ac291d3c311e375eeffe71ccf3afeccd59933caff668f36fd56610a1442242ee4687a7952ed7fb602300c05fc241c51b39728afb67fc7730da557508aaa8de38cba308357fda92e48e7f763a45a56bef8cf8e7a4008f512430e
# Deterministic Sig: 306502303f8314ec359a2df27ec3d0171ec106aa9a6d9155112c8942e7a60d0c773d38cede9c192e517f64b0d8fec99495dbc5c80231008a18a27a79b46b94fdf49a5b6bb1ec1f14830541b75fce72507d9d0abac207a96a8e72d220a7bcd363d47a677403706e
# brainpoolP384t1 (named_curve, compressed public point)
# Random Sig: 30640230732d6a99974353afd1a92da2e822f074a417b7565d5271afb729e6c0ee18971e6e438cde6961e438b850dd5279ffe8ab02307ad34bb6a7be51497e7b28c2888b07e0dfc7681265614a5d901dd0339a7e2abe2d328d75155315b9c56c8511f28d01ed
# Deterministic Sig: 306402302d7d49a2f0a5a42e82315f4c9ecf0c56d9f061e2c45653cfc421bdee3793e13c712b023569ff01747c0c327f2f8397c7023021eddb5486466d9f9d2d36da1d211eece3e2ebf4d1031e4d3ca7ccae5f1d4427e4e3754cc599979b24df844992cad425
# brainpoolP512r1 (named_curve, compressed public point)
# Random Sig: 308185024100a10b0fab6febba8618c917f5ec3255d0379e3c3f22fb2afc8a77e3aba8f80e6705b44b9b7d24882fce7fd6fbadf3e8796133869f3ebe50f575873973460aada402406e396e35689ed747206cc5d5c6c97a25b24aa2d78f831cca4ab1c223e18e5276158b97d74500c5e2ade1feffa515973ceed0235c6aa0981ccf74cba77c6bc65f
# Deterministic Sig: 308185024100887ec7a387859acf6e5f24d197c7c8c221391d6d10298785c33b8feaddc18e080cfb116fcb4020d7ee47467a0f007727ba050b02dc76cc9726ae330ccf06173802406e09138e68fd193044b47600a1cb61618a7722183735aff0bdf308a2a5f8a0956c3e59cd6d6204c4f2e31231b70981b2ad6ff671067d886a2fa5b10de17a5a6e
# brainpoolP512t1 (named_curve, compressed public point)
# Random Sig: 30818402407eb1e5c429ffc6104780a27bfc425478b9c4ef871c67a792cd5efc14f495944a57332d90705609e157a1e5a8e678aac3dc4ae63a5224d373d3feb11cb291a468024043b4b95ec7250690b2125da6a0ba21fbdfd57b9d408315c292c76e8039c9eb41b62eda7fcbea7c2d5cd1a435526ff43e2d7951fd7e77175e6477bad35dae50a6
# Deterministic Sig: 30818402401d3c3ac5bb1f1f289efb700df9d87eba294102d51d6b51db48e3fa01082c4873d12aba919a8a91d24525b4aa83b62ce39fdfd158e1f6701b3d54abb2ccbd9a8d02404b82d5965e42450b03bcec957928972b15c61435b4cdcd4701d1d8250cb913ec5339fdd903b33be5b48cf466100b3f07ece3441496a6feeda7c45ea28e4c5ac9
# c2pnb163v1 (named_curve, compressed public point)
# c2pnb163v2 (named_curve, compressed public point)
# c2pnb163v3 (named_curve, compressed public point)
# c2pnb176v1 (named_curve, compressed public point)
# c2pnb208w1 (named_curve, compressed public point)
# c2pnb272w1 (named_curve, compressed public point)
# c2pnb304w1 (named_curve, compressed public point)
# c2pnb368w1 (named_curve, compressed public point)
# c2tnb191v1 (named_curve, compressed public point)
# c2tnb191v2 (named_curve, compressed public point)
# c2tnb191v3 (named_curve, compressed public point)
# c2tnb239v1 (named_curve, compressed public point)
# c2tnb239v2 (named_curve, compressed public point)
# c2tnb239v3 (named_curve, compressed public point)
# c2tnb359v1 (named_curve, compressed public point)
# c2tnb431r1 (named_curve, compressed public point)
# prime192v1 (named_curve, compressed public point)
# Random Sig: 3034021820c124153d2d185eda6c25137abc66784a331d6116e08967021809d6b4dd410b39089aefd379a1dedf496786a25684fd516f
# Deterministic Sig: 3035021900b2a1f65fce7e5b9574fabbdae55dc69a6edb11ebca06be3302182db417f43cfc0da60522cc44ea518cf3258768cf0db44fd3
# prime192v2 (named_curve, compressed public point)
# Random Sig: 3035021840928bb50e284763c826529d5360693da2faef495786af09021900c8b00a3efab688a565ca4eca76bd041f3a4feb2120757c2b
# Deterministic Sig: 3035021900d6319f7668300d4d296676b91857fb3db30c9605d9ad1d5f0218132d7a21db374d69036bff4bd82aeffff1e3cfd2c3c03bfa
# prime192v3 (named_curve, compressed public point)
# Random Sig: 303402181fd045faf418b631b758b8f207762cb09d28190b11c4f849021811ad999273939ce3331512db20441790b2d0550ac22dc7e8
# Deterministic Sig: 3035021874d3676aa078d82945bbba3fa4269fbfb4c51714eafe2617021900fa1cb7da364b8f42d703524009c2096d4a6d4245cb1ef5b9
# prime239v1 (named_curve, compressed public point)
# Random Sig: 3040021e02e1d46ac44455af5a22f03a4fe5285d66ee0d88ed407025ff6afca4c1b8021e7289f0e7dc6601a7d507e3338bc13677c7612e7a25b77c159a8291af2eaf
# Deterministic Sig: 3040021e0d3cd9801f01a3cb9e92674db9f091a4e1d4541acedee85dd7e2e04c9fcb021e1cd2d8bcb77b3a1bd48ba34b4bba4a7ced3a1ee07aabb78a8b1989efb794
# prime239v2 (named_curve, compressed public point)
# Random Sig: 3040021e7835ea41b68c4df8687c1de79852ba20df9239350e699b6e3205b4541b2b021e7645cc7c3da4e69302f52007f87783f66c92f82260e5c72d6c98e7014221
# Deterministic Sig: 3040021e072539315b7e6818dd49a8861e3742a6df50c34b603cf3e86b9e927c2c2c021e607b774783f4237072d7d49da8aec28f14d5436febfa377b99be91362a74
# prime239v3 (named_curve, compressed public point)
# Random Sig: 3040021e27f358ecc2ba82f0fc50a5432fc250b214b15931b5ce255e1b9eb9ad560d021e2ceabfc64d28e351d62e56d16b801748595d98b33e11c77dad9d2334d991
# Deterministic Sig: 3040021e5591d6ce539f3db5a8ade4b64fdadf54759c647ec254b44c8ec678725dd0021e60290c34182f768be1efb4247a08bfe8068e5ffc4cd6a8507d95c6cca234
# prime256v1 (named_curve, compressed public point)
# Random Sig: 304502201ec4dad2df2fcfdd2cf82aad8eee82d4b9829d733bd5004d8b855c643072f4aa022100f72812423e4f04189c4e8d0a56c971b358b4f9c52b8999e02f333894f7432967
# Deterministic Sig: 3045022100a75a95687ef3ff8c9a527656d9e06a2fb54cb2f68a79975e1cad492be8f7a24102207d0c6e3970f8ecdb34e6ec7aeee31a4388856407dfe927d14be0b68c6bf14242
# secp112r1 (named_curve, compressed public point)
# secp112r2 (named_curve, compressed public point)
# secp128r1 (named_curve, compressed public point)
# secp128r2 (named_curve, compressed public point)
# secp160k1 (named_curve, compressed public point)
# Random Sig: 302d021457393e95c13c2519f19531084730e393b7d5cf9b021500ae2a63e95f0a9ef2d8fb7a3af5a1f523bb09f756
# Deterministic Sig: 302c0214774ad545406a1a0a3d6d05ff1e6a98110fa61063021436fc04b7aed460afad36681a453c25b855517712
# secp160r1 (named_curve, compressed public point)
# Random Sig: 302d02146f1670dd2330ff733fd2ac0ff559fd8178896311021500ae07ee3ed0d8e16d9a0f195de3cccc951b746b10
# Deterministic Sig: 302e021500b88d3647c73b2adf785c33923cce5edd2941a96d021500cddd81397a4f5f2b589b0a1e62fab6f55864fa85
# secp160r2 (named_curve, compressed public point)
# Random Sig: 302e021500fdd38f64681b1cefdaf9ee89a299ff50598bb00f021500c90e86cd2eb54c19f449df5d5e623b0cc859bab4
# Deterministic Sig: 302d021500cb06ce0b0edc466ad03d923a502dcc11273d465302140e2af16fecedaf2a48d757b915472fb07bf37555
# secp192k1 (named_curve, compressed public point)
# Random Sig: 3036021900ff24f06c234ef124ee1afec7766776380048d3cf760cfd5102190087151f3d75b0e76d687ec02ec02ef20e779cfeb6f3fa79ce
# Deterministic Sig: 3035021900ae8d355946e6723e48f409929001695c8999ab8bb32b64a002185a8791e8314436dbabdeca47119da8dd7b1fd998e8117b4a
# secp224k1 (named_curve, compressed public point)
# Random Sig: 303d021d00d942dba91ef82243c6166cb162eb1360cb440a23e908ab61d4fb15bf021c447c0f15acc20bd22c54f29c598b328383359ab9c6a431e51a031720
# Deterministic Sig: 303c021c581841d0396fccb54c9956d841dfc72f65850a7c1969fa80f7c4e49d021c78482d61ed1bb0a315a09692daeb9ebd256c9a52c710d8247c377e70
# secp224r1 (named_curve, compressed public point)
# Random Sig: 303d021c27df4bb74aad09cc65c4aff35f1752f6b535a24745f50d6e597bf5d3021d00b81d37c13669ee608e4239e100fadb4cad40ced76be339ab472278c7
# Deterministic Sig: 303c021c0a423d23e11f42888301304951d015628b30afea9bebd32afa3f2f78021c6200b0345d8646d6547212feb59ed90b7e86043e8dcd2dfa3a5d63d7
# secp256k1 (named_curve, compressed public point)
# Random Sig: 3045022100e70048a61fd5ff2e2d047232ce8f3813bcc8254803c602493f2b7075586ac909022048a712565c92e232f9770b05e3d4e9234fd68e43561d0417345ecc2bd5dbfc9c
# Deterministic Sig: 3045022043339546743f327873f0815975664ff04c1856ee98ffa6b4d70b2981564fb1d5022100cf218b522e789bb92174ce4d63732f9abc0db11e6851897e79a412eb3c4b3371
# secp384r1 (named_curve, compressed public point)
# Random Sig: 30650231008e57e48f811f1820270c3541e6d748b02892cd968f36f61dd6c43dce15ea3b39fda3030f7e89120e517d8fd1ea67014502303dc24ad09375094fef9fd36921b6605c79af5af27ee52d2e4a6755fec3772dc55d370ab9acf816853b024aba54117eb2
# Deterministic Sig: 306502307b27db129d1a618ef28a8be2e693828914713dc59b443eb58ba7256b9145a58fa36e07730e1097c0b79ca4ed7ae9c36d023100e3538d05b2f9c97bc8daa7e4fd9831c782bce68026fab41cd04c800abab8bc3ca6a3b28c1b2b19730a9eea324fc1bc0f
# secp521r1 (named_curve, compressed public point)
# Random Sig: 308188024200fa4ab9de8b9869f04e2b91e85d2527bfdddd1a391a2550f27e0e3f5e7a5673c646f4cdd4bda17b5b4862f9aa6ba1c6d6ebd8ac46f5e7b54ab44c62f3c221648e800242012b81244dd86c9d86701ca56619157ce56e7208d3f269d351dea3911f063a2715f6accc905d199323c8c34f8be55281af83766eaee2cdbe6ff94b6f8d8b81a808c8
# Deterministic Sig: 308188024201b8d578dd79f633f5802ed66aec2c26027271394c388b76ddaaa168cc986a95471ad428a7c7ff04efd0983491969b2accc5b2b0d6b7fe65a85affd4fad5774640870242019c9b55826c82e29c21f0597f2d47e51608a8f69673b2790fcf414400d5a3bafdca705e0ddb411ec87c0a1741519cceee0977e7fa2604c4ac0c11f5dc428dcc3743
# sect113r1 (named_curve, compressed public point)
# sect113r2 (named_curve, compressed public point)
# sect131r1 (named_curve, compressed public point)
# sect131r2 (named_curve, compressed public point)
# sect163k1 (named_curve, compressed public point)
# sect163r1 (named_curve, compressed public point)
# sect163r2 (named_curve, compressed public point)
# sect193r1 (named_curve, compressed public point)
# sect193r2 (named_curve, compressed public point)
# sect233k1 (named_curve, compressed public point)
# sect233r1 (named_curve, compressed public point)
# sect239k1 (named_curve, compressed public point)
# sect283k1 (named_curve, compressed public point)
# sect283r1 (named_curve, compressed public point)
# sect409k1 (named_curve, compressed public point)
# sect409r1 (named_curve, compressed public point)
# sect571k1 (named_curve, compressed public point)
# sect571r1 (named_curve, compressed public point)
# wap-wsg-idm-ecid-wtls1 (named_curve, compressed public point)
# wap-wsg-idm-ecid-wtls10 (named_curve, compressed public point)
# wap-wsg-idm-ecid-wtls11 (named_curve, compressed public point)
# wap-wsg-idm-ecid-wtls12 (named_curve, compressed public point)
# Random Sig: 303d021d00935d5484921cd5d04f6e717903b792da6d26f7a169daf6be9a4caf90021c39755023c05205a966095a016b149335836bb4c835cb75724a07db65
# Deterministic Sig: 303d021d00a71a376c33d2ee191f02817f25021faca5230966ea5a7535561cc628021c72247c929c5109fd7a9418a8ce8f8bd2f54a5d861f9f8b43527bb024
# wap-wsg-idm-ecid-wtls3 (named_curve, compressed public point)
# wap-wsg-idm-ecid-wtls4 (named_curve, compressed public point)
# wap-wsg-idm-ecid-wtls5 (named_curve, compressed public point)
# wap-wsg-idm-ecid-wtls6 (named_curve, compressed public point)
# wap-wsg-idm-ecid-wtls7 (named_curve, compressed public point)
# Random Sig: 302d021500820530aff43c64ccb2b453875292ea6c3da18572021429a0f73e32f16b1991158bc08813b254f4b11f42
# Deterministic Sig: 302d0215009344f52d5ca8c3015d8352a9360250ddb89dc7ac02144d537282db4d4584edc45aa14a597a074a8ff372
# wap-wsg-idm-ecid-wtls8 (named_curve, compressed public point)
# wap-wsg-idm-ecid-wtls9 (named_curve, compressed public point)
# Random Sig: 302c021455f6dd21191c250ec55897bd9187201ee4d61304021411961406c6a98ebe0163fc1823d467bd7c6e77c3
# Deterministic Sig: 302d021500c2fdd2969b001c7c45f5cb699304a5999485e6a5021407fadc2c74be47323464b42a44dc3136edd9d2a6
# brainpoolP160r1 (named_curve, uncompressed public point)
# Random Sig: 302d021436844d077bb9c87ae146a193e3757de46c81cd1e021500dccdb5a8dc5466970aa475c27bd79d9aaccd1184
# Deterministic Sig: 302d021500a8169fefa4fe451de974e9c4175ad776be36947e021405215dea1bedbcec5e26c3bffee94b89e713a316
# brainpoolP160t1 (named_curve, uncompressed public point)
# Random Sig: 302d021473dc3121c53207084a3d4d1a674c7e7e45e29dc7021500b223185b3700a0143058303bd39ffe283bc53f47
# Deterministic Sig: 302c021479e6b5873cbec4ce99443d7d21208189dbdcf995021460c98d396f13890eaf6df0c5ecf5f0ad3d5cc453
# brainpoolP192r1 (named_curve, uncompressed public point)
# Random Sig: 3035021900a45e9d4b1647cb442655db3e33f77da14380711abec2ceca02181cebc6eadac10068b23c8ebda652e534563d39561a57fb1b
# Deterministic Sig: 303402183518361126462769e6861b9d4249735d40b8f2c2ffaacdf702186ee8c9b280e46f2b36924a5354ecdc354f793f64444d0fb5
# brainpoolP192t1 (named_curve, uncompressed public point)
# Random Sig: 3036021900b586516f8109803f9a845106b36ecc2eafa37dbd67e28107021900a9bcc844a445c9c0ce117cca11d3103b8a417c58c0e4f4a6
# Deterministic Sig: 303402180c16ab1fc368d98283e1bf52cbf11c2b746deb909c29643e02187123cf2feb6739a10ccfcbc8b9e2ee916a57fe62e82bea30
# brainpoolP224r1 (named_curve, uncompressed public point)
# Random Sig: 303e021d00b8a70d4f48252e994518e01155384b85fd9f28171a24bb0e07158798021d008872289a5f5b56d0656d364ec0421f1968818e490aa412638ea16ad0
# Deterministic Sig: 303c021c1993f938c10f13f2bc2472baa07f2fdf4f97ea8f1ec945597b1554a5021c0ba59650c46483ebdfe685d43bfd6cdee2352107bb0fb76c921e234b
# brainpoolP224t1 (named_curve, uncompressed public point)
# Random Sig: 303c021c2fdffe6710d3f8378c28ddd45a3d000a64b63cd8d42a8a820c85fc8c021c3131af94b99e8d3f26ec003f2fab81cb6d01eb831feb2587e621e47c
# Deterministic Sig: 303d021c5fcc14f434034e14e1a80a1c4822ec8895b80f91f74f58c4a262f3ea021d00bae612bf4e83ea5eec9be92a1aa24751f396f913b97291aed1141300
# brainpoolP256r1 (named_curve, uncompressed public point)
# Random Sig: 3044022078b6381f84b504c612a70a22a8cde770549c64d6dbea14055c052eeaf8a06dd202207d0f01f2d061b8188d140bafc8cb5c9aa0de8ecb774bcd62019987006ff3d872
# Deterministic Sig: 3046022100a22a0cf3155dc897efc3a85ff004fdfe769258b784d459ad6915db76a554eae202210092315f8ba690f237c698a4288aa22155f58c86a6886e7cbb1b9741a50595273a
# brainpoolP256t1 (named_curve, uncompressed public point)
# Random Sig: 304502201304ac577de66a04551697135fc53d5c8aed7fca8dc502dc055fbfda197700460221008d9a9f3416a080013c696c88aecbf340b34a37e9c308439b4fd68e28d6a7bf2f
# Deterministic Sig: 304402203c78a9aaca5bb91b0906e9006af3c59b9b51411dce198b24ae0e43946adbc1d30220270ae4e9c09be2d4f08731043215446eecfc72003d0fcaca0d2cdec67428d382
# brainpoolP320r1 (named_curve, uncompressed public point)
# Random Sig: 305402280d6fda652f91b7de541feefcac05e3d8a5f4d74b565939b83bf265ba49ef43688a0164f87486e74a022849f8fc601c57c5530c54b7a6cbe89c1b2e675c32bc07db80f749a2f8b69add1c8ea1c6c3aef6474c
# Deterministic Sig: 30550228086ed79bae7bf36a27190c65263c1e043205fe01cf670912cd8df44b161c1847156c283683be43b8022900b4c658691687caa570b2d24bb2ad096d0b935a18e82800a6ca0399dc85649b6accba63689dde5aeb
# brainpoolP320t1 (named_curve, uncompressed public point)
# Random Sig: 30540228289e56a907a8f386964e404b98fee89961b37fa993d3ee186b7edf8a648492ed7b4bfb78a53bc1a5022856b9e3687d5acb700062d9b4e6fa0a38688e48fec5eeb03a9b76f1e28dc13ef939298ad4bc9e24f1
# Deterministic Sig: 305402282da381ac1f68fd3013eafb50fe2b6e67a25af8e4906d55f5e7247c7de06221572f203d2b8698bade02280efd00acd7ef98384036b8e9f5a633a5b5147af8d4125dbd092ad32b1759d4b2643f626995c67246
# brainpoolP384r1 (named_curve, uncompressed public point)
# Random Sig: 306402303efc9a15e586738dcfa11bb830274894e50fee1de2bdd7050210ed5d3370a2832ed7f3d4f3b5810f5fb82dcf836875a6023013c88832d96a1452d22dc37051a427e03f0905d74eabf2dd145b0dcb15026bc40279bed9c893aae4f5858e6a880747f9
# Deterministic Sig: 306402301aa2573f21c417c613c20bbd05b583e815f71debfbec378d9be4d1a1451ef29a9d4d5b74ef0dcc1cdc95b5c2e9a6d55e0230387f391c969e767b193814f670eb5442b00cd452d7303926ec1e2af912f71376cd2aabe42834280c3b327cf3278faa8e
# brainpoolP384t1 (named_curve, uncompressed public point)
# Random Sig: 306402300f6ca5276171318767da791e43831747d3621aeab170eb5d0a0fe69cda7fe77e8991d3867f59f9c9ee083fed293a137b023067ff5a1f68f80bd7a75b6ea634fe1f6638212fbcd752c976f93868184a24804493ab859c41852c30b5d320cd2943b8ad
# Deterministic Sig: 3065023100809e29ebb192903398a54fdefd7ce101c2c4abdecb8f2c0d418771efd3242166c0b456e82cb79fdfbfafbc758ed3870d0230149b181bb9df8ef2dd7cdf7ecb7a87e3f0e984e99e35fb87f51c61c190056636ad73425f7d7865164bb505b636c4a84b
# brainpoolP512r1 (named_curve, uncompressed public point)
# Random Sig: 308184024073a90ed4622661b5069df04c697c4f4d89bb117c34b56aa7b38a36760d82086283250908a955d88f43a0bacbece3c460d51ef50ddc211662a67c2c9795e3453b024010469c7a708e4e4078d32e01fc33eeb2fcdf42dd61961eff57f4e7143334e8f5c4d48e43139b32a2fe8fb1f98f9230aefbdf7ea497a71a4e62443ed1b2040edb
# Deterministic Sig: 3081850241009693ba0e91df75aba8fbc9368fff0e831ef7967726148ece9ce7878f9bef15ed5558af67d096fe1012a8ac4cb9cae00a53e266bb07641d69cb703a3c01614b8602407d2213be1eb4a2bc36b5c39f0aafabff5c7104a465b5c23b691e9a39cf45b30fc9b55b9748013cb3e0f7291135a1cd0e5880b6091254e284003192126557bc9f
# brainpoolP512t1 (named_curve, uncompressed public point)
# Random Sig: 30818402400f8bdec00f8c781edbc3c654ee8e21298b94d2fe48a2d9185eafeced46a9401d21a6b850a84a57ac956d7500a08c3a1b65f648b5cc638796bd3dd98523ca0ca702400b456408704e15dcee541a68b15422e8014209e84aeff32ad3d0f7b299b378d04eaea10c9ab9004938181ca6daee5592f8c7415c58574bcc6c8c07f62b53c962
# Deterministic Sig: 308184024063f19cb974b15c1b04963726a9371b62bd360fab084477d2575daaf7f5d17d763516d554db1674ce8931a5e239d6889286a54972a8691469874cfcb11b4dd8c002407db289a6bf6c00cabd1efc6f1b33f079dcab982faceb589b618594a01f3e5255aae2d490d49102da529f9bb108889a2c8e5f9fe629d6100d08ed29864cee8621
# c2pnb163v1 (named_curve, uncompressed public point)
# c2pnb163v2 (named_curve, uncompressed public point)
# c2pnb163v3 (named_curve, uncompressed public point)
# c2pnb176v1 (named_curve, uncompressed public point)
# c2pnb208w1 (named_curve, uncompressed public point)
# c2pnb272w1 (named_curve, uncompressed public point)
# c2pnb304w1 (named_curve, uncompressed public point)
# c2pnb368w1 (named_curve, uncompressed public point)
# c2tnb191v1 (named_curve, uncompressed public point)
# c2tnb191v2 (named_curve, uncompressed public point)
# c2tnb191v3 (named_curve, uncompressed public point)
# c2tnb239v1 (named_curve, uncompressed public point)
# c2tnb239v2 (named_curve, uncompressed public point)
# c2tnb239v3 (named_curve, uncompressed public point)
# c2tnb359v1 (named_curve, uncompressed public point)
# c2tnb431r1 (named_curve, uncompressed public point)
# prime192v1 (named_curve, uncompressed public point)
# Random Sig: 3036021900cae139cd2e3ecb36eced102a6c38f9efc2177891695ccbd8021900c1244c66e3c97446b63fb42659a5071469992a283ae225ef
# Deterministic Sig: 3035021900b5694c7cd4a7074e4d0b163805ed36b4ceba9b7978fb26dd02186e0a3d2235cb283e31d04860d5e886b23a2b912832c864c7
# prime192v2 (named_curve, uncompressed public point)
# Random Sig: 3036021900f63ee0acdf3f26d29820a5b4ee30ca5efa4f11540ac4230a021900ee7b9cf5086c75ee27c0b92d31a19295708f2c1b5f2c46dd
# Deterministic Sig: 303402186edde5626a00a2c3559eb492c2cd34f0bd6f7ed907656727021830a6cba66510c0954eb14fdd27d7b564fccc6233ce8738e8
# prime192v3 (named_curve, uncompressed public point)
# Random Sig: 303402180f0e4cbb012df7e4c8cfaed72f88fd092ff32e5b78d0865f02183366ef458097a529abf55670b801ced21d38073a58b90646
# Deterministic Sig: 303502185e97ebcd4012876e9cc7289f92a06f84c9756787c886da69021900b49fc9c848d5d232490582e85a99cb3dcada4146fce63065
# prime239v1 (named_curve, uncompressed public point)
# Random Sig: 3040021e73cdc92f10fd6a3c0826632e71f36278192e3d5ee4ca3e977e5c532970cd021e7b3d7b03be739c8a6baa8794c13ada8b2ecf272c2296e6726bbd6faf1ac5
# Deterministic Sig: 3040021e6fba424c0641083849bc35f2f3e470ae197a4f5dee02c5c8a8d2bbe6f720021e4b36d554c4b9af2acbc0e550b56dc4451485685000ea9971c1f2e2943d5f
# prime239v2 (named_curve, uncompressed public point)
# Random Sig: 3040021e752fbefb4f59240d9b0f029bf9c0f5ddebdf98d00ba340a2feb58f310ce4021e3e76096630de95db099eae0d346d57b04ef0193d3de4a260b27adaeff636
# Deterministic Sig: 3040021e7002ae341c99e3826a1523c90edc18f53b0db4145b8b689fa5992ee83626021e6f2be94c747d0c1de3c74b62f99908ffb5adcafb9d675fac4d5fe9d6eb99
# prime239v3 (named_curve, uncompressed public point)
# Random Sig: 3040021e5b870f37a450f1fd13021f4ef2c1af45f6376e6ce61352d2248c57a54a5a021e305a345a306928eecb1ba0f1f74c9abf9d5c551b1411747e3bf974bd0a7f
# Deterministic Sig: 3040021e5c879e562c86d7acc034e69471820fe6a2627621bfd6d4eed2c0f0d6d6b3021e22d825fdc36282a3be18005b79aee23c83e22b9b93edeede355a1fdb0be9
# prime256v1 (named_curve, uncompressed public point)
# Random Sig: 3046022100841cf12c902ae8cab49681acb5c30acab932a195c2d17e1508e0de850aa8cf0a022100d8d12fbfccf758bf32a8ba8b05e179cc2121354ed313f90486b90bb919971c68
# Deterministic Sig: 3044022070d075c1a289fe045b6c779fe426cc90fd03f3f5b7c4a7fb0f3e578ffcc1777502202b33e32d2e3c254d5e05d008dbd70e1cee0620f3107001a3165b8e851417acc0
# secp112r1 (named_curve, uncompressed public point)
# secp112r2 (named_curve, uncompressed public point)
# secp128r1 (named_curve, uncompressed public point)
# secp128r2 (named_curve, uncompressed public point)
# secp160k1 (named_curve, uncompressed public point)
# Random Sig: 302c02145a018606be4885ab4e2bba8857b51664f9b9af6d02143c399c1eb707568f265335806aec58084f569a87
# Deterministic Sig: 302e021500c5a4794870e45c4a8ba3960ac3d2958b08dbcf9e02150084645dc2f52495990eda4bc46424e8c8d26faf76
# secp160r1 (named_curve, uncompressed public point)
# Random Sig: 302d021430489a6a79ae82fd9e33df6e9ccae3d7cd7263e3021500a6ccef7bf66102e1844b1586e26e91773ee8e05f
# Deterministic Sig: 302c0214562064237acf1490155352ae1e968941e9de69290214592374d2dea275852e447ac3aff4cb1a4bc5ba97
# secp160r2 (named_curve, uncompressed public point)
# Random Sig: 302e021500a75dd8c62d9e5b0e8478a49067df036fd341eb6d021500f4086e52a325965b62af5a605f606e39e08ef57d
# Deterministic Sig: 302e021500da35b27e143ca971fd17da958bab32b018b953ee0215009e4155568ecf78aed170bf14139cfe22c9015785
# secp192k1 (named_curve, uncompressed public point)
# Random Sig: 303402183895bd15f70cc1e710ee58a449aef8ef0715d04c8760af29021823d54e5a34efb163a8c4101cc5f21d371b28556f5e8f427f
# Deterministic Sig: 3036021900c4016c048400fd76362696c47aad21b6d0cef972e81a4d950219009e262087147eb828b3219755f24df24e21b8123579984aaa
# secp224k1 (named_curve, uncompressed public point)
# Random Sig: 303d021c1390cfb2aa894d0189442d05b6a5f4875064f91dc357c7415efa328a021d00fc7746fb7f50aad08dc43269bd154ceb5351e881c5f1761b455e08ab
# Deterministic Sig: 303d021d00ec681f0a3eeb14fa7115009ef0be2d8f995513a90d032d2c1ed30275021c677130bf5f965f6be6cbfa85f66d5bc4622a362c689b6a4cc8818316
# secp224r1 (named_curve, uncompressed public point)
# Random Sig: 303d021d00f4552a0be317840bf569d622d847538e4943c13ef33647e31a2341c4021c00f571ef97bea59daf0022a835888bda89c8653b2687fdcf0ecbf0a6
# Deterministic Sig: 303c021c66fde08f5b59f16a2547af48c17c32a90d4f4e5d58d1b4cb0a3b2ce4021c252171a4be24ead05996a799f27af35bfeb4a08f384a12c909c0c283
# secp256k1 (named_curve, uncompressed public point)
# Random Sig: 3043022013b266373589709761b53291d45393bd7d8231fbdb8547da1047fc480354b7aa021f1b3a62cac620cc242a4ffe94a84eeeefb50dbc416d1f1d298455a3340d79e7
# Deterministic Sig: 3045022100f8e654e6c5770ebba1df1d69364b5b3811b58927427b5aaf589a868296069b6e02207e253f6b2cf99a5a048486f04df25a6797e01d72fa338666de949586249494dc
# secp384r1 (named_curve, uncompressed public point)
# Random Sig: 306402306feffaf1f2939e7494c17b4ecef7e221ac181f287d3ad1d6f28f92f263a20c4005f9b85da75d7368400ef47f902da35302302be11dcf8400e9c66e3d068ca8b323bf591117135e02bec568341ef433880fc90f9e5055d56c36c0f62ad4688f2ec10d
# Deterministic Sig: 306402307e568c4fe955d33ad57870f02f99fc719ffc76fa43a188b127d9fb55f369b6bfab51255934713f3506ba4f84f9a1317e02305780cea16d190c3b9f0c4a234c46470a70e0f29e8335ce6571761e1a45c0329d461831045f3a056e9f2dd7f619af8ec7
# secp521r1 (named_curve, uncompressed public point)
# Random Sig: 308187024201094372e7a1181713117c999c67ff783ecfedca922f412ea7d12242f97114ed9869d62af7789da9a708a9769c8d628f0c852864e55117f8842139b5ce70d33602820241511f34e7791c7fe11abdd2a3eaa9f4018addbcccf2deb4cd6a58a27b44a70c38012cc96bc919fff2b777cfb97c0832d3571986dc5b002a46cd9e0d6d68d632cb8e
# Deterministic Sig: 3081860241144f3a76ad7a019237e08e7996287551955987d3b19f2a62da583b8fd9a9aa16e47b67d5373ff44f45429db12a77436b85204b0af4622b9ee4991388e8cdf3563d0241470cef3b18006f3bfa66010634760398b846d91b665a69814fb24473eeb510d059437ac9d9e8c91f59785691cd46fb71b1e1ade6860aad7a3de8808752537966b8
# sect113r1 (named_curve, uncompressed public point)
# sect113r2 (named_curve, uncompressed public point)
# sect131r1 (named_curve, uncompressed public point)
# sect131r2 (named_curve, uncompressed public point)
# sect163k1 (named_curve, uncompressed public point)
# sect163r1 (named_curve, uncompressed public point)
# sect163r2 (named_curve, uncompressed public point)
# sect193r1 (named_curve, uncompressed public point)
# sect193r2 (named_curve, uncompressed public point)
# sect233k1 (named_curve, uncompressed public point)
# sect233r1 (named_curve, uncompressed public point)
# sect239k1 (named_curve, uncompressed public point)
# sect283k1 (named_curve, uncompressed public point)
# sect283r1 (named_curve, uncompressed public point)
# sect409k1 (named_curve, uncompressed public point)
# sect409r1 (named_curve, uncompressed public point)
# sect571k1 (named_curve, uncompressed public point)
# sect571r1 (named_curve, uncompressed public point)
# wap-wsg-idm-ecid-wtls1 (named_curve, uncompressed public point)
# wap-wsg-idm-ecid-wtls10 (named_curve, uncompressed public point)
# wap-wsg-idm-ecid-wtls11 (named_curve, uncompressed public point)
# wap-wsg-idm-ecid-wtls12 (named_curve, uncompressed public point)
# Random Sig: 303d021d00d5cac519fb1b1b5e75da052dd21603be9b011237c8e9155c3ff564be021c00edc46399f829d4f7a3aa7200eeb968a516b2f1984645bb217c5041
# Deterministic Sig: 303d021c309632cb83166cc5e21696d7c0955cf87cf98fc00839725e2421088c021d009bb2bfe5188075a13dfa61ce554efaa5d7044f0199bbfa32308adbea
# wap-wsg-idm-ecid-wtls3 (named_curve, uncompressed public point)
# wap-wsg-idm-ecid-wtls4 (named_curve, uncompressed public point)
# wap-wsg-idm-ecid-wtls5 (named_curve, uncompressed public point)
# wap-wsg-idm-ecid-wtls6 (named_curve, uncompressed public point)
# wap-wsg-idm-ecid-wtls7 (named_curve, uncompressed public point)
# Random Sig: 302c021478cece02a49f8468d783c1f984f9fcffea5c4104021450cdc3d7228ca13eadad1835c23ad079dd5326cb
# Deterministic Sig: 302d02144217d0308bc1b0ba7a765b55fe79c787586af72b021500d977a42d0e93aef11108f1dafcbb32cd5fd87df8
# wap-wsg-idm-ecid-wtls8 (named_curve, uncompressed public point)
# wap-wsg-idm-ecid-wtls9 (named_curve, uncompressed public point)
# Random Sig: 302d021500c8a28c406456ccfe11eac91f0224b3ee2459c8a70214437e3ee0a1c4058e524d8f49e838eac87d4e314a
# Deterministic Sig: 302e021500f871e1a4525de5feaa21174d797df811fcdc1a7a021500a6f3d51ada3393e0f08609b7498861fdbfe1ad14
# brainpoolP160r1 (named_curve, hybrid public point)
# Random Sig: 302e02150084a7f1ad1ea63248e31fdc0b0a1bf37ad289df2c0215009b246c8f29508cc4fde1802d915f40cbec821ca4
# Deterministic Sig: 302d021500e5a65e0bc8eb777213cd34e4619a3b8627b861ef021435bce0a5aeadebb9fa0fd3daa68e08f2cb75505f
# brainpoolP160t1 (named_curve, hybrid public point)
# Random Sig: 302c02141d63390d798ff13a1e13b7b8907c2d6015a7565a021463066890eb752f6b9a6fbe97b6ca8fd4356da6c6
# Deterministic Sig: 302e021500cd17c48eb9546224b9401d28f451f721fdaf1a5b0215008cf5f139fd994570f61cfdcfce8e4a3d346bfd0e
# brainpoolP192r1 (named_curve, hybrid public point)
# Random Sig: 303502185dd0d7374845b7d27bf08e0d2f65366a41969a78177023d4021900859dd742353b73688748b084e9d01c082aeb6bcff29b0da0
# Deterministic Sig: 3034021875ba455b07a25475887f7c9a60332f10f8cc747247454c2f0218798f8fa4105235e4dd49517259b381779277b45e822549ce
# brainpoolP192t1 (named_curve, hybrid public point)
# Random Sig: 3035021900aaca2c3ae2594903e4beab1311a86954263de80e9bf7c98202184a4e6c5dc73946e761aa840fdc456bdcc6ef2c5cc0a4a130
# Deterministic Sig: 303602190093ca8694a345e3e8a3814e5962498e26c500466e9c733991021900a4a869627ec0020bcd3b5d1bdef56067db0dd22ce76cbad5
# brainpoolP224r1 (named_curve, hybrid public point)
# Random Sig: 303d021d009134ba032a26b78c52a0037bc3894804a6db92b98c84ee0ab3e0812c021c5481dcab24fe7886f58db1b2a7eaa4eb520a065be7ab6637f52401ef
# Deterministic Sig: 303d021c7376d9b6251a853aa3fe6dd554fd2d0d4853ce6f0cfbb6ac4e48eb38021d00b7a7abe22ef8b127ead1b71606247b2388fed2fde3d74e4091d115ff
# brainpoolP224t1 (named_curve, hybrid public point)
# Random Sig: 303d021d009006f3dd12fad0b381384f41e6fbd4baee2090aa2300b3b8ff852678021c0170fbd0f05677397926b09c4d0a23d1d8d914fc42031401f1410bef
# Deterministic Sig: 303d021c381de53adc57da9b8682d28d2d65e9e2c660b4f1e79e4554724f5037021d00ae4da8f0c107c8e8888384d1e90f5d19c2010aef71bbafabff472ec9
# brainpoolP256r1 (named_curve, hybrid public point)
# Random Sig: 3044022005e5f4b2cbb514784f9c9eec97b1c906b7a4f895882bc646433653ce9531fe2002200d27813f9ea3ec88a182d47aa80197b751a750701bade36a3089d6b2ad90b7cc
# Deterministic Sig: 3044022078e6fc3084ca964a7bebd5fc8af511b9233ac1ebfeb98a97ad9763c67967f07d02202feb07be1e059960526514722daa37554b49b7c1f7d47ed4a8cd793bfd052547
# brainpoolP256t1 (named_curve, hybrid public point)
# Random Sig: 30440220279cffb399857cc9257778908e81e4951bb18e81ff0edd9f9c3f356049e1608502202f450b0137a7d12f967476a936bb9a78fedcc6f93dd3a725533a7274a30880b0
# Deterministic Sig: 304402203eda90c9514592a9d75b9dd861a3274d8424ecd40edc6c12aef69837001b7d0502202ad0369bcef0c78322f67e5b9013338acad32040917a476cdbad7412a22d7dd5
# brainpoolP320r1 (named_curve, hybrid public point)
# Random Sig: 3055022900d2fc5992113fafad2a4e4f01e9b920b5d0a8ba27e11cbc74ea7484896a4187e837d7c6145e93ce7302283293042c83007b845a6a7d4b533ce30dc7b700385fe148adafa0d8f9f5b693880c7d1b41fcc7b2e5
# Deterministic Sig: 3054022855c9d38e14074ab74196d3ec7820382e10e3d9eb2ecfac062d4396a899a381e062f1c7d981552d38022821b2789154a0ab79cc16138b4b877a1d13582072bdf1c4d6975158c1b7b0cba3b742dc0bb2b1bfd7
# brainpoolP320t1 (named_curve, hybrid public point)
# Random Sig: 305502290095ee0ae9208795e0d79b585d7eea3028d006f8bdae248581a1881c9fa5fef2f45fd0b296a62944c302284df37fefbdcf2ca1bb97786844531e5bcc582d6733149539185a7841e0dc649a7f44e82c30ece328
# Deterministic Sig: 305502287bba78837445004897e509346af3a763595810ed3e386c06d1fd8b673cee1c09f83612c18e21f955022900b40457a23012e49f40486735c3b39a975d697228f77676975a24e68d33ee261ad565026cdf8ff2bd
# brainpoolP384r1 (named_curve, hybrid public point)
# Random Sig: 306402304ea945baacab326748a87ce175a70955cb0d8918e0f4f3fc4f7f7a8d3417b7020dbb41ab8793cb7779da7eef8e8b5d8302302c810b2d1d820dc066c1245f0f93e3ec6324202d2f3b4e19c15284cf80adbbbd9eff06e16700f47fd5862fafd624545a
# Deterministic Sig: 30640230147c0d644b864c290ca7c688d2d808cba02aeb62949b0ee7e1b8d11176f97f9eddc70449eacdec31952852c56ab4fc0d02306edb4be47ecad96137c79cc5b1e29e342044fbc9606733ae4e8729e724b42eed6ad85263221aac781f7a4767e0dda9c7
# brainpoolP384t1 (named_curve, hybrid public point)
# Random Sig: 30650230472a3b7667f1746d2422a7265b8b2e670255bbae48a1744aa94129c18006132b10cc6767b3b7f316e8e428564ba78241023100822e7ea6975fcb0ffb4bc31ddb97d11a5a553e874907d005a4b4897b15ccf01d75a64e030a4fbc73240405b812c10a80
# Deterministic Sig: 306402304f434a6c86d058919041edce13fa2262d64d21471276fbecc9c3e33c5ed7590906bc39c2f12cc672aed7a0e49c739cee02303315ac8f5fc0c8c4b6a61eb7fbbc20de78d64eeae8317820b327df4d68d03046a02aea2e0577eaae8c4d307aa15e2c50
# brainpoolP512r1 (named_curve, hybrid public point)
# Random Sig: 3081850241009b3e6f7ade4135a86a5329e60eb5c7578331913de35e598fbaeef83308799aea46ea48129d3a9b96446ffaf7f323eb69278362487ece3397a2b6cb9fc36177f402401fe7ac6cccb517c5e777fd43ca4ee1dbdad9f18725e386689e49b6dd9aac2c868f9b930bc2345c5a1dfb6ad14236fefc9d6bb7b03e21d1731aca37763db8de7b
# Deterministic Sig: 3081840240361d4512d14749e79ab385df94bf3eebe88e6f4698c06d927217b548d53649b2828c2065e53a43b7755b83657f4223990bf1a547f03ba6f109d9d41c8868455502403b94d3a2c84219968cd1078a40dad0bd7265518bc3d45c7aade68b5f829201f68594f8687a324213927ce9199572ac04fb138a38e793439a1e8384e7771f2041
# brainpoolP512t1 (named_curve, hybrid public point)
# Random Sig: 3081840240549843427f283bcfd155f776a0051da5d86b378fe187b86281233a62baa13e909654e728bca577c6e2355da9341ed21f72097f9d0b1962e39769aaecf9c2ced102400f15de33173b5c8928e0c4c16f13cdef9ed5a0df2311d74dd75591393d8ba05a72798542933762f10a25adc7c57942c0ee5f45697514b11aed9e12d0f9de032d
# Deterministic Sig: 308185024066cad5dec90f33b3e7df5f22b30173aca2272d34a0895253678c026f47f76f7e884c7fe852b1b0682648ca619d2aebc612f7db0f4a5c9f57e5044840d2e16211024100a30350d1d31950866c2785036d70f4fbceb36bdf688c6c872d2ccba3396b88ab3eb7e90892171eabf8ff8767fce4fd0341c21d45e3a4cc18c139ee2ef668aaa0
# c2pnb163v1 (named_curve, hybrid public point)
# c2pnb163v2 (named_curve, hybrid public point)
# c2pnb163v3 (named_curve, hybrid public point)
# c2pnb176v1 (named_curve, hybrid public point)
# c2pnb208w1 (named_curve, hybrid public point)
# c2pnb272w1 (named_curve, hybrid public point)
# c2pnb304w1 (named_curve, hybrid public point)
# c2pnb368w1 (named_curve, hybrid public point)
# c2tnb191v1 (named_curve, hybrid public point)
# c2tnb191v2 (named_curve, hybrid public point)
# c2tnb191v3 (named_curve, hybrid public point)
# c2tnb239v1 (named_curve, hybrid public point)
# c2tnb239v2 (named_curve, hybrid public point)
# c2tnb239v3 (named_curve, hybrid public point)
# c2tnb359v1 (named_curve, hybrid public point)
# c2tnb431r1 (named_curve, hybrid public point)
# prime192v1 (named_curve, hybrid public point)
# Random Sig: 3035021803533a51d70d6e2a179790e60c530bdaaba9f6a896e86eee021900b04d05b7066a395bb07eed91c40c76e9f0f601e988e29ecf
# Deterministic Sig: 3036021900fb7db6489be7636aa111152a8024290cb82d76ed2849e4330219008093c075835449d1ac9cac7591ac400e36c5d00d321dcef9
# prime192v2 (named_curve, hybrid public point)
# Random Sig: 3035021828ae7c24dbd3c0a5a2e2d02c78f9a41985ada0923d4eca5f021900ce148ef4f3a665f4d34f1734eb5eb586772cdee195d6349a
# Deterministic Sig: 303402181c0c1c9d1e9233ec9516a1ec2f00ed7910bb2c17003a82310218506bd17e7c95746fde77ec427f4c7ea45498a6d385364096
# prime192v3 (named_curve, hybrid public point)
# Random Sig: 303602190086d8bee6fda646211db2a7be019da5724958c8cb4e00ebea0219008566b7b43e2fdcc78926530f8d9722a844b297c5914ab076
# Deterministic Sig: 303602190084c1cbd69aa0e39eabfe39a65866c8fbe51dc7d9b83316c7021900ec633a07d619988fe860db4daff03945452906f579b5082f
# prime239v1 (named_curve, hybrid public point)
# Random Sig: 3040021e72d92c888549762e837bf54caad8da270b54fa73e241fdcd07f6726477f1021e53665eda2c5870888aead101798175397f93ec1532b0027b5fedfaa52cd9
# Deterministic Sig: 3040021e56828bbf42a3fae97407eb8733da06d688d2cc573399e99f64eecbe2e760021e33a883fec44097b96de04cc36475edbded10908fdc66b30c4e414fbf05a3
# prime239v2 (named_curve, hybrid public point)
# Random Sig: 3040021e0a45b58471d779feb104cc95d7d488c1620494d11aa7f5038ac426a0a259021e5468ea1700b5a4148f8ef69ffc9a2afb034947ac94104e369e7268dd9536
# Deterministic Sig: 3040021e640966aa0fe5473b13bd72cde4f51d19e9ecbeef568ecbe2661562b52635021e4b9b10fb54cffab0bb27a1d38f502f3a29493f33ad4349222c6fc96d87a7
# prime239v3 (named_curve, hybrid public point)
# Random Sig: 3040021e1d7570d353f990d691ac9bfa3849307b570686d99c0d2cf6325e5f0092e2021e3e481a9ed235193fc3803dabfeece56cebb84bd89db416eb3639bb641e49
# Deterministic Sig: 3040021e2090cfdc08c0c9e0d8b0bc2b00f72fb884d519a66b3b148a41f51fa0ed9a021e4d8cc35dbf6274c3e8e92f70889aceb44431f05d1c93c6d9a161e1dde265
# prime256v1 (named_curve, hybrid public point)
# Random Sig: 30450221009176b7c6964ddfe9ed726a4f8af7834446515117598909beda2b3332aa182f2202203c0a24b153b71facda9c5dc0e1f27bdc42853df06d8cc889e56ebf984f97c878
# Deterministic Sig: 30440220683a78b397ee25c776a2d5db4db271d4912ad05eb7488eeebcf2e626391ac34502202713b4eb2ba2020ae1facfa71edad62d9483820dbc9ed591448f018f85dbea07
# secp112r1 (named_curve, hybrid public point)
# secp112r2 (named_curve, hybrid public point)
# secp128r1 (named_curve, hybrid public point)
# secp128r2 (named_curve, hybrid public point)
# secp160k1 (named_curve, hybrid public point)
# Random Sig: 302c02144668d75ca93858fdc2c2299ef8df17533d307b74021464ffa522aee497a87a5225a7818ecb336e008c7b
# Deterministic Sig: 302d021500f1bcc3074d8314dc889878fe165b774588440725021477c769811ce293db962e38b996fe392db65bd736
# secp160r1 (named_curve, hybrid public point)
# Random Sig: 302c02141501204701d4dbb2c3b9827e83e3c9adf016ab3b02147ea903332ebe60bfb14fc1820ad290892cbf1b7b
# Deterministic Sig: 302d021500dd459d29ef4af010564c218c38bb361164bb4a130214604fb21c24dbe3ce14548aced734dd5ff3343c37
# secp160r2 (named_curve, hybrid public point)
# Random Sig: 302e021500eb5467d0e413c2eb5c5e251b9f622f08c4606cc0021500a8068ff09aae29001432149103caea371f7cb598
# Deterministic Sig: 302d0214397ab41777febb6a235a42586ac8537a8ba1db85021500a0724ef632d9fde089f6076f567e46f07cf044fa
# secp192k1 (named_curve, hybrid public point)
# Random Sig: 3035021900873e11a0312178bd9eae69594b597b3924d1c022abb9aaa202182ab2742452bd5866b1dcc6d23675ac6f0b72416f416dbb93
# Deterministic Sig: 3034021814ebe607cbd14ed5cf5a5d7e23bd694afbf6c111f1aac05502184a6c22ab786213e7904e351c70d2b1e00f3d9ce0586ebb48
# secp224k1 (named_curve, hybrid public point)
# Random Sig: 303d021d00f60543219d2f5fb80ccd49bc7b40bb7d2c6468c19ae154d0bc67b9cf021c510cb636f89d8348550626e08c1d5f763e4b95b65d9e42f8dc2858e7
# Deterministic Sig: 303d021c535d8be218a7aa4b40b12a62154890f6b411bd2f2b26fdbe914f4eb3021d00c6de1b1a22d19a2eabba23b89edebaaa49c12246162d7e3a74411645
# secp224r1 (named_curve, hybrid public point)
# Random Sig: 303c021c3564a38ec8f236b9dc3bf675139b233143be6cbcb77083391f889535021c76f7ffd1461a403ed9d60517c4ef18d15037772b002185498f3f4252
# Deterministic Sig: 303c021c7d3cdc19a4b4cc080a793613f44e61e622c6373b24cc264fac524fb3021c27325d9d43e9dbb5907cbe66b627e6fed7037c447a95469546859318
# secp256k1 (named_curve, hybrid public point)
# Random Sig: 3046022100bd8bce87f236657b3159a12d21a4a3b35622acd48b5be48b65b9867518058b47022100965e21443fb2d418c5d0abae2837ff57e8074f0fa8da178dc137d1d78b6368bb
# Deterministic Sig: 3046022100f48e5f6cdd09c8baa40bd18ef365b618a1c42217da7584be504e7bf411b97398022100a11d5b105e598603a2e2b4faaffbec04f4212a557474ee75469fc19fefc7e046
# secp384r1 (named_curve, hybrid public point)
# Random Sig: 3066023100e519b130cc13066b6f1b10c31db1a826ac7333447406b5cbd933136c1fce12b7f837a85b81313c4db0acc78e8c2a9f12023100c82520a35cbbd6c8ac57f4853ab8e717f42d0779c7aba488e362931b95194a06f79e1848d0b0dc6dac0515739ee6fb64
# Deterministic Sig: 3065023100a51efa1fd4c18b72aac9571e14c7c4d1ed485d45a5c91d7cebe443d0e9a04decd74ab5e500b2f6065e76eb00be178d7e0230785dcb0cb27588d42846f4bbd946830fd512c16e9b0f3ae7f5619ec0820c2f952cf5028105981ce20178e4384b5e7210
# secp521r1 (named_curve, hybrid public point)
# Random Sig: 308188024200a513dbde0a4a4415f24b8cb901ff5af927a17f2d5d68a0c9520a2fe3b8f01aa17ede4e13d7ebaab88e997d8ab84a538cc28f117763ffeb21d26aa0bddf15127451024201d607344ce4156057b75955a4aa09906859aed986baf7684820462f967ddeebdc53f15c7fa059698776e21e2fd4ec9594c3e3ba959611d0d2f8daaf005a1dff5056
# Deterministic Sig: 3081870242010a568aa32df879d79b4f133b26e530de0f6f0296e793469665cec18a44405eb4d7a34fb0cb453eda6c8bb947adf87ab6b2236e1a5288343aea419915cddf65c88402413f7a0593612ba4e3d03fc4388fd86321c2017c9594758204b9b1cd1d6d117ca4faf3b562162cfc6789a1822d7d16f3d6d7b4dae4755bccc1d56838fad4beacb3ff
# sect113r1 (named_curve, hybrid public point)
# sect113r2 (named_curve, hybrid public point)
# sect131r1 (named_curve, hybrid public point)
# sect131r2 (named_curve, hybrid public point)
# sect163k1 (named_curve, hybrid public point)
# sect163r1 (named_curve, hybrid public point)
# sect163r2 (named_curve, hybrid public point)
# sect193r1 (named_curve, hybrid public point)
# sect193r2 (named_curve, hybrid public point)
# sect233k1 (named_curve, hybrid public point)
# sect233r1 (named_curve, hybrid public point)
# sect239k1 (named_curve, hybrid public point)
# sect283k1 (named_curve, hybrid public point)
# sect283r1 (named_curve, hybrid public point)
# sect409k1 (named_curve, hybrid public point)
# sect409r1 (named_curve, hybrid public point)
# sect571k1 (named_curve, hybrid public point)
# sect571r1 (named_curve, hybrid public point)
# wap-wsg-idm-ecid-wtls1 (named_curve, hybrid public point)
# wap-wsg-idm-ecid-wtls10 (named_curve, hybrid public point)
# wap-wsg-idm-ecid-wtls11 (named_curve, hybrid public point)
# wap-wsg-idm-ecid-wtls12 (named_curve, hybrid public point)
# Random Sig: 303e021d00ace7dba7b95a12c16b9d2c154e770be5e1b7133f7fd14a8e8a29183b021d0085296fa85a0a17e51f9b10b959c6a9836d6b842b00ded70edb88a03a
# Deterministic Sig: 303d021c294ca7eead606618254f746ec0c517fde10c90cf3713c81d9ad3dd3a021d008fd70527a72ad674e1ebc98244d7f435d700275795fbc44366c7a64d
# wap-wsg-idm-ecid-wtls3 (named_curve, hybrid public point)
# wap-wsg-idm-ecid-wtls4 (named_curve, hybrid public point)
# wap-wsg-idm-ecid-wtls5 (named_curve, hybrid public point)
# wap-wsg-idm-ecid-wtls6 (named_curve, hybrid public point)
# wap-wsg-idm-ecid-wtls7 (named_curve, hybrid public point)
# Random Sig: 302e0215009537e8dd1b3e5e62ac05e9d5e682096589a31b94021500c490590202504f1a0e699e72310d3a6386ac6aa3
# Deterministic Sig: 302c02141429b8cbb9e61b55f1e7292ca25e41dd80c96cea021408c215360dd8dd2c5f7abd24295edaf8371905dc
# wap-wsg-idm-ecid-wtls8 (named_curve, hybrid public point)
# wap-wsg-idm-ecid-wtls9 (named_curve, hybrid public point)
# Random Sig: 302e021500adcb4f08754ee168866c09f77c93dd64a5a7b316021500facda80fd548cd797467ffe07780ac0a72355f6d
# Deterministic Sig: 302c021439168035c228afcae72e3b4d638998f662e4b14402142f1aaa94fe96073e61bd63256783e8c00aa9c45f
# brainpoolP160r1 (explicit, compressed public point)
# Random Sig: 302e021500c107a96bd54eadece5e399d71a3f3e8ce174596f0215008e7e0f6646df0582ab941e5df0a7dc4a61dde5bb
# Deterministic Sig: 302d021418c8578c9c501b078d812980cfa845ee9eef1a6a0215009b62ddde3374988c49a32d07c956cdc657dd8299
# brainpoolP160t1 (explicit, compressed public point)
# Random Sig: 302c0214081bda7e95ac9f280ff821cccb09bd630f718b78021438dbe6e1621cb990d3066aea8f140008d4509401
# Deterministic Sig: 302c0215008ab125a9c4db87dae32ac9d0ef3bf56aeb6d549f02132c9115be7065f8aa0d0f377b34ca78f6ec85f2
# brainpoolP192r1 (explicit, compressed public point)
# Random Sig: 303502182b6199034dcae678275b222a329e4ac3ec4c994524a8b2d20219009e538e43e8a032d01c09a97badeeeec5f139199a7b836067
# Deterministic Sig: 303502180ac314ba45c260ac19baf0d58b3db0feef001da13cb302ae0219009a6f2a4e2e70ff594c6a13942405701f12e5da0be323e1fa
# brainpoolP192t1 (explicit, compressed public point)
# Random Sig: 30360219009d2613285ff9f26289f5bbfe53931e381315682fb96fc87c021900a7b5804b5db519b70a3d71dad4a1d9dbbc56f4e6f8f1274c
# Deterministic Sig: 3035021900addfe2bcc4f93ee0b4a5c0736881a4ccb67b541db093e25e02184eef38f00dea719d1eaabeab56d7fbe634b8a6f5232fd100
# brainpoolP224r1 (explicit, compressed public point)
# Random Sig: 303e021d00aea9badde952ea96baf03a24e0eecae6e0d40e1274d8d762fcf8af0c021d009788374e0341aa2e2cf43433b186e020246ebbe0dae6b232387e75de
# Deterministic Sig: 303e021d008186d60d553fa6a665a405e8e447f1e129c348d2389d6e61582fecc0021d00a16978a1980191d3f11072df3f1428a3b1c9d86477123e7dded180ed
# brainpoolP224t1 (explicit, compressed public point)
# Random Sig: 303e021d00d223dd0b6d7b3567d3fff8fd0b638a9f41ff559a89ef1aae1e6f0e58021d00a3efdaeff7367368bd032fce9f883d65ec1f781f92ee794f32455241
# Deterministic Sig: 303c021c37e86c43670f97fb53fb1d6176a5f686df8f89a4fe97b32a8442ba3e021c5efac83222af3df408044b1a7b0f0b5a0a65231b645acef8075f5ea1
# brainpoolP256r1 (explicit, compressed public point)
# Random Sig: 30440220367e357111311461b8ca1fe8d1c4fdb1127889038f7db948e6eec3a88fb839e402205f2d33371b68c0bf225c79aa033bfc853c2e57398b626239a7d28f209f6355f0
# Deterministic Sig: 3044022071232ff3ce1294d17073b88b9401333edd207ee7a67a9bab8671bc7dea65b4960220193dd17cf95d51bf4478294b24a5e8a6d00a695967f7ccc325473aac579b3129
# brainpoolP256t1 (explicit, compressed public point)
# Random Sig: 304402200aba1b31eb3b3b3bdb5b781bf403c0137fabc70f36c6d86ce60711ecb76b4b6702205dec7090be087b7b65dbf43d3c716a1bf35383a39ef2ffea5287382745de274e
# Deterministic Sig: 304402204bdc79cf0e496006dcf8b72613d5b62ce590bea0ef58a339fbf2d91b7086715e022070d25e93a7b5130d7712cf34ea07ad5d5e7522443edf8ca2959f1b4cf92e990e
# brainpoolP320r1 (explicit, compressed public point)
# Random Sig: 3055022900a35a22d2a94fb326dc1f0ac65d6ed9a43a46b797c599ed633fc4dae71496a26cbffb44855bf585580228436c3b53d90c516ad97c33fbcebb022835a4e14d583922128547ed4bafee5a44c0ffc08a16b0aef8
# Deterministic Sig: 3054022859cc8ace84c8f8d186ff812a8da27e1830481eba383ded7cea144e18fd192dfbb3b6f7c69d62ae8d02287e3f7e29ded6154f9552fae9c003d5de1112f9e7ea79711baf4976e236921f5c2d96fd4d47b8ea1e
# brainpoolP320t1 (explicit, compressed public point)
# Random Sig: 30540228024d349fd48231de96f3c52387d4f82cb78d9655a31e03574dd6368be81e8ffcca8d3945b01fd40e0228522e96b0d33d2074b0a1fa5721ca7c17a9b7c113ebef242fde090aac1813b55dc090400b168ecb9c
# Deterministic Sig: 3054022840614c1fe0a57f3102fc1ede20aa9546c27c0500f6724fb8c2d6949cb8322dc36708bf8e93fe4e4802281cc435c830b5b4a90326da3bcb558f08ba3e90fce028cd6aa9342d4b07480b9f489138eb2f752aae
# brainpoolP384r1 (explicit, compressed public point)
# Random Sig: 30640230482aac0306597a8701238f4c0b41949da2b9570ae20ac219c8a041b13ac812cf3167b5014015fba455a52ed6affdb90d0230684192349b708386aeda40011655263b5ee9bc28136a6aad1b4248bed1d4bbdaae091b32a72d958e50c82ed0ee483e83
# Deterministic Sig: 306402301ad30c56b0061ac9dab4653d1d4e29819a77ce4d5fd734c4c4ee0e6ae14b197d823b41e71fcf9a6a59316b2ad327617102305e8418fbd07d913bbe063f45405a94cbc6b53d3bec0e24e17bd816d28d540a5fef5662a8dcd5c30505fc1837d266a456
# brainpoolP384t1 (explicit, compressed public point)
# Random Sig: 306402303992e0bc737db6e3bbf4b74e6b7bc8d51c42cd49a15f395c9cfc6e83d8afd34f4f4be3103d0d750e401155fbe110d9cc023034f051ebd7dd8e46f7866a9cdb306dc6bdf1288163ccf2cbc9038ce0513fbc2b43719151771917a2644899131ab06143
# Deterministic Sig: 306402306b5b6d5e630674456e771d50f69ee1107462c1a73d17e8454c58637cd5be6acccbde35152a9bfc0ff8f901551e4b298002302e2a43ed3ee005dc90beddcd3bd0cd5e1c63ab6ba3b35a8b645e8e8dd3884fd661d9e17e084efa7a9914a4ca03ac8b7b
# brainpoolP512r1 (explicit, compressed public point)
# Random Sig: 308184024013a0a2702f583e196ffbfd308729379aba664e74b9d72ecce195d4ee92e37c5a1926f195d3596f0a15b1e97b21aa79a26cc2f9c8d53957d6470eea0dd8f4d1f6024003d323635c6005be59f7f7dba84d9c40ce20da8b80840a69aa117067a3885c1dcdaed604c3b5206c63a9ceaf44194dd059ae948a3c9741675c17213c199bf4a7
# Deterministic Sig: 308185024035076e6c2ba509ec866a37c5df7d1999ac229a22641a47c6f778bcc1afd9ee02f7529d133053170eb0f21c000e2ce61169259a81d6ce748917cbc236e2d1b050024100845bb009fb320baa5e67c5c1183ff8a49159896e75bde00ae85fa9b279acaebdbb661574fbb9238ce2ae82480ef7615d34fd703aa3f51b76440963cd28cf8274
# brainpoolP512t1 (explicit, compressed public point)
# Random Sig: 30818402407032422b993e46677795c39da113786d1ed870e6d6fa83410ced1b2a43a23c72e637665dc0753b5ceb6104987a8aafbd9a4fd8b6707b9cda778feed514e021ba024052beba58996054a90028e1d737fb3ae2d40aaa7d236ee6a4fdad89409281e620cd120cc2944084d0ec5a681af5a19dc2bc66a73e10b3cff3337efcdbf07eb714
# Deterministic Sig: 308184024052727391dd1b30aea867ae0a7ed05f66bd0952eb6e14de81c546feeadfc10c44ae4547f6204213091986859cda5187e2e0112f828b8e8232a207115d9b3aa81a0240012357b111d9d343b85ddd820ab3f465c0d2635c3fd82762be51eab0a9e703339dd56ee56ea41ada79e03e1bd9cbed7ec937fef6f934d52d1d233317b6942611
# c2pnb163v1 (explicit, compressed public point)
# c2pnb163v2 (explicit, compressed public point)
# c2pnb163v3 (explicit, compressed public point)
# c2pnb176v1 (explicit, compressed public point)
# c2pnb208w1 (explicit, compressed public point)
# c2pnb272w1 (explicit, compressed public point)
# c2pnb304w1 (explicit, compressed public point)
# c2pnb368w1 (explicit, compressed public point)
# c2tnb191v1 (explicit, compressed public point)
# c2tnb191v2 (explicit, compressed public point)
# c2tnb191v3 (explicit, compressed public point)
# c2tnb239v1 (explicit, compressed public point)
# c2tnb239v2 (explicit, compressed public point)
# c2tnb239v3 (explicit, compressed public point)
# c2tnb359v1 (explicit, compressed public point)
# c2tnb431r1 (explicit, compressed public point)
# prime192v1 (explicit, compressed public point)
# Random Sig: 30350218723854c0ba082760e7f5455562245a2778750fd83a530ee3021900a2a4c70268307f693f3af4ff617b66199b971d5fc9889ee4
# Deterministic Sig: 30350218629c1bd8887fc7d5185bb9adac7014a47e2f3d0f4a4c0e53021900e80f80d4672a4f8e3f75ea8c6946dff317a1f041b80153a1
# prime192v2 (explicit, compressed public point)
# Random Sig: 3035021801522ea3fe6dfa8040cfe1c9ea510dec0b46b8c19e3ecf19021900e5f3d3440fcf72e300a4f67e2a31fe9fc60ef08544963230
# Deterministic Sig: 30360219009ad4bedf9ac549869ba5a4468f065fddda8941d1a6989fe7021900a3310f761059551f65e310a57f06da241945ae5bcf2c6891
# prime192v3 (explicit, compressed public point)
# Random Sig: 3035021900e60e7f8a04b30ef9a6db9d34ffecac135fc65e67575676be02180455b61b796a00591fce0fec921bf94921fabf8cde2bb3a2
# Deterministic Sig: 3035021900de101113cf8ffe236f30ba568956fcd0a2f44c382c0c62e10218602b34d924c46f28aaed8ff8658abc82ef5d094e5237f71f
# prime239v1 (explicit, compressed public point)
# Random Sig: 3040021e55999f576e6ef2a0a389f27054837a97338919867c0bde1e8ade02f83223021e2e052c2dec7034fcc6cc27fed61c7ab5ad20f7c1efae63d75167a7f0ed6b
# Deterministic Sig: 3040021e67e7e6d53212e50eb8cd2378e27329bf34ce6b213ce7cd7e9a8724fcb600021e009262b7fdae7f29d2fb8b5d06fc639b88744d939e7879483e05e838f52a
# prime239v2 (explicit, compressed public point)
# Random Sig: 3040021e7f329ff59a6e3f9ae997e85e75bc86c65c305c74614f2dc945ea938500e8021e3a8e9e3b299a027955716ea5651bb5a244cf8f62d36723727131839d2d20
# Deterministic Sig: 3040021e189fc784d7d008db17d6264022f208d762288f864b9cb54c634f31bfdbba021e70f4ac5310e64f2fb6e16f22ac942a8decb90e6039f18e5881a57455fa6d
# prime239v3 (explicit, compressed public point)
# Random Sig: 3040021e475d35418d75d6e82eaee6cd2069ce18a43c03d004e91092b3cb33631dd2021e57659894a47f48558ee90b6ea555afa15ba6eb2f774db9e462a57114b77c
# Deterministic Sig: 3040021e5b993f0f773cfb42c207c7ba0692c591961622bf05b69d90952a38aaa560021e7996eec068a8d2d622b51df3ce3def7510f5de810b32a337ce52c53dc812
# prime256v1 (explicit, compressed public point)
# Random Sig: 304402202a16ca1ddd8c3af424f22ae7e56cb93d93a1336e50e6ef7f29b25fba42ed3c9e022010a597d21657ea7489e0f4bba22a404e62ee2e51340cab23514dbe1d42e62723
# Deterministic Sig: 3045022100d261402bd41ac383ec054429ed993c4aeb8b70198044b8b6e886e8793db5f6190220459faf84ca054e0663bf370940fae1db5073eb628f415639406ed7469b2127f5
# secp112r1 (explicit, compressed public point)
# secp112r2 (explicit, compressed public point)
# secp128r1 (explicit, compressed public point)
# secp128r2 (explicit, compressed public point)
# secp160k1 (explicit, compressed public point)
# Random Sig: 302d021500ff6536b5d37c9d0dfc6cac9d5bb49afbb1be0953021422236b1dc91fbf4c29989d81cb47f1f345d60470
# Deterministic Sig: 302d021500889bc34c810603e110b9c009289b154f64f2bec0021477ef11b717d4921378486f94fecebd902a2bd43d
# secp160r1 (explicit, compressed public point)
# Random Sig: 302e021500dba5f3deeaba365311f14b93cf63c6f26a376351021500c0039559bcf2eb0cc0bc4d5c22f05bd713f7cd3c
# Deterministic Sig: 302d0215008fb207b215df320c9b2b0029f2b6db8e047f7ef302146e0cda7040bae4fdd7851114ad3fc7f226c31ead
# secp160r2 (explicit, compressed public point)
# Random Sig: 302d021500ae427aec93d1364a898d4965d8956e1a539acb970214161f294199daf9faad5ed9b3770c1d8ad6eac0f8
# Deterministic Sig: 302c021466c23edc1ba9ab8533ef093daae786f743b67c350214073550d2dab54af59889452492dceb796610544a
# secp192k1 (explicit, compressed public point)
# Random Sig: 3036021900acaf881184a10b87558e0516b011d22f2d8e09d7e7b2e8ef021900d44b40b83ce8fdca8e22f0e0ed966ff96c1d69b381866ac6
# Deterministic Sig: 3035021818381dd50cbca146e27cb06ea9f109f1e0a1b440938cd120021900e1d5d2a793fccf9fc540bff2b9ab55669aa03125cc6820bb
# secp224k1 (explicit, compressed public point)
# Random Sig: 303d021c4b2e1ab474b5a8ef8b547d4d5665a583c87906d19b0acc3322d2905f021d00f43cdb53582c28f0c9e3b92db3ca55128fb22f9632cdc429d2b68727
# Deterministic Sig: 303d021c5e76b00b79bd61ad6507f4c479662584d5d41d9b01de37e57700ed98021d00ff2b7437f301b8874541d3df3ac332840650f9cd39e0e53bf71c90aa
# secp224r1 (explicit, compressed public point)
# Random Sig: 303c021c402f53d7762761ed025b9b4f2c6dd9445b5cc97bab4adf56550233e7021c1eb620ac1f49e1cd6327b1e6c354065e8db984efcf9f23d511d95bee
# Deterministic Sig: 303e021d00db1cf1149fd41966b009a445954b5b4dbce1a2b4675e4d666b90f1d9021d0082754933dc8db5732a9f2a8c3a0d8882b0d758f4c4a9c1aac24fd76a
# secp256k1 (explicit, compressed public point)
# Random Sig: 3045022100e6977b0a4716bc61c282008335ad7b320312b49d0fb32cbd5803f0afb4508f7d022001c93d515d3391cd1243150e3fe394cdba5df87866ffa55ea252af60b7312e81
# Deterministic Sig: 304502201374bda8f266a6b6f278f156801fabb2a1f25cd7180553e6db8d432682e02a81022100d812d1ac9f066946739ed04f5c58862f6a9c26272900ca5133191713f200fa6c
# secp384r1 (explicit, compressed public point)
# Random Sig: 306602310089a397cc96ebb9ff39b0be71bcb8ec2c884f1af883650813683cdbbfb28598e1485cc51c27aefea9c353e500eb9f39a9023100f238e1290b1e76a87aa82f26bf5d06aad6d4f82cb3a4834a2086ea24938c51732ef30fbb9eb8a087b52f59b5a21236b8
# Deterministic Sig: 306402305ff29b43bac4f988d3b72bae040a6b974d05b764e91d348a25c3274100c5e26e4300a0a2e1ff61e151a8529a5b659f090230345ebd86c44f0dae2d01be86f72a2c84814832e71fd366469ee412788509e040464d98feac5b0ff6efc8a9f05bcea5f1
# secp521r1 (explicit, compressed public point)
# Random Sig: 308188024201b0a0629365f4ec846a66382c742063d7f4b7220fa8e3255c45030f130cfe8db6b3f5a13e97ef9a31abeff504947556693853dbd9fc514cda37147c01b56c8db4ae0242010101b526c5c1616e9c5e39b47caae514f37ee7949166c9cc868561abb6dbb121fe2f22faf2eba29ddc08b7ab2c068cbeebb13ed5d18609181c9e17d6e8603eaff3
# Deterministic Sig: 308187024200ab693168a13115da7c803e53ddf73860a12dce98d974175ccf25d8553b8e9cfbb87e441954a9070eeeac67308f186e911c1abd626b03b9eb0fe86a2945c8f2de9c02413fd644e8db033da874b30bb98eb67313135d33714a56a93add2f4b50c9d6dc2d45edc8d0b62b74680036d164ccd9d84e7d0895c03cd3f2f895c3d79fd62e1bf524
# sect113r1 (explicit, compressed public point)
# sect113r2 (explicit, compressed public point)
# sect131r1 (explicit, compressed public point)
# sect131r2 (explicit, compressed public point)
# sect163k1 (explicit, compressed public point)
# sect163r1 (explicit, compressed public point)
# sect163r2 (explicit, compressed public point)
# sect193r1 (explicit, compressed public point)
# sect193r2 (explicit, compressed public point)
# sect233k1 (explicit, compressed public point)
# sect233r1 (explicit, compressed public point)
# sect239k1 (explicit, compressed public point)
# sect283k1 (explicit, compressed public point)
# sect283r1 (explicit, compressed public point)
# sect409k1 (explicit, compressed public point)
# sect409r1 (explicit, compressed public point)
# sect571k1 (explicit, compressed public point)
# sect571r1 (explicit, compressed public point)
# wap-wsg-idm-ecid-wtls1 (explicit, compressed public point)
# wap-wsg-idm-ecid-wtls10 (explicit, compressed public point)
# wap-wsg-idm-ecid-wtls11 (explicit, compressed public point)
# wap-wsg-idm-ecid-wtls12 (explicit, compressed public point)
# Random Sig: 303d021d009404356304276a65e09d224a1836aa82905716c2345d9a770be43643021c71c2f891792f3c4089dd9864a93fee0c8e531873f6cf7f2370f31b9f
# Deterministic Sig: 303c021c53966c95dfb963de0fae70244006073129face578c843064687b04d4021c07ecfe688b7aa9c1fa45e1a08a26ad2e4395790e5045caf922884e24
# wap-wsg-idm-ecid-wtls3 (explicit, compressed public point)
# wap-wsg-idm-ecid-wtls4 (explicit, compressed public point)
# wap-wsg-idm-ecid-wtls5 (explicit, compressed public point)
# wap-wsg-idm-ecid-wtls6 (explicit, compressed public point)
# wap-wsg-idm-ecid-wtls7 (explicit, compressed public point)
# Random Sig: 302d021500d096b4385c54fb507463781af375b811818ffbe20214217a80fa1e474dc5097043660d492512082f4ef8
# Deterministic Sig: 302e021500b0b8ae4f1b004b5820da94f25d17ccc09a19e589021500f75f8af30b185c81ee72240ea1f7e335d148197c
# wap-wsg-idm-ecid-wtls8 (explicit, compressed public point)
# wap-wsg-idm-ecid-wtls9 (explicit, compressed public point)
# Random Sig: 302d021500e0213518992b3864051f90b9a5d7fe0c724a53ff02147296efe15407968b11a978a02d6bf3f726c339cf
# Deterministic Sig: 302c021400b42a087f568f95699aac5a6ebf6762a815748702145acb7c875deb7e5248ad5d81281f152c912248f5
# brainpoolP160r1 (explicit, uncompressed public point)
# Random Sig: 302d021431e2d226d7fb7461add25d333563fb14f604141e0215008e49993b4e31398fd9d98de88280b9f8f94ee4ec
# Deterministic Sig: 302c02143961463e96f025ece2c7b092358d3386d76b0a7602146681f795a12f978e06e0f2517fd8e2fc18c3d52c
# brainpoolP160t1 (explicit, uncompressed public point)
# Random Sig: 302c02143f88cc5df0013f7177e4de646ce895619793902702145e9038b5075bbbbcde22e31c8243e745cb6496e3
# Deterministic Sig: 302d021456f8b4727adab5a9430adb6ac3be7c2a72513802021500c84d8c08332abb9d33b3742a3b4a042bc0763dcd
# brainpoolP192r1 (explicit, uncompressed public point)
# Random Sig: 3035021900831b64825542bf67f560c9f527fdd82f818e5c09d2ff251a02186a615aaa3130e6534407723cb69cc62ce0a629dbb02ca777
# Deterministic Sig: 303402182437b01214bfdbc3562f6f825c49c797a1a1754b85c8f4f2021830ae966741a042960d3586b6a33f743eeed19835d5e2c819
# brainpoolP192t1 (explicit, uncompressed public point)
# Random Sig: 30350218638c85b7bac2247820daa9347ee5cef0e4a588fe7f3e25f7021900a37ad423cbe5c17c960b77b7d7faba7265163d9201e34aed
# Deterministic Sig: 303402185e4bc284e76da6ae744f05f357887db00677bb922ac5951202184a3668a22ff197ab567cd3fc9623c8507bf72e098f1fc9bb
# brainpoolP224r1 (explicit, uncompressed public point)
# Random Sig: 303c021c461ac421d7f3abd4e1d05e6014823da0927bd54507065a2a8ca37e45021c7e53bada0b19c1396d1a2933ac17661bbcc34ffe6d008a5759c948f2
# Deterministic Sig: 303d021d00b474f7a92354d1fee9850727ccc53419348d1bc255a9dcc1a7aaf0a7021c3f74d7525b7924549f983ed79452e0c9afa3a67dc6ee8c39f41702d2
# brainpoolP224t1 (explicit, uncompressed public point)
# Random Sig: 303c021c61fdbe6a116e616283155ebc66f37df82330420c80fb8ff3fcbd507c021c60272edbddd2df7fb9dbea037f2ae37f42f5b47dd547b71ab1b2bb9c
# Deterministic Sig: 303d021c635501ffc7a150262942cd8969549f4e5fd9fa422fe23a0a536905e3021d00ade81f2c55ad4326945ae3c29bed14752accf7fa489e26644a6dfefd
# brainpoolP256r1 (explicit, uncompressed public point)
# Random Sig: 3044022005a69a418a8556e60cb0950d4ade372a2c110d493d428a58f2fe71e3467c045202200e7382ea1fe925f519bd9abfc6144ed0df1cd7376751d3193ea33b6cabf16943
# Deterministic Sig: 304402200fd6b1d494b038211de58d98c8c0f9bea16c5ddc3f1e03c822201bae0dba6d9d022045a38d917ab7a9b3183ad48c5e46a1a3e74f413f6e2324db5604d7a4bb7615eb
# brainpoolP256t1 (explicit, uncompressed public point)
# Random Sig: 3045022061ee7b7c5c9af3f50fb129df71cdf7f2e4aeca4c1154666a2c4ce052ab77face02210092998dc99050bba6b5deb1ed7c468299d9af9725739d520c25046012ed6db7c2
# Deterministic Sig: 304402207b9e0be09e690c8d108d84fe5e1aaab054aaebf2255d6428de5d3ed81870ee5d02205d3ca4b7636ca18144e69a58d178df648f2610d629371d5cac4b6605c922b6ea
# brainpoolP320r1 (explicit, uncompressed public point)
# Random Sig: 3056022900a9e545ca3a291eb3df4857fd9aaf3ef469129444890e29ce1e826309cd00bf5dad91a9c543a157ca022900b4713177669cb707f2d1086815c3c5e3913f6dad9f51ea99a3d9ff5217c55883fa9fbaa31fcb4c3d
# Deterministic Sig: 305402285d545b3db33809cfb75aa990192b1cc1ff49419e976384fa651830fb72d120a1ee46267ccb39fd5b02281fdf052f5f39bec3b1bc0d3204fb8c9748030b550280d65c99e5954f19b87ef05dd1f599ae91190d
# brainpoolP320t1 (explicit, uncompressed public point)
# Random Sig: 30550228418767a68b9ee88dfa249f772d0c2fd8db6ffdb641be6aed6d435223b6ee434796aec5113d251808022900b84366bc4d0a26624d8db37a378c1c61c4fe4cb4abc6e24d53a8654f8d2de9a9e02103d8d4fc208a
# Deterministic Sig: 305502280546c81bfba0c5d1b22a6e64f0c9fb2f67935d0590c2366ce4d326f476e1f7477527212869524416022900b3f97710bf129b782b293415f8b5e4090c16850067436f04c1a1816acaf82425dc7425dd5e51fd18
# brainpoolP384r1 (explicit, uncompressed public point)
# Random Sig: 3065023100872f5eb764a2d01a2f19dc31b938a15e48ae989e6a958474f7d4a0c8dbac511bddde3745edd2eab9e80f7818692ca490023072baaba509e8e2c268ac32e4790a260458cf79101bd3c20cb5d655101ef25d78aeb069b89abd1397e13a94fe4d5fec4b
# Deterministic Sig: 306402306be3048128ec0e4a994aa263a38efbcb1b3e8b338f5c304f93e5911d89ccfaf93603d46c9664456f3583cad2d0877121023053cc082cfc80a732f5fddb702675316ed431153bd25c72f9faf99f349fbaa57a0f15540dc90172caf07c0cccdc3817e3
# brainpoolP384t1 (explicit, uncompressed public point)
# Random Sig: 306402300e9fe443a3f773fb038a2c667a098aa33653b84dbc01d33382b863667aa117ed2abcffe24233f0c392fa8148c8ae217002302b02687ffabd44d23bfde1e8ddf4df3078e6741ef06737a8dbe13b3c5a371160cbaff207e1e123d68d6b0d479b6ad525
# Deterministic Sig: 306502310084c09553f3b176b1a8ff39c06c1dbd5d6c6ab132660e28fc07b310b88747cfc1b0a0371bde26ae69f6c9e12e0ff4a220023062e25a87a92b88aec04fdbc500d536caaf339e21a0636d518823a60971c91ccbb99768700ae8b59df31d77d5a9dfb0f3
# brainpoolP512r1 (explicit, uncompressed public point)
# Random Sig: 308185024041decadcf3aebaa3f05b0b952b846cdf29fbd741e5cbe2985a5ca24f3eb9efda7dd00964f3408be3652d7a20464c8d8658a2c1b9a2d3149a9e2e1cab351efa6602410084047f2b226afa82d0c9a6be241b4cf05cdc2fff375c6bca4787caa53b04851e9e361308a08fdc6a306d7d8ee87a9bbabf54bedbb699e3e9e3758248c60b74b0
# Deterministic Sig: 3081850241009e9fb6c4097c5ee7e07e9018998fc2ce22d1228cfc2aa01aaf2a394628c9e7876032a7540744ce4d0c2cb16afd1368d2b2cad9c7e0a4adf08d17695fcde6405102400e8553fb569c5467426ac43bd8c5b7e946b4d3ab9d91243198eee6c7f2aac63b959af514c45db37c0e448d12f5e413d52865c37f0f1b64399c4104278d4dc56b
# brainpoolP512t1 (explicit, uncompressed public point)
# Random Sig: 308184024007902294f1b5585070678f895e4ab315ee6805f71ea276a71c94470838812d3d4a78cc0a2be7d7afaa36f4b106ac1e56593e822d65703b112b31b368eb842138024006be93f7482e629ae81bf24cc4527b4e37a6415c43eb66c578210228b947d258fd9cc1c2d0fc525bb3c5a83894e37c3214ebfc259ac918e8bd011e2685a0170a
# Deterministic Sig: 308184024024f8d7667be5b831669085ef3a0108df3f17fde579e35aed5b531bc64b63e71b107980242b725b35710b4628399c5c4b57825837236cdde3777b538f1185ec88024053ccdd432a99979b13a65d9b9b2d2263758fd52b7600a3f2349e8a67cb93f6123bc9902da44fc7ba5f65d2b1549349990864c7ff7eff1c98bc19c005d3acc989
# c2pnb163v1 (explicit, uncompressed public point)
# c2pnb163v2 (explicit, uncompressed public point)
# c2pnb163v3 (explicit, uncompressed public point)
# c2pnb176v1 (explicit, uncompressed public point)
# c2pnb208w1 (explicit, uncompressed public point)
# c2pnb272w1 (explicit, uncompressed public point)
# c2pnb304w1 (explicit, uncompressed public point)
# c2pnb368w1 (explicit, uncompressed public point)
# c2tnb191v1 (explicit, uncompressed public point)
# c2tnb191v2 (explicit, uncompressed public point)
# c2tnb191v3 (explicit, uncompressed public point)
# c2tnb239v1 (explicit, uncompressed public point)
# c2tnb239v2 (explicit, uncompressed public point)
# c2tnb239v3 (explicit, uncompressed public point)
# c2tnb359v1 (explicit, uncompressed public point)
# c2tnb431r1 (explicit, uncompressed public point)
# prime192v1 (explicit, uncompressed public point)
# Random Sig: 303402185d25c3a4b59140f1b8ba3153afb78726208144717b2dc1b70218031262e2de7bd3585eafa5222295b7ff75e20840c908f2af
# Deterministic Sig: 3036021900c9780baa4be6fc70e5deef7d4866298cd91996a92b298008021900cfacbd546688369337e9d36f32df7ff8d04c78030dd89072
# prime192v2 (explicit, uncompressed public point)
# Random Sig: 303402182e22c330037d17d55867a2b63e057ed926cb51cc82e665bf02181eed379544e5ef25cbdae791d76bb31cb796b0409b0281f9
# Deterministic Sig: 30360219008e484a622f08752c5e8dd1ee116993dab6095a40415e8b0a02190086ab776c99ff12e4d36bf47e68f5676ff320b82db9113b7a
# prime192v3 (explicit, uncompressed public point)
# Random Sig: 30340218034b544effb462bbb6f69ceda8eb2f9b5cbcee7ad5b9391002187a528cff16b77f9c0ca57fc4c2382d3164b85e1a37aa2197
# Deterministic Sig: 303402182a807d55d7630f4bf6ad1dd139bf0a476fe2db17b37d1e7302182af62076c585c0cddb60c946f4598ab6bf8e1bc55535a47c
# prime239v1 (explicit, uncompressed public point)
# Random Sig: 3040021e028ffeb88d15f1364e4ca917389d2c839333b78a1faf607fe9de02359468021e6e68de35ba7acbdb4d6d20c1ef9e4dc614cf7921f7d7c3ba64118827942b
# Deterministic Sig: 3040021e112d1a6359a812b2cc2573250ee7f9cde589470d18db67269dc8af2f265b021e66fb30a90d8f18d9360f94fc4dd6e744a8c27214068c9383a672cec63284
# prime239v2 (explicit, uncompressed public point)
# Random Sig: 3040021e5412e1f1610759fd21311be724d5c71814bdbccfeec4d487cc0d89511409021e2343b22d139d726d2e03e19d8fcddf6d7c170843960fe38de6a9f702776d
# Deterministic Sig: 3040021e36ccde3e6e9bf872b7c8651de19c9c856d82d5405cb1f58c7fd23b485faa021e169ca27c5a78203c1ce3ff658a2a748ec29407c60d654f95ce7e47c58634
# prime239v3 (explicit, uncompressed public point)
# Random Sig: 3040021e12b9a452f87270cb598488663dc762fa8dbdc8cc30e206711eec55a9b7b5021e34a4420214b7c0dbd4c723131563cdf3a34314f900f2595e6f12705207ed
# Deterministic Sig: 3040021e29e42b13879bbacd00b82fc6f8eda7248d26ed8e7fc2db38473855c5e73f021e44410818a3b1d34012a58df21d96cf37c9387229944be9b7889b81e0a8bc
# prime256v1 (explicit, uncompressed public point)
# Random Sig: 3044022010bfeb4cae689ae9797755eb57fdb91b911bf406e08f689ddb2d03024888fca5022048ab0ebbf570a2ee74e2924913b925aaee0e0be13848417f89ac74a6014c8c70
# Deterministic Sig: 304602210089fafb19c3c0f350d6037ed01a3990ca86fb2f74c59f16b89a610984e316ee5c022100cf4c46865dc0564c15d3f8fd31db2ad02c2a551ca720f54754dfb75848a82ee0
# secp112r1 (explicit, uncompressed public point)
# secp112r2 (explicit, uncompressed public point)
# secp128r1 (explicit, uncompressed public point)
# secp128r2 (explicit, uncompressed public point)
# secp160k1 (explicit, uncompressed public point)
# Random Sig: 302d021500a5e0a9dda3a71efdd0d058a9597b7644fd2408b60214348bf60f562efc0f4f6f29a33ebef1c5cbea5ebc
# Deterministic Sig: 302d02141f38181d10e52d570fa3aaf021bdf6a12c18c5f6021500f55e3d63446f9bfd544865b767e078dd9e14e119
# secp160r1 (explicit, uncompressed public point)
# Random Sig: 302d021423be3d7b922a65ea80884a153ede60821ecc2667021500ff3e5e8705a057c6bb44a6faa7a94d4f56d5ee96
# Deterministic Sig: 302e0215009d1529324739d9884677bd5246ade5170d67c25802150080048ff1c4e900caa7dae55083f6b8a2abdd2c7a
# secp160r2 (explicit, uncompressed public point)
# Random Sig: 302d021500ea3589462d25b29da1303d26840c7c5411034fec021439f3bed36df7ca533ccf89d97404d4d47fff7468
# Deterministic Sig: 302c02142a8e6a2da6f9749052369cc5e717f199eb231cba021459d1553f5ced71bbea0e9290ade9e59770141137
# secp192k1 (explicit, uncompressed public point)
# Random Sig: 3036021900eb3e2a65bcba374495649a68b798114ee47e01cd5412cd51021900f6212108ac7c76c2f1e61f5e58b7a80310f024662cfeb3cb
# Deterministic Sig: 3035021900d0c9b0d5660dd7effdbee94a9468d93ec6d0efd401ac80a9021828e5b20e070949bdf5323b4651b42491b19ac7b9b55ca59f
# secp224k1 (explicit, uncompressed public point)
# Random Sig: 303c021c55b43949482dbc6e5fc224803548b74b843a032127deca5bf354ba91021c7ec07130b4811b5e3ed64c5fe48de0d47c2919f285f772064e124e74
# Deterministic Sig: 303c021c72a8925077b258cf54dd8c6bc8d6640ce99ab1d640eff33243a12d35021c226e72d27df8733023358b4f1b38091c25ced8cbd52465bfb2201eed
# secp224r1 (explicit, uncompressed public point)
# Random Sig: 303d021c3bdb45ecf8b36efbcb10b9745032803fede67abd87ffe54b31755938021d0099e7ca67fc0ef88e141a4a782a1a1cff40d7c0a718b6cf2c1884779f
# Deterministic Sig: 303c021c6778c3f71424ae725fa2050c51f15b494d5ff47a2ee46c61ab1a2c6f021c49e06a5983e79fe19f5f32beb564799633ebedaa5a2082a8c11440aa
# secp256k1 (explicit, uncompressed public point)
# Random Sig: 3045022006ae7f773fa7ab73ca7ae8c73fd5110a5266b13ee1453347a7eaa347c6697c8b022100ffc17b456ea59f84228c0753e2d71e6dcf9cf73e04e0a32f95172c9284278d51
# Deterministic Sig: 3045022100fcd4b3fc30baf1032696bc37846d0440f9df899a8a6b5c407f2d2962c9ceddee02200ae51099b81546f2617eed0f4412b9e0aff9d4f0f2b9b71e663b7abbb70ac411
# secp384r1 (explicit, uncompressed public point)
# Random Sig: 3065023041007e5b9257dbb82724a03230e06793d1e55df1b0c5710451937ebb2ba4b22299207933f9f0499ee5ff0b7755aa24af02310082e0beda21a65e9850e55a78b8f750861c0d6f59785b9e363f8681bdf5017190b48d2158f8f4c09fbee51eb81f810afe
# Deterministic Sig: 306402302cd129a4095adde8031aed426503878458edf6e8152b28558836cec625259d49076f5d36f0c5b461eed4a04d3190b7b70230472b55182f729ea6f0917eaf2cf5243314d25e3d89ab4612259872c59f7b15684c246d0c447a7f7ae03918e621230876
# secp521r1 (explicit, uncompressed public point)
# Random Sig: 30818802420103c32c749e525beeb4b96f8a518e2e11cdfc56ab8b0ad5381047449d7cfe9b12798e0ab2b928be51bab244a30f6af1bef8536b00261e1a47f7047b5e1b89b1dfc5024201019948a43a98005fa1efa3372a5ba50d52d9693d141e4bd7d35523941c56aac14cd13fc02422252754381c55ba6606ec7b954ad878e3443f3c57fb368d02428534
# Deterministic Sig: 308188024201c18a61199fafe13f0e25b3abf69203e065c3baaf00a277ecc3d70ddbe2a704e7c2cfd5528ba3c7752b678d3abdda0f59d99522c744a2971c4967c4d1f6be5f16c20242017526e1433a37fa655b89bb413a1114a550885ed3ab9aafa2fe8c2f0515e657a1ab80a35b5cf558c247fcab55f07c75a7d4b34e65a79505c4544b92aaad7aa44e2d
# sect113r1 (explicit, uncompressed public point)
# sect113r2 (explicit, uncompressed public point)
# sect131r1 (explicit, uncompressed public point)
# sect131r2 (explicit, uncompressed public point)
# sect163k1 (explicit, uncompressed public point)
# sect163r1 (explicit, uncompressed public point)
# sect163r2 (explicit, uncompressed public point)
# sect193r1 (explicit, uncompressed public point)
# sect193r2 (explicit, uncompressed public point)
# sect233k1 (explicit, uncompressed public point)
# sect233r1 (explicit, uncompressed public point)
# sect239k1 (explicit, uncompressed public point)
# sect283k1 (explicit, uncompressed public point)
# sect283r1 (explicit, uncompressed public point)
# sect409k1 (explicit, uncompressed public point)
# sect409r1 (explicit, uncompressed public point)
# sect571k1 (explicit, uncompressed public point)
# sect571r1 (explicit, uncompressed public point)
# wap-wsg-idm-ecid-wtls1 (explicit, uncompressed public point)
# wap-wsg-idm-ecid-wtls10 (explicit, uncompressed public point)
# wap-wsg-idm-ecid-wtls11 (explicit, uncompressed public point)
# wap-wsg-idm-ecid-wtls12 (explicit, uncompressed public point)
# Random Sig: 303d021d00c1f361cc3436144ef734cf1066173106883e74aa0c096ff9f4311f99021c65f32403650faf0e4f3ab61db7c449f49523d355e9bf9011758c848a
# Deterministic Sig: 303d021c259b904774f6fb0e9aaf179572bb62d3e6fb538c2ff897a8d05c8105021d008baec45850c8e5ff997c152db6d81e086250c4c088555ce4beb2fada
# wap-wsg-idm-ecid-wtls3 (explicit, uncompressed public point)
# wap-wsg-idm-ecid-wtls4 (explicit, uncompressed public point)
# wap-wsg-idm-ecid-wtls5 (explicit, uncompressed public point)
# wap-wsg-idm-ecid-wtls6 (explicit, uncompressed public point)
# wap-wsg-idm-ecid-wtls7 (explicit, uncompressed public point)
# Random Sig: 302d021500bc86cee5b65ae12c98eadbe1161035a4bd7a92a8021441957c01bb983abc4dd0820b56c38a96ad22fbd9
# Deterministic Sig: 302e02150096602d814757ee4a43bd1d2a83c19bcbb9239604021500aaa9fe106c19b2e7a10b75ee625e2759d65bc90c
# wap-wsg-idm-ecid-wtls8 (explicit, uncompressed public point)
# wap-wsg-idm-ecid-wtls9 (explicit, uncompressed public point)
# Random Sig: 302c02141ee996d1de1fd7e76f3f94771d61b7f99c77083c021414fe5f7f12a61a082e97fb682dd49d5b92ca8dfe
# Deterministic Sig: 302e021500e8145bf03604b27d661b0f6509aa60ce172b365102150084601c98c515668157fe93c315f7839986ae28ba
# brainpoolP160r1 (explicit, hybrid public point)
# Random Sig: 302c02144e97b07d9711bda39c37736450f79aaef64551d30214557887566bd0dafb07fe16014f81df74c711a305
# Deterministic Sig: 302d0214767ee1fdfc9dafd002db7d0cae4db0218bb1d4a7021500ac970f033a281c6d77ab8b4786d806a02e2a1678
# brainpoolP160t1 (explicit, hybrid public point)
# Random Sig: 302d02150082c1b1f353efee162d1c0ca7af6599e3cfef78b6021439f658d1ee900c3a341e12c48878b3524eb92f23
# Deterministic Sig: 302e02150092c85fe068b0721de6fe2c6f30d3d7cbc24992670215008d0314e6ca5adb800934c2c126f7a30d5d0511af
# brainpoolP192r1 (explicit, hybrid public point)
# Random Sig: 3035021864859e0a3fc13ab846b9534b52c33c258602bf5fd14c66fe0219009825bc27f4d06ac51fd9cc9a5fa728186e3965be706e7780
# Deterministic Sig: 3035021900a99baef0bc48a4535d4ada75989d7ecf332fbdfe2d0a3fe602186bbd6bc52079a149e6ba95fbf461604543c1fc70d66b20a1
# brainpoolP192t1 (explicit, hybrid public point)
# Random Sig: 303602190092b2ac0bdcbccb2607b0211e48ebed9317ee0f777ca3d57d0219009c799e6094c78aef8e1c1b2dd6a1922a33aa53ef5aa7e359
# Deterministic Sig: 3036021900be3c72952c932c090e0044872141f57ed56b2751c039a3070219008e840fef94db312d2ddacfa869c18f6caad973adb3fab202
# brainpoolP224r1 (explicit, hybrid public point)
# Random Sig: 303d021c187d4577575ecdcc98f7af2e7e47f86be8f2543c73da4900289f5268021d009e7f3b3a53605200cb88def7e8f8df8f5a36bbdc587521b0ad68e76e
# Deterministic Sig: 303e021d00ba9f762449beb8a5a8335e3e60d6913f0dd2c42743460c4a177470ee021d00a860aec6a767b7d02941afe9654aa3667be00203012e8f67345ccd09
# brainpoolP224t1 (explicit, hybrid public point)
# Random Sig: 303e021d00b113a1eef4ca17af641827dd152a6eaac8d2842b01292ff9e1f9a5c9021d00926959d0d36efa4a386c2aa7f3946b1931f19cc77bd131380302f41e
# Deterministic Sig: 303d021c71e653569df614c13421b39c4233cec60f13993b5eb4361ce2f09ee0021d00c70b4549af22d2a8c1f2937789ac46827a642df77ffaef2f91ec4566
# brainpoolP256r1 (explicit, hybrid public point)
# Random Sig: 3045022043abd8da9b6d11ba747e22b92cfbad2de3153eb1360e10066205a0a1545f6226022100883079e26e80a60efee6e99b309e4cfe627ac425fe414cae48ed0e0e3ecf60fd
# Deterministic Sig: 3045022100a214d096d80c24572e4d423321e8404aa4362f3f17b0c64fbaa9eddd70ab3e7c022038f7cd3da889205857825444b42ac53475e46bcf3eea118ea1f3c757227c6906
# brainpoolP256t1 (explicit, hybrid public point)
# Random Sig: 30440220431bb9b994d57532bf3a7cd9225e88b3d6c329f7f80e6db3885fe0b813810d3202202cca48d6dc57045ed757d3f8e579c0872269eba4c81f94ede63616f383adbef3
# Deterministic Sig: 3044022065f76cb747bbf8088e5a2055eab2969ccd6a9e3ee64f646551d45a10a7b27156022004a35edb4ae69337efae91c6b22d33acc01ab65af2d30676f3961a0c1e02d875
# brainpoolP320r1 (explicit, hybrid public point)
# Random Sig: 3055022900bba964511223f89a95669a6e14f47df4417215c8681f0afcdeac766759b48a304e123f7e667db31f022873b27010d0a43e74fe43ff96da790013274381c55c34e353c8f4889cf56f3f253167475aad0fa145
# Deterministic Sig: 30540228207ccd6714f1f3d15bae55e9b1ff14cc7081a548e5ea58189f7cd451cf3db465e5970ff69301e797022822066b5fa69f34b7c55cb9a71aee39b7be0906c104ac2993c49d1253a3fd17a79d27886b84038b35
# brainpoolP320t1 (explicit, hybrid public point)
# Random Sig: 30550229008dbc7cdb09d127976197689c9cd507395dbf6f3c76c346c2888155bbd383bc8a4124963ba5fbec8b022828fc9eece81f96a456c715d07b0404f35dc8d7c4c313750b84c69430e6f31fe669ea6e35fc325c9c
# Deterministic Sig: 30550228051903130e751c55baafd04ffa47badbe3ae20dc306f931fc4def67a925721f377e2ec540bc37d64022900af17be409b1099a00b6bfe63510d6136287d1f40e0d5bf7a41d6edd1e50da09068f5d430f9e3b6ca
# brainpoolP384r1 (explicit, hybrid public point)
# Random Sig: 306402300c375bf81f61edd0f70884eeae7e831ce79d429c63a29e5f0c3298e19a2a2ba4995442ecf8af60dc94f94fc4fb3db10d02302bb6641a7f4183e9bf0c5c979ebf4a89fa8b546d6b152dd3d6daa9cf1953841b48788a84c8742d09905f8590f01a39de
# Deterministic Sig: 306402306f974f555db0804954b0dc24b57245dc93f5080c740fa153b67a60a7e790c60881a38606d5acbf11699680c2e9b9f6b8023023af3e9cc62a1321e7e8613da55afd73c3a945aa5739ac5a3e6c9a7a282bac83b25ed7143226371a775f85f785e2370e
# brainpoolP384t1 (explicit, hybrid public point)
# Random Sig: 30640230403c5c87c4052db3f88d6c898b2b8061115daf9b6200d08de18345d5883134e834f7b410e6836581c1b5d619ee77c321023019e436bdac9c69acc77f3ca47aeb39341a3eea1a8389dcc8e94d043f7031fa94dab5bc8680fcb9d1689f5511b0a0452c
# Deterministic Sig: 306402303306dc59d06915e14dcbede50b190cdd4e0f967b118acd87907e11f0cdf899ab754a00eb7359ea0eef63484f42c0a87602305129f9943d6b13fe5e698855f87dc7d0efa718beb96727c0f80b6bbeee700a9c2f82329254c8e7037e61cfc0b409ac6a
# brainpoolP512r1 (explicit, hybrid public point)
# Random Sig: 308184024028f487476e2ba6450d09203c1e0383fa8df9413dd3030887a8ddd9c3c06e1a9282ce79ffa2956f903574410ccbc27e85d5e3dd76457a447e422ccc59576749700240762f8110eb752dc7315d0ee144ea0571acb240b9315b5b628a9a96de5dd6a24dd0b4b412c95a5c7f7a27832e23dcd40c284401aeed69c3f104fcb04d565a159c
# Deterministic Sig: 30818402406356b3bb6afdcd07c21908673854aaa5fd07daa67d054b94b8189fb42e0dfad7a901576e381492d6aa8d48c07cb587abd0f5359fdf7137fceb7cc2a30f9532d602405595d48a6fdc54b998fee7b612db253a15601804f3ce23e847cdc742a998bd956b76f8102be5448c8d6e318a0148f56f61f56b950e375c6bc1e5ceab9e2d9a2d
# brainpoolP512t1 (explicit, hybrid public point)
# Random Sig: 30818502410081e4020dfae0034f4a17be5565e4fe3d16a9a74c69b22c6cf12a5dc40e99b0f117cbb24d8de8ecc6398bce7ec1a0330a772d074d1c193a380e85e7df9821c065024064749ba96cc338dcc0cd9a42effff41920681c45ba41d3b0a3af5c84e892e44ad8f066301b35b2088935883ee1a4422c444ae55c32db4bb8f666c7fa3aedc8fd
# Deterministic Sig: 308184024025179f8ff02892dd2393c1a0b835a4d976ae8b663a7590be523748277b04a006b5ff8ac569e3dfa2ea2ca5ba4053118820ffd5be1b6293d54f560be93b77dbf202403bda896ad4f6bf9c82dc11101e35854cb9804371e422f61b1700cd5efb0492a16f5fa5335832d33b086c58d22e4df475ad1ccb2fa194b586928b3ad8a9359db5
# c2pnb163v1 (explicit, hybrid public point)
# c2pnb163v2 (explicit, hybrid public point)
# c2pnb163v3 (explicit, hybrid public point)
# c2pnb176v1 (explicit, hybrid public point)
# c2pnb208w1 (explicit, hybrid public point)
# c2pnb272w1 (explicit, hybrid public point)
# c2pnb304w1 (explicit, hybrid public point)
# c2pnb368w1 (explicit, hybrid public point)
# c2tnb191v1 (explicit, hybrid public point)
# c2tnb191v2 (explicit, hybrid public point)
# c2tnb191v3 (explicit, hybrid public point)
# c2tnb239v1 (explicit, hybrid public point)
# c2tnb239v2 (explicit, hybrid public point)
# c2tnb239v3 (explicit, hybrid public point)
# c2tnb359v1 (explicit, hybrid public point)
# c2tnb431r1 (explicit, hybrid public point)
# prime192v1 (explicit, hybrid public point)
# Random Sig: 3035021900cd828aa415f877d97889e776b74d8564650efad6693672c502184ebf5a7942b083bfed9cb33d41a27f9ddfe52df3bcf614dd
# Deterministic Sig: 3036021900c02ad3b25fdb66f005cde60941d289013c6c60cd703d669d021900dfdf6874f6b05c4cc92756702efa433626f1cd8e71de5803
# prime192v2 (explicit, hybrid public point)
# Random Sig: 303402184cc9fd9aa5d87579859cc0f2e68f74670064a4439a593ec802182ef31fe21cf47e82fd1b3d800d595246a3366893c72be7b5
# Deterministic Sig: 3035021900fc4d7f5a8d2271bcd05a1857b7c48381dac0b6142d4ed8860218073fd05f862a7f67611b83a192af51bd30c58fcb184fcdb8
# prime192v3 (explicit, hybrid public point)
# Random Sig: 303502184460d3f04face2e435f2064a3c35dee37a52ff83c38169be021900b9ff2e95b134fb126b9f3d48b5a050da9ef99d6bf1d534f6
# Deterministic Sig: 3036021900bc90a86b7e02309a25bfebb5292bbf30d54cbc045a30183f02190096fa65c491c8a9707419995377fb7f2b4f00f036baa1b292
# prime239v1 (explicit, hybrid public point)
# Random Sig: 3040021e5373e29a424e2013e421783a0b88fb6905e5ca77dda8ef0ce8c567d198b3021e55dc9d182c8eb927dbfdec23beebc0ff329f96a5ab4f6bb0de9f27bb8f99
# Deterministic Sig: 3040021e620256f001d8c0909dcc6a0d858b871ca4131103e90e25ce81deaec9513b021e2485070131b78dba8518ef1630f5cfb6957dbfd0b428e687caffbf287166
# prime239v2 (explicit, hybrid public point)
# Random Sig: 3040021e549bca22dfdef4fae2c12daa13fd204d480a67da2ec17e7f166e511afef4021e4d0564bbe0ef10547c3216edb81a085ead57e36290c55ca313c5efecb9d0
# Deterministic Sig: 3040021e33bd8805e209328e3389b79af3121b3c7ca91853e77b38ae83e951cd72eb021e3181040ba518cef44dec542d5ac9cc1f1871da655cfd8b27c00a8e902b43
# prime239v3 (explicit, hybrid public point)
# Random Sig: 3040021e22a3c4efa3b1af94fb4d39ae202e58efc6cff2327a0d6ff7c66db5e7b4f6021e3d43a7b7e83e3f09e93b715d4d5ede3eaf043f9ab572435bc3fd347f96fe
# Deterministic Sig: 3040021e18e7625fc598bc563974492e222eca050f7b7b736448f5b047974af22879021e330578b9b938824b577dc637cdca2b3f5ab0b532db74041085170ed4b79b
# prime256v1 (explicit, hybrid public point)
# Random Sig: 304502202d6c55d34d4fbe8325b29bc8b5b08d7acf5b493a6e5b662e0353fa6f5bdfce86022100b0eebc7ed493a2bf5d5f00327714bf9e3c8308cadc89cf5d691ea84f4f9500f0
# Deterministic Sig: 304502204b5f1e3ed32bd70eec616969dcacfae2c550697627daa6d301e13def98fcbda1022100a39053fc12fd3402c1533c0a961b749f60d82ad9159271437c8c434b4f194022
# secp112r1 (explicit, hybrid public point)
# secp112r2 (explicit, hybrid public point)
# secp128r1 (explicit, hybrid public point)
# secp128r2 (explicit, hybrid public point)
# secp160k1 (explicit, hybrid public point)
# Random Sig: 302e021500b2fba9bae48df30ffcf54e61cf5e6ab7077b031f021500d503f5c28bab76bb75adfd70dbfd1ab39f71728c
# Deterministic Sig: 302d021428b0ee12fe1edc062288f2acb7a8a43baa565cdd021500c6866765482f380be3ebe4b78d654c4d58cf4288
# secp160r1 (explicit, hybrid public point)
# Random Sig: 302e021500b346cd9b1f3f58074fd7426d89e9de2ab41e7f1e021500f5fd9ac0eca2edb5d5b8ab33b59a538e1d4e8867
# Deterministic Sig: 302d021500a8699a104edc6bdec9294e54eab3cafc29031e1e0214647c3d212a44539ea8545c8b225c41fa14bebeeb
# secp160r2 (explicit, hybrid public point)
# Random Sig: 302e021500ba9f58a530900d468d7e27af3a97eb67be2dd7d1021500c384be302ef8603f47211edf25ba39f530d77322
# Deterministic Sig: 302c0214319685953680a1d010b1f73d8c4694460e5e772902141b0d9f9e638cc7d945e1b1eefedc1c1e085f10bd
# secp192k1 (explicit, hybrid public point)
# Random Sig: 3036021900a26c04a72cc0bb5c8a2c31de71839ca7fe307305865d7a18021900f7df53f8d294d774d2397a428227bf692854ad12d552d9f2
# Deterministic Sig: 3035021801a531fd41a306f46d6e94b50e555c8fac996e6090db0543021900da2618f20a24962b45e3f56869818c5c1495e272382d2989
# secp224k1 (explicit, hybrid public point)
# Random Sig: 303c021c1268bc1f6ce8b2f7a5d4ffdb36c8432b438b9b3bde534a7231a9632b021c39049aebed394c3c51e974fe8fd315cd0523ff694e7267b5fb79069a
# Deterministic Sig: 303d021c484e920d3685d0ffb2c9f8bebcb9a88478137e1fbf335517009f5f84021d00b8ce6ccc16bb88c4aabd7a61f6c6c877cf99816271e999d1ebe991d8
# secp224r1 (explicit, hybrid public point)
# Random Sig: 303d021d00868d40e5ceb11e7e13a1f4cb3ad008e9476e9395a48561c51109daa5021c06411aae187363b8c99802dc74216730a373d5281f65e0a079ff3d42
# Deterministic Sig: 303e021d00a9b134234164056cb1551b573c39f6e1db724fe0fafbf41568045247021d00979a465c59b0e0984bfc2ea50a163370012b4768ac4b8d733cb4ccce
# secp256k1 (explicit, hybrid public point)
# Random Sig: 3044022040340195469d9858323014d40484f5f14bf96f45bd636d842eb24e210aafb98c022006d9ca7ff93dc9de591a3663f2ee42fcfcdcbb735b5501935d001bd0cc939027
# Deterministic Sig: 3044022044c9421ff2c69244fdfffef62ef42ebb2c16ed84e633f57311d7d56c223c594102205f69be4dcd77a847d6b4945d57e2ebcd328e58cd9817181e0c2f682d5c1aadf2
# secp384r1 (explicit, hybrid public point)
# Random Sig: 3066023100ffa5eab8361a58eb5f5aee3d6b8b4b8c0817b1ee3cce320f6ec9d1762dd6fb75a03de881ace0801932223e120d81fa7a023100cab1474fc96573b6eaf108205a9e3bdb0768611fd4a530e5d5d73cbaaa37172d2ae16c2fb96e477417eec1f008d03dcc
# Deterministic Sig: 306402305a84ad96fe8deccfb99ed81eaa60533d2d0a86971ddf15d73142f72377835465f86d0d3612d6b0254f6c221ae7a011b20230641fa8f8df2e98f74eb2476e1d7e4821fd1c712e6fe7b4fb1bb1d25da9c3222f0917636a7e31165ac132cc8eea23fd29
# secp521r1 (explicit, hybrid public point)
# Random Sig: 308188024201b6afe43f0ca05e96b1559e9b8b93234322c600cd59c3750fe5b75fd92560d9dd35c27bdfe6c070d10f5cd39758f1fdaa758770ae1d470347b8628ba5979116fc2c024201ad6450b3c41abe3691f2f90a0a517ba4a34aeaad6b4e1420ee542f6fc8b9081c9fa9a067080d2c55896dec1fd3761e92563c4b931483e7f0423a20465b05762056
# Deterministic Sig: 3081880242008003dacd3e8f79d781948afb46f54dd48cacca04fc33097f226cdfdb3053f3063165d368c482515ae9ca794913f30891008c67510c2aa9241d56833fe06bf020c8024201bd625cb3e713acd624a501106a1d0617b84039827deec711f1855a3bfca0d04135e4aa46c2c2ad06b7fa923e9b58d21dbf1959d0f7415c2b99a0bcb9150b5d243c
# sect113r1 (explicit, hybrid public point)
# sect113r2 (explicit, hybrid public point)
# sect131r1 (explicit, hybrid public point)
# sect131r2 (explicit, hybrid public point)
# sect163k1 (explicit, hybrid public point)
# sect163r1 (explicit, hybrid public point)
# sect163r2 (explicit, hybrid public point)
# sect193r1 (explicit, hybrid public point)
# sect193r2 (explicit, hybrid public point)
# sect233k1 (explicit, hybrid public point)
# sect233r1 (explicit, hybrid public point)
# sect239k1 (explicit, hybrid public point)
# sect283k1 (explicit, hybrid public point)
# sect283r1 (explicit, hybrid public point)
# sect409k1 (explicit, hybrid public point)
# sect409r1 (explicit, hybrid public point)
# sect571k1 (explicit, hybrid public point)
# sect571r1 (explicit, hybrid public point)
# wap-wsg-idm-ecid-wtls1 (explicit, hybrid public point)
# wap-wsg-idm-ecid-wtls10 (explicit, hybrid public point)
# wap-wsg-idm-ecid-wtls11 (explicit, hybrid public point)
# wap-wsg-idm-ecid-wtls12 (explicit, hybrid public point)
# Random Sig: 303d021c7942283ae9b19ee38005eeefa25bc8ccd418519ece7d928ecd1337bd021d00f8fe443f04fc95f23ebd39b9844a04483c27ae5dc94c9ec551d2c6d9
# Deterministic Sig: 303c021c6e89a29972564ac414f3c2cde01c290b57378b7818173eece6af8f17021c5329ca74c32049cbb5d0341a85d5554d3803bf46786667ddf341034c
# wap-wsg-idm-ecid-wtls3 (explicit, hybrid public point)
# wap-wsg-idm-ecid-wtls4 (explicit, hybrid public point)
# wap-wsg-idm-ecid-wtls5 (explicit, hybrid public point)
# wap-wsg-idm-ecid-wtls6 (explicit, hybrid public point)
# wap-wsg-idm-ecid-wtls7 (explicit, hybrid public point)
# Random Sig: 302d0214654f55f80ecf8a06ba76f1772ad1816b632a835c021500f4f7a4a14d82f58b0ebed96ce5fbf61f3da2f16f
# Deterministic Sig: 302e021500ac65678c874d7c56237816a081e248779dabc4a4021500c94425489af7e0ef8a38fda3294328479ad89e40
# wap-wsg-idm-ecid-wtls8 (explicit, hybrid public point)
# wap-wsg-idm-ecid-wtls9 (explicit, hybrid public point)
# Random Sig: 302d021500df9f2c63f8162925bd6ae6845cad9e0fdce42233021474d7570cd52544cdabec2a6ba0b9caff623fdc53
# Deterministic Sig: 302e021500dae85854500f8b7be329cc8df3d8579fc678beac021500a7629c9dabd15202a470f0b15f00c14d7fe4976e
# {
#   'c2pnb163v1 (explicit, compressed public point)' => 'Crypt::Perl::X::ECDSA::CharacteristicTwoUnsupported',
#   'c2pnb163v1 (explicit, hybrid public point)' => 'Crypt::Perl::X::ECDSA::CharacteristicTwoUnsupported',
#   'c2pnb163v1 (explicit, uncompressed public point)' => 'Crypt::Perl::X::ECDSA::CharacteristicTwoUnsupported',
#   'c2pnb163v1 (named_curve, compressed public point)' => 'Crypt::Perl::X::ECDSA::NoCurveForOID',
#   'c2pnb163v1 (named_curve, hybrid public point)' => 'Crypt::Perl::X::ECDSA::NoCurveForOID',
#   'c2pnb163v1 (named_curve, uncompressed public point)' => 'Crypt::Perl::X::ECDSA::NoCurveForOID',
#   'c2pnb163v2 (explicit, compressed public point)' => 'Crypt::Perl::X::ECDSA::CharacteristicTwoUnsupported',
#   'c2pnb163v2 (explicit, hybrid public point)' => 'Crypt::Perl::X::ECDSA::CharacteristicTwoUnsupported',
#   'c2pnb163v2 (explicit, uncompressed public point)' => 'Crypt::Perl::X::ECDSA::CharacteristicTwoUnsupported',
#   'c2pnb163v2 (named_curve, compressed public point)' => 'Crypt::Perl::X::ECDSA::NoCurveForOID',
#   'c2pnb163v2 (named_curve, hybrid public point)' => 'Crypt::Perl::X::ECDSA::NoCurveForOID',
#   'c2pnb163v2 (named_curve, uncompressed public point)' => 'Crypt::Perl::X::ECDSA::NoCurveForOID',
#   'c2pnb163v3 (explicit, compressed public point)' => 'Crypt::Perl::X::ECDSA::CharacteristicTwoUnsupported',
#   'c2pnb163v3 (explicit, hybrid public point)' => 'Crypt::Perl::X::ECDSA::CharacteristicTwoUnsupported',
#   'c2pnb163v3 (explicit, uncompressed public point)' => 'Crypt::Perl::X::ECDSA::CharacteristicTwoUnsupported',
#   'c2pnb163v3 (named_curve, compressed public point)' => 'Crypt::Perl::X::ECDSA::NoCurveForOID',
#   'c2pnb163v3 (named_curve, hybrid public point)' => 'Crypt::Perl::X::ECDSA::NoCurveForOID',
#   'c2pnb163v3 (named_curve, uncompressed public point)' => 'Crypt::Perl::X::ECDSA::NoCurveForOID',
#   'c2pnb176v1 (explicit, compressed public point)' => 'Crypt::Perl::X::ECDSA::CharacteristicTwoUnsupported',
#   'c2pnb176v1 (explicit, hybrid public point)' => 'Crypt::Perl::X::ECDSA::CharacteristicTwoUnsupported',
#   'c2pnb176v1 (explicit, uncompressed public point)' => 'Crypt::Perl::X::ECDSA::CharacteristicTwoUnsupported',
#   'c2pnb176v1 (named_curve, compressed public point)' => 'Crypt::Perl::X::ECDSA::NoCurveForOID',
#   'c2pnb176v1 (named_curve, hybrid public point)' => 'Crypt::Perl::X::ECDSA::NoCurveForOID',
#   'c2pnb176v1 (named_curve, uncompressed public point)' => 'Crypt::Perl::X::ECDSA::NoCurveForOID',
#   'c2pnb208w1 (explicit, compressed public point)' => 'Crypt::Perl::X::ECDSA::CharacteristicTwoUnsupported',
#   'c2pnb208w1 (explicit, hybrid public point)' => 'Crypt::Perl::X::ECDSA::CharacteristicTwoUnsupported',
#   'c2pnb208w1 (explicit, uncompressed public point)' => 'Crypt::Perl::X::ECDSA::CharacteristicTwoUnsupported',
#   'c2pnb208w1 (named_curve, compressed public point)' => 'Crypt::Perl::X::ECDSA::NoCurveForOID',
#   'c2pnb208w1 (named_curve, hybrid public point)' => 'Crypt::Perl::X::ECDSA::NoCurveForOID',
#   'c2pnb208w1 (named_curve, uncompressed public point)' => 'Crypt::Perl::X::ECDSA::NoCurveForOID',
#   'c2pnb272w1 (explicit, compressed public point)' => 'Crypt::Perl::X::ECDSA::CharacteristicTwoUnsupported',
#   'c2pnb272w1 (explicit, hybrid public point)' => 'Crypt::Perl::X::ECDSA::CharacteristicTwoUnsupported',
#   'c2pnb272w1 (explicit, uncompressed public point)' => 'Crypt::Perl::X::ECDSA::CharacteristicTwoUnsupported',
#   'c2pnb272w1 (named_curve, compressed public point)' => 'Crypt::Perl::X::ECDSA::NoCurveForOID',
#   'c2pnb272w1 (named_curve, hybrid public point)' => 'Crypt::Perl::X::ECDSA::NoCurveForOID',
#   'c2pnb272w1 (named_curve, uncompressed public point)' => 'Crypt::Perl::X::ECDSA::NoCurveForOID',
#   'c2pnb304w1 (explicit, compressed public point)' => 'Crypt::Perl::X::ECDSA::CharacteristicTwoUnsupported',
#   'c2pnb304w1 (explicit, hybrid public point)' => 'Crypt::Perl::X::ECDSA::CharacteristicTwoUnsupported',
#   'c2pnb304w1 (explicit, uncompressed public point)' => 'Crypt::Perl::X::ECDSA::CharacteristicTwoUnsupported',
#   'c2pnb304w1 (named_curve, compressed public point)' => 'Crypt::Perl::X::ECDSA::NoCurveForOID',
#   'c2pnb304w1 (named_curve, hybrid public point)' => 'Crypt::Perl::X::ECDSA::NoCurveForOID',
#   'c2pnb304w1 (named_curve, uncompressed public point)' => 'Crypt::Perl::X::ECDSA::NoCurveForOID',
#   'c2pnb368w1 (explicit, compressed public point)' => 'Crypt::Perl::X::ECDSA::CharacteristicTwoUnsupported',
#   'c2pnb368w1 (explicit, hybrid public point)' => 'Crypt::Perl::X::ECDSA::CharacteristicTwoUnsupported',
#   'c2pnb368w1 (explicit, uncompressed public point)' => 'Crypt::Perl::X::ECDSA::CharacteristicTwoUnsupported',
#   'c2pnb368w1 (named_curve, compressed public point)' => 'Crypt::Perl::X::ECDSA::NoCurveForOID',
#   'c2pnb368w1 (named_curve, hybrid public point)' => 'Crypt::Perl::X::ECDSA::NoCurveForOID',
#   'c2pnb368w1 (named_curve, uncompressed public point)' => 'Crypt::Perl::X::ECDSA::NoCurveForOID',
#   'c2tnb191v1 (explicit, compressed public point)' => 'Crypt::Perl::X::ECDSA::CharacteristicTwoUnsupported',
#   'c2tnb191v1 (explicit, hybrid public point)' => 'Crypt::Perl::X::ECDSA::CharacteristicTwoUnsupported',
#   'c2tnb191v1 (explicit, uncompressed public point)' => 'Crypt::Perl::X::ECDSA::CharacteristicTwoUnsupported',
#   'c2tnb191v1 (named_curve, compressed public point)' => 'Crypt::Perl::X::ECDSA::NoCurveForOID',
#   'c2tnb191v1 (named_curve, hybrid public point)' => 'Crypt::Perl::X::ECDSA::NoCurveForOID',
#   'c2tnb191v1 (named_curve, uncompressed public point)' => 'Crypt::Perl::X::ECDSA::NoCurveForOID',
#   'c2tnb191v2 (explicit, compressed public point)' => 'Crypt::Perl::X::ECDSA::CharacteristicTwoUnsupported',
#   'c2tnb191v2 (explicit, hybrid public point)' => 'Crypt::Perl::X::ECDSA::CharacteristicTwoUnsupported',
#   'c2tnb191v2 (explicit, uncompressed public point)' => 'Crypt::Perl::X::ECDSA::CharacteristicTwoUnsupported',
#   'c2tnb191v2 (named_curve, compressed public point)' => 'Crypt::Perl::X::ECDSA::NoCurveForOID',
#   'c2tnb191v2 (named_curve, hybrid public point)' => 'Crypt::Perl::X::ECDSA::NoCurveForOID',
#   'c2tnb191v2 (named_curve, uncompressed public point)' => 'Crypt::Perl::X::ECDSA::NoCurveForOID',
#   'c2tnb191v3 (explicit, compressed public point)' => 'Crypt::Perl::X::ECDSA::CharacteristicTwoUnsupported',
#   'c2tnb191v3 (explicit, hybrid public point)' => 'Crypt::Perl::X::ECDSA::CharacteristicTwoUnsupported',
#   'c2tnb191v3 (explicit, uncompressed public point)' => 'Crypt::Perl::X::ECDSA::CharacteristicTwoUnsupported',
#   'c2tnb191v3 (named_curve, compressed public point)' => 'Crypt::Perl::X::ECDSA::NoCurveForOID',
#   'c2tnb191v3 (named_curve, hybrid public point)' => 'Crypt::Perl::X::ECDSA::NoCurveForOID',
#   'c2tnb191v3 (named_curve, uncompressed public point)' => 'Crypt::Perl::X::ECDSA::NoCurveForOID',
#   'c2tnb239v1 (explicit, compressed public point)' => 'Crypt::Perl::X::ECDSA::CharacteristicTwoUnsupported',
#   'c2tnb239v1 (explicit, hybrid public point)' => 'Crypt::Perl::X::ECDSA::CharacteristicTwoUnsupported',
#   'c2tnb239v1 (explicit, uncompressed public point)' => 'Crypt::Perl::X::ECDSA::CharacteristicTwoUnsupported',
#   'c2tnb239v1 (named_curve, compressed public point)' => 'Crypt::Perl::X::ECDSA::NoCurveForOID',
#   'c2tnb239v1 (named_curve, hybrid public point)' => 'Crypt::Perl::X::ECDSA::NoCurveForOID',
#   'c2tnb239v1 (named_curve, uncompressed public point)' => 'Crypt::Perl::X::ECDSA::NoCurveForOID',
#   'c2tnb239v2 (explicit, compressed public point)' => 'Crypt::Perl::X::ECDSA::CharacteristicTwoUnsupported',
#   'c2tnb239v2 (explicit, hybrid public point)' => 'Crypt::Perl::X::ECDSA::CharacteristicTwoUnsupported',
#   'c2tnb239v2 (explicit, uncompressed public point)' => 'Crypt::Perl::X::ECDSA::CharacteristicTwoUnsupported',
#   'c2tnb239v2 (named_curve, compressed public point)' => 'Crypt::Perl::X::ECDSA::NoCurveForOID',
#   'c2tnb239v2 (named_curve, hybrid public point)' => 'Crypt::Perl::X::ECDSA::NoCurveForOID',
#   'c2tnb239v2 (named_curve, uncompressed public point)' => 'Crypt::Perl::X::ECDSA::NoCurveForOID',
#   'c2tnb239v3 (explicit, compressed public point)' => 'Crypt::Perl::X::ECDSA::CharacteristicTwoUnsupported',
#   'c2tnb239v3 (explicit, hybrid public point)' => 'Crypt::Perl::X::ECDSA::CharacteristicTwoUnsupported',
#   'c2tnb239v3 (explicit, uncompressed public point)' => 'Crypt::Perl::X::ECDSA::CharacteristicTwoUnsupported',
#   'c2tnb239v3 (named_curve, compressed public point)' => 'Crypt::Perl::X::ECDSA::NoCurveForOID',
#   'c2tnb239v3 (named_curve, hybrid public point)' => 'Crypt::Perl::X::ECDSA::NoCurveForOID',
#   'c2tnb239v3 (named_curve, uncompressed public point)' => 'Crypt::Perl::X::ECDSA::NoCurveForOID',
#   'c2tnb359v1 (explicit, compressed public point)' => 'Crypt::Perl::X::ECDSA::CharacteristicTwoUnsupported',
#   'c2tnb359v1 (explicit, hybrid public point)' => 'Crypt::Perl::X::ECDSA::CharacteristicTwoUnsupported',
#   'c2tnb359v1 (explicit, uncompressed public point)' => 'Crypt::Perl::X::ECDSA::CharacteristicTwoUnsupported',
#   'c2tnb359v1 (named_curve, compressed public point)' => 'Crypt::Perl::X::ECDSA::NoCurveForOID',
#   'c2tnb359v1 (named_curve, hybrid public point)' => 'Crypt::Perl::X::ECDSA::NoCurveForOID',
#   'c2tnb359v1 (named_curve, uncompressed public point)' => 'Crypt::Perl::X::ECDSA::NoCurveForOID',
#   'c2tnb431r1 (explicit, compressed public point)' => 'Crypt::Perl::X::ECDSA::CharacteristicTwoUnsupported',
#   'c2tnb431r1 (explicit, hybrid public point)' => 'Crypt::Perl::X::ECDSA::CharacteristicTwoUnsupported',
#   'c2tnb431r1 (explicit, uncompressed public point)' => 'Crypt::Perl::X::ECDSA::CharacteristicTwoUnsupported',
#   'c2tnb431r1 (named_curve, compressed public point)' => 'Crypt::Perl::X::ECDSA::NoCurveForOID',
#   'c2tnb431r1 (named_curve, hybrid public point)' => 'Crypt::Perl::X::ECDSA::NoCurveForOID',
#   'c2tnb431r1 (named_curve, uncompressed public point)' => 'Crypt::Perl::X::ECDSA::NoCurveForOID',
#   'secp112r1 (explicit, compressed public point)' => 'Crypt::Perl::X::TooLongToSign',
#   'secp112r1 (explicit, hybrid public point)' => 'Crypt::Perl::X::TooLongToSign',
#   'secp112r1 (explicit, uncompressed public point)' => 'Crypt::Perl::X::TooLongToSign',
#   'secp112r1 (named_curve, compressed public point)' => 'Crypt::Perl::X::TooLongToSign',
#   'secp112r1 (named_curve, hybrid public point)' => 'Crypt::Perl::X::TooLongToSign',
#   'secp112r1 (named_curve, uncompressed public point)' => 'Crypt::Perl::X::TooLongToSign',
#   'secp112r2 (explicit, compressed public point)' => 'Crypt::Perl::X::TooLongToSign',
#   'secp112r2 (explicit, hybrid public point)' => 'Crypt::Perl::X::TooLongToSign',
#   'secp112r2 (explicit, uncompressed public point)' => 'Crypt::Perl::X::TooLongToSign',
#   'secp112r2 (named_curve, compressed public point)' => 'Crypt::Perl::X::TooLongToSign',
#   'secp112r2 (named_curve, hybrid public point)' => 'Crypt::Perl::X::TooLongToSign',
#   'secp112r2 (named_curve, uncompressed public point)' => 'Crypt::Perl::X::TooLongToSign',
#   'secp128r1 (explicit, compressed public point)' => 'Crypt::Perl::X::TooLongToSign',
#   'secp128r1 (explicit, hybrid public point)' => 'Crypt::Perl::X::TooLongToSign',
#   'secp128r1 (explicit, uncompressed public point)' => 'Crypt::Perl::X::TooLongToSign',
#   'secp128r1 (named_curve, compressed public point)' => 'Crypt::Perl::X::TooLongToSign',
#   'secp128r1 (named_curve, hybrid public point)' => 'Crypt::Perl::X::TooLongToSign',
#   'secp128r1 (named_curve, uncompressed public point)' => 'Crypt::Perl::X::TooLongToSign',
#   'secp128r2 (explicit, compressed public point)' => 'Crypt::Perl::X::TooLongToSign',
#   'secp128r2 (explicit, hybrid public point)' => 'Crypt::Perl::X::TooLongToSign',
#   'secp128r2 (explicit, uncompressed public point)' => 'Crypt::Perl::X::TooLongToSign',
#   'secp128r2 (named_curve, compressed public point)' => 'Crypt::Perl::X::TooLongToSign',
#   'secp128r2 (named_curve, hybrid public point)' => 'Crypt::Perl::X::TooLongToSign',
#   'secp128r2 (named_curve, uncompressed public point)' => 'Crypt::Perl::X::TooLongToSign',
#   'sect113r1 (explicit, compressed public point)' => 'Crypt::Perl::X::ECDSA::CharacteristicTwoUnsupported',
#   'sect113r1 (explicit, hybrid public point)' => 'Crypt::Perl::X::ECDSA::CharacteristicTwoUnsupported',
#   'sect113r1 (explicit, uncompressed public point)' => 'Crypt::Perl::X::ECDSA::CharacteristicTwoUnsupported',
#   'sect113r1 (named_curve, compressed public point)' => 'Crypt::Perl::X::ECDSA::NoCurveForOID',
#   'sect113r1 (named_curve, hybrid public point)' => 'Crypt::Perl::X::ECDSA::NoCurveForOID',
#   'sect113r1 (named_curve, uncompressed public point)' => 'Crypt::Perl::X::ECDSA::NoCurveForOID',
#   'sect113r2 (explicit, compressed public point)' => 'Crypt::Perl::X::ECDSA::CharacteristicTwoUnsupported',
#   'sect113r2 (explicit, hybrid public point)' => 'Crypt::Perl::X::ECDSA::CharacteristicTwoUnsupported',
#   'sect113r2 (explicit, uncompressed public point)' => 'Crypt::Perl::X::ECDSA::CharacteristicTwoUnsupported',
#   'sect113r2 (named_curve, compressed public point)' => 'Crypt::Perl::X::ECDSA::NoCurveForOID',
#   'sect113r2 (named_curve, hybrid public point)' => 'Crypt::Perl::X::ECDSA::NoCurveForOID',
#   'sect113r2 (named_curve, uncompressed public point)' => 'Crypt::Perl::X::ECDSA::NoCurveForOID',
#   'sect131r1 (explicit, compressed public point)' => 'Crypt::Perl::X::ECDSA::CharacteristicTwoUnsupported',
#   'sect131r1 (explicit, hybrid public point)' => 'Crypt::Perl::X::ECDSA::CharacteristicTwoUnsupported',
#   'sect131r1 (explicit, uncompressed public point)' => 'Crypt::Perl::X::ECDSA::CharacteristicTwoUnsupported',
#   'sect131r1 (named_curve, compressed public point)' => 'Crypt::Perl::X::ECDSA::NoCurveForOID',
#   'sect131r1 (named_curve, hybrid public point)' => 'Crypt::Perl::X::ECDSA::NoCurveForOID',
#   'sect131r1 (named_curve, uncompressed public point)' => 'Crypt::Perl::X::ECDSA::NoCurveForOID',
#   'sect131r2 (explicit, compressed public point)' => 'Crypt::Perl::X::ECDSA::CharacteristicTwoUnsupported',
#   'sect131r2 (explicit, hybrid public point)' => 'Crypt::Perl::X::ECDSA::CharacteristicTwoUnsupported',
#   'sect131r2 (explicit, uncompressed public point)' => 'Crypt::Perl::X::ECDSA::CharacteristicTwoUnsupported',
#   'sect131r2 (named_curve, compressed public point)' => 'Crypt::Perl::X::ECDSA::NoCurveForOID',
#   'sect131r2 (named_curve, hybrid public point)' => 'Crypt::Perl::X::ECDSA::NoCurveForOID',
#   'sect131r2 (named_curve, uncompressed public point)' => 'Crypt::Perl::X::ECDSA::NoCurveForOID',
#   'sect163k1 (explicit, compressed public point)' => 'Crypt::Perl::X::ECDSA::CharacteristicTwoUnsupported',
#   'sect163k1 (explicit, hybrid public point)' => 'Crypt::Perl::X::ECDSA::CharacteristicTwoUnsupported',
#   'sect163k1 (explicit, uncompressed public point)' => 'Crypt::Perl::X::ECDSA::CharacteristicTwoUnsupported',
#   'sect163k1 (named_curve, compressed public point)' => 'Crypt::Perl::X::ECDSA::NoCurveForOID',
#   'sect163k1 (named_curve, hybrid public point)' => 'Crypt::Perl::X::ECDSA::NoCurveForOID',
#   'sect163k1 (named_curve, uncompressed public point)' => 'Crypt::Perl::X::ECDSA::NoCurveForOID',
#   'sect163r1 (explicit, compressed public point)' => 'Crypt::Perl::X::ECDSA::CharacteristicTwoUnsupported',
#   'sect163r1 (explicit, hybrid public point)' => 'Crypt::Perl::X::ECDSA::CharacteristicTwoUnsupported',
#   'sect163r1 (explicit, uncompressed public point)' => 'Crypt::Perl::X::ECDSA::CharacteristicTwoUnsupported',
#   'sect163r1 (named_curve, compressed public point)' => 'Crypt::Perl::X::ECDSA::NoCurveForOID',
#   'sect163r1 (named_curve, hybrid public point)' => 'Crypt::Perl::X::ECDSA::NoCurveForOID',
#   'sect163r1 (named_curve, uncompressed public point)' => 'Crypt::Perl::X::ECDSA::NoCurveForOID',
#   'sect163r2 (explicit, compressed public point)' => 'Crypt::Perl::X::ECDSA::CharacteristicTwoUnsupported',
#   'sect163r2 (explicit, hybrid public point)' => 'Crypt::Perl::X::ECDSA::CharacteristicTwoUnsupported',
#   'sect163r2 (explicit, uncompressed public point)' => 'Crypt::Perl::X::ECDSA::CharacteristicTwoUnsupported',
#   'sect163r2 (named_curve, compressed public point)' => 'Crypt::Perl::X::ECDSA::NoCurveForOID',
#   'sect163r2 (named_curve, hybrid public point)' => 'Crypt::Perl::X::ECDSA::NoCurveForOID',
#   'sect163r2 (named_curve, uncompressed public point)' => 'Crypt::Perl::X::ECDSA::NoCurveForOID',
#   'sect193r1 (explicit, compressed public point)' => 'Crypt::Perl::X::ECDSA::CharacteristicTwoUnsupported',
#   'sect193r1 (explicit, hybrid public point)' => 'Crypt::Perl::X::ECDSA::CharacteristicTwoUnsupported',
#   'sect193r1 (explicit, uncompressed public point)' => 'Crypt::Perl::X::ECDSA::CharacteristicTwoUnsupported',
#   'sect193r1 (named_curve, compressed public point)' => 'Crypt::Perl::X::ECDSA::NoCurveForOID',
#   'sect193r1 (named_curve, hybrid public point)' => 'Crypt::Perl::X::ECDSA::NoCurveForOID',
#   'sect193r1 (named_curve, uncompressed public point)' => 'Crypt::Perl::X::ECDSA::NoCurveForOID',
#   'sect193r2 (explicit, compressed public point)' => 'Crypt::Perl::X::ECDSA::CharacteristicTwoUnsupported',
#   'sect193r2 (explicit, hybrid public point)' => 'Crypt::Perl::X::ECDSA::CharacteristicTwoUnsupported',
#   'sect193r2 (explicit, uncompressed public point)' => 'Crypt::Perl::X::ECDSA::CharacteristicTwoUnsupported',
#   'sect193r2 (named_curve, compressed public point)' => 'Crypt::Perl::X::ECDSA::NoCurveForOID',
#   'sect193r2 (named_curve, hybrid public point)' => 'Crypt::Perl::X::ECDSA::NoCurveForOID',
#   'sect193r2 (named_curve, uncompressed public point)' => 'Crypt::Perl::X::ECDSA::NoCurveForOID',
#   'sect233k1 (explicit, compressed public point)' => 'Crypt::Perl::X::ECDSA::CharacteristicTwoUnsupported',
#   'sect233k1 (explicit, hybrid public point)' => 'Crypt::Perl::X::ECDSA::CharacteristicTwoUnsupported',
#   'sect233k1 (explicit, uncompressed public point)' => 'Crypt::Perl::X::ECDSA::CharacteristicTwoUnsupported',
#   'sect233k1 (named_curve, compressed public point)' => 'Crypt::Perl::X::ECDSA::NoCurveForOID',
#   'sect233k1 (named_curve, hybrid public point)' => 'Crypt::Perl::X::ECDSA::NoCurveForOID',
#   'sect233k1 (named_curve, uncompressed public point)' => 'Crypt::Perl::X::ECDSA::NoCurveForOID',
#   'sect233r1 (explicit, compressed public point)' => 'Crypt::Perl::X::ECDSA::CharacteristicTwoUnsupported',
#   'sect233r1 (explicit, hybrid public point)' => 'Crypt::Perl::X::ECDSA::CharacteristicTwoUnsupported',
#   'sect233r1 (explicit, uncompressed public point)' => 'Crypt::Perl::X::ECDSA::CharacteristicTwoUnsupported',
#   'sect233r1 (named_curve, compressed public point)' => 'Crypt::Perl::X::ECDSA::NoCurveForOID',
#   'sect233r1 (named_curve, hybrid public point)' => 'Crypt::Perl::X::ECDSA::NoCurveForOID',
#   'sect233r1 (named_curve, uncompressed public point)' => 'Crypt::Perl::X::ECDSA::NoCurveForOID',
#   'sect239k1 (explicit, compressed public point)' => 'Crypt::Perl::X::ECDSA::CharacteristicTwoUnsupported',
#   'sect239k1 (explicit, hybrid public point)' => 'Crypt::Perl::X::ECDSA::CharacteristicTwoUnsupported',
#   'sect239k1 (explicit, uncompressed public point)' => 'Crypt::Perl::X::ECDSA::CharacteristicTwoUnsupported',
#   'sect239k1 (named_curve, compressed public point)' => 'Crypt::Perl::X::ECDSA::NoCurveForOID',
#   'sect239k1 (named_curve, hybrid public point)' => 'Crypt::Perl::X::ECDSA::NoCurveForOID',
#   'sect239k1 (named_curve, uncompressed public point)' => 'Crypt::Perl::X::ECDSA::NoCurveForOID',
#   'sect283k1 (explicit, compressed public point)' => 'Crypt::Perl::X::ECDSA::CharacteristicTwoUnsupported',
#   'sect283k1 (explicit, hybrid public point)' => 'Crypt::Perl::X::ECDSA::CharacteristicTwoUnsupported',
#   'sect283k1 (explicit, uncompressed public point)' => 'Crypt::Perl::X::ECDSA::CharacteristicTwoUnsupported',
#   'sect283k1 (named_curve, compressed public point)' => 'Crypt::Perl::X::ECDSA::NoCurveForOID',
#   'sect283k1 (named_curve, hybrid public point)' => 'Crypt::Perl::X::ECDSA::NoCurveForOID',
#   'sect283k1 (named_curve, uncompressed public point)' => 'Crypt::Perl::X::ECDSA::NoCurveForOID',
#   'sect283r1 (explicit, compressed public point)' => 'Crypt::Perl::X::ECDSA::CharacteristicTwoUnsupported',
#   'sect283r1 (explicit, hybrid public point)' => 'Crypt::Perl::X::ECDSA::CharacteristicTwoUnsupported',
#   'sect283r1 (explicit, uncompressed public point)' => 'Crypt::Perl::X::ECDSA::CharacteristicTwoUnsupported',
#   'sect283r1 (named_curve, compressed public point)' => 'Crypt::Perl::X::ECDSA::NoCurveForOID',
#   'sect283r1 (named_curve, hybrid public point)' => 'Crypt::Perl::X::ECDSA::NoCurveForOID',
#   'sect283r1 (named_curve, uncompressed public point)' => 'Crypt::Perl::X::ECDSA::NoCurveForOID',
#   'sect409k1 (explicit, compressed public point)' => 'Crypt::Perl::X::ECDSA::CharacteristicTwoUnsupported',
#   'sect409k1 (explicit, hybrid public point)' => 'Crypt::Perl::X::ECDSA::CharacteristicTwoUnsupported',
#   'sect409k1 (explicit, uncompressed public point)' => 'Crypt::Perl::X::ECDSA::CharacteristicTwoUnsupported',
#   'sect409k1 (named_curve, compressed public point)' => 'Crypt::Perl::X::ECDSA::NoCurveForOID',
#   'sect409k1 (named_curve, hybrid public point)' => 'Crypt::Perl::X::ECDSA::NoCurveForOID',
#   'sect409k1 (named_curve, uncompressed public point)' => 'Crypt::Perl::X::ECDSA::NoCurveForOID',
#   'sect409r1 (explicit, compressed public point)' => 'Crypt::Perl::X::ECDSA::CharacteristicTwoUnsupported',
#   'sect409r1 (explicit, hybrid public point)' => 'Crypt::Perl::X::ECDSA::CharacteristicTwoUnsupported',
#   'sect409r1 (explicit, uncompressed public point)' => 'Crypt::Perl::X::ECDSA::CharacteristicTwoUnsupported',
#   'sect409r1 (named_curve, compressed public point)' => 'Crypt::Perl::X::ECDSA::NoCurveForOID',
#   'sect409r1 (named_curve, hybrid public point)' => 'Crypt::Perl::X::ECDSA::NoCurveForOID',
#   'sect409r1 (named_curve, uncompressed public point)' => 'Crypt::Perl::X::ECDSA::NoCurveForOID',
#   'sect571k1 (explicit, compressed public point)' => 'Crypt::Perl::X::ECDSA::CharacteristicTwoUnsupported',
#   'sect571k1 (explicit, hybrid public point)' => 'Crypt::Perl::X::ECDSA::CharacteristicTwoUnsupported',
#   'sect571k1 (explicit, uncompressed public point)' => 'Crypt::Perl::X::ECDSA::CharacteristicTwoUnsupported',
#   'sect571k1 (named_curve, compressed public point)' => 'Crypt::Perl::X::ECDSA::NoCurveForOID',
#   'sect571k1 (named_curve, hybrid public point)' => 'Crypt::Perl::X::ECDSA::NoCurveForOID',
#   'sect571k1 (named_curve, uncompressed public point)' => 'Crypt::Perl::X::ECDSA::NoCurveForOID',
#   'sect571r1 (explicit, compressed public point)' => 'Crypt::Perl::X::ECDSA::CharacteristicTwoUnsupported',
#   'sect571r1 (explicit, hybrid public point)' => 'Crypt::Perl::X::ECDSA::CharacteristicTwoUnsupported',
#   'sect571r1 (explicit, uncompressed public point)' => 'Crypt::Perl::X::ECDSA::CharacteristicTwoUnsupported',
#   'sect571r1 (named_curve, compressed public point)' => 'Crypt::Perl::X::ECDSA::NoCurveForOID',
#   'sect571r1 (named_curve, hybrid public point)' => 'Crypt::Perl::X::ECDSA::NoCurveForOID',
#   'sect571r1 (named_curve, uncompressed public point)' => 'Crypt::Perl::X::ECDSA::NoCurveForOID',
#   'wap-wsg-idm-ecid-wtls1 (explicit, compressed public point)' => 'Crypt::Perl::X::ECDSA::CharacteristicTwoUnsupported',
#   'wap-wsg-idm-ecid-wtls1 (explicit, hybrid public point)' => 'Crypt::Perl::X::ECDSA::CharacteristicTwoUnsupported',
#   'wap-wsg-idm-ecid-wtls1 (explicit, uncompressed public point)' => 'Crypt::Perl::X::ECDSA::CharacteristicTwoUnsupported',
#   'wap-wsg-idm-ecid-wtls1 (named_curve, compressed public point)' => 'Crypt::Perl::X::ECDSA::NoCurveForOID',
#   'wap-wsg-idm-ecid-wtls1 (named_curve, hybrid public point)' => 'Crypt::Perl::X::ECDSA::NoCurveForOID',
#   'wap-wsg-idm-ecid-wtls1 (named_curve, uncompressed public point)' => 'Crypt::Perl::X::ECDSA::NoCurveForOID',
#   'wap-wsg-idm-ecid-wtls10 (explicit, compressed public point)' => 'Crypt::Perl::X::ECDSA::CharacteristicTwoUnsupported',
#   'wap-wsg-idm-ecid-wtls10 (explicit, hybrid public point)' => 'Crypt::Perl::X::ECDSA::CharacteristicTwoUnsupported',
#   'wap-wsg-idm-ecid-wtls10 (explicit, uncompressed public point)' => 'Crypt::Perl::X::ECDSA::CharacteristicTwoUnsupported',
#   'wap-wsg-idm-ecid-wtls10 (named_curve, compressed public point)' => 'Crypt::Perl::X::ECDSA::NoCurveForOID',
#   'wap-wsg-idm-ecid-wtls10 (named_curve, hybrid public point)' => 'Crypt::Perl::X::ECDSA::NoCurveForOID',
#   'wap-wsg-idm-ecid-wtls10 (named_curve, uncompressed public point)' => 'Crypt::Perl::X::ECDSA::NoCurveForOID',
#   'wap-wsg-idm-ecid-wtls11 (explicit, compressed public point)' => 'Crypt::Perl::X::ECDSA::CharacteristicTwoUnsupported',
#   'wap-wsg-idm-ecid-wtls11 (explicit, hybrid public point)' => 'Crypt::Perl::X::ECDSA::CharacteristicTwoUnsupported',
#   'wap-wsg-idm-ecid-wtls11 (explicit, uncompressed public point)' => 'Crypt::Perl::X::ECDSA::CharacteristicTwoUnsupported',
#   'wap-wsg-idm-ecid-wtls11 (named_curve, compressed public point)' => 'Crypt::Perl::X::ECDSA::NoCurveForOID',
#   'wap-wsg-idm-ecid-wtls11 (named_curve, hybrid public point)' => 'Crypt::Perl::X::ECDSA::NoCurveForOID',
#   'wap-wsg-idm-ecid-wtls11 (named_curve, uncompressed public point)' => 'Crypt::Perl::X::ECDSA::NoCurveForOID',
#   'wap-wsg-idm-ecid-wtls3 (explicit, compressed public point)' => 'Crypt::Perl::X::ECDSA::CharacteristicTwoUnsupported',
#   'wap-wsg-idm-ecid-wtls3 (explicit, hybrid public point)' => 'Crypt::Perl::X::ECDSA::CharacteristicTwoUnsupported',
#   'wap-wsg-idm-ecid-wtls3 (explicit, uncompressed public point)' => 'Crypt::Perl::X::ECDSA::CharacteristicTwoUnsupported',
#   'wap-wsg-idm-ecid-wtls3 (named_curve, compressed public point)' => 'Crypt::Perl::X::ECDSA::NoCurveForOID',
#   'wap-wsg-idm-ecid-wtls3 (named_curve, hybrid public point)' => 'Crypt::Perl::X::ECDSA::NoCurveForOID',
#   'wap-wsg-idm-ecid-wtls3 (named_curve, uncompressed public point)' => 'Crypt::Perl::X::ECDSA::NoCurveForOID',
#   'wap-wsg-idm-ecid-wtls4 (explicit, compressed public point)' => 'Crypt::Perl::X::ECDSA::CharacteristicTwoUnsupported',
#   'wap-wsg-idm-ecid-wtls4 (explicit, hybrid public point)' => 'Crypt::Perl::X::ECDSA::CharacteristicTwoUnsupported',
#   'wap-wsg-idm-ecid-wtls4 (explicit, uncompressed public point)' => 'Crypt::Perl::X::ECDSA::CharacteristicTwoUnsupported',
#   'wap-wsg-idm-ecid-wtls4 (named_curve, compressed public point)' => 'Crypt::Perl::X::ECDSA::NoCurveForOID',
#   'wap-wsg-idm-ecid-wtls4 (named_curve, hybrid public point)' => 'Crypt::Perl::X::ECDSA::NoCurveForOID',
#   'wap-wsg-idm-ecid-wtls4 (named_curve, uncompressed public point)' => 'Crypt::Perl::X::ECDSA::NoCurveForOID',
#   'wap-wsg-idm-ecid-wtls5 (explicit, compressed public point)' => 'Crypt::Perl::X::ECDSA::CharacteristicTwoUnsupported',
#   'wap-wsg-idm-ecid-wtls5 (explicit, hybrid public point)' => 'Crypt::Perl::X::ECDSA::CharacteristicTwoUnsupported',
#   'wap-wsg-idm-ecid-wtls5 (explicit, uncompressed public point)' => 'Crypt::Perl::X::ECDSA::CharacteristicTwoUnsupported',
#   'wap-wsg-idm-ecid-wtls5 (named_curve, compressed public point)' => 'Crypt::Perl::X::ECDSA::NoCurveForOID',
#   'wap-wsg-idm-ecid-wtls5 (named_curve, hybrid public point)' => 'Crypt::Perl::X::ECDSA::NoCurveForOID',
#   'wap-wsg-idm-ecid-wtls5 (named_curve, uncompressed public point)' => 'Crypt::Perl::X::ECDSA::NoCurveForOID',
#   'wap-wsg-idm-ecid-wtls6 (explicit, compressed public point)' => 'Crypt::Perl::X::TooLongToSign',
#   'wap-wsg-idm-ecid-wtls6 (explicit, hybrid public point)' => 'Crypt::Perl::X::TooLongToSign',
#   'wap-wsg-idm-ecid-wtls6 (explicit, uncompressed public point)' => 'Crypt::Perl::X::TooLongToSign',
#   'wap-wsg-idm-ecid-wtls6 (named_curve, compressed public point)' => 'Crypt::Perl::X::TooLongToSign',
#   'wap-wsg-idm-ecid-wtls6 (named_curve, hybrid public point)' => 'Crypt::Perl::X::TooLongToSign',
#   'wap-wsg-idm-ecid-wtls6 (named_curve, uncompressed public point)' => 'Crypt::Perl::X::TooLongToSign',
#   'wap-wsg-idm-ecid-wtls8 (explicit, compressed public point)' => 'Crypt::Perl::X::TooLongToSign',
#   'wap-wsg-idm-ecid-wtls8 (explicit, hybrid public point)' => 'Crypt::Perl::X::TooLongToSign',
#   'wap-wsg-idm-ecid-wtls8 (explicit, uncompressed public point)' => 'Crypt::Perl::X::TooLongToSign',
#   'wap-wsg-idm-ecid-wtls8 (named_curve, compressed public point)' => 'Crypt::Perl::X::TooLongToSign',
#   'wap-wsg-idm-ecid-wtls8 (named_curve, hybrid public point)' => 'Crypt::Perl::X::TooLongToSign',
#   'wap-wsg-idm-ecid-wtls8 (named_curve, uncompressed public point)' => 'Crypt::Perl::X::TooLongToSign'
# }
t/Crypt-Perl-ECDSA-PrivateKey.t ................... ok
# Looking for OpenSSL binary …
# Found OpenSSL: /usr/bin/openssl
# OpenSSL 1.1.1o-freebsd  3 May 2022
# options:  bn(64,64) rc4(16x,int) des(int) idea(int) blowfish(ptr) 
# compiler: clang
# Math::BigInt 1.999837 (backend: Math::BigInt::Calc 1.999837)
read EC key
writing EC key
t/Crypt-Perl-ECDSA-PublicKey.t .................... ok
t/Crypt-Perl-Ed25519-Math.t ....................... ok
t/Crypt-Perl-Ed25519-Parse.t ...................... ok
t/Crypt-Perl-Ed25519-PrivateKey.t ................. ok
# Math::BigInt 1.999837 (backend: Math::BigInt::Calc 1.999837)
t/Crypt-Perl-Math.t ............................... ok
# Math::BigInt 1.999837 (backend: Math::BigInt::Calc 1.999837)
t/Crypt-Perl-PK.t ................................. ok
# Math::BigInt 1.999837 (backend: Math::BigInt::Calc 1.999837)
t/Crypt-Perl-PKCS10-Attribute-extensionRequest.t .. ok
# Looking for OpenSSL binary …
# Found OpenSSL: /usr/bin/openssl
# OpenSSL 1.1.1o-freebsd  3 May 2022
# options:  bn(64,64) rc4(16x,int) des(int) idea(int) blowfish(ptr) 
# compiler: clang
# Checking /usr/bin/openssl for ed25519 support …
Algorithm ed25519" not found
# /usr/bin/openssl does not support ed25519.
# Math::BigInt 1.999837 (backend: Math::BigInt::Calc 1.999837)
Generating RSA private key, 1024 bit long modulus (2 primes)
.......+++++
............................................................................+++++
e is 65537 (0x010001)
Generating RSA private key, 2048 bit long modulus (2 primes)
............................................................................+++++
.........................+++++
e is 65537 (0x010001)
read EC key
writing EC key
read EC key
writing EC key
read EC key
writing EC key
read EC key
writing EC key
read EC key
writing EC key
read EC key
writing EC key
read EC key
writing EC key
t/Crypt-Perl-PKCS10.t ............................. ok
# Looking for OpenSSL binary …
# Found OpenSSL: /usr/bin/openssl
# OpenSSL 1.1.1o-freebsd  3 May 2022
# options:  bn(64,64) rc4(16x,int) des(int) idea(int) blowfish(ptr) 
# compiler: clang
# Math::BigInt 1.999837 (backend: Math::BigInt::Calc 1.999837)
# Your Crypt::Perl::BigInt backend is “Math::BigInt::Calc”.
t/Crypt-Perl-RSA-Generate.t ....................... ok
# Math::BigInt 1.999837 (backend: Math::BigInt::Calc 1.999837)
t/Crypt-Perl-RSA-Parse.t .......................... ok
t/Crypt-Perl-RSA-PKCS1_v1_5.t ..................... ok
# Math::BigInt 1.999837 (backend: Math::BigInt::Calc 1.999837)
t/Crypt-Perl-RSA-PrivateKey.t ..................... ok
# Math::BigInt 1.999837 (backend: Math::BigInt::Calc 1.999837)
t/Crypt-Perl-RSA-PublicKey.t ...................... ok
# Math::BigInt 1.999837 (backend: Math::BigInt::Calc 1.999837)
t/Crypt-Perl-X509-Extension-subjectAltName.t ...... ok
t/Crypt-Perl-X509-SCT.t ........................... ok
# Looking for OpenSSL binary …
# Found OpenSSL: /usr/bin/openssl
# OpenSSL 1.1.1o-freebsd  3 May 2022
# options:  bn(64,64) rc4(16x,int) des(int) idea(int) blowfish(ptr) 
# compiler: clang
# Checking /usr/bin/openssl for ed25519 support …
Algorithm ed25519" not found
# /usr/bin/openssl does not support ed25519.
# Math::BigInt 1.999837 (backend: Math::BigInt::Calc 1.999837)
# self-sign - RSA
# two RSAs
# self-sign - ECC
# two ECCs
# subject RSA, signer ECC
# subject ECC, signer RSA
t/Crypt-Perl-X509v3.t ............................. ok
# Looking for OpenSSL binary …
# Found OpenSSL: /usr/bin/openssl
# OpenSSL 1.1.1o-freebsd  3 May 2022
# options:  bn(64,64) rc4(16x,int) des(int) idea(int) blowfish(ptr) 
# compiler: clang
# Checking /usr/bin/openssl for ed25519 support …
Algorithm ed25519" not found
# /usr/bin/openssl does not support ed25519.
t/Crypt-Perl-X509v3_ed25519.t ..................... ok
# Parsing...
t/ecdsa_verify_small_r_and_s.t .................... ok
All tests successful.
Files=26, Tests=3872, 2750 wallclock secs ( 0.61 usr  0.25 sys + 2686.65 cusr 20.02 csys = 2707.53 CPU)
Result: PASS


PREREQUISITES:

Here is a list of prerequisites you specified and versions we
managed to load:

	  Module Name                        Have     Want
	  Bytes::Random::Secure::Tiny       1.011    1.008
	  Call::Context                      0.03        0
	  Class::Accessor::Fast              0.51     0.34
	  Convert::ASN1                      0.33     0.27
	  Crypt::Format                      0.12     0.12
	  Digest::SHA                        6.03        0
	  ExtUtils::MakeMaker                7.64        0
	  File::Slurp                     9999.32        0
	  File::Which                        1.27        0
	  MIME::Base64                       3.13     3.11
	  Math::BigInt                   1.999837 1.999818
	  Math::ProvablePrime                0.51     0.51
	  Symbol::Get                        0.10     0.02
	  Test::Class                        0.52      0.4
	  Test::Deep                        1.130        0
	  Test::Exception                    0.43     0.40
	  Test::FailWarnings                0.008        0
	  Test::More                     1.302191        0
	  Try::Tiny                          0.31        0
	  autodie                            2.10        0
	  parent                            0.225    0.225

Perl module toolchain versions installed:
	Module Name                        Have
	CPANPLUS                         0.9914
	CPANPLUS::Dist::Build              0.90
	Cwd                                3.75
	ExtUtils::CBuilder             0.280236
	ExtUtils::Command                  7.64
	ExtUtils::Install                  2.20
	ExtUtils::MakeMaker                7.64
	ExtUtils::Manifest                 1.73
	ExtUtils::ParseXS                  3.44
	File::Spec                         3.75
	Module::Build                    0.4231
	Pod::Parser                        1.51
	Pod::Simple                        3.20
	Test2                          1.302191
	Test::Harness                      3.44
	Test::More                     1.302191
	version                          0.9929

******************************** NOTE ********************************
The comments above are created mechanically, possibly without manual
checking by the sender.  As there are many people performing automatic
tests on each upload to CPAN, it is likely that you will receive
identical messages about the same problem.

If you believe that the message is mistaken, please reply to the first
one with correction and/or additional informations, and do not take
it personally.  We appreciate your patience. :)
**********************************************************************

Additional comments:


This report was machine-generated by CPANPLUS::Dist::YACSmoke 1.08.
Powered by minismokebox version 0.68

CPANPLUS is prefering Build.PL

------------------------------
ENVIRONMENT AND OTHER CONTEXT
------------------------------

Environment variables:

    AUTOMATED_TESTING = 1
    LANG = C.UTF-8
    NONINTERACTIVE_TESTING = 1
    PATH = /sbin:/bin:/usr/sbin:/usr/bin:/usr/local/sbin:/usr/local/bin:/home/cpan/bin
    PERL5LIB = /usr/home/cpan/pit/jail/5So_KUie9D/lib/perl5:/usr/home/cpan/pit/thr/conf/perl-5.16.1/.cpanplus/5.16.1/build/Ol5F8kNsjt/Crypt-Perl-0.38/blib/lib:/usr/home/cpan/pit/thr/conf/perl-5.16.1/.cpanplus/5.16.1/build/Ol5F8kNsjt/Crypt-Perl-0.38/blib/arch
    PERL5_CPANPLUS_IS_RUNNING = 55512
    PERL5_CPANPLUS_IS_VERSION = 0.9914
    PERL5_MINISMOKEBOX = 0.68
    PERL5_YACSMOKE_BASE = /usr/home/cpan/pit/thr/conf/perl-5.16.1
    PERL_EXTUTILS_AUTOINSTALL = --defaultdeps
    PERL_LOCAL_LIB_ROOT = /usr/home/cpan/pit/jail/5So_KUie9D
    PERL_MB_OPT = --install_base "/usr/home/cpan/pit/jail/5So_KUie9D"
    PERL_MM_OPT = INSTALL_BASE=/usr/home/cpan/pit/jail/5So_KUie9D
    PERL_MM_USE_DEFAULT = 1
    SHELL = /usr/local/bin/bash
    TERM = screen

Perl special variables (and OS-specific diagnostics, for MSWin32):

    Perl: $^X = /usr/home/cpan/pit/thr/perl-5.16.1/bin/perl
    UID:  $<  = 1002
    EUID: $>  = 1002
    GID:  $(  = 1002 1002
    EGID: $)  = 1002 1002


-------------------------------


--

Summary of my perl5 (revision 5 version 16 subversion 1) configuration:
   
  Platform:
    osname=freebsd, osvers=13.1-release, archname=amd64-freebsd-thread-multi
    uname='freebsd frantic 13.1-release freebsd 13.1-release releng13.1-n250148-fc952ac2212 generic amd64 '
    config_args='-des -Dprefix=/usr/home/cpan/pit/thr/perl-5.16.1 -Dusethreads'
    hint=recommended, useposix=true, d_sigaction=define
    useithreads=define, usemultiplicity=define
    useperlio=define, d_sfio=undef, uselargefiles=define, usesocks=undef
    use64bitint=define, use64bitall=define, uselongdouble=undef
    usemymalloc=n, bincompat5005=undef
  Compiler:
    cc='cc', ccflags ='-DHAS_FPSETMASK -DHAS_FLOATINGPOINT_H -fno-strict-aliasing -pipe -fstack-protector -I/usr/local/include',
    optimize='-O2',
    cppflags='-DHAS_FPSETMASK -DHAS_FLOATINGPOINT_H -fno-strict-aliasing -pipe -fstack-protector -I/usr/local/include'
    ccversion='', gccversion='FreeBSD Clang 13.0.0 (git@github.com:llvm/llvm-project.git llvmorg-13.0.0-0-gd7b669b3a303)', gccosandvers=''
    intsize=4, longsize=8, ptrsize=8, doublesize=8, byteorder=12345678
    d_longlong=define, longlongsize=8, d_longdbl=define, longdblsize=16
    ivtype='long', ivsize=8, nvtype='double', nvsize=8, Off_t='off_t', lseeksize=8
    alignbytes=8, prototype=define
  Linker and Libraries:
    ld='cc', ldflags ='-pthread -Wl,-E  -fstack-protector -L/usr/local/lib'
    libpth=/usr/lib /usr/local/lib
    libs=-lgdbm -ldl -lm -lcrypt -lutil
    perllibs=-ldl -lm -lcrypt -lutil
    libc=, so=so, useshrplib=false, libperl=libperl.a
    gnulibc_version=''
  Dynamic Linking:
    dlsrc=dl_dlopen.xs, dlext=so, d_dlsymun=undef, ccdlflags=' '
    cccdlflags='-DPIC -fPIC', lddlflags='-shared  -L/usr/local/lib -fstack-protector'


Characteristics of this binary (from libperl): 
  Compile-time options: HAS_TIMES MULTIPLICITY PERLIO_LAYERS
                        PERL_DONT_CREATE_GVSV PERL_IMPLICIT_CONTEXT
                        PERL_MALLOC_WRAP PERL_PRESERVE_IVUV USE_64_BIT_ALL
                        USE_64_BIT_INT USE_ITHREADS USE_LARGE_FILES
                        USE_LOCALE USE_LOCALE_COLLATE USE_LOCALE_CTYPE
                        USE_LOCALE_NUMERIC USE_PERLIO USE_PERL_ATOF
                        USE_REENTRANT_API
  Locally applied patches:
	Devel::PatchPerl 2.08
  Built under freebsd
  Compiled at Jul 25 2022 05:24:11
  %ENV:
    PERL5LIB="/usr/home/cpan/pit/jail/5So_KUie9D/lib/perl5:/usr/home/cpan/pit/thr/conf/perl-5.16.1/.cpanplus/5.16.1/build/Ol5F8kNsjt/Crypt-Perl-0.38/blib/lib:/usr/home/cpan/pit/thr/conf/perl-5.16.1/.cpanplus/5.16.1/build/Ol5F8kNsjt/Crypt-Perl-0.38/blib/arch"
    PERL5_CPANPLUS_IS_RUNNING="55512"
    PERL5_CPANPLUS_IS_VERSION="0.9914"
    PERL5_MINISMOKEBOX="0.68"
    PERL5_YACSMOKE_BASE="/usr/home/cpan/pit/thr/conf/perl-5.16.1"
    PERL_EXTUTILS_AUTOINSTALL="--defaultdeps"
    PERL_LOCAL_LIB_ROOT="/usr/home/cpan/pit/jail/5So_KUie9D"
    PERL_MB_OPT="--install_base "/usr/home/cpan/pit/jail/5So_KUie9D""
    PERL_MM_OPT="INSTALL_BASE=/usr/home/cpan/pit/jail/5So_KUie9D"
    PERL_MM_USE_DEFAULT="1"
  @INC:
    /usr/home/cpan/pit/jail/5So_KUie9D/lib/perl5/5.16.1/amd64-freebsd-thread-multi
    /usr/home/cpan/pit/jail/5So_KUie9D/lib/perl5/5.16.1
    /usr/home/cpan/pit/jail/5So_KUie9D/lib/perl5/amd64-freebsd-thread-multi
    /usr/home/cpan/pit/jail/5So_KUie9D/lib/perl5
    /usr/home/cpan/pit/thr/conf/perl-5.16.1/.cpanplus/5.16.1/build/Ol5F8kNsjt/Crypt-Perl-0.38/blib/lib
    /usr/home/cpan/pit/thr/conf/perl-5.16.1/.cpanplus/5.16.1/build/Ol5F8kNsjt/Crypt-Perl-0.38/blib/arch
    /usr/home/cpan/pit/thr/perl-5.16.1/lib/site_perl/5.16.1/amd64-freebsd-thread-multi
    /usr/home/cpan/pit/thr/perl-5.16.1/lib/site_perl/5.16.1
    /usr/home/cpan/pit/thr/perl-5.16.1/lib/5.16.1/amd64-freebsd-thread-multi
    /usr/home/cpan/pit/thr/perl-5.16.1/lib/5.16.1
    .