Back
From: metabase:user:314402c4-2aae-11df-837a-5e0a49663a4f
Subject: PASS HTML-Formatter-2.16 v5.22.4 RC1 GNU/Linux
Date: 2017-07-02T15:16:14Z
This distribution has been tested as part of the CPAN Testers
project, supporting the Perl programming language. See
http://wiki.cpantesters.org/ for more information or email
questions to cpan-testers-discuss@perl.org
--
Dear Nigel Metheringham,
This is a computer-generated report for HTML-Formatter-2.16
on perl 5.22.4, created by CPAN-Reporter-1.2018.
Thank you for uploading your work to CPAN. Congratulations!
All tests were successful.
Sections of this report:
* Tester comments
* Program output
* Prerequisites
* Environment and other context
------------------------------
TESTER COMMENTS
------------------------------
Additional comments from tester:
none provided
------------------------------
PROGRAM OUTPUT
------------------------------
Output from 'make test':
PERL_DL_NONLAZY=1 "/opt/perl-5.22.4-RC1/bin/perl" "-MExtUtils::Command::MM" "-MTest::Harness" "-e" "undef *Test::Harness::Switches; test_harness(0, 'blib/lib', 'blib/arch')" t/*.t
t/00-compile.t ............... ok
#
# Versions for all modules listed in MYMETA.json (including optional ones):
#
# === Configure Requires ===
#
# Module Want Have
# ------------------- ---- -------
# ExtUtils::MakeMaker any 7.04_02
#
# === Build Requires ===
#
# Module Want Have
# ------------------- ---- -------
# ExtUtils::MakeMaker any 7.04_02
#
# === Test Requires ===
#
# Module Want Have
# ------------------- ---- --------
# ExtUtils::MakeMaker any 7.04_02
# File::Slurper any 0.009
# File::Spec any 3.56_02
# FindBin any 1.51
# IO::Handle any 1.35
# IPC::Open3 any 1.18
# Test::More 0.96 1.302086
# Test::Warnings any 0.026
# blib 1.01 1.06
# bytes any 1.04
# lib any 0.63
#
# === Test Recommends ===
#
# Module Want Have
# ---------- -------- --------
# CPAN::Meta 2.120900 2.150001
#
# === Runtime Requires ===
#
# Module Want Have
# ----------------------------------- ---- -------
# Carp any 1.36
# Data::Dumper any 2.158
# Encode any 2.72_01
# Font::Metrics::Courier any undef
# Font::Metrics::CourierBold any undef
# Font::Metrics::CourierBoldOblique any undef
# Font::Metrics::CourierOblique any undef
# Font::Metrics::Helvetica any undef
# Font::Metrics::HelveticaBold any undef
# Font::Metrics::HelveticaBoldOblique any undef
# Font::Metrics::HelveticaOblique any undef
# Font::Metrics::TimesBold any undef
# Font::Metrics::TimesBoldItalic any undef
# Font::Metrics::TimesItalic any undef
# Font::Metrics::TimesRoman any undef
# HTML::Element 3.15 5.06
# HTML::TreeBuilder any 5.06
# IO::File any 1.16
# base any 2.22_01
# integer any 1.01
# parent any 0.232
# strict any 1.09
# utf8 any 1.17
# warnings any 1.34
#
t/00-report-prereqs.t ........ ok
t/01_ps.t .................... ok
t/02_rtf.t ................... ok
t/03_text.t .................. ok
t/04_md.t .................... ok
t/author-critic.t ............ skipped: these tests are for testing by the author
t/author-eol.t ............... skipped: these tests are for testing by the author
t/author-no-tabs.t ........... skipped: these tests are for testing by the author
t/author-pod-spell.t ......... skipped: these tests are for testing by the author
t/author-pod-syntax.t ........ skipped: these tests are for testing by the author
t/author-portability.t ....... skipped: these tests are for testing by the author
t/author-synopsis.t .......... skipped: these tests are for testing by the author
t/release-dist-manifest.t .... skipped: these tests are for release candidate testing
t/release-distmeta.t ......... skipped: these tests are for release candidate testing
t/release-has-version.t ...... skipped: these tests are for release candidate testing
t/release-minimum-version.t .. skipped: these tests are for release candidate testing
t/release-unused-vars.t ...... skipped: these tests are for release candidate testing
t/rt111783.t ................. ok
t/rt69426.t .................. ok
All tests successful.
Files=20, Tests=94, 0 wallclock secs ( 0.03 usr 0.01 sys + 0.51 cusr 0.04 csys = 0.59 CPU)
Result: PASS
------------------------------
PREREQUISITES
------------------------------
Prerequisite modules loaded:
requires:
Module Need Have
----------------------------------- ----- --------
base 0 2.22_01
Carp 0 1.36
Data::Dumper 0 2.158
Encode 0 2.72_01
Font::Metrics::Courier 0 0
Font::Metrics::CourierBold 0 0
Font::Metrics::CourierBoldOblique 0 0
Font::Metrics::CourierOblique 0 0
Font::Metrics::Helvetica 0 0
Font::Metrics::HelveticaBold 0 0
Font::Metrics::HelveticaBoldOblique 0 0
Font::Metrics::HelveticaOblique 0 0
Font::Metrics::TimesBold 0 0
Font::Metrics::TimesBoldItalic 0 0
Font::Metrics::TimesItalic 0 0
Font::Metrics::TimesRoman 0 0
HTML::Element 3.15 5.06
HTML::TreeBuilder 0 5.06
integer 0 1.01
IO::File 0 1.16
parent 0 0.232
perl 5.008 5.022004
strict 0 1.09
utf8 0 1.17
warnings 0 1.34
build_requires:
Module Need Have
----------------------------------- ----- --------
blib 1.01 1.06
bytes 0 1.04
ExtUtils::MakeMaker 0 7.04_02
File::Slurper 0 0.009
File::Spec 0 3.56_02
FindBin 0 1.51
IO::Handle 0 1.35
IPC::Open3 0 1.18
lib 0 0.63
Test::More 0.96 1.302086
Test::Warnings 0 0.026
configure_requires:
Module Need Have
----------------------------------- ----- --------
ExtUtils::MakeMaker 0 7.04_02
------------------------------
ENVIRONMENT AND OTHER CONTEXT
------------------------------
Environment variables:
LANG = en_US.UTF-8
PATH = /usr/local/bin:/usr/bin:/bin:/usr/local/sbin:/usr/sbin:/sbin:/home/eserte/bin/linux-gnu:/home/eserte/bin/sh:/home/eserte/bin:/home/eserte/bin/pistachio-perl/bin:/usr/games:/home/eserte/devel:/home/eserte/src/srezic-misc/scripts
PERL5LIB =
PERL5OPT =
PERL5_CPANPLUS_IS_RUNNING = 19271
PERL5_CPAN_IS_RUNNING = 19271
PERL5_CPAN_IS_RUNNING_IN_RECURSION = 19189,19271
PERLDOC = -MPod::Perldoc::ToTextOverstrike
PERL_BATCH = yes
PERL_CANARY_STABILITY_NOPROMPT = 1
PERL_CPAN_REPORTER_CONFIG = /var/tmp/cpansmoker-1000/2017070215/cpanreporter_000_config.ini
PERL_EXTUTILS_AUTOINSTALL = --defaultdeps
PERL_USE_UNSAFE_INC = 1
PISTACHIO_PERL_MANAGER = 1
SHELL = /bin/zsh
STDPERL = perl
TERM = xterm
TMPDIR = /var/tmp/cpansmoker-1000/2017070215
Perl special variables (and OS-specific diagnostics, for MSWin32):
$^X = /opt/perl-5.22.4-RC1/bin/perl
$UID/$EUID = 1000 / 1000
$GID = 1000 4 24 25 27 29 30 44 46 108 111 115 128 1000 1024
$EGID = 1000 4 24 25 27 29 30 44 46 108 111 115 128 1000 1024
Perl module toolchain versions installed:
Module Have
------------------- ----------
CPAN 2.11_01
CPAN::Meta 2.150001
Cwd 3.56_02
ExtUtils::CBuilder 0.280221
ExtUtils::Command 1.20_01
ExtUtils::Install 2.04
ExtUtils::MakeMaker 7.04_02
ExtUtils::Manifest 1.70
ExtUtils::ParseXS 3.28
File::Spec 3.56_02
JSON 2.94
JSON::PP 2.27300_01
Module::Build 0.4224
Module::Signature n/a
Parse::CPAN::Meta 1.4414_001
Test::Harness 3.35_01
Test::More 1.302086
YAML 1.23
YAML::Syck 1.30
version 0.9909
--
Summary of my perl5 (revision 5 version 22 subversion 4) configuration:
Platform:
osname=linux, osvers=3.16.0-4-amd64, archname=x86_64-linux
uname='linux cabulja 3.16.0-4-amd64 #1 smp debian 3.16.39-1+deb8u2 (2017-03-07) x86_64 gnulinux '
config_args='-ds -e -Dprefix=/opt/perl-5.22.4-RC1 -Dcf_email=srezic@cpan.org'
hint=recommended, useposix=true, d_sigaction=define
useithreads=undef, usemultiplicity=undef
use64bitint=define, use64bitall=define, uselongdouble=undef
usemymalloc=n, bincompat5005=undef
Compiler:
cc='cc', ccflags ='-fwrapv -fno-strict-aliasing -pipe -fstack-protector-strong -I/usr/local/include -D_LARGEFILE_SOURCE -D_FILE_OFFSET_BITS=64 -D_FORTIFY_SOURCE=2',
optimize='-O2',
cppflags='-fwrapv -fno-strict-aliasing -pipe -fstack-protector-strong -I/usr/local/include'
ccversion='', gccversion='4.9.2', gccosandvers=''
intsize=4, longsize=8, ptrsize=8, doublesize=8, byteorder=12345678, doublekind=3
d_longlong=define, longlongsize=8, d_longdbl=define, longdblsize=16, longdblkind=3
ivtype='long', ivsize=8, nvtype='double', nvsize=8, Off_t='off_t', lseeksize=8
alignbytes=8, prototype=define
Linker and Libraries:
ld='cc', ldflags =' -fstack-protector-strong -L/usr/local/lib'
libpth=/usr/local/lib /usr/lib/gcc/x86_64-linux-gnu/4.9/include-fixed /usr/include/x86_64-linux-gnu /usr/lib /lib/x86_64-linux-gnu /lib/../lib /usr/lib/x86_64-linux-gnu /usr/lib/../lib /lib
libs=-lpthread -lnsl -lgdbm -ldb -ldl -lm -lcrypt -lutil -lc -lgdbm_compat
perllibs=-lpthread -lnsl -ldl -lm -lcrypt -lutil -lc
libc=libc-2.19.so, so=so, useshrplib=false, libperl=libperl.a
gnulibc_version='2.19'
Dynamic Linking:
dlsrc=dl_dlopen.xs, dlext=so, d_dlsymun=undef, ccdlflags='-Wl,-E'
cccdlflags='-fPIC', lddlflags='-shared -O2 -L/usr/local/lib -fstack-protector-strong'
Characteristics of this binary (from libperl):
Compile-time options: HAS_TIMES PERLIO_LAYERS PERL_DONT_CREATE_GVSV
PERL_HASH_FUNC_ONE_AT_A_TIME_HARD PERL_MALLOC_WRAP
PERL_NEW_COPY_ON_WRITE PERL_PRESERVE_IVUV
USE_64_BIT_ALL USE_64_BIT_INT USE_LARGE_FILES
USE_LOCALE USE_LOCALE_COLLATE USE_LOCALE_CTYPE
USE_LOCALE_NUMERIC USE_LOCALE_TIME USE_PERLIO
USE_PERL_ATOF
Locally applied patches:
RC1
Built under linux
Compiled at Jul 2 2017 16:05:54
%ENV:
PERL5LIB=""
PERL5OPT=""
PERL5_CPANPLUS_IS_RUNNING="19271"
PERL5_CPAN_IS_RUNNING="19271"
PERL5_CPAN_IS_RUNNING_IN_RECURSION="19189,19271"
PERLDOC="-MPod::Perldoc::ToTextOverstrike"
PERL_BATCH="yes"
PERL_CANARY_STABILITY_NOPROMPT="1"
PERL_CPAN_REPORTER_CONFIG="/var/tmp/cpansmoker-1000/2017070215/cpanreporter_000_config.ini"
PERL_EXTUTILS_AUTOINSTALL="--defaultdeps"
PERL_USE_UNSAFE_INC="1"
@INC:
/opt/perl-5.22.4-RC1/lib/site_perl/5.22.4/x86_64-linux
/opt/perl-5.22.4-RC1/lib/site_perl/5.22.4
/opt/perl-5.22.4-RC1/lib/5.22.4/x86_64-linux
/opt/perl-5.22.4-RC1/lib/5.22.4
.