Report for Math-Primality-0.08

Back
From: metabase:user:323dcade-2aae-11df-837a-5e0a49663a4f
Subject: PASS Math-Primality-0.08 v5.24.0 RC2 GNU/Linux
Date: 2016-06-09T20:26:03Z

This distribution has been tested as part of the CPAN Testers
project, supporting the Perl programming language.  See
http://wiki.cpantesters.org/ for more information or email
questions to cpan-testers-discuss@perl.org


--
Dear Jonathan Leto,

This is a computer-generated report for Math-Primality-0.08
on perl 5.24.0, created by CPAN-Reporter-1.2017.

Thank you for uploading your work to CPAN.  Congratulations!
All tests were successful.

Sections of this report:

    * Tester comments
    * Program output
    * Prerequisites
    * Environment and other context

------------------------------
TESTER COMMENTS
------------------------------

Additional comments from tester:

none provided

------------------------------
PROGRAM OUTPUT
------------------------------

Output from '/usr/bin/make test':

PERL_DL_NONLAZY=1 PERL_USE_UNSAFE_INC=1 "/usr/local/bin/cperl5.24.0nt" "-MExtUtils::Command::MM" "-MTest::Harness" "-e" "undef *Test::Harness::Switches; test_harness(0, 'blib/lib', 'blib/arch')" t/*.t
# Testing Math::Primality 0.08, Perl 5.024000, /usr/local/bin/cperl5.24.0nt
t/00-load.t ...................... ok
t/big_polynomial.t ............... ok
t/boilerplate.t .................. ok
t/is_aks_prime.t ................. ok
t/is_prime.t ..................... ok
t/is_prime_bigint.t .............. ok
t/is_pseudoprime.t ............... ok
t/is_strong_lucas_pseudoprime.t .. ok
t/is_strong_pseudoprime.t ........ ok
t/next_prime.t ................... ok
t/pod.t .......................... skipped: Test::Pod 1.22 required for testing POD
t/prev_prime.t ................... ok
t/prime_count.t .................. ok
All tests successful.
Files=13, Tests=2511,  3 wallclock secs ( 0.20 usr  0.02 sys +  3.41 cusr  0.02 csys =  3.65 CPU)
Result: PASS

------------------------------
PREREQUISITES
------------------------------

Prerequisite modules loaded:

requires:

    Module              Need Have     
    ------------------- ---- ---------
    base                0    2.23     
    Carp                0    1.40c    
    constant            0    1.34     
    Data::Dumper        0    2.160    
    Exporter            0    5.72     
    integer             0    1.01     
    Math::GMPz          0.34 0.43     
    strict              0    1.10c    
    warnings            0    1.35     

build_requires:

    Module              Need Have     
    ------------------- ---- ---------
    bigint              0    0.43c    
    POSIX               0    1.65     
    Test::Exception     0    0.43     
    Test::More          0    1.401014c

configure_requires:

    Module              Need Have     
    ------------------- ---- ---------
    ExtUtils::MakeMaker 6.30 8.04_03  
    Module::Build       0.38 0.4218   


------------------------------
ENVIRONMENT AND OTHER CONTEXT
------------------------------

Environment variables:

    LANG = en_US.UTF-8
    NONINTERACTIVE_TESTING = 1
    PATH = /home/rurban/bin:/usr/local/bin:/usr/bin:/bin:/usr/local/games:/usr/games
    PERL5LIB = 
    PERL5OPT = 
    PERL5_CPANPLUS_IS_RUNNING = 3583
    PERL5_CPAN_IS_RUNNING = 3583
    PERL_MM_USE_DEFAULT = 1
    PERL_USE_UNSAFE_INC = 1
    SHELL = /bin/bash
    TERM = xterm-256color

Perl special variables (and OS-specific diagnostics, for MSWin32):

    $^X = /usr/local/bin/cperl5.24.0nt
    $UID/$EUID = 1000 / 1000
    $GID = 1000 27 124 125 1000
    $EGID = 1000 27 124 125 1000

Perl module toolchain versions installed:

    Module              Have     
    ------------------- ---------
    CPAN                3.11c    
    CPAN::Meta          2.150006c
    Cwd                 4.64c    
    ExtUtils::CBuilder  0.280225 
    ExtUtils::Command   7.10     
    ExtUtils::Install   2.04     
    ExtUtils::MakeMaker 8.04_03  
    ExtUtils::Manifest  1.70     
    ExtUtils::ParseXS   3.32     
    File::Spec          4.64c    
    JSON                2.90     
    JSON::PP            2.27400  
    Module::Build       0.4218   
    Module::Signature   n/a      
    Parse::CPAN::Meta   1.5000c  
    Test::Harness       3.36     
    Test::More          1.401014c
    YAML                1.15     
    YAML::Syck          n/a      
    version             0.9917   


--

Summary of my cperl (revision 5 version 24 subversion 0) configuration:
  Commit id: 840930814c632752c9dea0600d5aa2e5e47fa157
  Platform:
    osname=linux, osvers=4.3.0-1-amd64, archname=x86_64-linux
    uname='linux reini 4.3.0-1-amd64 #1 smp debian 4.3.5-1 (2016-02-06) x86_64 gnulinux '
    config_args='-sder -Dusedevel -Dcc=ccache gcc-5.0 -Accflags=-msse4.2 -march=native -DPERL_FAKE_SIGNATURE -Dinstallman1dir=none -Dinstallman3dir=none -Dinstallsiteman1dir=none -Dinstallsiteman3dir=none -Darchname=x86_64-linux -Darchlib=/usr/local/lib/cperl/5.24.0/x86_64-linux -Dsitearch=/usr/local/lib/cperl/site_cperl/5.24.0/x86_64-linux -Dperlpath=/usr/local/bin/cperl5.24.0nt -Dstartperl=#!/usr/local/bin/cperl5.24.0nt -Doptimize=-O3 -g'
    hint=recommended, useposix=true, d_sigaction=define
    useithreads=undef, usemultiplicity=undef
    use64bitint=define, use64bitall=define, uselongdouble=undef
    usemymalloc=n, bincompat5005=undef
  Compiler:
    cc='ccache gcc-5.0', ccflags ='-msse4.2 -march=native -DPERL_FAKE_SIGNATURE -fwrapv -fno-strict-aliasing -pipe -fstack-protector -I/usr/local/include -D_LARGEFILE_SOURCE -D_FILE_OFFSET_BITS=64 -D_FORTIFY_SOURCE=2',
    optimize='-O3 -g',
    cppflags='-msse4.2 -march=native -DPERL_FAKE_SIGNATURE -fwrapv -fno-strict-aliasing -pipe -fstack-protector -I/usr/local/include'
    ccversion='', gccversion='5.0.0 20150103 (experimental)', gccosandvers=''
    intsize=4, longsize=8, ptrsize=8, doublesize=8, byteorder=12345678, doublekind=3
    d_longlong=define, longlongsize=8, d_longdbl=define, longdblsize=16, longdblkind=3
    ivtype='long', ivsize=8, nvtype='double', nvsize=8, Off_t='off_t', lseeksize=8
    alignbytes=8, prototype=define
  Linker and Libraries:
    ld='ccache gcc-5.0', ldflags =' -fstack-protector -L/usr/local/lib'
    libpth=/usr/local/lib /usr/local/lib/gcc/x86_64-unknown-linux-gnu/5.0.0/include-fixed /usr/include/x86_64-linux-gnu /usr/lib /lib/x86_64-linux-gnu /lib/../lib /usr/lib/x86_64-linux-gnu /usr/lib/../lib /lib
    libs=-lpthread -lnsl -lgdbm -ldb -ldl -lm -lcrypt -lutil -lc -lgdbm_compat
    perllibs=-lpthread -lnsl -ldl -lm -lcrypt -lutil -lc
    libc=libc-2.22.so, so=so, useshrplib=false, libperl=libperl.a
    gnulibc_version='2.22'
  Dynamic Linking:
    dlsrc=dl_dlopen.xs, dlext=so, d_dlsymun=undef, ccdlflags='-Wl,-E'
    cccdlflags='-fPIC', lddlflags='-shared -O3 -g -L/usr/local/lib -fstack-protector'


Characteristics of this binary (from libperl): 
  Compile-time options: HAS_TIMES PERLIO_LAYERS PERL_COPY_ON_WRITE
                        PERL_DONT_CREATE_GVSV PERL_HASH_FUNC_FNV1A
                        PERL_MALLOC_WRAP PERL_PERTURB_KEYS_TOP
                        PERL_PRESERVE_IVUV PERL_USE_DEVEL USE_64_BIT_ALL
                        USE_64_BIT_INT USE_CPERL USE_LARGE_FILES USE_LOCALE
                        USE_LOCALE_COLLATE USE_LOCALE_CTYPE
                        USE_LOCALE_NUMERIC USE_LOCALE_TIME USE_PERLIO
                        USE_PERL_ATOF
  Locally applied patches:
	RC2
  Built under linux
  Compiled at Jun  9 2016 18:46:43
  %ENV:
    PERL5LIB=""
    PERL5OPT=""
    PERL5_CPANPLUS_IS_RUNNING="3583"
    PERL5_CPAN_IS_RUNNING="3583"
    PERL_MM_USE_DEFAULT="1"
    PERL_USE_UNSAFE_INC="1"
  @INC:
    /usr/local/lib/cperl/site_cperl/5.24.0/x86_64-linux
    /usr/local/lib/cperl/site_cperl/5.24.0
    /usr/local/lib/cperl/5.24.0/x86_64-linux
    /usr/local/lib/cperl/5.24.0
    /usr/local/lib/cperl/site_cperl
    .