Graphics-Grid v0.001 Perl 5 v5.24.4 amd64-freebsd
- Status
- Pass
- From
- Slaven Rezić
- Dist
-
Graphics-Grid v0.001
- Platform
- Perl 5 v5.24.4 amd64-freebsd
- Date
- 2023-02-07 09:25:39
- ID
- 62c3cfc8-a6c9-11ed-acad-7ee96d8775ea
This distribution has been tested as part of the CPAN Testers
project, supporting the Perl programming language. See
http://wiki.cpantesters.org/ for more information or email
questions to cpan-testers-discuss@perl.org
--
Dear Stephan Loyd,
This is a computer-generated report for Graphics-Grid-0.001
on perl 5.24.4, created by CPAN-Reporter-1.2018.
Thank you for uploading your work to CPAN. Congratulations!
All tests were successful.
Sections of this report:
* Tester comments
* Program output
* Prerequisites
* Environment and other context
------------------------------
TESTER COMMENTS
------------------------------
Additional comments from tester:
none provided
------------------------------
PROGRAM OUTPUT
------------------------------
Output from '/usr/bin/make test':
PERL_DL_NONLAZY=1 "/usr/perl5.24.4p/bin/perl5.24.4" "-MExtUtils::Command::MM" "-MTest::Harness" "-e" "undef *Test::Harness::Switches; test_harness(0, 'blib/lib', 'blib/arch')" t/*.t
t/01-unit.t ............. ok
t/02-unit_arithmetic.t .. ok
t/05-gpar.t ............. ok
t/09-util.t ............. ok
t/10-layout.t ........... ok
t/11-viewport.t ......... ok
t/21-circle_grob.t ...... ok
t/22-points_grob.t ...... ok
t/23-polyline_grob.t .... ok
t/24-rect_grob.t ........ ok
t/25-text_grob.t ........ ok
t/26-null_grob.t ........ ok
t/27-zero_grob.t ........ ok
t/30-grill.t ............ ok
t/40-gtree.t ............ ok
t/45-driver.t ........... ok
t/50-grid-vptree.t ...... ok
# $VAR1 = bless( {
# 'height' => bless( {
# 'value' => [
# '0.370416666666667'
# ],
# 'elems' => 1,
# 'unit' => [
# 'cm'
# ]
# }, 'Graphics::Grid::Unit' ),
# 'x' => bless( {
# 'elems' => 1,
# 'value' => [
# '12.0517708333333'
# ],
# 'unit' => [
# 'cm'
# ]
# }, 'Graphics::Grid::Unit' ),
# 'width' => bless( {
# 'unit' => [
# 'cm'
# ],
# 'value' => [
# '2.40770833333333'
# ],
# 'elems' => 1
# }, 'Graphics::Grid::Unit' ),
# 'y' => bless( {
# 'value' => [
# '12.9910416666667'
# ],
# 'elems' => 1,
# 'unit' => [
# 'cm'
# ]
# }, 'Graphics::Grid::Unit' )
# }, 'Graphics::Grid::Extents' );
t/51-extents.t .......... ok
t/90-functions.t ........ ok
t/91-examples.t ......... ok
t/author-critic.t ....... skipped: these tests are for testing by the author
t/author-pod-syntax.t ... skipped: these tests are for testing by the author
All tests successful.
Files=22, Tests=196, 25 wallclock secs ( 0.04 usr 0.12 sys + 14.81 cusr 9.12 csys = 24.09 CPU)
Result: PASS
------------------------------
PREREQUISITES
------------------------------
Prerequisite modules loaded:
requires:
Module Need Have
------------------------- ------ --------
boolean 0 0.46
Cairo 0 1.108
Carp 0 1.50
Data::Dumper 0 2.183
Eval::Closure 0 0.14
Exporter::Tiny 0 1.006000
feature 0 1.42
Forest::Tree 0 0.10
Function::Parameters 2.0 2.001005
Graphics::Color::RGB 0 0.31
Import::Into 0 1.002005
List::AllUtils 0 0.19
Math::Trig 0 1.23
Module::Load 0 0.34
Moose 2.1400 2.2202
Moose::Role 0 2.2202
MooseX::Aliases 0 0.11
MooseX::Clone 0 0.06
MooseX::LazyRequire 0 0.11
MooseX::StrictConstructor 0 0.21
namespace::autoclean 0.20 0.29
overload 0 1.26
parent 0 0.239
Path::Tiny 0 0.144
perl 5.014 5.024004
PerlX::Maybe 0 1.201
Ref::Util 0 0.204
Safe::Isa 0 1.000010
Scalar::Util 0 1.63
strict 0 1.11
Type::Library 0 2.002001
Type::Params 0 2.002001
Type::Utils 0 2.002001
Types::Standard 0 2.002001
utf8 0 1.19
warnings 0 1.36
build_requires:
Module Need Have
------------------------- ------ --------
Capture::Tiny 0 0.48
ExtUtils::MakeMaker 0 7.66
File::Temp 0 0.2311
Test2::V0 0 0.000145
configure_requires:
Module Need Have
------------------------- ------ --------
ExtUtils::MakeMaker 0 7.66
------------------------------
ENVIRONMENT AND OTHER CONTEXT
------------------------------
Environment variables:
LC_ALL = de_DE.ISO8859-1
PATH = /usr/local/bin:/usr/bin:/bin:/usr/local/sbin:/usr/sbin:/sbin:/home/cpansand/bin/freebsd10.3:/home/cpansand/bin/sh:/home/cpansand/bin:/usr/games:/home/cpansand/devel:/home/eserte/src/srezic-misc/scripts
PERL5LIB =
PERL5OPT =
PERL5_CPANPLUS_IS_RUNNING = 43767
PERL5_CPAN_IS_RUNNING = 43767
PERL5_CPAN_IS_RUNNING_IN_RECURSION = 27465,43767
PERLDOC = -MPod::Perldoc::ToTextOverstrike
PERL_BATCH = yes
PERL_CANARY_STABILITY_NOPROMPT = 1
PERL_CPAN_REPORTER_CONFIG = /var/tmp/cpansmoker-1023/2023020708/cpanreporter_006_config.ini
PERL_EXTUTILS_AUTOINSTALL = --defaultdeps
PERL_USE_UNSAFE_INC = 1
SHELL = /usr/local/bin/zsh
TERM = screen
TMPDIR = /var/tmp/cpansmoker-1023/2023020708
Perl special variables (and OS-specific diagnostics, for MSWin32):
$^X = /usr/perl5.24.4p/bin/perl5.24.4
$UID/$EUID = 1023 / 1023
$GID = 1023 1023
$EGID = 1023 1023
Perl module toolchain versions installed:
Module Have
------------------- --------
CPAN 2.34
CPAN::Meta 2.150010
Cwd 3.75
ExtUtils::CBuilder 0.280236
ExtUtils::Command 7.66
ExtUtils::Install 2.22
ExtUtils::MakeMaker 7.66
ExtUtils::Manifest 1.70
ExtUtils::ParseXS 3.35
File::Spec 3.75
JSON 4.10
JSON::PP 4.16
Module::Build 0.4232
Module::Signature 0.87
Parse::CPAN::Meta 2.150010
Test::Harness 3.44
Test::More 1.302191
YAML 1.30
YAML::Syck 1.34
version 0.9929
--
Summary of my perl5 (revision 5 version 24 subversion 4) configuration:
Platform:
osname=freebsd, osvers=10.3-release-p24, archname=amd64-freebsd
uname='freebsd cvrsnica-freebsd-101.herceg.de 10.3-release-p24 freebsd 10.3-release-p24 #0: wed nov 15 04:57:40 utc 2017 root@amd64-builder.daemonology.net:usrobjusrsrcsysgeneric amd64 '
config_args='-ds -e -Dprefix=/usr/perl5.24.4p -Dcf_email=srezic@cpan.org -Doptimize=-O2 -pipe'
hint=recommended, useposix=true, d_sigaction=define
useithreads=undef, usemultiplicity=undef
use64bitint=define, use64bitall=define, uselongdouble=undef
usemymalloc=n, bincompat5005=undef
Compiler:
cc='cc', ccflags ='-DHAS_FPSETMASK -DHAS_FLOATINGPOINT_H -fno-strict-aliasing -pipe -fstack-protector -I/usr/local/include -D_FORTIFY_SOURCE=2',
optimize='-O2 -pipe',
cppflags='-DHAS_FPSETMASK -DHAS_FLOATINGPOINT_H -fno-strict-aliasing -pipe -fstack-protector -I/usr/local/include'
ccversion='', gccversion='4.2.1 Compatible FreeBSD Clang 3.4.1 (tags/RELEASE_34/dot1-final 208032)', gccosandvers=''
intsize=4, longsize=8, ptrsize=8, doublesize=8, byteorder=12345678, doublekind=3
d_longlong=define, longlongsize=8, d_longdbl=define, longdblsize=16, longdblkind=3
ivtype='long', ivsize=8, nvtype='double', nvsize=8, Off_t='off_t', lseeksize=8
alignbytes=8, prototype=define
Linker and Libraries:
ld='cc', ldflags ='-pthread -Wl,-E -fstack-protector -L/usr/local/lib'
libpth=/usr/lib /usr/local/lib /usr/include/clang/3.4.1 /usr/lib
libs=-lpthread -lgdbm -lm -lcrypt -lutil -lc
perllibs=-lpthread -lm -lcrypt -lutil -lc
libc=, so=so, useshrplib=false, libperl=libperl.a
gnulibc_version=''
Dynamic Linking:
dlsrc=dl_dlopen.xs, dlext=so, d_dlsymun=undef, ccdlflags=' '
cccdlflags='-DPIC -fPIC', lddlflags='-shared -L/usr/local/lib -fstack-protector'
Characteristics of this binary (from libperl):
Compile-time options: HAS_TIMES PERLIO_LAYERS PERL_COPY_ON_WRITE
PERL_DONT_CREATE_GVSV
PERL_HASH_FUNC_ONE_AT_A_TIME_HARD PERL_MALLOC_WRAP
PERL_PRESERVE_IVUV USE_64_BIT_ALL USE_64_BIT_INT
USE_LARGE_FILES USE_LOCALE USE_LOCALE_COLLATE
USE_LOCALE_CTYPE USE_LOCALE_NUMERIC USE_LOCALE_TIME
USE_PERLIO USE_PERL_ATOF
Built under freebsd
Compiled at Dec 11 2018 23:48:33
%ENV:
PERL5LIB=""
PERL5OPT=""
PERL5_CPANPLUS_IS_RUNNING="43767"
PERL5_CPAN_IS_RUNNING="43767"
PERL5_CPAN_IS_RUNNING_IN_RECURSION="27465,43767"
PERLDOC="-MPod::Perldoc::ToTextOverstrike"
PERL_BATCH="yes"
PERL_CANARY_STABILITY_NOPROMPT="1"
PERL_CPAN_REPORTER_CONFIG="/var/tmp/cpansmoker-1023/2023020708/cpanreporter_006_config.ini"
PERL_EXTUTILS_AUTOINSTALL="--defaultdeps"
PERL_USE_UNSAFE_INC="1"
@INC:
/usr/perl5.24.4p/lib/site_perl/5.24.4/amd64-freebsd
/usr/perl5.24.4p/lib/site_perl/5.24.4
/usr/perl5.24.4p/lib/5.24.4/amd64-freebsd
/usr/perl5.24.4p/lib/5.24.4
.