Back
From: metabase:user:4e907d62-f7b3-11df-93e6-9a870043dc7d
Subject: PASS Class-PObject-2.17 v5.18.2 Mac OS X
Date: 2014-05-25T19:54:30Z
This distribution has been tested as part of the CPAN Testers
project, supporting the Perl programming language. See
http://wiki.cpantesters.org/ for more information or email
questions to cpan-testers-discuss@perl.org
--
Dear Sherzod Ruzmetov,
This is a computer-generated report for Class-PObject-2.17
on perl 5.18.2, created by CPAN-Reporter-1.2011.
Thank you for uploading your work to CPAN. Congratulations!
All tests were successful.
Sections of this report:
* Tester comments
* Program output
* Prerequisites
* Environment and other context
------------------------------
TESTER COMMENTS
------------------------------
Additional comments from tester:
none provided
------------------------------
PROGRAM OUTPUT
------------------------------
Output from '/usr/bin/make test':
PERL_DL_NONLAZY=1 /Users/johanna/sw/bin/perl "-MExtUtils::Command::MM" "-MTest::Harness" "-e" "undef *Test::Harness::Switches; test_harness(0, 'blib/lib', 'blib/arch')" t/*.t
t/01basic_file.t ..... ok
t/06basic_csv.t ...... skipped: DBI is not installed
t/11basic_mysql.t .... skipped: DBI is not available
t/16basic_db_file.t .. ok
t/21basic_sqlite.t ... skipped: DBD::SQLite is not available
t/61types_file.t ..... ok
t/62types_csv.t ...... skipped: DBI is not installed
t/63types_db_file.t .. ok
t/64types_mysql.t .... skipped: DBI is not available
t/65types_sqlite.t ... skipped: DBD::SQLite is not available
t/70hasa_file.t ...... ok
t/71hasa_csv.t ....... skipped: DBI is not installed
t/72hasa_mysql.t ..... skipped: DBI is not available
t/73hasa_db_file.t ... ok
t/74hasa_sqlite.t .... skipped: DBD::SQLite is not available
All tests successful.
Files=15, Tests=574, 0 wallclock secs ( 0.09 usr 0.04 sys + 0.43 cusr 0.08 csys = 0.64 CPU)
Result: PASS
------------------------------
PREREQUISITES
------------------------------
Prerequisite modules loaded:
requires:
Module Need Have
------------------- ---- --------
File::Basename 0 2.84
File::Path 0 2.09
File::Spec 0 3.47
IO::Dir 0 1.10
Log::Agent 0 1.000
Storable 0 2.45
Test::More 0 1.001003
build_requires:
Module Need Have
------------------- ---- --------
ExtUtils::MakeMaker 0 6.98
------------------------------
ENVIRONMENT AND OTHER CONTEXT
------------------------------
Environment variables:
LANG = en_US.UTF-8
PATH = /Users/johanna/sw/bin:/Users/johanna/Library/Haskell/bin:/opt/local/bin:/opt/local/sbin:/usr/bin:/bin:/usr/sbin:/sbin:/usr/local/bin:/opt/X11/bin:/usr/texbin
PERL5LIB = /Users/johanna/.cpan/build/CPAN-Reporter-1.2011-NmEA8u/blib/arch:/Users/johanna/.cpan/build/CPAN-Reporter-1.2011-NmEA8u/blib/lib
PERL5OPT =
PERL5_CPANPLUS_IS_RUNNING = 70126
PERL5_CPAN_IS_RUNNING = 70126
SHELL = /bin/bash
TERM = xterm-256color
TMPDIR = /var/folders/lv/r_ypktj10ds7lhll4s5ts27h0000gn/T/
Perl special variables (and OS-specific diagnostics, for MSWin32):
$^X = /Users/johanna/sw/bin/perl
$UID/$EUID = 501 / 501
$GID = 20 20 502 402 12 61 79 80 81 98 33 100 204 398 399
$EGID = 20 20 502 402 12 61 79 80 81 98 33 100 204 398 399
Perl module toolchain versions installed:
Module Have
------------------- --------
CPAN 2.05
CPAN::Meta 2.141170
Cwd 3.47
ExtUtils::CBuilder 0.280216
ExtUtils::Command 1.18
ExtUtils::Install 1.67
ExtUtils::MakeMaker 6.98
ExtUtils::Manifest 1.63
ExtUtils::ParseXS 3.24
File::Spec 3.47
JSON 2.90
JSON::PP 2.27203
Module::Build 0.4205
Module::Signature n/a
Parse::CPAN::Meta 1.4414
Test::Harness 3.30
Test::More 1.001003
YAML 0.90
YAML::Syck n/a
version 0.9908
--
Summary of my perl5 (revision 5 version 18 subversion 2) configuration:
Platform:
osname=darwin, osvers=13.2.0, archname=darwin-2level
uname='darwin ladymacbeth.local 13.2.0 darwin kernel version 13.2.0: thu apr 17 23:03:13 pdt 2014; root:xnu-2422.100.13~1release_x86_64 x86_64 '
config_args='-des -Dprefix=/Users/johanna/sw'
hint=recommended, useposix=true, d_sigaction=define
useithreads=undef, usemultiplicity=undef
useperlio=define, d_sfio=undef, uselargefiles=define, usesocks=undef
use64bitint=define, use64bitall=define, uselongdouble=undef
usemymalloc=n, bincompat5005=undef
Compiler:
cc='cc', ccflags ='-fno-common -DPERL_DARWIN -fno-strict-aliasing -pipe -fstack-protector -I/usr/local/include -I/opt/local/include',
optimize='-O3',
cppflags='-fno-common -DPERL_DARWIN -fno-strict-aliasing -pipe -fstack-protector -I/usr/local/include -I/opt/local/include'
ccversion='', gccversion='4.2.1 Compatible Apple LLVM 5.1 (clang-503.0.40)', gccosandvers=''
intsize=4, longsize=8, ptrsize=8, doublesize=8, byteorder=12345678
d_longlong=define, longlongsize=8, d_longdbl=define, longdblsize=16
ivtype='long', ivsize=8, nvtype='double', nvsize=8, Off_t='off_t', lseeksize=8
alignbytes=8, prototype=define
Linker and Libraries:
ld='env MACOSX_DEPLOYMENT_TARGET=10.3 cc', ldflags =' -fstack-protector -L/usr/local/lib -L/opt/local/lib'
libpth=/usr/local/lib /opt/local/lib /usr/lib
libs=-lgdbm -ldbm -ldl -lm -lutil -lc
perllibs=-ldl -lm -lutil -lc
libc=, so=dylib, useshrplib=false, libperl=libperl.a
gnulibc_version=''
Dynamic Linking:
dlsrc=dl_dlopen.xs, dlext=bundle, d_dlsymun=undef, ccdlflags=' '
cccdlflags=' ', lddlflags=' -bundle -undefined dynamic_lookup -L/usr/local/lib -L/opt/local/lib -fstack-protector'
Characteristics of this binary (from libperl):
Compile-time options: HAS_TIMES PERLIO_LAYERS PERL_DONT_CREATE_GVSV
PERL_HASH_FUNC_ONE_AT_A_TIME_HARD PERL_MALLOC_WRAP
PERL_PRESERVE_IVUV PERL_SAWAMPERSAND USE_64_BIT_ALL
USE_64_BIT_INT USE_LARGE_FILES USE_LOCALE
USE_LOCALE_COLLATE USE_LOCALE_CTYPE
USE_LOCALE_NUMERIC USE_PERLIO USE_PERL_ATOF
Built under darwin
Compiled at May 25 2014 11:41:47
%ENV:
PERL5LIB="/Users/johanna/.cpan/build/CPAN-Reporter-1.2011-NmEA8u/blib/arch:/Users/johanna/.cpan/build/CPAN-Reporter-1.2011-NmEA8u/blib/lib"
PERL5OPT=""
PERL5_CPANPLUS_IS_RUNNING="70126"
PERL5_CPAN_IS_RUNNING="70126"
@INC:
/Users/johanna/.cpan/build/CPAN-Reporter-1.2011-NmEA8u/blib/arch
/Users/johanna/.cpan/build/CPAN-Reporter-1.2011-NmEA8u/blib/lib
/Users/johanna/sw/lib/perl5/site_perl/5.18.2/darwin-2level
/Users/johanna/sw/lib/perl5/site_perl/5.18.2
/Users/johanna/sw/lib/perl5/5.18.2/darwin-2level
/Users/johanna/sw/lib/perl5/5.18.2
.