Locale-TextDomain-OO-Extract v2.017 Perl 5 v5.32.1 OpenBSD.amd64-openbsd

Status
Pass
From
David Cantrell (DCANTRELL)
Dist
Locale-TextDomain-OO-Extract v2.017
Platform
Perl 5 v5.32.1 OpenBSD.amd64-openbsd
Date
2025-01-10 04:14:28
ID
6271c704-cf09-11ef-9ad8-d65673d02bc5
This distribution has been tested as part of the CPAN Testers
project, supporting the Perl programming language.  See
http://wiki.cpantesters.org/ for more information or email
questions to cpan-testers-discuss@perl.org


--
Dear Steffen Winkler,

This is a computer-generated report for Locale-TextDomain-OO-Extract-2.017
on perl 5.32.1, created by CPAN-Reporter-1.2020.

Thank you for uploading your work to CPAN.  Congratulations!
All tests were successful.

Sections of this report:

    * Tester comments
    * Program output
    * Prerequisites
    * Environment and other context

------------------------------
TESTER COMMENTS
------------------------------

Additional comments from tester:

this report is from an automated smoke testing program
and was not reviewed by a human for accuracy

------------------------------
PROGRAM OUTPUT
------------------------------

Output from '/usr/bin/make test':

PERL_DL_NONLAZY=1 "/home/david/cpantesting/perl-5.32.1/bin/perl" "-MExtUtils::Command::MM" "-MTest::Harness" "-e" "undef *Test::Harness::Switches; test_harness(0, 'blib/lib', 'blib/arch')" t/*.t
t/01_debug.t ............................... skipped: Author test. Set $ENV{AUTHOR_TESTING} to a true value to run.
t/11_extract_perl_filter_ignore.t .......... ok
t/11_extract_perl_filter_only_babelfish.t .. ok
t/12_extract_tt_utf-8.t .................... ok
t/13_extract_js.t .......................... ok
t/14_extract_html.t ........................ ok
t/15_extract_yaml.t ........................ ok
t/21_process_utf-8.t ....................... skipped: Set $ENV{AUTHOR_TESTING} to run this test.
t/22_process_extended_skip_utf-8.t ......... skipped: Set $ENV{AUTHOR_TESTING} to run this test.
t/31_test_examples_utf-8.t ................. skipped: Set $ENV{AUTHOR_TESTING} to run this test.
t/chars.t .................................. skipped: Author test. Set $ENV{AUTHOR_TESTING} to a true value to run.
t/perl_critic.t ............................ skipped: Author test. Set $ENV{AUTHOR_TESTING} to a true value to run.
t/pod.t .................................... ok
t/pod_coverage.t ........................... ok
t/prereq_build.t ........................... skipped: Author test.  Set $ENV{RELEASE_TESTING} to a true value to run.
All tests successful.
Files=15, Tests=78,  9 wallclock secs ( 0.14 usr  0.13 sys +  7.71 cusr  1.28 csys =  9.26 CPU)
Result: PASS

------------------------------
PREREQUISITES
------------------------------

Prerequisite modules loaded:

requires:

    Module                                             Need     Have    
    -------------------------------------------------- -------- --------
    Carp                                               0        1.50    
    Class::Load                                        0        0.25    
    Clone                                              0        0.47    
    Cwd                                                0        3.75    
    Data::Dumper                                       0        2.183   
    Encode                                             0        3.21    
    Locale::MO::File                                   0.05     0.09    
    Locale::PO                                         0.25     0.27    
    Locale::TextDomain::OO::Util                       3.001    4.002   
    Locale::TextDomain::OO::Util::ExtractHeader        0        4.001   
    Locale::TextDomain::OO::Util::JoinSplitLexiconKeys 0        4.001   
    Locale::Utils::PlaceholderMaketext                 0        1.005   
    Moo                                                1.003001 2.005005
    Moo::Role                                          0        2.005005
    MooX::StrictConstructor                            0        0.013   
    MooX::Types::MooseLike::Base                       0        0.29    
    namespace::autoclean                               0        0.31    
    Path::Tiny                                         0        0.146   
    Set::Scalar                                        0        1.29    
    Test::Differences                                  0.60     0.71    
    Test::Exception                                    0        0.43    
    Test::More                                         0        1.302207
    Test::NoWarnings                                   0        1.06    

build_requires:

    Module                                             Need     Have    
    -------------------------------------------------- -------- --------
    ExtUtils::MakeMaker                                0        7.70    


------------------------------
ENVIRONMENT AND OTHER CONTEXT
------------------------------

Environment variables:

    AUTOMATED_TESTING = 1
    NONINTERACTIVE_TESTING = 1
    PATH = /home/david/perl5/perlbrew/bin:/home/david/perl5/perlbrew/perls/perl-5.32.0/bin:/home/david/bin:/bin:/sbin:/usr/bin:/usr/sbin:/usr/X11R6/bin:/usr/local/bin:/usr/local/sbin:/usr/games:/home/david/.fzf/bin
    PERL = 5.32.1
    PERL5LIB = 
    PERL5OPT = 
    PERL5_CPANPLUS_IS_RUNNING = 90993
    PERL5_CPAN_IS_RUNNING = 90993
    PERLBREW_HOME = /home/david/.perlbrew
    PERLBREW_MANPATH = /home/david/perl5/perlbrew/perls/perl-5.32.0/man
    PERLBREW_PATH = /home/david/perl5/perlbrew/bin:/home/david/perl5/perlbrew/perls/perl-5.32.0/bin
    PERLBREW_PERL = perl-5.32.0
    PERLBREW_ROOT = /home/david/perl5/perlbrew
    PERLBREW_SHELLRC_VERSION = 1.00
    PERLBREW_VERSION = 1.00
    PERLVER = 5.32.1
    PERL_INLINE_DIRECTORY = /home/david/.Inline-5.32.1
    PERL_MM_USE_DEFAULT = 1
    PERL_USE_UNSAFE_INC = 0
    SHELL = /usr/local/bin/bash
    TERM = screen

Perl special variables (and OS-specific diagnostics, for MSWin32):

    $^X = /home/david/cpantesting/perl-5.32.1/bin/perl
    $UID/$EUID = 1000 / 1000
    $GID = 1000 1000 0
    $EGID = 1000 1000 0

Perl module toolchain versions installed:

    Module              Have    
    ------------------- --------
    CPAN                2.37    
    CPAN::Meta          2.150010
    Cwd                 3.75    
    ExtUtils::CBuilder  0.280236
    ExtUtils::Command   7.70    
    ExtUtils::Install   2.22    
    ExtUtils::MakeMaker 7.70    
    ExtUtils::Manifest  1.75    
    ExtUtils::ParseXS   3.51    
    File::Spec          3.75    
    JSON                4.10    
    JSON::PP            4.16    
    Module::Build       0.4234  
    Module::Signature   n/a     
    Parse::CPAN::Meta   2.150010
    Test2               1.302207
    Test::Harness       3.50    
    Test::More          1.302207
    YAML                1.31    
    YAML::Syck          n/a     
    version             0.9933  


--

Summary of my perl5 (revision 5 version 32 subversion 1) configuration:
   
  Platform:
    osname=openbsd
    osvers=7.6
    archname=OpenBSD.amd64-openbsd
    uname='openbsd cpantesting-openbsd 7.6 generic#332 amd64 '
    config_args='-de -Dprefix=/home/david/cpantesting/perl-5.32.1'
    hint=recommended
    useposix=true
    d_sigaction=define
    useithreads=undef
    usemultiplicity=undef
    use64bitint=define
    use64bitall=define
    uselongdouble=undef
    usemymalloc=n
    default_inc_excludes_dot=define
    bincompat5005=undef
  Compiler:
    cc='cc'
    ccflags ='-fno-strict-aliasing -pipe -fstack-protector-strong -I/usr/local/include'
    optimize='-O2'
    cppflags='-fno-strict-aliasing -pipe -fstack-protector-strong -I/usr/local/include'
    ccversion=''
    gccversion='OpenBSD Clang 16.0.6'
    gccosandvers=''
    intsize=4
    longsize=8
    ptrsize=8
    doublesize=8
    byteorder=12345678
    doublekind=3
    d_longlong=define
    longlongsize=8
    d_longdbl=define
    longdblsize=16
    longdblkind=3
    ivtype='long'
    ivsize=8
    nvtype='double'
    nvsize=8
    Off_t='off_t'
    lseeksize=8
    alignbytes=8
    prototype=define
  Linker and Libraries:
    ld='cc'
    ldflags ='-Wl,-E  -fstack-protector-strong -L/usr/local/lib'
    libpth=/usr/lib/clang/16/lib /usr/lib /usr/local/lib
    libs=-lpthread -lm -lutil -lc
    perllibs=-lpthread -lm -lutil -lc
    libc=/usr/lib/libc.so.100.3
    so=so
    useshrplib=false
    libperl=libperl.a
    gnulibc_version=''
  Dynamic Linking:
    dlsrc=dl_dlopen.xs
    dlext=so
    d_dlsymun=undef
    ccdlflags=' '
    cccdlflags='-DPIC -fPIC '
    lddlflags='-shared -fPIC  -L/usr/local/lib -fstack-protector-strong'


Characteristics of this binary (from libperl): 
  Compile-time options:
    HAS_TIMES
    PERLIO_LAYERS
    PERL_COPY_ON_WRITE
    PERL_DONT_CREATE_GVSV
    PERL_MALLOC_WRAP
    PERL_OP_PARENT
    PERL_PRESERVE_IVUV
    USE_64_BIT_ALL
    USE_64_BIT_INT
    USE_LARGE_FILES
    USE_LOCALE
    USE_LOCALE_COLLATE
    USE_LOCALE_CTYPE
    USE_LOCALE_NUMERIC
    USE_LOCALE_TIME
    USE_PERLIO
    USE_PERL_ATOF
  Built under openbsd
  Compiled at Oct 31 2024 21:39:36
  %ENV:
    PERL="5.32.1"
    PERL5LIB=""
    PERL5OPT=""
    PERL5_CPANPLUS_IS_RUNNING="90993"
    PERL5_CPAN_IS_RUNNING="90993"
    PERLBREW_HOME="/home/david/.perlbrew"
    PERLBREW_MANPATH="/home/david/perl5/perlbrew/perls/perl-5.32.0/man"
    PERLBREW_PATH="/home/david/perl5/perlbrew/bin:/home/david/perl5/perlbrew/perls/perl-5.32.0/bin"
    PERLBREW_PERL="perl-5.32.0"
    PERLBREW_ROOT="/home/david/perl5/perlbrew"
    PERLBREW_SHELLRC_VERSION="1.00"
    PERLBREW_VERSION="1.00"
    PERLVER="5.32.1"
    PERL_INLINE_DIRECTORY="/home/david/.Inline-5.32.1"
    PERL_MM_USE_DEFAULT="1"
    PERL_USE_UNSAFE_INC="0"
  @INC:
    /home/david/cpantesting/perl-5.32.1/lib/site_perl/5.32.1/OpenBSD.amd64-openbsd
    /home/david/cpantesting/perl-5.32.1/lib/site_perl/5.32.1
    /home/david/cpantesting/perl-5.32.1/lib/5.32.1/OpenBSD.amd64-openbsd
    /home/david/cpantesting/perl-5.32.1/lib/5.32.1