Report for Tapper-PRC-4.1.2

Back
From: metabase:user:30ae4450-2aae-11df-837a-5e0a49663a4f
Subject: PASS Tapper-PRC-4.1.2 v5.16.2 GNU/Linux
Date: 2013-06-22T09:23:22Z

This distribution has been tested as part of the CPAN Testers
project, supporting the Perl programming language.  See
http://wiki.cpantesters.org/ for more information or email
questions to cpan-testers-discuss@perl.org


--
Dear Tapper Team,

This is a computer-generated report for Tapper-PRC-4.1.2
on perl 5.16.2, created by CPAN-Reporter-1.2010.

Thank you for uploading your work to CPAN.  Congratulations!
All tests were successful.

Sections of this report:

    * Tester comments
    * Program output
    * Prerequisites
    * Environment and other context

------------------------------
TESTER COMMENTS
------------------------------

Additional comments from tester:

this report is from an automated smoke testing program
and was not reviewed by a human for accuracy

------------------------------
PROGRAM OUTPUT
------------------------------

Output from '/usr/bin/make test':

PERL_DL_NONLAZY=1 /home/c/perl5/perlbrew/perls/5.16.2i/bin/perl "-MExtUtils::Command::MM" "-e" "test_harness(0, 'blib/lib', 'blib/arch')" t/*.t
t/00-load.t ............................ ok
t/01-tapper-prc.t ...................... ok
# Sleep a bit to prevent timout race conditions...
# Sleep a bit to prevent timout race conditions...
t/02-tapper-prc-testcontrol.t .......... ok
t/release-eol.t ........................ skipped: these tests are for release candidate testing
t/release-no-tabs.t .................... skipped: these tests are for release candidate testing
t/release-pod-coverage.t ............... skipped: these tests are for release candidate testing
t/release-pod-syntax.t ................. skipped: these tests are for release candidate testing
# Sleep a bit to prevent timout race conditions...
t/tapper-prc-sendtap.t ................. ok
t/tapper-prc-testcontrol-env.t ......... ok
t/tapper-prc-testcontrol-gueststart.t .. ok
t/tapper-prc-testcontrol-sync.t ........ ok
Use of uninitialized value $progpath in concatenation (.) or string at /home/c/.cpan/build/Tapper-PRC-4.1.2-ROdTXj/blib/lib/Tapper/PRC/Testcontrol.pm line 77.
Use of uninitialized value $progpath in concatenation (.) or string at /home/c/.cpan/build/Tapper-PRC-4.1.2-ROdTXj/blib/lib/Tapper/PRC/Testcontrol.pm line 77.
t/tapper-prc-testcontrol-timeouts.t .... ok
All tests successful.
Files=12, Tests=43, 45 wallclock secs ( 0.04 usr  0.09 sys +  2.45 cusr  0.70 csys =  3.28 CPU)
Result: PASS

------------------------------
PREREQUISITES
------------------------------

Prerequisite modules loaded:

requires:

    Module                  Need Have   
    ----------------------- ---- -------
    English                 0    1.05   
    File::Basename          0    2.84   
    File::Copy              0    2.23   
    File::Temp              0    0.2301 
    IO::Handle              0    1.33   
    IO::Socket::INET        0    1.33   
    IPC::Open3              0    1.12   
    Log::Log4perl           0    1.40   
    Moose                   0    2.0802 
    MooseX::Log::Log4perl   0    0.46   
    strict                  0    1.07   
    Sys::Hostname           0    1.16   
    Tapper::Base            0    4.1.4  
    Tapper::Installer::Base 0    4.1.1  
    Tapper::Remote::Config  0    4.1.1  
    Tapper::Remote::Net     0    4.1.1  
    URI::Escape             0    3.31   
    warnings                0    1.13   
    YAML                    0    0.84   
    YAML::Syck              0    1.22   

build_requires:

    Module                  Need Have   
    ----------------------- ---- -------
    Cwd                     0    3.40   
    Data::Dumper            0    2.139  
    Tapper::Config          0    4.1.3  
    Test::Deep              0    0.110  
    Test::MockModule        0    0.05   
    Test::More              0    0.98   
    Try::Tiny               0    0.12   

configure_requires:

    Module                  Need Have   
    ----------------------- ---- -------
    ExtUtils::MakeMaker     6.30 6.63_02


------------------------------
ENVIRONMENT AND OTHER CONTEXT
------------------------------

Environment variables:

    AUTOMATED_TESTING = 1
    LANG = ru_RU.utf8
    PATH = /home/c/perl5/perlbrew/bin:/home/c/perl5/perlbrew/perls/5.16.2i/bin:/usr/local/bin:/usr/bin:/bin:/usr/local/games:/usr/games
    PERL5LIB = /home/c/.cpan/build/Tapper-Installer-4.1.1-X9dLFf/blib/arch:/home/c/.cpan/build/Tapper-Installer-4.1.1-X9dLFf/blib/lib:/home/c/.cpan/build/Tapper-Remote-4.1.1-HKnexb/blib/arch:/home/c/.cpan/build/Tapper-Remote-4.1.1-HKnexb/blib/lib:/home/c/.cpan/build/Linux-Personality-0.01-J2H2gh/blib/arch:/home/c/.cpan/build/Linux-Personality-0.01-J2H2gh/blib/lib
    PERL5OPT = 
    PERL5_CPANPLUS_IS_RUNNING = 25638
    PERL5_CPAN_IS_RUNNING = 25638
    PERL5_CPAN_IS_RUNNING_IN_RECURSION = 4184,25638
    PERLBREW_MANPATH = /home/c/perl5/perlbrew/perls/5.16.2i/man
    PERLBREW_PATH = /home/c/perl5/perlbrew/bin:/home/c/perl5/perlbrew/perls/5.16.2i/bin
    PERLBREW_PERL = 5.16.2i
    PERLBREW_ROOT = /home/c/perl5/perlbrew
    PERLBREW_SKIP_INIT = 1
    PERLBREW_VERSION = 0.58
    PERL_CR_SMOKER_CURRENT = Tapper-PRC-4.1.2
    PERL_EXTUTILS_AUTOINSTALL = --defaultdeps
    PERL_MM_USE_DEFAULT = 1
    SHELL = /bin/bash
    TERM = xterm

Perl special variables (and OS-specific diagnostics, for MSWin32):

    $^X = /home/c/perl5/perlbrew/perls/5.16.2i/bin/perl
    $UID/$EUID = 1000 / 1000
    $GID = 1000 24 25 27 29 30 44 46 108 109 115 1000 1001
    $EGID = 1000 24 25 27 29 30 44 46 108 109 115 1000 1001

Perl module toolchain versions installed:

    Module              Have    
    ------------------- --------
    CPAN                2.00    
    CPAN::Meta          2.120921
    Cwd                 3.40    
    ExtUtils::CBuilder  0.280206
    ExtUtils::Command   1.17    
    ExtUtils::Install   1.58    
    ExtUtils::MakeMaker 6.63_02 
    ExtUtils::Manifest  1.61    
    ExtUtils::ParseXS   3.16    
    File::Spec          3.40    
    JSON                2.53    
    JSON::PP            2.27200 
    Module::Build       0.4005  
    Module::Signature   0.70    
    Parse::CPAN::Meta   1.4404  
    Test::Harness       3.28    
    Test::More          0.98    
    YAML                0.84    
    YAML::Syck          1.22    
    version             0.9901  


--

Summary of my perl5 (revision 5 version 16 subversion 2) configuration:
   
  Platform:
    osname=linux, osvers=2.6.32-5-686, archname=i686-linux-thread-multi
    uname='linux deb1 2.6.32-5-686 #1 smp sun sep 23 09:49:36 utc 2012 i686 gnulinux '
    config_args='-de -Dprefix=/home/c/perl5/perlbrew/perls/5.16.2i -Dusethreads -Aeval:scriptdir=/home/c/perl5/perlbrew/perls/5.16.2i/bin'
    hint=recommended, useposix=true, d_sigaction=define
    useithreads=define, usemultiplicity=define
    useperlio=define, d_sfio=undef, uselargefiles=define, usesocks=undef
    use64bitint=undef, use64bitall=undef, uselongdouble=undef
    usemymalloc=n, bincompat5005=undef
  Compiler:
    cc='cc', ccflags ='-D_REENTRANT -D_GNU_SOURCE -fno-strict-aliasing -pipe -fstack-protector -I/usr/local/include -D_LARGEFILE_SOURCE -D_FILE_OFFSET_BITS=64',
    optimize='-O2',
    cppflags='-D_REENTRANT -D_GNU_SOURCE -fno-strict-aliasing -pipe -fstack-protector -I/usr/local/include'
    ccversion='', gccversion='4.4.5', gccosandvers=''
    intsize=4, longsize=4, ptrsize=4, doublesize=8, byteorder=1234
    d_longlong=define, longlongsize=8, d_longdbl=define, longdblsize=12
    ivtype='long', ivsize=4, nvtype='double', nvsize=8, Off_t='off_t', lseeksize=8
    alignbytes=4, prototype=define
  Linker and Libraries:
    ld='cc', ldflags =' -fstack-protector -L/usr/local/lib'
    libpth=/usr/local/lib /lib/../lib /usr/lib/../lib /lib /usr/lib /usr/lib/i486-linux-gnu /usr/lib64
    libs=-lnsl -lgdbm -ldb -ldl -lm -lcrypt -lutil -lpthread -lc -lgdbm_compat
    perllibs=-lnsl -ldl -lm -lcrypt -lutil -lpthread -lc
    libc=/lib/libc-2.11.3.so, so=so, useshrplib=false, libperl=libperl.a
    gnulibc_version='2.11.3'
  Dynamic Linking:
    dlsrc=dl_dlopen.xs, dlext=so, d_dlsymun=undef, ccdlflags='-Wl,-E'
    cccdlflags='-fPIC', lddlflags='-shared -O2 -L/usr/local/lib -fstack-protector'


Characteristics of this binary (from libperl): 
  Compile-time options: HAS_TIMES MULTIPLICITY PERLIO_LAYERS
                        PERL_DONT_CREATE_GVSV PERL_IMPLICIT_CONTEXT
                        PERL_MALLOC_WRAP PERL_PRESERVE_IVUV USE_ITHREADS
                        USE_LARGE_FILES USE_LOCALE USE_LOCALE_COLLATE
                        USE_LOCALE_CTYPE USE_LOCALE_NUMERIC USE_PERLIO
                        USE_PERL_ATOF USE_REENTRANT_API
  Built under linux
  Compiled at Jan 26 2013 16:12:36
  %ENV:
    PERL5LIB="/home/c/.cpan/build/Tapper-Installer-4.1.1-X9dLFf/blib/arch:/home/c/.cpan/build/Tapper-Installer-4.1.1-X9dLFf/blib/lib:/home/c/.cpan/build/Tapper-Remote-4.1.1-HKnexb/blib/arch:/home/c/.cpan/build/Tapper-Remote-4.1.1-HKnexb/blib/lib:/home/c/.cpan/build/Linux-Personality-0.01-J2H2gh/blib/arch:/home/c/.cpan/build/Linux-Personality-0.01-J2H2gh/blib/lib"
    PERL5OPT=""
    PERL5_CPANPLUS_IS_RUNNING="25638"
    PERL5_CPAN_IS_RUNNING="25638"
    PERL5_CPAN_IS_RUNNING_IN_RECURSION="4184,25638"
    PERLBREW_MANPATH="/home/c/perl5/perlbrew/perls/5.16.2i/man"
    PERLBREW_PATH="/home/c/perl5/perlbrew/bin:/home/c/perl5/perlbrew/perls/5.16.2i/bin"
    PERLBREW_PERL="5.16.2i"
    PERLBREW_ROOT="/home/c/perl5/perlbrew"
    PERLBREW_SKIP_INIT="1"
    PERLBREW_VERSION="0.58"
    PERL_CR_SMOKER_CURRENT="Tapper-PRC-4.1.2"
    PERL_EXTUTILS_AUTOINSTALL="--defaultdeps"
    PERL_MM_USE_DEFAULT="1"
  @INC:
    /home/c/.cpan/build/Tapper-Installer-4.1.1-X9dLFf/blib/arch
    /home/c/.cpan/build/Tapper-Installer-4.1.1-X9dLFf/blib/lib
    /home/c/.cpan/build/Tapper-Remote-4.1.1-HKnexb/blib/arch
    /home/c/.cpan/build/Tapper-Remote-4.1.1-HKnexb/blib/lib
    /home/c/.cpan/build/Linux-Personality-0.01-J2H2gh/blib/arch
    /home/c/.cpan/build/Linux-Personality-0.01-J2H2gh/blib/lib
    /home/c/perl5/perlbrew/perls/5.16.2i/lib/site_perl/5.16.2/i686-linux-thread-multi
    /home/c/perl5/perlbrew/perls/5.16.2i/lib/site_perl/5.16.2
    /home/c/perl5/perlbrew/perls/5.16.2i/lib/5.16.2/i686-linux-thread-multi
    /home/c/perl5/perlbrew/perls/5.16.2i/lib/5.16.2
    .