Report for PerlPoint-Package-0.452

Back
From: metabase:user:0b91ce32-3676-11e1-a1bc-bfed0df65b4f
Subject: PASS PerlPoint-Package-0.452 v5.16.0 RC0 GNU/Linux
Date: 2012-05-22T06:00:07Z

This distribution has been tested as part of the CPAN Testers
project, supporting the Perl programming language.  See
http://wiki.cpantesters.org/ for more information or email
questions to cpan-testers-discuss@perl.org


--
Dear Jochen Stenzel,

This is a computer-generated report for PerlPoint-Package-0.452
on perl 5.16.0, created by CPAN-Reporter-1.2006.

Thank you for uploading your work to CPAN.  Congratulations!
All tests were successful.

Sections of this report:

    * Tester comments
    * Program output
    * Prerequisites
    * Environment and other context

------------------------------
TESTER COMMENTS
------------------------------

Additional comments from tester:

none provided

------------------------------
PROGRAM OUTPUT
------------------------------

Output from '/usr/bin/make test':

PERL_DL_NONLAZY=1 /opt/perl-5.16.0-RC0/bin/perl "-MExtUtils::Command::MM" "-e" "test_harness(0, 'blib/lib', 'blib/arch')" t/*.t
[22:59:29] t/l0_backend-base.t ... ok      475 ms
[22:59:30] t/l0_backend-modes.t .. ok      868 ms
[22:59:32] t/l0_backend-navi.t ... ok     1754 ms
Use of uninitialized value in uc at /root/.cpan/build/PerlPoint-Package-0.452-T9uPNj/blib/lib/PerlPoint/Tags.pm line 502.
Use of uninitialized value in uc at /root/.cpan/build/PerlPoint-Package-0.452-T9uPNj/blib/lib/PerlPoint/Tags.pm line 502.
[22:59:32] t/l0_backend-toc.t .... ok      461 ms
Use of uninitialized value in uc at /root/.cpan/build/PerlPoint-Package-0.452-T9uPNj/blib/lib/PerlPoint/Tags.pm line 502.
Use of uninitialized value in uc at /root/.cpan/build/PerlPoint-Package-0.452-T9uPNj/blib/lib/PerlPoint/Tags.pm line 502.
[22:59:35] t/l0_cache-fill.t ..... ok     3160 ms
Use of uninitialized value in uc at /root/.cpan/build/PerlPoint-Package-0.452-T9uPNj/blib/lib/PerlPoint/Tags.pm line 502.
Use of uninitialized value in uc at /root/.cpan/build/PerlPoint-Package-0.452-T9uPNj/blib/lib/PerlPoint/Tags.pm line 502.
[22:59:39] t/l0_cache-hits.t ..... ok     3233 ms
[22:59:39] t/l0_cache-remove.t ... ok      713 ms
[22:59:40] t/l0_code.t ........... ok      430 ms
[22:59:40] t/l0_comments.t ....... ok      340 ms
[22:59:41] t/l0_conditions.t ..... ok      517 ms
[22:59:42] t/l0_docstreams1.t .... ok      847 ms
[22:59:43] t/l0_docstreams2.t .... ok     1184 ms
[22:59:44] t/l0_docstreams3.t .... ok      717 ms
[22:59:44] t/l0_documents.t ...... ok      345 ms
[22:59:45] t/l0_embedded.t ....... ok      867 ms
Use of uninitialized value in uc at /root/.cpan/build/PerlPoint-Package-0.452-T9uPNj/blib/lib/PerlPoint/Tags.pm line 502.
Use of uninitialized value in uc at /root/.cpan/build/PerlPoint-Package-0.452-T9uPNj/blib/lib/PerlPoint/Tags.pm line 502.
[22:59:46] t/l0_headlines.t ...... ok     1296 ms
[22:59:48] t/l0_ifilters.t ....... ok     1558 ms
[22:59:49] t/l0_include1.t ....... ok      886 ms
[22:59:50] t/l0_include2.t ....... ok      860 ms
[22:59:50] t/l0_include3.t ....... ok      419 ms
[22:59:51] t/l0_include6.t ....... ok      484 ms
Use of uninitialized value in uc at /root/.cpan/build/PerlPoint-Package-0.452-T9uPNj/blib/lib/PerlPoint/Tags.pm line 502.
Use of uninitialized value in uc at /root/.cpan/build/PerlPoint-Package-0.452-T9uPNj/blib/lib/PerlPoint/Tags.pm line 502.
[22:59:52] t/l0_index.t .......... ok      949 ms
[22:59:52] t/l0_linehints.t ...... ok      341 ms
[22:59:53] t/l0_lists.t .......... ok      702 ms
Use of uninitialized value in uc at /root/.cpan/build/PerlPoint-Package-0.452-T9uPNj/blib/lib/PerlPoint/Tags.pm line 502.
Use of uninitialized value in uc at /root/.cpan/build/PerlPoint-Package-0.452-T9uPNj/blib/lib/PerlPoint/Tags.pm line 502.
[22:59:53] t/l0_macros.t ......... ok      800 ms
Use of uninitialized value in uc at /root/.cpan/build/PerlPoint-Package-0.452-T9uPNj/blib/lib/PerlPoint/Tags.pm line 502.
Use of uninitialized value in uc at /root/.cpan/build/PerlPoint-Package-0.452-T9uPNj/blib/lib/PerlPoint/Tags.pm line 502.
[22:59:55] t/l0_pfilters.t ....... ok     1177 ms
[22:59:55] t/l0_simple.t ......... ok      401 ms
[22:59:57] t/l0_tables.t ......... ok     1959 ms
Use of uninitialized value in uc at /root/.cpan/build/PerlPoint-Package-0.452-T9uPNj/blib/lib/PerlPoint/Tags.pm line 502.
Use of uninitialized value in uc at /root/.cpan/build/PerlPoint-Package-0.452-T9uPNj/blib/lib/PerlPoint/Tags.pm line 502.
[22:59:58] t/l0_tags.t ........... ok     1352 ms
[22:59:59] t/l0_text.t ........... ok      417 ms
[23:00:00] t/l0_variables1.t ..... ok     1040 ms
[23:00:01] t/l0_variables2.t ..... ok      933 ms
[23:00:03] t/l0_variables3.t ..... ok     1630 ms
[23:00:03] t/l0_verbatim.t ....... ok      332 ms
[23:00:03] t/l9_pod-coverage.t ... skipped: Docs not complete yet and TODO doesn't work as expected
[23:00:04] t/l9_pod.t ............ ok     1251 ms
[23:00:04]
All tests successful.
Files=36, Tests=14098, 36 wallclock secs ( 6.51 usr  0.42 sys + 26.44 cusr  2.24 csys = 35.61 CPU)
Result: PASS

------------------------------
PREREQUISITES
------------------------------

Prerequisite modules loaded:

requires:

    Module              Need Have
    ------------------- ---- ----
    Digest::SHA1        1    2.13
    File::Spec          0.8  3.33
    File::Temp          0.12 0.22
    Getopt::Long        2.24 2.38
    IO::File            1    1.14
    Pod::Simple         3.02 3.20
    Storable            1    2.30
    Test::Harness       1.25 3.23
    Test::More          0.11 0.98

build_requires:

    Module              Need Have
    ------------------- ---- ----
    ExtUtils::MakeMaker 0    6.62


------------------------------
ENVIRONMENT AND OTHER CONTEXT
------------------------------

Environment variables:

    AUTHOR_TESTING = 1
    LANG = en_US.UTF-8
    PATH = /usr/kerberos/sbin:/usr/kerberos/bin:/usr/local/sbin:/usr/local/bin:/sbin:/bin:/usr/sbin:/usr/bin:/opt/real/RealPlayer:/root/bin:/opt/real/RealPlayer
    PERL5LIB = 
    PERL5OPT = 
    PERL5_CPANPLUS_IS_RUNNING = 11086
    PERL5_CPAN_IS_RUNNING = 11086
    PERL_AUTOINSTALL = defaultdeps
    PERL_EXTUTILS_AUTOINSTALL = --defaultdeps
    PERL_MM_USE_DEFAULT = 1
    SHELL = /bin/bash
    TERM = xterm

Perl special variables (and OS-specific diagnostics, for MSWin32):

    $^X = /opt/perl-5.16.0-RC0/bin/perl
    $UID/$EUID = 0 / 0
    $GID = 0 0 1 2 3 4 6 10
    $EGID = 0 0 1 2 3 4 6 10

Perl module toolchain versions installed:

    Module              Have    
    ------------------- --------
    CPAN                1.9800  
    CPAN::Meta          2.120921
    Cwd                 3.33    
    ExtUtils::CBuilder  0.280205
    ExtUtils::Command   1.17    
    ExtUtils::Install   1.54    
    ExtUtils::MakeMaker 6.62    
    ExtUtils::Manifest  1.60    
    ExtUtils::ParseXS   3.15    
    File::Spec          3.33    
    JSON                2.53    
    JSON::PP            2.27200 
    Module::Build       0.40    
    Module::Signature   0.68    
    Parse::CPAN::Meta   1.4404  
    Test::Harness       3.23    
    Test::More          0.98    
    YAML                0.81    
    YAML::Syck          1.20    
    version             0.99    


--

Summary of my perl5 (revision 5 version 16 subversion 0) configuration:
   
  Platform:
    osname=linux, osvers=2.6.18-1.2798.fc6, archname=i686-linux-thread-multi-64int-ld
    uname='linux localhost.localdomain 2.6.18-1.2798.fc6 #1 smp mon oct 16 14:37:32 edt 2006 i686 i686 i386 gnulinux '
    config_args='-Dcc=gcc -Dprefix=/opt/perl-5.16.0-RC0 DEBUGGING'
    hint=recommended, useposix=true, d_sigaction=define
    useithreads=define, usemultiplicity=define
    useperlio=define, d_sfio=undef, uselargefiles=define, usesocks=undef
    use64bitint=define, use64bitall=undef, uselongdouble=define
    usemymalloc=n, bincompat5005=undef
  Compiler:
    cc='gcc', ccflags ='-D_REENTRANT -D_GNU_SOURCE -fno-strict-aliasing -pipe -fstack-protector -I/usr/local/include -D_LARGEFILE_SOURCE -D_FILE_OFFSET_BITS=64',
    optimize='-O2',
    cppflags='-D_REENTRANT -D_GNU_SOURCE -fno-strict-aliasing -pipe -fstack-protector -I/usr/local/include'
    ccversion='', gccversion='4.1.1 20061011 (Red Hat 4.1.1-30)', gccosandvers=''
    intsize=4, longsize=4, ptrsize=4, doublesize=8, byteorder=12345678
    d_longlong=define, longlongsize=8, d_longdbl=define, longdblsize=12
    ivtype='long long', ivsize=8, nvtype='long double', nvsize=12, Off_t='off_t', lseeksize=8
    alignbytes=4, prototype=define
  Linker and Libraries:
    ld='gcc', ldflags =' -fstack-protector -L/usr/local/lib'
    libpth=/usr/local/lib /lib /usr/lib
    libs=-lnsl -lgdbm -ldb -ldl -lm -lcrypt -lutil -lpthread -lc
    perllibs=-lnsl -ldl -lm -lcrypt -lutil -lpthread -lc
    libc=/lib/libc-2.5.so, so=so, useshrplib=true, libperl=libperl.so
    gnulibc_version='2.5'
  Dynamic Linking:
    dlsrc=dl_dlopen.xs, dlext=so, d_dlsymun=undef, ccdlflags='-Wl,-E -Wl,-rpath,/opt/perl-5.16.0-RC0/lib/5.16.0/i686-linux-thread-multi-64int-ld/CORE'
    cccdlflags='-fPIC', lddlflags='-shared -O2 -L/usr/local/lib -fstack-protector'


Characteristics of this binary (from libperl): 
  Compile-time options: HAS_TIMES MULTIPLICITY PERLIO_LAYERS
                        PERL_DONT_CREATE_GVSV PERL_IMPLICIT_CONTEXT
                        PERL_MALLOC_WRAP PERL_PRESERVE_IVUV USE_64_BIT_INT
                        USE_FAST_STDIO USE_ITHREADS USE_LARGE_FILES
                        USE_LOCALE USE_LOCALE_COLLATE USE_LOCALE_CTYPE
                        USE_LOCALE_NUMERIC USE_LONG_DOUBLE USE_PERLIO
                        USE_PERL_ATOF USE_REENTRANT_API
  Locally applied patches:
	RC0
  Built under linux
  Compiled at May 12 2012 07:33:22
  %ENV:
    PERL5LIB=""
    PERL5OPT=""
    PERL5_CPANPLUS_IS_RUNNING="11086"
    PERL5_CPAN_IS_RUNNING="11086"
    PERL_AUTOINSTALL="defaultdeps"
    PERL_EXTUTILS_AUTOINSTALL="--defaultdeps"
    PERL_MM_USE_DEFAULT="1"
  @INC:
    /opt/perl-5.16.0-RC0/lib/site_perl/5.16.0/i686-linux-thread-multi-64int-ld
    /opt/perl-5.16.0-RC0/lib/site_perl/5.16.0
    /opt/perl-5.16.0-RC0/lib/5.16.0/i686-linux-thread-multi-64int-ld
    /opt/perl-5.16.0-RC0/lib/5.16.0
    .