Report for CatalystX-ComponentsFromConfig-1.006

Back
From: metabase:user:e099aa30-bf4f-11e0-b0bb-a7aeb748a6a7
Subject: PASS CatalystX-ComponentsFromConfig-1.006 v5.18.1 Mac OS X
Date: 2015-07-19T20:54:43Z

This distribution has been tested as part of the CPAN Testers
project, supporting the Perl programming language.  See
http://wiki.cpantesters.org/ for more information or email
questions to cpan-testers-discuss@perl.org


--
Dear Gianni Ceccarelli,

This is a computer-generated report for CatalystX-ComponentsFromConfig-1.006
on perl 5.18.1, created by CPAN-Reporter-1.2011.

Thank you for uploading your work to CPAN.  Congratulations!
All tests were successful.

Sections of this report:

    * Tester comments
    * Program output
    * Prerequisites
    * Environment and other context

------------------------------
TESTER COMMENTS
------------------------------

Additional comments from tester:

none provided

------------------------------
PROGRAM OUTPUT
------------------------------

Output from '/usr/bin/make test':

PERL_DL_NONLAZY=1 "/usr/local/bin/perl" "-MExtUtils::Command::MM" "-MTest::Harness" "-e" "undef *Test::Harness::Switches; test_harness(0, 'blib/lib', 'blib/arch')" t/*.t
Class::MOP::load_class is deprecated at /usr/local/lib/perl5/site_perl/5.18.1/darwin-2level/Class/MOP.pm line 69.
	Class::MOP::load_class("TestApp::TraitFor::ViewBase::Foo::Magic") called at /usr/local/lib/perl5/site_perl/5.18.1/MooseX/Traits/Pluggable.pm line 79
	eval {...} called at /usr/local/lib/perl5/site_perl/5.18.1/MooseX/Traits/Pluggable.pm line 79
	MooseX::Traits::Pluggable::_transform_trait("Moose::Meta::Class::__ANON__::SERIAL::15", "Magic") called at /usr/local/lib/perl5/site_perl/5.18.1/MooseX/Traits/Pluggable.pm line 88
	MooseX::Traits::Pluggable::_resolve_traits("Moose::Meta::Class::__ANON__::SERIAL::15", "Magic") called at /usr/local/lib/perl5/site_perl/5.18.1/MooseX/Traits/Pluggable.pm line 117
	MooseX::Traits::Pluggable::_build_instance_with_traits("Moose::Meta::Class::__ANON__::SERIAL::15", "Moose::Meta::Class::__ANON__::SERIAL::15") called at /usr/local/lib/perl5/site_perl/5.18.1/MooseX/Traits/Pluggable.pm line 97
	MooseX::Traits::Pluggable::new_with_traits("Moose::Meta::Class::__ANON__::SERIAL::15", HASH(0x7fcd0c2f7250)) called at /private/var/root/.cpan/build/CatalystX-ComponentsFromConfig-1.006-7uu8nW/blib/lib/CatalystX/ComponentsFromConfig/Role/AdaptorRole.pm line 103
	Class::MOP::Class:::around(CODE(0x7fcd0bc69f88), "TestApp::View::Bar", "TestApp", HASH(0x7fcd0a52fd78)) called at /usr/local/lib/perl5/site_perl/5.18.1/darwin-2level/Class/MOP/Method/Wrapped.pm line 158
	Class::MOP::Method::Wrapped::__ANON__("TestApp::View::Bar", "TestApp", HASH(0x7fcd0a52fd78)) called at /usr/local/lib/perl5/site_perl/5.18.1/darwin-2level/Class/MOP/Method/Wrapped.pm line 87
	CatalystX::ComponentsFromConfig::ViewAdaptor::COMPONENT("TestApp::View::Bar", "TestApp", HASH(0x7fcd0a52fd78)) called at /usr/local/lib/perl5/site_perl/5.18.1/Catalyst.pm line 3100
	eval {...} called at /usr/local/lib/perl5/site_perl/5.18.1/Catalyst.pm line 3101
	Catalyst::setup_component("TestApp", "TestApp::View::Bar") called at /usr/local/lib/perl5/site_perl/5.18.1/CatalystX/InjectComponent.pm line 79
	CatalystX::InjectComponent::_setup_component("CatalystX::InjectComponent", "TestApp", "TestApp::View::Bar") called at /usr/local/lib/perl5/site_perl/5.18.1/CatalystX/InjectComponent.pm line 69
	CatalystX::InjectComponent::inject("CatalystX::InjectComponent", "skip_mvc_renaming", 0, "into", "TestApp", "component", "CatalystX::ComponentsFromConfig::ViewAdaptor", "as", "View::Bar", ...) called at /private/var/root/.cpan/build/CatalystX-ComponentsFromConfig-1.006-7uu8nW/blib/lib/CatalystX/ComponentsFromConfig/Role/PluginRole.pm line 53
	Moose::Meta::Role::__ANON__::SERIAL::8::_setup_dynamic_view("TestApp") called at /private/var/root/.cpan/build/CatalystX-ComponentsFromConfig-1.006-7uu8nW/blib/lib/CatalystX/ComponentsFromConfig/Role/PluginRole.pm line 34
	Class::MOP::Class:::after("TestApp") called at /usr/local/lib/perl5/site_perl/5.18.1/darwin-2level/Class/MOP/Method/Wrapped.pm line 56
	Class::MOP::Method::Wrapped::__ANON__("TestApp") called at /usr/local/lib/perl5/site_perl/5.18.1/darwin-2level/Class/MOP/Method/Wrapped.pm line 87
	TestApp::setup_components("TestApp") called at /usr/local/lib/perl5/site_perl/5.18.1/Catalyst.pm line 1363
	Catalyst::setup("TestApp") called at t/lib/TestApp.pm line 21
	require TestApp.pm called at t/more.t line 11
t/more.t .................. ok
t/release-no-tabs.t ....... skipped: these tests are for release candidate testing
t/release-pod-coverage.t .. skipped: these tests are for release candidate testing
t/release-pod-syntax.t .... skipped: these tests are for release candidate testing
Class::MOP::load_class is deprecated at /usr/local/lib/perl5/site_perl/5.18.1/darwin-2level/Class/MOP.pm line 69.
	Class::MOP::load_class("TestApp::Trait") called at /usr/local/lib/perl5/site_perl/5.18.1/MooseX/Traits/Pluggable.pm line 90
	MooseX::Traits::Pluggable::_resolve_traits("Moose::Meta::Class::__ANON__::SERIAL::14", "+TestApp::Trait") called at /usr/local/lib/perl5/site_perl/5.18.1/MooseX/Traits/Pluggable.pm line 117
	MooseX::Traits::Pluggable::_build_instance_with_traits("Moose::Meta::Class::__ANON__::SERIAL::14", "Moose::Meta::Class::__ANON__::SERIAL::14") called at /usr/local/lib/perl5/site_perl/5.18.1/MooseX/Traits/Pluggable.pm line 97
	MooseX::Traits::Pluggable::new_with_traits("Moose::Meta::Class::__ANON__::SERIAL::14", HASH(0x7fa616b6db88)) called at /private/var/root/.cpan/build/CatalystX-ComponentsFromConfig-1.006-7uu8nW/blib/lib/CatalystX/ComponentsFromConfig/Role/AdaptorRole.pm line 103
	Class::MOP::Class:::around(CODE(0x7fa6151a7b38), "TestApp::Model::Foo", "TestApp", HASH(0x7fa616a6f348)) called at /usr/local/lib/perl5/site_perl/5.18.1/darwin-2level/Class/MOP/Method/Wrapped.pm line 158
	Class::MOP::Method::Wrapped::__ANON__("TestApp::Model::Foo", "TestApp", HASH(0x7fa616a6f348)) called at /usr/local/lib/perl5/site_perl/5.18.1/darwin-2level/Class/MOP/Method/Wrapped.pm line 87
	CatalystX::ComponentsFromConfig::ModelAdaptor::COMPONENT("TestApp::Model::Foo", "TestApp", HASH(0x7fa616a6f348)) called at /usr/local/lib/perl5/site_perl/5.18.1/Catalyst.pm line 3100
	eval {...} called at /usr/local/lib/perl5/site_perl/5.18.1/Catalyst.pm line 3101
	Catalyst::setup_component("TestApp", "TestApp::Model::Foo") called at /usr/local/lib/perl5/site_perl/5.18.1/CatalystX/InjectComponent.pm line 79
	CatalystX::InjectComponent::_setup_component("CatalystX::InjectComponent", "TestApp", "TestApp::Model::Foo") called at /usr/local/lib/perl5/site_perl/5.18.1/CatalystX/InjectComponent.pm line 69
	CatalystX::InjectComponent::inject("CatalystX::InjectComponent", "skip_mvc_renaming", 0, "into", "TestApp", "component", "TestApp::ModelAdaptor", "as", "Model::Foo", ...) called at /private/var/root/.cpan/build/CatalystX-ComponentsFromConfig-1.006-7uu8nW/blib/lib/CatalystX/ComponentsFromConfig/Role/PluginRole.pm line 53
	Moose::Meta::Role::__ANON__::SERIAL::9::_setup_dynamic_model("TestApp") called at /private/var/root/.cpan/build/CatalystX-ComponentsFromConfig-1.006-7uu8nW/blib/lib/CatalystX/ComponentsFromConfig/Role/PluginRole.pm line 34
	Class::MOP::Class:::after("TestApp") called at /usr/local/lib/perl5/site_perl/5.18.1/darwin-2level/Class/MOP/Method/Wrapped.pm line 56
	Class::MOP::Method::Wrapped::__ANON__("TestApp") called at /usr/local/lib/perl5/site_perl/5.18.1/darwin-2level/Class/MOP/Method/Wrapped.pm line 87
	TestApp::setup_components("TestApp") called at /usr/local/lib/perl5/site_perl/5.18.1/Catalyst.pm line 1363
	Catalyst::setup("TestApp") called at t/lib/TestApp.pm line 21
	require TestApp.pm called at t/test.t line 11
[warn] Attempted to use view 'TestApp::View::bar', but does not exist
t/test.t .................. ok
All tests successful.
Files=5, Tests=6,  2 wallclock secs ( 0.03 usr  0.02 sys +  1.90 cusr  0.13 csys =  2.08 CPU)
Result: PASS

------------------------------
PREREQUISITES
------------------------------

Prerequisite modules loaded:

requires:

    Module                         Need Have    
    ------------------------------ ---- --------
    Catalyst::Model                0    0       
    Catalyst::View                 0    0       
    CatalystX::InjectComponent     0    0.025   
    Moose                          0    2.1403  
    Moose::Role                    0    2.1403  
    Moose::Util                    0    2.1403  
    Moose::Util::TypeConstraints   0    2.1403  
    MooseX::Role::Parameterized    0    1.08    
    MooseX::Traits::Pluggable      0.10 0.10    
    MooseX::Types::Common::String  0    0.001012
    MooseX::Types::LoadableClass   0    0.012   
    MooseX::Types::Moose           0    0.45    
    namespace::autoclean           0    0.22    

build_requires:

    Module                         Need Have    
    ------------------------------ ---- --------
    Catalyst                       0    5.90093 
    Catalyst::Plugin::ConfigLoader 0    0.34    
    Catalyst::Runtime              5.80 5.90093 
    Config::General                0    2.52    
    ExtUtils::MakeMaker            0    7.02    
    lib                            0    0.63    
    Path::Class                    0    0.33    
    Test::Deep                     0    0.113   
    Test::More                     0    1.001014

configure_requires:

    Module                         Need Have    
    ------------------------------ ---- --------
    ExtUtils::MakeMaker            0    7.02    


------------------------------
ENVIRONMENT AND OTHER CONTEXT
------------------------------

Environment variables:

    NONINTERACTIVE_TESTING = 1
    PATH = /usr/local/apache/bin:/usr/local/bin:/Developer/usr/bin:/usr/local/bin:/usr/bin:/bin:/usr/sbin:/sbin:/opt/X11/bin:/usr/local/git/bin
    PERL5LIB = 
    PERL5OPT = 
    PERL5_CPANPLUS_IS_RUNNING = 94114
    PERL5_CPAN_IS_RUNNING = 94114
    PERL_MM_USE_DEFAULT = 1
    SHELL = /bin/tcsh
    TERM = xterm

Perl special variables (and OS-specific diagnostics, for MSWin32):

    $^X = /usr/local/bin/perl
    $UID/$EUID = 0 / 0
    $GID = 0 0 1 2 3 4 5 8 9 12 20 29 61 80 402 33 98
    $EGID = 0 0 1 2 3 4 5 8 9 12 20 29 61 80 402 33 98

Perl module toolchain versions installed:

    Module              Have    
    ------------------- --------
    CPAN                2.10    
    CPAN::Meta          2.150001
    Cwd                 3.40    
    ExtUtils::CBuilder  0.280216
    ExtUtils::Command   1.17    
    ExtUtils::Install   1.63    
    ExtUtils::MakeMaker 7.02    
    ExtUtils::Manifest  1.69    
    ExtUtils::ParseXS   3.24    
    File::Spec          3.40    
    JSON                2.90    
    JSON::PP            2.27203 
    Module::Build       0.4211  
    Module::Signature   0.73    
    Parse::CPAN::Meta   1.4414  
    Test::Harness       3.35    
    Test::More          1.001014
    YAML                0.90    
    YAML::Syck          1.27    
    version             0.9908  


--

Summary of my perl5 (revision 5 version 18 subversion 1) configuration:
   
  Platform:
    osname=darwin, osvers=12.5.0, archname=darwin-2level
    uname='darwin tucumcari.local 12.5.0 darwin kernel version 12.5.0: sun sep 29 13:33:47 pdt 2013; root:xnu-2050.48.12~1release_x86_64 x86_64 '
    config_args=''
    hint=recommended, useposix=true, d_sigaction=define
    useithreads=undef, usemultiplicity=undef
    useperlio=define, d_sfio=undef, uselargefiles=define, usesocks=undef
    use64bitint=define, use64bitall=define, uselongdouble=undef
    usemymalloc=n, bincompat5005=undef
  Compiler:
    cc='gcc', ccflags ='-fno-common -DPERL_DARWIN -fno-strict-aliasing -pipe -fstack-protector -I/usr/local/include',
    optimize='-O3',
    cppflags='-fno-common -DPERL_DARWIN -fno-strict-aliasing -pipe -fstack-protector -I/usr/local/include'
    ccversion='', gccversion='4.2.1 (Based on Apple Inc. build 5658) (LLVM build 2336.11.00)', gccosandvers=''
    intsize=4, longsize=8, ptrsize=8, doublesize=8, byteorder=12345678
    d_longlong=define, longlongsize=8, d_longdbl=define, longdblsize=16
    ivtype='long', ivsize=8, nvtype='double', nvsize=8, Off_t='off_t', lseeksize=8
    alignbytes=8, prototype=define
  Linker and Libraries:
    ld='env MACOSX_DEPLOYMENT_TARGET=10.3 cc', ldflags =' -fstack-protector -L/usr/local/lib'
    libpth=/usr/local/lib /usr/lib
    libs=-lgdbm -ldbm -ldl -lm -lutil -lc
    perllibs=-ldl -lm -lutil -lc
    libc=, so=dylib, useshrplib=false, libperl=libperl.a
    gnulibc_version=''
  Dynamic Linking:
    dlsrc=dl_dlopen.xs, dlext=bundle, d_dlsymun=undef, ccdlflags=' '
    cccdlflags=' ', lddlflags=' -bundle -undefined dynamic_lookup -L/usr/local/lib -fstack-protector'


Characteristics of this binary (from libperl): 
  Compile-time options: HAS_TIMES PERLIO_LAYERS PERL_DONT_CREATE_GVSV
                        PERL_HASH_FUNC_ONE_AT_A_TIME_HARD PERL_MALLOC_WRAP
                        PERL_PRESERVE_IVUV PERL_SAWAMPERSAND USE_64_BIT_ALL
                        USE_64_BIT_INT USE_LARGE_FILES USE_LOCALE
                        USE_LOCALE_COLLATE USE_LOCALE_CTYPE
                        USE_LOCALE_NUMERIC USE_PERLIO USE_PERL_ATOF
  Built under darwin
  Compiled at Oct 18 2013 18:37:56
  %ENV:
    PERL5LIB=""
    PERL5OPT=""
    PERL5_CPANPLUS_IS_RUNNING="94114"
    PERL5_CPAN_IS_RUNNING="94114"
    PERL_MM_USE_DEFAULT="1"
  @INC:
    /usr/local/lib/perl5/site_perl/5.18.1/darwin-2level
    /usr/local/lib/perl5/site_perl/5.18.1
    /usr/local/lib/perl5/5.18.1/darwin-2level
    /usr/local/lib/perl5/5.18.1
    .