Report for Tapper-Reports-Web-5.0.13

Back
From: metabase:user:320bfe00-2aae-11df-837a-5e0a49663a4f
Subject: PASS Tapper-Reports-Web-5.0.13 v5.20.2 GNU/Linux
Date: 2017-06-09T19:25:22Z

This distribution has been tested as part of the CPAN Testers
project, supporting the Perl programming language.  See
http://wiki.cpantesters.org/ for more information or email
questions to cpan-testers-discuss@perl.org


--
Dear Tapper Team,

This is a computer-generated report for Tapper-Reports-Web-5.0.13
on perl 5.20.2, created by CPAN-Reporter-1.2018.

Thank you for uploading your work to CPAN.  Congratulations!
All tests were successful.

Sections of this report:

    * Tester comments
    * Program output
    * Prerequisites
    * Environment and other context

------------------------------
TESTER COMMENTS
------------------------------

Additional comments from tester:

this report is from an automated smoke testing program
and was not reviewed by a human for accuracy

------------------------------
PROGRAM OUTPUT
------------------------------

Output from '/usr/bin/make test':

Skip blib/lib/auto/share/dist/Tapper-Reports-Web/tapper/testplan/index.mas (unchanged)
Skip blib/lib/auto/share/dist/Tapper-Reports-Web/tapper/static/images/catalyst_logo.png (unchanged)
Skip blib/lib/auto/share/dist/Tapper-Reports-Web/tapper/static/js/jquery-plugins/jquery.timepicker.js (unchanged)
Skip blib/lib/auto/share/dist/Tapper-Reports-Web/tapper/static/js/jquery-ui/jquery.ui.core.js (unchanged)
Skip blib/lib/auto/share/dist/Tapper-Reports-Web/tapper/static/images/yellow_bar.png (unchanged)
Skip blib/lib/auto/share/dist/Tapper-Reports-Web/tapper/preconditions/index.mas (unchanged)
Skip blib/lib/auto/share/dist/Tapper-Reports-Web/tapper/testruns/update_precondition.mas (unchanged)
Skip blib/lib/auto/share/dist/Tapper-Reports-Web/tapper/static/css/tap_formatter_html.css (unchanged)
Skip blib/lib/auto/share/dist/Tapper-Reports-Web/formfu/multi (unchanged)
Skip blib/lib/auto/share/dist/Tapper-Reports-Web/tapper/static/images/rss.png (unchanged)
Skip blib/lib/auto/share/dist/Tapper-Reports-Web/tapper/static/images/jquery-ui/ui-icons_222222_256x240.png (unchanged)
Skip blib/lib/auto/share/dist/Tapper-Reports-Web/tapper/testplan/id/index.mas (unchanged)
Skip blib/lib/auto/share/dist/Tapper-Reports-Web/tapper/static/images_red/n6.gif (unchanged)
Skip blib/lib/auto/share/dist/Tapper-Reports-Web/tapper/static/css/formfu.css (unchanged)
Skip blib/lib/auto/share/dist/Tapper-Reports-Web/tapper/user/logout.mas (unchanged)
Skip blib/lib/auto/share/dist/Tapper-Reports-Web/tapper/static/images_blue/spacer.gif (unchanged)
Skip blib/lib/auto/share/dist/Tapper-Reports-Web/tapper/overview/index.mas (unchanged)
Skip blib/lib/auto/share/dist/Tapper-Reports-Web/tapper/static/images_red/n4.gif (unchanged)
Skip blib/lib/auto/share/dist/Tapper-Reports-Web/tapper/static/images/pause.small.png (unchanged)
Skip blib/lib/auto/share/dist/Tapper-Reports-Web/tapper/static/css/style_red.css (unchanged)
Skip blib/lib/auto/share/dist/Tapper-Reports-Web/tapper/static/images_magenta/n1.gif (unchanged)
Skip blib/lib/auto/share/dist/Tapper-Reports-Web/tapper/static/images/questionmark.png (unchanged)
Skip blib/lib/auto/share/dist/Tapper-Reports-Web/forms/tapper/testruns/fill_usecase.yml (unchanged)
Skip blib/lib/auto/share/dist/Tapper-Reports-Web/tapper/static/images_green/n2.gif (unchanged)
Skip blib/lib/auto/share/dist/Tapper-Reports-Web/tapper/preconditions/id/index.mas (unchanged)
Skip blib/lib/auto/share/dist/Tapper-Reports-Web/formfu/label_tag (unchanged)
Skip blib/lib/auto/share/dist/Tapper-Reports-Web/tapper/reports/report_details.mas (unchanged)
Skip blib/lib/auto/share/dist/Tapper-Reports-Web/tapper/static/images/clone.small.png (unchanged)
Skip blib/lib/auto/share/dist/Tapper-Reports-Web/tapper/navi.mas (unchanged)
Skip blib/lib/auto/share/dist/Tapper-Reports-Web/tapper/static/css/jquery-plugins/jquery.tablesorter.css (unchanged)
Skip blib/lib/auto/share/dist/Tapper-Reports-Web/formfu/end_block (unchanged)
Skip blib/lib/auto/share/dist/Tapper-Reports-Web/tapper/continuoustestruns/prepare_list.mas (unchanged)
Skip blib/lib/auto/share/dist/Tapper-Reports-Web/mpc/autoinstall.mpc (unchanged)
Skip blib/lib/auto/share/dist/Tapper-Reports-Web/tapper/static/images_magenta/n3.gif (unchanged)
Skip blib/lib/auto/share/dist/Tapper-Reports-Web/tapper/testruns/testrunlist.mas (unchanged)
Skip blib/lib/auto/share/dist/Tapper-Reports-Web/tapper/static/images_magenta/n4.gif (unchanged)
Skip blib/lib/auto/share/dist/Tapper-Reports-Web/tapper/testplan/testplan_overview.mas (unchanged)
Skip blib/lib/auto/share/dist/Tapper-Reports-Web/mpc/kernel_buildbot.mpc (unchanged)
Skip blib/lib/auto/share/dist/Tapper-Reports-Web/tapper/testruns/similar.mas (unchanged)
Skip blib/lib/auto/share/dist/Tapper-Reports-Web/tapper/indent.mas (unchanged)
Skip blib/lib/auto/share/dist/Tapper-Reports-Web/tapper/static/images_green/n5.gif (unchanged)
Skip blib/lib/auto/share/dist/Tapper-Reports-Web/formfu/block (unchanged)
Skip blib/lib/auto/share/dist/Tapper-Reports-Web/tapper/static/images_red/spacer.gif (unchanged)
Skip blib/lib/auto/share/dist/Tapper-Reports-Web/tapper/static/js/jquery-plugins/jquery.json.js (unchanged)
Skip blib/lib/auto/share/dist/Tapper-Reports-Web/mpc/buildbot.yml (unchanged)
Skip blib/lib/auto/share/dist/Tapper-Reports-Web/tapper/static/images_brown/n6.gif (unchanged)
Skip blib/lib/auto/share/dist/Tapper-Reports-Web/tapper/static/images_blue/n4.gif (unchanged)
Skip blib/lib/auto/share/dist/Tapper-Reports-Web/tapper/reports/all_reportlist.mas (unchanged)
Skip blib/lib/auto/share/dist/Tapper-Reports-Web/tapper/static/images_red/n1.small.gif (unchanged)
Skip blib/lib/auto/share/dist/Tapper-Reports-Web/tapper/static/images/green_bar_dimmed.png (unchanged)
Skip blib/lib/auto/share/dist/Tapper-Reports-Web/formfu/checkboxgroup_tag (unchanged)
Skip blib/lib/auto/share/dist/Tapper-Reports-Web/formfu/label (unchanged)
Skip blib/lib/auto/share/dist/Tapper-Reports-Web/tapper/builder/new_create.mas (unchanged)
Skip blib/lib/auto/share/dist/Tapper-Reports-Web/tapper/start/index.mas (unchanged)
Skip blib/lib/auto/share/dist/Tapper-Reports-Web/tapper/static/css/jquery-ui/jquery.ui.core.css (unchanged)
Skip blib/lib/auto/share/dist/Tapper-Reports-Web/tapper/static/css/style_brown.css (unchanged)
Skip blib/lib/auto/share/dist/Tapper-Reports-Web/tapper/testruns/testrunlists.mas (unchanged)
Skip blib/lib/auto/share/dist/Tapper-Reports-Web/tapper/static/images/btn_120x50_powered_shadow.png (unchanged)
Skip blib/lib/auto/share/dist/Tapper-Reports-Web/tapper/static/images/plus.png (unchanged)
Skip blib/lib/auto/share/dist/Tapper-Reports-Web/formfu/input_tag (unchanged)
Skip blib/lib/auto/share/dist/Tapper-Reports-Web/mpc/kernel_build.mpc (unchanged)
Skip blib/lib/auto/share/dist/Tapper-Reports-Web/tapper/static/js/jquery-plugins/jquery.flot.selection.js (unchanged)
Skip blib/lib/auto/share/dist/Tapper-Reports-Web/forms/tapper/testruns/new_create.yml (unchanged)
Skip blib/lib/auto/share/dist/Tapper-Reports-Web/tapper/static/images/red_bar_dimmed.png (unchanged)
Skip blib/lib/auto/share/dist/Tapper-Reports-Web/tapper/manual/README (unchanged)
Skip blib/lib/auto/share/dist/Tapper-Reports-Web/tapper/static/js/qTip.js (unchanged)
Skip blib/lib/auto/share/dist/Tapper-Reports-Web/tapper/testruns/edit.mas (unchanged)
Skip blib/lib/auto/share/dist/Tapper-Reports-Web/tapper/reports/reportlist.mas (unchanged)
Skip blib/lib/auto/share/dist/Tapper-Reports-Web/tapper/static/images/btn_120x50_built_shadow.png (unchanged)
Skip blib/lib/auto/share/dist/Tapper-Reports-Web/tapper/testruns/cancel.mas (unchanged)
Skip blib/lib/auto/share/dist/Tapper-Reports-Web/formfu/recaptcha (unchanged)
Skip blib/lib/auto/share/dist/Tapper-Reports-Web/tapper/static/manual/tapper-manual.pdf (unchanged)
Skip blib/lib/auto/share/dist/Tapper-Reports-Web/tapper/static/images/jquery-plugins/jquery.tablesorter.desc.gif (unchanged)
Skip blib/lib/auto/share/dist/Tapper-Reports-Web/forms/tapper/preconditions/new_create.yml (unchanged)
Skip blib/lib/auto/share/dist/Tapper-Reports-Web/tapper/testruns/testrun_overview.mas (unchanged)
Skip blib/lib/auto/share/dist/Tapper-Reports-Web/mpc/kernel_reboot.yml (unchanged)
Skip blib/lib/auto/share/dist/Tapper-Reports-Web/tapper/static/images_brown/n5.gif (unchanged)
Skip blib/lib/auto/share/dist/Tapper-Reports-Web/tapper/testruns/show_precondition.mas (unchanged)
Skip blib/lib/auto/share/dist/Tapper-Reports-Web/tapper/static/css/metareports/edit.css (unchanged)
Skip blib/lib/auto/share/dist/Tapper-Reports-Web/tapper/static/js/jquery-plugins/jquery.flot.js (unchanged)
Skip blib/lib/auto/share/dist/Tapper-Reports-Web/tapper/static/images/pic.gif (unchanged)
Skip blib/lib/auto/share/dist/Tapper-Reports-Web/formfu/repeatable (unchanged)
Skip blib/lib/auto/share/dist/Tapper-Reports-Web/tapper/static/images_red/loader.gif (unchanged)
Skip blib/lib/auto/share/dist/Tapper-Reports-Web/forms/tapper/builder/new_create.yml (unchanged)
Skip blib/lib/auto/share/dist/Tapper-Reports-Web/tapper/static/images/achtung.png (unchanged)
Skip blib/lib/auto/share/dist/Tapper-Reports-Web/tapper/static/images_magenta/n5.gif (unchanged)
Skip blib/lib/auto/share/dist/Tapper-Reports-Web/tapper/static/images/jquery-ui/ui-bg_flat_75_ffffff_40x100.png (unchanged)
Skip blib/lib/auto/share/dist/Tapper-Reports-Web/tapper/static/images_green/spacer.gif (unchanged)
Skip blib/lib/auto/share/dist/Tapper-Reports-Web/tapper/testplan/add/index.mas (unchanged)
Skip blib/lib/auto/share/dist/Tapper-Reports-Web/mpc/tests.yml (unchanged)
Skip blib/lib/auto/share/dist/Tapper-Reports-Web/tapper/static/images_red/n5.gif (unchanged)
Skip blib/lib/auto/share/dist/Tapper-Reports-Web/tapper/selects/owner.mas (unchanged)
Skip blib/lib/auto/share/dist/Tapper-Reports-Web/tapper/static/images_blue/n5.gif (unchanged)
Skip blib/lib/auto/share/dist/Tapper-Reports-Web/tapper/static/js/jquery-ui/jquery.ui.effect.js (unchanged)
Skip blib/lib/auto/share/dist/Tapper-Reports-Web/tapper/footer.mas (unchanged)
Skip blib/lib/auto/share/dist/Tapper-Reports-Web/tapper/static/images/jquery-ui/ui-bg_highlight-soft_75_cccccc_1x100.png (unchanged)
Skip blib/lib/auto/share/dist/Tapper-Reports-Web/tapper/static/images_magenta/n6.gif (unchanged)
Skip blib/lib/auto/share/dist/Tapper-Reports-Web/tapper/metareports/detail.mas (unchanged)
Skip blib/lib/auto/share/dist/Tapper-Reports-Web/tapper/reports/report_files.mas (unchanged)
Skip blib/lib/auto/share/dist/Tapper-Reports-Web/tapper/static/js/support.js (unchanged)
Skip blib/lib/auto/share/dist/Tapper-Reports-Web/tapper/testplan/rerun.mas (unchanged)
Skip blib/lib/auto/share/dist/Tapper-Reports-Web/tapper/logo.mas (unchanged)
Skip blib/lib/auto/share/dist/Tapper-Reports-Web/tapper/static/images/yellow_bar_dimmed.png (unchanged)
Skip blib/lib/auto/share/dist/Tapper-Reports-Web/formfu/field (unchanged)
Skip blib/lib/auto/share/dist/Tapper-Reports-Web/tapper/static/images_red/n3.gif (unchanged)
Skip blib/lib/auto/share/dist/Tapper-Reports-Web/tapper/testruns/pause.mas (unchanged)
Skip blib/lib/auto/share/dist/Tapper-Reports-Web/tapper/selects/queue.mas (unchanged)
Skip blib/lib/auto/share/dist/Tapper-Reports-Web/tapper/static/images/btn_88x31_built.png (unchanged)
Skip blib/lib/auto/share/dist/Tapper-Reports-Web/tapper/static/images/red_bar.png (unchanged)
Skip blib/lib/auto/share/dist/Tapper-Reports-Web/forms/tapper/testruns/add_usecase.yml (unchanged)
Skip blib/lib/auto/share/dist/Tapper-Reports-Web/mpc/kernel_reboot.mpc (unchanged)
Skip blib/lib/auto/share/dist/Tapper-Reports-Web/tapper/metareports/chart_overview.mas (unchanged)
Skip blib/lib/auto/share/dist/Tapper-Reports-Web/tapper/static/images/json.png (unchanged)
Skip blib/lib/auto/share/dist/Tapper-Reports-Web/tapper/static/css/qtip.css (unchanged)
Skip blib/lib/auto/share/dist/Tapper-Reports-Web/tapper/selects/chart_types.mas (unchanged)
Skip blib/lib/auto/share/dist/Tapper-Reports-Web/tapper/static/images_blue/n6.gif (unchanged)
Skip blib/lib/auto/share/dist/Tapper-Reports-Web/tapper/static/images/jquery-ui/ui-bg_glass_55_fbf9ee_1x400.png (unchanged)
Skip blib/lib/auto/share/dist/Tapper-Reports-Web/favicon.ico (unchanged)
Skip blib/lib/auto/share/dist/Tapper-Reports-Web/tapper/reports/week_reportlists.mas (unchanged)
Skip blib/lib/auto/share/dist/Tapper-Reports-Web/tapper/static/images/continue.small.png (unchanged)
Skip blib/lib/auto/share/dist/Tapper-Reports-Web/tapper/static/images_blue/n3.gif (unchanged)
Skip blib/lib/auto/share/dist/Tapper-Reports-Web/tapper/static/images_brown/n4.gif (unchanged)
Skip blib/lib/auto/share/dist/Tapper-Reports-Web/tapper/static/images_magenta/n2.gif (unchanged)
Skip blib/lib/auto/share/dist/Tapper-Reports-Web/tapper/static/images_blue/n1.gif (unchanged)
Skip blib/lib/auto/share/dist/Tapper-Reports-Web/tapper/static/images/jquery-plugins/jquery.tablesorter.asc.gif (unchanged)
Skip blib/lib/auto/share/dist/Tapper-Reports-Web/tapper/static/css/style_green.css (unchanged)
Skip blib/lib/auto/share/dist/Tapper-Reports-Web/tapper/user/login.mas (unchanged)
Skip blib/lib/auto/share/dist/Tapper-Reports-Web/tapper/static/css/style_magenta.css (unchanged)
Skip blib/lib/auto/share/dist/Tapper-Reports-Web/tapper/static/images/grey_bar.png (unchanged)
Skip blib/lib/auto/share/dist/Tapper-Reports-Web/formfu/start_form (unchanged)
Skip blib/lib/auto/share/dist/Tapper-Reports-Web/forms/tapper/testruns/edit.yml (unchanged)
Skip blib/lib/auto/share/dist/Tapper-Reports-Web/tapper/metareports/chart_tags.mas (unchanged)
Skip blib/lib/auto/share/dist/Tapper-Reports-Web/mpc/autoinstall.yml (unchanged)
Skip blib/lib/auto/share/dist/Tapper-Reports-Web/tapper/static/images/btn_120x50_built.png (unchanged)
Skip blib/lib/auto/share/dist/Tapper-Reports-Web/tapper/autohandler (unchanged)
Skip blib/lib/auto/share/dist/Tapper-Reports-Web/tapper/selects/chart_axis_types.mas (unchanged)
Skip blib/lib/auto/share/dist/Tapper-Reports-Web/tapper/static/js/jquery-ui/jquery.ui.datepicker.js (unchanged)
Skip blib/lib/auto/share/dist/Tapper-Reports-Web/tapper/static/images/edit.small.png (unchanged)
Skip blib/lib/auto/share/dist/Tapper-Reports-Web/tapper/static/images_green/n1.gif (unchanged)
Skip blib/lib/auto/share/dist/Tapper-Reports-Web/formfu/textarea_tag (unchanged)
Skip blib/lib/auto/share/dist/Tapper-Reports-Web/tapper/reports/id/index.mas (unchanged)
Skip blib/lib/auto/share/dist/Tapper-Reports-Web/tapper/static/js/tap_formatter_html_jquery-1.2.3.pack.js (unchanged)
Skip blib/lib/auto/share/dist/Tapper-Reports-Web/tapper/continuoustestruns/edit_page.mas (unchanged)
Skip blib/lib/auto/share/dist/Tapper-Reports-Web/tapper/testruns/rerun.mas (unchanged)
Skip blib/lib/auto/share/dist/Tapper-Reports-Web/tapper/static/images/btn_88x31_powered_shadow.png (unchanged)
Skip blib/lib/auto/share/dist/Tapper-Reports-Web/tapper/static/js/jquery-plugins/jquery.tablesorter.js (unchanged)
Skip blib/lib/auto/share/dist/Tapper-Reports-Web/tapper/static/images_red/plus_big.png (unchanged)
Skip blib/lib/auto/share/dist/Tapper-Reports-Web/tapper/static/css/jquery-ui/jquery.ui.css (unchanged)
Skip blib/lib/auto/share/dist/Tapper-Reports-Web/formfu/form (unchanged)
Skip blib/lib/auto/share/dist/Tapper-Reports-Web/formfu/end_form (unchanged)
Skip blib/lib/auto/share/dist/Tapper-Reports-Web/tapper/testplan/taskjuggler/index.mas (unchanged)
Skip blib/lib/auto/share/dist/Tapper-Reports-Web/tapper/static/js/metareports.js (unchanged)
Skip blib/lib/auto/share/dist/Tapper-Reports-Web/tapper/selects/benchmark_operators.mas (unchanged)
Skip blib/lib/auto/share/dist/Tapper-Reports-Web/tapper/static/css/jquery-ui/jquery.ui.datepicker.css (unchanged)
Skip blib/lib/auto/share/dist/Tapper-Reports-Web/tapper/static/images_red/n2.gif (unchanged)
Skip blib/lib/auto/share/dist/Tapper-Reports-Web/tapper/static/images/jquery-ui/ui-bg_glass_75_e6e6e6_1x400.png (unchanged)
Skip blib/lib/auto/share/dist/Tapper-Reports-Web/tapper/manual/tapper-manual.html (unchanged)
Skip blib/lib/auto/share/dist/Tapper-Reports-Web/tapper/static/images/tag.png (unchanged)
Skip blib/lib/auto/share/dist/Tapper-Reports-Web/tapper/static/css/metareports/detail.css (unchanged)
Skip blib/lib/auto/share/dist/Tapper-Reports-Web/mpc/oprofile.mpc (unchanged)
Skip blib/lib/auto/share/dist/Tapper-Reports-Web/tapper/metareports/edit_chart.mas (unchanged)
Skip blib/lib/auto/share/dist/Tapper-Reports-Web/tapper/static/css/metareports/chart_overview.css (unchanged)
Skip blib/lib/auto/share/dist/Tapper-Reports-Web/formfu/content_button (unchanged)
Skip blib/lib/auto/share/dist/Tapper-Reports-Web/tapper/reports/index.mas (unchanged)
Skip blib/lib/auto/share/dist/Tapper-Reports-Web/tapper/static/images/rss.svg (unchanged)
Skip blib/lib/auto/share/dist/Tapper-Reports-Web/tapper/static/images_green/n4.gif (unchanged)
Skip blib/lib/auto/share/dist/Tapper-Reports-Web/tapper/reports/report_group_list.mas (unchanged)
Skip blib/lib/auto/share/dist/Tapper-Reports-Web/tapper/static/js/jquery-2.0.3.min.js (unchanged)
Skip blib/lib/auto/share/dist/Tapper-Reports-Web/tapper/static/images/jquery-ui/ui-bg_glass_75_dadada_1x400.png (unchanged)
Skip blib/lib/auto/share/dist/Tapper-Reports-Web/tapper/static/images_green/n6.gif (unchanged)
Skip blib/lib/auto/share/dist/Tapper-Reports-Web/tapper/testruns/add_usecase.mas (unchanged)
Skip blib/lib/auto/share/dist/Tapper-Reports-Web/tapper/testplan/delete.mas (unchanged)
Skip blib/lib/auto/share/dist/Tapper-Reports-Web/tapper/static/images_brown/n2.gif (unchanged)
Skip blib/lib/auto/share/dist/Tapper-Reports-Web/tapper/testruns/continue.mas (unchanged)
Skip blib/lib/auto/share/dist/Tapper-Reports-Web/tapper/static/images_brown/n3.gif (unchanged)
Skip blib/lib/auto/share/dist/Tapper-Reports-Web/tapper/static/images_green/n3.gif (unchanged)
Skip blib/lib/auto/share/dist/Tapper-Reports-Web/tapper/static/css/metareports/default.css (unchanged)
Skip blib/lib/auto/share/dist/Tapper-Reports-Web/tapper/static/images/btn_88x31_built_shadow.png (unchanged)
Skip blib/lib/auto/share/dist/Tapper-Reports-Web/formfu/start_block (unchanged)
Skip blib/lib/auto/share/dist/Tapper-Reports-Web/tapper/static/images/green_bar.png (unchanged)
Skip blib/lib/auto/share/dist/Tapper-Reports-Web/tapper/static/images_brown/n1.gif (unchanged)
Skip blib/lib/auto/share/dist/Tapper-Reports-Web/tapper/testruns/index.mas (unchanged)
Skip blib/lib/auto/share/dist/Tapper-Reports-Web/tapper/static/js/jquery-plugins/jquery.flot.time.js (unchanged)
Skip blib/lib/auto/share/dist/Tapper-Reports-Web/formfu/select_tag (unchanged)
Skip blib/lib/auto/share/dist/Tapper-Reports-Web/tapper/static/images_brown/spacer.gif (unchanged)
Skip blib/lib/auto/share/dist/Tapper-Reports-Web/tapper/static/images/minus.png (unchanged)
Skip blib/lib/auto/share/dist/Tapper-Reports-Web/tapper/static/images_blue/n2.gif (unchanged)
Skip blib/lib/auto/share/dist/Tapper-Reports-Web/tapper/title.mas (unchanged)
Skip blib/lib/auto/share/dist/Tapper-Reports-Web/formfu/checkboxgroup (unchanged)
Skip blib/lib/auto/share/dist/Tapper-Reports-Web/mpc/kernel_boot.mpc (unchanged)
Skip blib/lib/auto/share/dist/Tapper-Reports-Web/tapper/preconditions/testrun/index.mas (unchanged)
Skip blib/lib/auto/share/dist/Tapper-Reports-Web/formfu/non_block (unchanged)
Skip blib/lib/auto/share/dist/Tapper-Reports-Web/tapper/static/images_magenta/spacer.gif (unchanged)
Skip blib/lib/auto/share/dist/Tapper-Reports-Web/tapper/testruns/new_create.mas (unchanged)
Skip blib/lib/auto/share/dist/Tapper-Reports-Web/tapper/testruns/id/index.mas (unchanged)
Skip blib/lib/auto/share/dist/Tapper-Reports-Web/tapper/static/css/jquery-ui/jquery.ui.autocomplete.css (unchanged)
Skip blib/lib/auto/share/dist/Tapper-Reports-Web/tapper/static/js/jquery-ui/jquery-ui-autocomplete.js (unchanged)
Skip blib/lib/auto/share/dist/Tapper-Reports-Web/tapper/static/images/btn_120x50_powered.png (unchanged)
Skip blib/lib/auto/share/dist/Tapper-Reports-Web/tapper/static/images/add.small.png (unchanged)
Skip blib/lib/auto/share/dist/Tapper-Reports-Web/tapper/preconditions/delete.mas (unchanged)
Skip blib/lib/auto/share/dist/Tapper-Reports-Web/tapper/testruns/delete.mas (unchanged)
Skip blib/lib/auto/share/dist/Tapper-Reports-Web/tapper/testruns/fill_usecase.mas (unchanged)
Skip blib/lib/auto/share/dist/Tapper-Reports-Web/tapper/static/css/style_blue.css (unchanged)
Skip blib/lib/auto/share/dist/Tapper-Reports-Web/tapper/static/js/tap_formatter_html.js (unchanged)
Skip blib/lib/auto/share/dist/Tapper-Reports-Web/tapper/static/images/btn_88x31_powered.png (unchanged)
Skip blib/lib/auto/share/dist/Tapper-Reports-Web/tapper/static/images/delete.small.png (unchanged)
Skip blib/lib/auto/share/dist/Tapper-Reports-Web/tapper/static/images_red/n1.gif (unchanged)
Skip blib/lib/auto/share/dist/Tapper-Reports-Web/tapper/static/images/jquery-plugins/jquery.tablesorter.bg.gif (unchanged)
Skip blib/lib/auto/share/dist/Tapper-Reports-Web/tapper/static/js/jquery-ui/jquery.ui.effect-slide.js (unchanged)
Skip blib/lib/auto/share/dist/Tapper-Reports-Web/tapper/manual/index.mas (unchanged)
Skip blib/lib/auto/share/dist/Tapper-Reports-Web/tapper/preconditions/new_create.mas (unchanged)
Skip blib/lib/auto/share/dist/Tapper-Reports-Web/formfu/input (unchanged)
PERL_DL_NONLAZY=1 "/home/sand/src/perl/repoperls/installed-perls/host/k93msid/v5.20.2/a1a1/bin/perl" "-MExtUtils::Command::MM" "-MTest::Harness" "-e" "undef *Test::Harness::Switches; test_harness(0, 'blib/lib', 'blib/arch')" t/*.t
t/00-use.t ................................ ok
t/01app.t ................................. ok
t/02pod.t ................................. skipped: set TEST_POD to enable this test
t/03podcoverage.t ......................... skipped: set TEST_POD to enable this test
t/author-eol.t ............................ skipped: these tests are for testing by the author
t/author-no-tabs.t ........................ skipped: these tests are for testing by the author
t/author-pod-syntax.t ..................... skipped: these tests are for testing by the author
t/config.t ................................ ok
t/controller-create-kernelboot-usecase.t .. ok
t/controller_edit_precondition.t .......... ok
t/controller_Tapper-ReportFile-Id.t ....... ok
t/controller_Tapper-Reports-Id.t .......... ok
t/controller_Tapper-Reports.t ............. ok
t/controller_Tapper-Schedule.t ............ ok
t/controller_Tapper-Testruns.t ............ ok
t/controller_Tapper.t ..................... ok
t/model_ReportsDB.t ....................... ok
t/util_Tapper-Filter.t .................... ok
t/view_Mason.t ............................ ok
All tests successful.
Files=19, Tests=56, 101 wallclock secs ( 0.07 usr  0.12 sys + 39.80 cusr  5.34 csys = 45.33 CPU)
Result: PASS

------------------------------
PREREQUISITES
------------------------------

Prerequisite modules loaded:

requires:

    Module                                    Need   Have    
    ----------------------------------------- ------ --------
    base                                      0      2.22    
  ! BenchmarkAnything::Storage::Frontend::Lib 0      n/a     
    Catalyst                                  0      5.90115 
    Catalyst::Action::RenderView              0      0.16    
    Catalyst::Controller                      0      0       
    Catalyst::Controller::HTML::FormFu        0      2.02    
    Catalyst::DispatchType::Regex             0      5.90035 
    Catalyst::Engine                          0      0       
    Catalyst::Model::DBIC::Schema             0      0.65    
    Catalyst::Plugin::ConfigLoader            0      0.34    
    Catalyst::Plugin::Redirect                0      0.02    
    Catalyst::Plugin::Session                 0      0.40    
    Catalyst::Plugin::Session::State::Cookie  0      0.17    
    Catalyst::Plugin::Session::Store::File    0      0.18    
    Catalyst::Plugin::Static::Simple          0      0.33    
    Catalyst::Runtime                         0      5.90115 
    Catalyst::ScriptRunner                    0      0       
    Catalyst::View                            0      0       
    Catalyst::View::HTML::Mason               0      0.19    
    CGI::Carp                                 0      4.36    
    common::sense                             0      3.74    
    Cwd                                       0      3.62    
    Daemon::Control                           0      0.001008
    Data::DPath                               0      0.56    
    Data::Dumper                              0      2.161   
    DateTime                                  0      1.42    
    DateTime::Format::Atom                    0      v1.2.0  
    DateTime::Format::DateParse               0      0.05    
    DateTime::Format::Epoch                   0      0.16    
    DateTime::Format::Natural                 0      1.05    
    DateTime::Format::Strptime                1.67   1.73    
    DateTime::Format::W3CDTF                  0      0.07    
    FCGI                                      0      0.78    
    File::Basename                            0      2.85    
    File::Copy::Recursive                     0      0.38    
    File::Path                                0      2.12_005
    File::ShareDir                            0      1.102   
    File::stat                                0      1.07    
    FindBin                                   0      1.51    
    Getopt::Long                              0      2.5     
    Hash::Merge::Simple                       0      0.051   
    HTML::FromANSI                            0      2.03    
    JSON::XS                                  0      3.03    
    lib                                       0      0.63    
    List::MoreUtils                           0      0.419   
    List::Util                                0      1.47    
    Log::Log4perl::Catalyst                   0      1.49    
    Mo::builder                               0      0.40    
    Mo::default                               0      0.40    
    Module::Find                              0.11   0.13    
    Moose                                     0      2.2005  
    Moose::Role                               0      2.2005  
    namespace::autoclean                      0      0.28    
    parent                                    0      0.236   
    perl                                      5.010  5.020002
    Perl6::Junction                           0      1.60000 
    Pod::Usage                                0      1.69    
    Readonly::XS                              0      1.05    
    Set::Intersection                         0      0.04    
    strict                                    0      1.08    
    TAP::Formatter::HTML                      0      0.11    
    Tapper::Cmd                               v5.0.4 5.0.8   
    Tapper::Cmd::Precondition                 0      5.0.8   
    Tapper::Cmd::Testplan                     0      5.0.8   
    Tapper::Cmd::Testrun                      0      5.0.8   
    Tapper::Config                            v5.0.2 5.0.3   
    Tapper::Model                             v5.0.1 5.0.2   
    Tapper::Schema                            v5.0.6 5.0.9   
    Template                                  0      2.27    
    Text::CSV_XS                              0      1.30    
    Try::Tiny                                 0      0.28    
    warnings                                  0      1.23    
    XML::Feed                                 0      0.53    
    YAML                                      0      1.23_002
    YAML::Syck                                0      1.30_01 

build_requires:

    Module                                    Need   Have    
    ----------------------------------------- ------ --------
    ExtUtils::MakeMaker                       0      7.25_04 
    Tapper::Schema::TestTools                 0      5.0.9   
    Test::Fixture::DBIC::Schema               0      0.04    
    Test::More                                0      1.302085
    Test::WWW::Mechanize::Catalyst            0      0.60    

configure_requires:

    Module                                    Need   Have    
    ----------------------------------------- ------ --------
    ExtUtils::MakeMaker                       0      7.25_04 
    File::ShareDir::Install                   0.06   0.11    


------------------------------
ENVIRONMENT AND OTHER CONTEXT
------------------------------

Environment variables:

    AUTOMATED_TESTING = 1
    LANG = en_US.UTF-8
    PATH = /home/sand/bin:/usr/local/bin:/usr/bin:/bin:/usr/games:/usr/local/perl/bin:/usr/X11/bin:/sbin:/usr/sbin
    PERL5LIB = 
    PERL5OPT = 
    PERL5_CPANPLUS_IS_RUNNING = 21676
    PERL5_CPAN_IS_RUNNING = 21676
    PERL_CANARY_STABILITY_NOPROMPT = 1
    PERL_MM_USE_DEFAULT = 1
    PERL_USE_UNSAFE_INC = 1
    SHELL = /usr/bin/zsh
    TERM = screen

Perl special variables (and OS-specific diagnostics, for MSWin32):

    $^X = /home/sand/src/perl/repoperls/installed-perls/host/k93msid/v5.20.2/a1a1/bin/perl
    $UID/$EUID = 1005 / 1005
    $GID = 1005 1005
    $EGID = 1005 1005

Perl module toolchain versions installed:

    Module              Have    
    ------------------- --------
    CPAN                2.18    
    CPAN::Meta          2.150010
    Cwd                 3.62    
    ExtUtils::CBuilder  0.280224
    ExtUtils::Command   7.25_04 
    ExtUtils::Install   2.10    
    ExtUtils::MakeMaker 7.25_04 
    ExtUtils::Manifest  1.70    
    ExtUtils::ParseXS   3.24    
    File::Spec          3.62    
    JSON                2.94    
    JSON::PP            2.94    
    Module::Build       0.4224  
    Module::Signature   0.81    
    Parse::CPAN::Meta   2.150010
    Test::Harness       3.39    
    Test::More          1.302085
    YAML                1.23_002
    YAML::Syck          1.30_01 
    version             0.9918  


--

Summary of my perl5 (revision 5 version 20 subversion 2) configuration:
  Derived from: c05ce579b6dae0f955ff8922469d49f95f4bf6fd
  Platform:
    osname=linux, osvers=4.9.0-2-amd64, archname=x86_64-linux-thread-multi-ld
    uname='linux k93msid 4.9.0-2-amd64 #1 smp debian 4.9.18-1 (2017-03-30) x86_64 gnulinux '
    config_args='-Dprefix=/home/sand/src/perl/repoperls/installed-perls/host/k93msid/v5.20.2/a1a1 -Dmyhostname=k93msid -Dinstallusrbinperl=n -Uversiononly -Dusedevel -des -Ui_db -Dlibswanted=cl pthread socket inet nsl gdbm dbm malloc dl ld sun m crypt sec util c cposix posix ucb BSD gdbm_compat -Duseithreads -Duselongdouble -DDEBUGGING=both'
    hint=recommended, useposix=true, d_sigaction=define
    useithreads=define, usemultiplicity=define
    use64bitint=define, use64bitall=define, uselongdouble=define
    usemymalloc=n, bincompat5005=undef
  Compiler:
    cc='cc', ccflags ='-D_REENTRANT -D_GNU_SOURCE -fwrapv -DDEBUGGING -fno-strict-aliasing -pipe -fstack-protector -I/usr/local/include -D_LARGEFILE_SOURCE -D_FILE_OFFSET_BITS=64',
    optimize='-O2 -g',
    cppflags='-D_REENTRANT -D_GNU_SOURCE -fwrapv -DDEBUGGING -fno-strict-aliasing -pipe -fstack-protector -I/usr/local/include'
    ccversion='', gccversion='6.3.0 20170406', gccosandvers=''
    intsize=4, longsize=8, ptrsize=8, doublesize=8, byteorder=12345678
    d_longlong=define, longlongsize=8, d_longdbl=define, longdblsize=16
    ivtype='long', ivsize=8, nvtype='long double', nvsize=16, Off_t='off_t', lseeksize=8
    alignbytes=16, prototype=define
  Linker and Libraries:
    ld='cc', ldflags =' -fstack-protector -L/usr/local/lib'
    libpth=/usr/local/lib /usr/lib/gcc/x86_64-linux-gnu/6/include-fixed /usr/include/x86_64-linux-gnu /usr/lib /lib/x86_64-linux-gnu /lib/../lib /usr/lib/x86_64-linux-gnu /usr/lib/../lib /lib
    libs=-lpthread -lnsl -ldl -lm -lcrypt -lutil -lc
    perllibs=-lpthread -lnsl -ldl -lm -lcrypt -lutil -lc
    libc=libc-2.24.so, so=so, useshrplib=false, libperl=libperl.a
    gnulibc_version='2.24'
  Dynamic Linking:
    dlsrc=dl_dlopen.xs, dlext=so, d_dlsymun=undef, ccdlflags='-Wl,-E'
    cccdlflags='-fPIC', lddlflags='-shared -O2 -g -L/usr/local/lib -fstack-protector'


Characteristics of this binary (from libperl): 
  Compile-time options: DEBUGGING HAS_TIMES MULTIPLICITY PERLIO_LAYERS
                        PERL_DONT_CREATE_GVSV
                        PERL_HASH_FUNC_ONE_AT_A_TIME_HARD
                        PERL_IMPLICIT_CONTEXT PERL_MALLOC_WRAP
                        PERL_NEW_COPY_ON_WRITE PERL_PRESERVE_IVUV
                        PERL_TRACK_MEMPOOL PERL_USE_DEVEL USE_64_BIT_ALL
                        USE_64_BIT_INT USE_ITHREADS USE_LARGE_FILES
                        USE_LOCALE USE_LOCALE_COLLATE USE_LOCALE_CTYPE
                        USE_LOCALE_NUMERIC USE_LONG_DOUBLE USE_PERLIO
                        USE_PERL_ATOF USE_REENTRANT_API
  Locally applied patches:
	uncommitted-changes
  Built under linux
  Compiled at Apr 17 2017 06:20:05
  %ENV:
    PERL5LIB=""
    PERL5OPT=""
    PERL5_CPANPLUS_IS_RUNNING="21676"
    PERL5_CPAN_IS_RUNNING="21676"
    PERL_CANARY_STABILITY_NOPROMPT="1"
    PERL_MM_USE_DEFAULT="1"
    PERL_USE_UNSAFE_INC="1"
  @INC:
    /home/sand/src/perl/repoperls/installed-perls/host/k93msid/v5.20.2/a1a1/lib/site_perl/5.20.2/x86_64-linux-thread-multi-ld
    /home/sand/src/perl/repoperls/installed-perls/host/k93msid/v5.20.2/a1a1/lib/site_perl/5.20.2
    /home/sand/src/perl/repoperls/installed-perls/host/k93msid/v5.20.2/a1a1/lib/5.20.2/x86_64-linux-thread-multi-ld
    /home/sand/src/perl/repoperls/installed-perls/host/k93msid/v5.20.2/a1a1/lib/5.20.2
    .