Vim-Debug v0.904 Perl 5 v5.24.2 x86_64-linux

Status
Pass
From
Slaven Rezić (SREZIC)
Dist
Vim-Debug v0.904
Platform
Perl 5 v5.24.2 x86_64-linux
Date
2019-04-11 21:47:19
ID
617ce75e-5ca3-11e9-b038-a35c1f24ea8f
This distribution has been tested as part of the CPAN Testers
project, supporting the Perl programming language.  See
http://wiki.cpantesters.org/ for more information or email
questions to cpan-testers-discuss@perl.org


--
Dear Eric D Johnson,

This is a computer-generated report for Vim-Debug-0.904
on perl 5.24.2, created by CPAN-Reporter-1.2018.

Thank you for uploading your work to CPAN.  Congratulations!
All tests were successful.

Sections of this report:

    * Tester comments
    * Program output
    * Prerequisites
    * Environment and other context

------------------------------
TESTER COMMENTS
------------------------------

Additional comments from tester:

none provided

------------------------------
PROGRAM OUTPUT
------------------------------

Output from 'make test':

PERL_DL_NONLAZY=1 "/opt/perl-5.24.2/bin/perl" "-MExtUtils::Command::MM" "-MTest::Harness" "-e" "undef *Test::Harness::Switches; test_harness(0, 'blib/lib', 'blib/arch')" t/*.t
t/00-compile.t ......... ok
# Prerequisite Report:
#    Version Module                     
#   -------- ---------------------------
#       1.40 Carp                       
#       0.11 Dir::Self                  
#    7.10_02 ExtUtils::MakeMaker        
#       2.85 File::Basename             
#       0.38 File::Copy::Recursive      
#       1.34 File::Find                 
#    2.12_01 File::Path                 
#    3.63_01 File::Spec::Functions      
#     0.2304 File::Temp                 
#       2.48 Getopt::Long               
#       1.12 IO::Pty                    
#       0.96 IPC::Run                   
#       1.49 List::Util                 
#     2.2006 Moose                      
#     2.2006 Moose::Role                
#     2.2006 Moose::Util                
#       0.29 MooseX::ClassAttribute     
#       3.04 Net::Telnet                
#      1.367 POE                        
#      1.367 POE::Component::Server::TCP
#   1.302096 Test::More                 
#       0.28 Try::Tiny                  
#       1.11 strict                     
#       1.36 warnings                   
t/00-report-prereqs.t .. ok
t/perl.parseOutput.t ... ok
Unescaped left brace in regex is deprecated, passed through in regex; marked by <-- HERE in m/ { <-- HERE -VDEOR-} / at t/lib/Vim/Debug/Client.pm line 68.
Unescaped left brace in regex is deprecated, passed through in regex; marked by <-- HERE in m/ { <-- HERE -VDEOR-} / at t/lib/Vim/Debug/Client.pm line 68.
t/perl.stop.t .......... ok
Unescaped left brace in regex is deprecated, passed through in regex; marked by <-- HERE in m/ { <-- HERE -VDEOR-} / at t/lib/Vim/Debug/Client.pm line 68.
t/perl.t ............... ok
t/pod.t ................ ok
All tests successful.
Files=6, Tests=76, 27 wallclock secs ( 0.20 usr  0.22 sys + 11.83 cusr  2.83 csys = 15.08 CPU)
Result: PASS

------------------------------
PREREQUISITES
------------------------------

Prerequisite modules loaded:

requires:

    Module                      Need Have    
    --------------------------- ---- --------
    Carp                        0    1.40    
    Dir::Self                   0    0.11    
    File::Basename              0    2.85    
    File::Copy::Recursive       0    0.38    
    File::Path                  0    2.12_01 
    Getopt::Long                0    2.48    
    IO::Pty                     0    1.12    
    IPC::Run                    0    0.96    
    Moose                       0    2.2006  
    Moose::Role                 0    2.2006  
    Moose::Util                 0    2.2006  
    MooseX::ClassAttribute      0    0.29    
    POE                         0    1.367   
    POE::Component::Server::TCP 0    1.367   
    strict                      0    1.11    
    Try::Tiny                   0    0.28    
    warnings                    0    1.36    

build_requires:

    Module                      Need Have    
    --------------------------- ---- --------
    ExtUtils::MakeMaker         0    7.10_02 
    File::Find                  0    1.34    
    File::Spec::Functions       0    3.63_01 
    File::Temp                  0    0.2304  
    List::Util                  0    1.49    
    Net::Telnet                 0    3.04    
    Test::More                  0    1.302096

configure_requires:

    Module                      Need Have    
    --------------------------- ---- --------
    ExtUtils::MakeMaker         6.30 7.10_02 


------------------------------
ENVIRONMENT AND OTHER CONTEXT
------------------------------

Environment variables:

    LANG = en_US.UTF-8
    LC_ALL = de_DE.UTF-8
    PATH = /usr/local/bin:/usr/bin:/bin:/usr/local/sbin:/usr/sbin:/sbin:/home/cpansand/bin/linux-gnu:/home/cpansand/bin/sh:/home/cpansand/bin:/usr/games:/home/cpansand/devel:/home/eserte/src/srezic-misc/scripts
    PERL5LIB = /home/cpansand/.cpan/build/2019041121/POE-1.367-0nSYbJ/blib/arch:/home/cpansand/.cpan/build/2019041121/POE-1.367-0nSYbJ/blib/lib:/home/cpansand/.cpan/build/2019041121/IO-Pipely-0.005-2GpV23/blib/arch:/home/cpansand/.cpan/build/2019041121/IO-Pipely-0.005-2GpV23/blib/lib:/home/cpansand/.cpan/build/2019041121/POE-Test-Loops-1.360-c7mSdm/blib/arch:/home/cpansand/.cpan/build/2019041121/POE-Test-Loops-1.360-c7mSdm/blib/lib:/home/cpansand/.cpan/build/2019041121/Dir-Self-0.11-jgYP7x/blib/arch:/home/cpansand/.cpan/build/2019041121/Dir-Self-0.11-jgYP7x/blib/lib:/home/cpansand/.cpan/build/2019041121/Net-Telnet-3.04-cq9x3n/blib/arch:/home/cpansand/.cpan/build/2019041121/Net-Telnet-3.04-cq9x3n/blib/lib:/home/cpansand/.cpan/build/2019041121/MooseX-ClassAttribute-0.29-W41bxM/blib/arch:/home/cpansand/.cpan/build/2019041121/MooseX-ClassAttribute-0.29-W41bxM/blib/lib
    PERL5OPT = 
    PERL5_CPANPLUS_IS_RUNNING = 14403
    PERL5_CPAN_IS_RUNNING = 14403
    PERL5_CPAN_IS_RUNNING_IN_RECURSION = 23476,14403
    PERLDOC = -MPod::Perldoc::ToTextOverstrike
    PERL_BATCH = yes
    PERL_CANARY_STABILITY_NOPROMPT = 1
    PERL_CPAN_REPORTER_CONFIG = /var/tmp/cpansmoker-1023/2019041120/cpanreporter_000_config.ini
    PERL_EXTUTILS_AUTOINSTALL = --defaultdeps
    SHELL = /bin/zsh
    TERM = screen
    TMPDIR = /var/tmp/cpansmoker-1023/2019041120

Perl special variables (and OS-specific diagnostics, for MSWin32):

    $^X = /opt/perl-5.24.2/bin/perl
    $UID/$EUID = 1023 / 1023
    $GID = 1023 1023
    $EGID = 1023 1023

Perl module toolchain versions installed:

    Module              Have      
    ------------------- ----------
    CPAN                2.11_01   
    CPAN::Meta          2.150005  
    Cwd                 3.63_01   
    ExtUtils::CBuilder  0.280225  
    ExtUtils::Command   7.10_02   
    ExtUtils::Install   2.04      
    ExtUtils::MakeMaker 7.10_02   
    ExtUtils::Manifest  1.70      
    ExtUtils::ParseXS   3.31      
    File::Spec          3.63_01   
    JSON                2.94      
    JSON::PP            2.27300_01
    Module::Build       0.4224    
    Module::Signature   n/a       
    Parse::CPAN::Meta   1.4417_001
    Test::Harness       3.36_01   
    Test::More          1.302096  
    YAML                1.23      
    YAML::Syck          1.30      
    version             0.9916    


--

Summary of my perl5 (revision 5 version 24 subversion 2) configuration:
   
  Platform:
    osname=linux, osvers=2.6.32-696.3.1.el6.x86_64, archname=x86_64-linux
    uname='linux centos6 2.6.32-696.3.1.el6.x86_64 #1 smp tue may 30 19:52:55 utc 2017 x86_64 x86_64 x86_64 gnulinux '
    config_args='-ds -e -Dprefix=/opt/perl-5.24.2 -Dcf_email=srezic@cpan.org'
    hint=recommended, useposix=true, d_sigaction=define
    useithreads=undef, usemultiplicity=undef
    use64bitint=define, use64bitall=define, uselongdouble=undef
    usemymalloc=n, bincompat5005=undef
  Compiler:
    cc='cc', ccflags ='-fwrapv -fno-strict-aliasing -pipe -fstack-protector -I/usr/local/include -D_LARGEFILE_SOURCE -D_FILE_OFFSET_BITS=64 -D_FORTIFY_SOURCE=2',
    optimize='-O2',
    cppflags='-fwrapv -fno-strict-aliasing -pipe -fstack-protector -I/usr/local/include'
    ccversion='', gccversion='4.4.7 20120313 (Red Hat 4.4.7-18)', gccosandvers=''
    intsize=4, longsize=8, ptrsize=8, doublesize=8, byteorder=12345678, doublekind=3
    d_longlong=define, longlongsize=8, d_longdbl=define, longdblsize=16, longdblkind=3
    ivtype='long', ivsize=8, nvtype='double', nvsize=8, Off_t='off_t', lseeksize=8
    alignbytes=8, prototype=define
  Linker and Libraries:
    ld='cc', ldflags =' -fstack-protector -L/usr/local/lib'
    libpth=/usr/local/lib /usr/lib /lib/../lib64 /usr/lib/../lib64 /lib /lib64 /usr/lib64 /usr/local/lib64
    libs=-lpthread -lnsl -lgdbm -ldb -ldl -lm -lcrypt -lutil -lc
    perllibs=-lpthread -lnsl -ldl -lm -lcrypt -lutil -lc
    libc=libc-2.12.so, so=so, useshrplib=false, libperl=libperl.a
    gnulibc_version='2.12'
  Dynamic Linking:
    dlsrc=dl_dlopen.xs, dlext=so, d_dlsymun=undef, ccdlflags='-Wl,-E'
    cccdlflags='-fPIC', lddlflags='-shared -O2 -L/usr/local/lib -fstack-protector'


Characteristics of this binary (from libperl): 
  Compile-time options: HAS_TIMES PERLIO_LAYERS PERL_COPY_ON_WRITE
                        PERL_DONT_CREATE_GVSV
                        PERL_HASH_FUNC_ONE_AT_A_TIME_HARD PERL_MALLOC_WRAP
                        PERL_PRESERVE_IVUV USE_64_BIT_ALL USE_64_BIT_INT
                        USE_LARGE_FILES USE_LOCALE USE_LOCALE_COLLATE
                        USE_LOCALE_CTYPE USE_LOCALE_NUMERIC USE_LOCALE_TIME
                        USE_PERLIO USE_PERL_ATOF
  Built under linux
  Compiled at Sep 16 2017 21:22:14
  %ENV:
    PERL5LIB="/home/cpansand/.cpan/build/2019041121/POE-1.367-0nSYbJ/blib/arch:/home/cpansand/.cpan/build/2019041121/POE-1.367-0nSYbJ/blib/lib:/home/cpansand/.cpan/build/2019041121/IO-Pipely-0.005-2GpV23/blib/arch:/home/cpansand/.cpan/build/2019041121/IO-Pipely-0.005-2GpV23/blib/lib:/home/cpansand/.cpan/build/2019041121/POE-Test-Loops-1.360-c7mSdm/blib/arch:/home/cpansand/.cpan/build/2019041121/POE-Test-Loops-1.360-c7mSdm/blib/lib:/home/cpansand/.cpan/build/2019041121/Dir-Self-0.11-jgYP7x/blib/arch:/home/cpansand/.cpan/build/2019041121/Dir-Self-0.11-jgYP7x/blib/lib:/home/cpansand/.cpan/build/2019041121/Net-Telnet-3.04-cq9x3n/blib/arch:/home/cpansand/.cpan/build/2019041121/Net-Telnet-3.04-cq9x3n/blib/lib:/home/cpansand/.cpan/build/2019041121/MooseX-ClassAttribute-0.29-W41bxM/blib/arch:/home/cpansand/.cpan/build/2019041121/MooseX-ClassAttribute-0.29-W41bxM/blib/lib"
    PERL5OPT=""
    PERL5_CPANPLUS_IS_RUNNING="14403"
    PERL5_CPAN_IS_RUNNING="14403"
    PERL5_CPAN_IS_RUNNING_IN_RECURSION="23476,14403"
    PERLDOC="-MPod::Perldoc::ToTextOverstrike"
    PERL_BATCH="yes"
    PERL_CANARY_STABILITY_NOPROMPT="1"
    PERL_CPAN_REPORTER_CONFIG="/var/tmp/cpansmoker-1023/2019041120/cpanreporter_000_config.ini"
    PERL_EXTUTILS_AUTOINSTALL="--defaultdeps"
  @INC:
    /home/cpansand/.cpan/build/2019041121/POE-1.367-0nSYbJ/blib/arch
    /home/cpansand/.cpan/build/2019041121/POE-1.367-0nSYbJ/blib/lib
    /home/cpansand/.cpan/build/2019041121/IO-Pipely-0.005-2GpV23/blib/arch
    /home/cpansand/.cpan/build/2019041121/IO-Pipely-0.005-2GpV23/blib/lib
    /home/cpansand/.cpan/build/2019041121/POE-Test-Loops-1.360-c7mSdm/blib/arch
    /home/cpansand/.cpan/build/2019041121/POE-Test-Loops-1.360-c7mSdm/blib/lib
    /home/cpansand/.cpan/build/2019041121/Dir-Self-0.11-jgYP7x/blib/arch
    /home/cpansand/.cpan/build/2019041121/Dir-Self-0.11-jgYP7x/blib/lib
    /home/cpansand/.cpan/build/2019041121/Net-Telnet-3.04-cq9x3n/blib/arch
    /home/cpansand/.cpan/build/2019041121/Net-Telnet-3.04-cq9x3n/blib/lib
    /home/cpansand/.cpan/build/2019041121/MooseX-ClassAttribute-0.29-W41bxM/blib/arch
    /home/cpansand/.cpan/build/2019041121/MooseX-ClassAttribute-0.29-W41bxM/blib/lib
    /opt/perl-5.24.2/lib/site_perl/5.24.2/x86_64-linux
    /opt/perl-5.24.2/lib/site_perl/5.24.2
    /opt/perl-5.24.2/lib/5.24.2/x86_64-linux
    /opt/perl-5.24.2/lib/5.24.2
    .