Report for Test-Distribution-2.00

Back
From: metabase:user:31e80ebe-2aae-11df-837a-5e0a49663a4f
Subject: PASS Test-Distribution-2.00 v5.14.2 Mac OS X
Date: 2012-02-13T04:22:46Z

This distribution has been tested as part of the CPAN Testers
project, supporting the Perl programming language.  See
http://wiki.cpantesters.org/ for more information or email
questions to cpan-testers-discuss@perl.org


--
Dear Sagar R. Shah,

This is a computer-generated report for Test-Distribution-2.00
on perl 5.14.2, created by CPAN-Reporter-1.2003.

Thank you for uploading your work to CPAN.  Congratulations!
All tests were successful.

Sections of this report:

    * Tester comments
    * Program output
    * Prerequisites
    * Environment and other context

------------------------------
TESTER COMMENTS
------------------------------

Additional comments from tester:

none provided

------------------------------
PROGRAM OUTPUT
------------------------------

Output from './Build test':

t/01distribution.t ............. ok
t/02extra.t .................... ok
t/03only_versions.t ............ ok
t/04only_pod_extra.t ........... ok
t/05only_pod_use_extra.t ....... ok
t/06only_pod_versions_extra.t .. ok
t/07prereq.t ................... ok
t/08only_podcover.t ............ ok
All tests successful.
Files=8, Tests=42,  1 wallclock secs ( 0.04 usr  0.02 sys +  0.74 cusr  0.10 csys =  0.90 CPU)
Result: PASS

------------------------------
PREREQUISITES
------------------------------

Prerequisite modules loaded:

requires:

    Module              Need Have   
    ------------------- ---- -------
    ExtUtils::Manifest  1.43 1.58   
    File::Find::Rule    0.03 0.33   
    Module::CoreList    1.93 2.49_02
    Pod::Coverage       0.17 0.22   
    Test::More          0.45 0.98   
    Test::Pod           0.95 1.45   
    Test::Pod::Coverage 0    1.08   


------------------------------
ENVIRONMENT AND OTHER CONTEXT
------------------------------

Environment variables:

    LANG = en_AU.UTF-8
    MANPATH_WITHOUT_PERLBREW = 
    PATH = /Users/Glenn/perl5/perlbrew/bin:/Users/Glenn/perl5/perlbrew/perls/perl-5.14.2/bin:/Users/Glenn/.gem/ruby/1.8/bin:/usr/bin:/bin:/usr/sbin:/sbin:/usr/local/bin:/usr/X11/bin
    PATH_WITHOUT_PERLBREW = /Users/Glenn/.gem/ruby/1.8/bin:/usr/bin:/bin:/usr/sbin:/sbin:/usr/local/bin:/usr/X11/bin
    PERL5LIB = 
    PERL5OPT = 
    PERL5_CPANPLUS_IS_RUNNING = 58636
    PERL5_CPAN_IS_RUNNING = 58636
    PERLBREW_BASHRC_VERSION = 0.41
    PERLBREW_HOME = /Users/Glenn/.perlbrew
    PERLBREW_MANPATH = /Users/Glenn/perl5/perlbrew/perls/perl-5.14.2/man
    PERLBREW_PATH = /Users/Glenn/perl5/perlbrew/bin:/Users/Glenn/perl5/perlbrew/perls/perl-5.14.2/bin
    PERLBREW_PERL = perl-5.14.2
    PERLBREW_ROOT = /Users/Glenn/perl5/perlbrew
    PERLBREW_VERSION = 0.41
    SHELL = /bin/bash
    TERM = xterm-color
    TMPDIR = /var/folders/OE/OE9WLyFZEsWkzxLUIRSchE+++TI/-Tmp-/

Perl special variables (and OS-specific diagnostics, for MSWin32):

    $^X = /Users/Glenn/perl5/perlbrew/perls/perl-5.14.2/bin/perl
    $UID/$EUID = 501 / 501
    $GID = 20 20 404 501 403 401 204 100 98 81 80 79 61 12 402 405
    $EGID = 20 20 404 501 403 401 204 100 98 81 80 79 61 12 402 405

Perl module toolchain versions installed:

    Module              Have     
    ------------------- ---------
    CPAN                1.9600_01
    CPAN::Meta          2.110440 
    Cwd                 3.36     
    ExtUtils::CBuilder  0.280203 
    ExtUtils::Command   1.17     
    ExtUtils::Install   1.56     
    ExtUtils::MakeMaker 6.57_05  
    ExtUtils::Manifest  1.58     
    ExtUtils::ParseXS   2.2210   
    File::Spec          3.33     
    JSON                2.53     
    JSON::PP            2.27105  
    Module::Build       0.3800   
    Module::Signature   n/a      
    Parse::CPAN::Meta   1.4401   
    Test::Harness       3.23     
    Test::More          0.98     
    YAML                0.80     
    YAML::Syck          n/a      
    version             0.88     


--

Summary of my perl5 (revision 5 version 14 subversion 2) configuration:
   
  Platform:
    osname=darwin, osvers=10.8.0, archname=darwin-2level
    uname='darwin steven.local.internetrix.com.au 10.8.0 darwin kernel version 10.8.0: tue jun 7 16:33:36 pdt 2011; root:xnu-1504.15.3~1release_i386 i386 '
    config_args='-de -Dprefix=/Users/Glenn/perl5/perlbrew/perls/perl-5.14.2'
    hint=recommended, useposix=true, d_sigaction=define
    useithreads=undef, usemultiplicity=undef
    useperlio=define, d_sfio=undef, uselargefiles=define, usesocks=undef
    use64bitint=define, use64bitall=define, uselongdouble=undef
    usemymalloc=n, bincompat5005=undef
  Compiler:
    cc='cc', ccflags ='-fno-common -DPERL_DARWIN -fno-strict-aliasing -pipe -fstack-protector -I/usr/local/include',
    optimize='-O3',
    cppflags='-fno-common -DPERL_DARWIN -fno-strict-aliasing -pipe -fstack-protector -I/usr/local/include'
    ccversion='', gccversion='4.2.1 (Apple Inc. build 5666) (dot 3)', gccosandvers=''
    intsize=4, longsize=8, ptrsize=8, doublesize=8, byteorder=12345678
    d_longlong=define, longlongsize=8, d_longdbl=define, longdblsize=16
    ivtype='long', ivsize=8, nvtype='double', nvsize=8, Off_t='off_t', lseeksize=8
    alignbytes=8, prototype=define
  Linker and Libraries:
    ld='env MACOSX_DEPLOYMENT_TARGET=10.3 cc', ldflags =' -fstack-protector -L/usr/local/lib'
    libpth=/usr/local/lib /usr/lib
    libs=-lgdbm -ldbm -ldl -lm -lutil -lc
    perllibs=-ldl -lm -lutil -lc
    libc=, so=dylib, useshrplib=false, libperl=libperl.a
    gnulibc_version=''
  Dynamic Linking:
    dlsrc=dl_dlopen.xs, dlext=bundle, d_dlsymun=undef, ccdlflags=' '
    cccdlflags=' ', lddlflags=' -bundle -undefined dynamic_lookup -L/usr/local/lib -fstack-protector'


Characteristics of this binary (from libperl): 
  Compile-time options: PERL_DONT_CREATE_GVSV PERL_MALLOC_WRAP
                        PERL_PRESERVE_IVUV USE_64_BIT_ALL USE_64_BIT_INT
                        USE_LARGE_FILES USE_PERLIO USE_PERL_ATOF
  Built under darwin
  Compiled at Feb 13 2012 12:42:11
  %ENV:
    PERL5LIB=""
    PERL5OPT=""
    PERL5_CPANPLUS_IS_RUNNING="58636"
    PERL5_CPAN_IS_RUNNING="58636"
    PERLBREW_BASHRC_VERSION="0.41"
    PERLBREW_HOME="/Users/Glenn/.perlbrew"
    PERLBREW_MANPATH="/Users/Glenn/perl5/perlbrew/perls/perl-5.14.2/man"
    PERLBREW_PATH="/Users/Glenn/perl5/perlbrew/bin:/Users/Glenn/perl5/perlbrew/perls/perl-5.14.2/bin"
    PERLBREW_PERL="perl-5.14.2"
    PERLBREW_ROOT="/Users/Glenn/perl5/perlbrew"
    PERLBREW_VERSION="0.41"
  @INC:
    /Users/Glenn/perl5/perlbrew/perls/perl-5.14.2/lib/site_perl/5.14.2/darwin-2level
    /Users/Glenn/perl5/perlbrew/perls/perl-5.14.2/lib/site_perl/5.14.2
    /Users/Glenn/perl5/perlbrew/perls/perl-5.14.2/lib/5.14.2/darwin-2level
    /Users/Glenn/perl5/perlbrew/perls/perl-5.14.2/lib/5.14.2
    .