Report for Dist-Zilla-Stash-PodWeaver-1.005

Back
From: metabase:user:fcf99560-6bf4-1014-86b3-1cf189224fdf
Subject: PASS Dist-Zilla-Stash-PodWeaver-1.005 v5.17.11 GNU/Linux
Date: 2013-05-03T13:28:45Z

This distribution has been tested as part of the CPAN Testers
project, supporting the Perl programming language.  See
http://wiki.cpantesters.org/ for more information or email
questions to cpan-testers-discuss@perl.org


--
Dear Randy Stauner,

This is a computer-generated report for Dist-Zilla-Stash-PodWeaver-1.005
on perl 5.17.11, created by CPAN-Reporter-1.2010.

Thank you for uploading your work to CPAN.  Congratulations!
All tests were successful.

Sections of this report:

    * Tester comments
    * Program output
    * Prerequisites
    * Environment and other context

------------------------------
TESTER COMMENTS
------------------------------

Additional comments from tester:

none provided

------------------------------
PROGRAM OUTPUT
------------------------------

Output from '/usr/bin/make test':

PERL_DL_NONLAZY=1 /home/michiel/perl5/perlbrew/perls/perl-5.17.11/bin/perl5.17.11 "-MExtUtils::Command::MM" "-e" "test_harness(0, 'blib/lib', 'blib/arch')" t/*.t
t/00-compile.t ......... ok
t/00-report-prereqs.t .. skipped: $ENV{AUTOMATED_TESTING} not set
Module::Pluggable::Object will be removed from the Perl core distribution in the next major release. Please install it from CPAN. It is being used at /home/michiel/perl5/perlbrew/perls/perl-5.17.11/lib/site_perl/5.17.11/Config/MVP/Reader/Finder.pm, line 11.
t/ini-config.t ......... ok
All tests successful.
Files=3, Tests=16,  4 wallclock secs ( 0.04 usr  0.01 sys +  2.33 cusr  0.16 csys =  2.54 CPU)
Result: PASS

------------------------------
PREREQUISITES
------------------------------

Prerequisite modules loaded:

requires:

    Module                            Need  Have      
    --------------------------------- ----- ----------
    Dist::Zilla::Role::Stash::Plugins 1.006 1.006     
    Moose                             0     2.0801    
    Pod::Weaver::Config::Assembler    0     3.101638  
    strict                            0     1.07      
    warnings                          0     1.18      

build_requires:

    Module                            Need  Have      
    --------------------------------- ----- ----------
    Dist::Zilla::Tester               0     4.300034  
    ExtUtils::MakeMaker               0     6.66      
    File::Find                        0     1.23      
    File::Spec::Functions             0     3.40      
    File::Temp                        0     0.23      
    List::Util                        0     1.27      
    Test::MockObject                  0     1.20120301
    Test::More                        0     0.98      

configure_requires:

    Module                            Need  Have      
    --------------------------------- ----- ----------
    ExtUtils::MakeMaker               6.30  6.66      


------------------------------
ENVIRONMENT AND OTHER CONTEXT
------------------------------

Environment variables:

    LANG = en_US.UTF-8
    MANPATH_WITHOUT_PERLBREW = 
    PATH = /home/michiel/perl5/perlbrew/bin:/home/michiel/perl5/perlbrew/perls/perl-5.17.11/bin:/usr/local/bin:/usr/bin:/bin:/usr/local/games:/usr/games
    PATH_WITHOUT_PERLBREW = /usr/local/bin:/usr/bin:/bin:/usr/local/games:/usr/games
    PERL5LIB = 
    PERL5OPT = 
    PERL5_CPANPLUS_IS_RUNNING = 15195
    PERL5_CPAN_IS_RUNNING = 15195
    PERLBREW_BASHRC_VERSION = 0.43
    PERLBREW_HOME = /home/michiel/.perlbrew
    PERLBREW_MANPATH = /home/michiel/perl5/perlbrew/perls/perl-5.17.11/man
    PERLBREW_PATH = /home/michiel/perl5/perlbrew/bin:/home/michiel/perl5/perlbrew/perls/perl-5.17.11/bin
    PERLBREW_PERL = perl-5.17.11
    PERLBREW_ROOT = /home/michiel/perl5/perlbrew
    PERLBREW_VERSION = 0.43
    SHELL = /bin/bash
    TERM = xterm

Perl special variables (and OS-specific diagnostics, for MSWin32):

    $^X = /home/michiel/perl5/perlbrew/perls/perl-5.17.11/bin/perl5.17.11
    $UID/$EUID = 1000 / 1000
    $GID = 33 24 25 29 30 33 44 46
    $EGID = 33 24 25 29 30 33 44 46

Perl module toolchain versions installed:

    Module              Have    
    ------------------- --------
    CPAN                2.00    
    CPAN::Meta          2.120921
    Cwd                 3.40    
    ExtUtils::CBuilder  0.280210
    ExtUtils::Command   1.17    
    ExtUtils::Install   1.59    
    ExtUtils::MakeMaker 6.66    
    ExtUtils::Manifest  1.63    
    ExtUtils::ParseXS   3.18    
    File::Spec          3.40    
    JSON                2.57    
    JSON::PP            2.27202 
    Module::Build       0.4005  
    Module::Signature   n/a     
    Parse::CPAN::Meta   1.4404  
    Test::Harness       3.26    
    Test::More          0.98    
    YAML                0.84    
    YAML::Syck          n/a     
    version             0.9902  


--

Summary of my perl5 (revision 5 version 17 subversion 11) configuration:
   
  Platform:
    osname=linux, osvers=3.2.0-4-686-pae, archname=i686-linux
    uname='linux debian-testing 3.2.0-4-686-pae #1 smp debian 3.2.41-2 i686 gnulinux '
    config_args='-de -Dprefix=/home/michiel/perl5/perlbrew/perls/perl-5.17.11 -Dusedevel'
    hint=recommended, useposix=true, d_sigaction=define
    useithreads=undef, usemultiplicity=undef
    useperlio=define, d_sfio=undef, uselargefiles=define, usesocks=undef
    use64bitint=undef, use64bitall=undef, uselongdouble=undef
    usemymalloc=n, bincompat5005=undef
  Compiler:
    cc='cc', ccflags ='-fno-strict-aliasing -pipe -fstack-protector -I/usr/local/include -D_LARGEFILE_SOURCE -D_FILE_OFFSET_BITS=64',
    optimize='-O2',
    cppflags='-fno-strict-aliasing -pipe -fstack-protector -I/usr/local/include'
    ccversion='', gccversion='4.7.2', gccosandvers=''
    intsize=4, longsize=4, ptrsize=4, doublesize=8, byteorder=1234
    d_longlong=define, longlongsize=8, d_longdbl=define, longdblsize=12
    ivtype='long', ivsize=4, nvtype='double', nvsize=8, Off_t='off_t', lseeksize=8
    alignbytes=4, prototype=define
  Linker and Libraries:
    ld='cc', ldflags =' -fstack-protector -L/usr/local/lib'
    libpth=/usr/local/lib /lib/i386-linux-gnu /lib/../lib /usr/lib/i386-linux-gnu /usr/lib/../lib /lib /usr/lib
    libs=-lnsl -ldl -lm -lcrypt -lutil -lc
    perllibs=-lnsl -ldl -lm -lcrypt -lutil -lc
    libc=, so=so, useshrplib=false, libperl=libperl.a
    gnulibc_version='2.13'
  Dynamic Linking:
    dlsrc=dl_dlopen.xs, dlext=so, d_dlsymun=undef, ccdlflags='-Wl,-E'
    cccdlflags='-fPIC', lddlflags='-shared -O2 -L/usr/local/lib -fstack-protector'


Characteristics of this binary (from libperl): 
  Compile-time options: HAS_TIMES PERLIO_LAYERS PERL_DONT_CREATE_GVSV
                        PERL_MALLOC_WRAP PERL_PRESERVE_IVUV PERL_SAWAMPERSAND
                        PERL_USE_DEVEL USE_LARGE_FILES USE_LOCALE
                        USE_LOCALE_COLLATE USE_LOCALE_CTYPE
                        USE_LOCALE_NUMERIC USE_PERLIO USE_PERL_ATOF
  Built under linux
  Compiled at May  3 2013 07:49:57
  %ENV:
    PERL5LIB=""
    PERL5OPT=""
    PERL5_CPANPLUS_IS_RUNNING="15195"
    PERL5_CPAN_IS_RUNNING="15195"
    PERLBREW_BASHRC_VERSION="0.43"
    PERLBREW_HOME="/home/michiel/.perlbrew"
    PERLBREW_MANPATH="/home/michiel/perl5/perlbrew/perls/perl-5.17.11/man"
    PERLBREW_PATH="/home/michiel/perl5/perlbrew/bin:/home/michiel/perl5/perlbrew/perls/perl-5.17.11/bin"
    PERLBREW_PERL="perl-5.17.11"
    PERLBREW_ROOT="/home/michiel/perl5/perlbrew"
    PERLBREW_VERSION="0.43"
  @INC:
    /home/michiel/perl5/perlbrew/perls/perl-5.17.11/lib/site_perl/5.17.11/i686-linux
    /home/michiel/perl5/perlbrew/perls/perl-5.17.11/lib/site_perl/5.17.11
    /home/michiel/perl5/perlbrew/perls/perl-5.17.11/lib/5.17.11/i686-linux
    /home/michiel/perl5/perlbrew/perls/perl-5.17.11/lib/5.17.11
    .