Back
From: metabase:user:30f4dfbe-2aae-11df-837a-5e0a49663a4f
Subject: PASS AnyEvent-Twitter-Stream-0.27 v5.16.3 FreeBSD
Date: 2014-04-21T09:29:04Z
This distribution has been tested as part of the CPAN Testers
project, supporting the Perl programming language. See
http://wiki.cpantesters.org/ for more information or email
questions to cpan-testers-discuss@perl.org
--
Dear Tatsuhiko Miyagawa,
This is a computer-generated report for AnyEvent-Twitter-Stream-0.27
on perl 5.16.3, created by CPAN-Reporter-1.2011.
Thank you for uploading your work to CPAN. Congratulations!
All tests were successful.
Sections of this report:
* Tester comments
* Program output
* Prerequisites
* Environment and other context
------------------------------
TESTER COMMENTS
------------------------------
Additional comments from tester:
this report is from an automated smoke testing program
and was not reviewed by a human for accuracy
------------------------------
PROGRAM OUTPUT
------------------------------
Output from './Build test':
t/00_compile.t .......... ok
t/release-pod-syntax.t .. skipped: these tests are for release candidate testing
t/streaming.t ........... skipped: Test requires module 'Plack::Builder' but it's not found
t/timeout.t ............. skipped: Test requires module 'Plack::Builder' but it's not found
All tests successful.
Files=4, Tests=1, 5 wallclock secs ( 0.27 usr 0.12 sys + 2.88 cusr 0.75 csys = 4.02 CPU)
Result: PASS
------------------------------
PREREQUISITES
------------------------------
Prerequisite modules loaded:
requires:
Module Need Have
------------------- -------- --------
AnyEvent 0 7.07
AnyEvent::HTTP 2.0 2.15
JSON 2.0 2.90
perl 5.008001 5.016003
URI 0 1.60
build_requires:
Module Need Have
------------------- -------- --------
Test::More 0 1.001003
Test::Requires 0 0.07
Test::TCP 0 2.02
configure_requires:
Module Need Have
------------------- -------- --------
Module::Build::Tiny 0.035 0.035
------------------------------
ENVIRONMENT AND OTHER CONTEXT
------------------------------
Environment variables:
AUTOMATED_TESTING = 1
PATH = /home/njh/perl5/perlbrew/bin:/home/njh/perl5/perlbrew/perls/perl-5.16.3/bin:/home/njh/perl5/perlbrew/bin:/sbin:/bin:/usr/sbin:/usr/bin:/usr/games:/usr/local/sbin:/usr/local/bin:/home/njh/bin
PERL5LIB = /home/njh/.cpan/build/AnyEvent-HTTP-2.15-MWIqpc/blib/arch:/home/njh/.cpan/build/AnyEvent-HTTP-2.15-MWIqpc/blib/lib:/home/njh/.cpan/build/AnyEvent-7.07-IuNHMl/blib/arch:/home/njh/.cpan/build/AnyEvent-7.07-IuNHMl/blib/lib:/home/njh/.cpan/build/Test-TCP-2.02-cF16OU/blib/arch:/home/njh/.cpan/build/Test-TCP-2.02-cF16OU/blib/lib:/home/njh/.cpan/build/Test-SharedFork-0.24-R_ggew/blib/arch:/home/njh/.cpan/build/Test-SharedFork-0.24-R_ggew/blib/lib:/home/njh/.cpan/build/Module-Build-Tiny-0.035-EzsvsD/blib/arch:/home/njh/.cpan/build/Module-Build-Tiny-0.035-EzsvsD/blib/lib:/home/njh/.cpan/build/ExtUtils-InstallPaths-0.010-EzAik9/blib/arch:/home/njh/.cpan/build/ExtUtils-InstallPaths-0.010-EzAik9/blib/lib:/home/njh/.cpan/build/ExtUtils-Config-0.007-4KGQV5/blib/arch:/home/njh/.cpan/build/ExtUtils-Config-0.007-4KGQV5/blib/lib:/home/njh/.cpan/build/ExtUtils-Helpers-0.022-vUpws1/blib/arch:/home/njh/.cpan/build/ExtUtils-Helpers-0.022-vUpws1/blib/lib:/home/njh/.cpan/build/Test-Harness-3.30-cjzKuX/blib/arch:/home/njh/.cpan/build/Test-Harness-3.30-cjzKuX/blib/lib
PERL5OPT =
PERL5_CPANPLUS_IS_RUNNING = 35989
PERL5_CPAN_IS_RUNNING = 35989
PERL5_MINISMOKEBOX = 0.58
PERLBREW_BASHRC_VERSION = 0.67
PERLBREW_HOME = /home/njh/.perlbrew
PERLBREW_MANPATH = /home/njh/perl5/perlbrew/perls/perl-5.16.3/man
PERLBREW_PATH = /home/njh/perl5/perlbrew/bin:/home/njh/perl5/perlbrew/perls/perl-5.16.3/bin
PERLBREW_PERL = perl-5.16.3
PERLBREW_ROOT = /home/njh/perl5/perlbrew
PERLBREW_VERSION = 0.67
PERL_EXTUTILS_AUTOINSTALL = --defaultdeps
PERL_MM_USE_DEFAULT = 1
SHELL = /bin/bash
TERM = linux
Perl special variables (and OS-specific diagnostics, for MSWin32):
$^X = /usr/home/njh/perl5/perlbrew/perls/perl-5.16.3/bin/perl5.16.3
$UID/$EUID = 1000 / 1000
$GID = 1000 1000 0
$EGID = 1000 1000 0
Perl module toolchain versions installed:
Module Have
------------------- --------
CPAN 2.00
CPAN::Meta 2.132830
Cwd 3.40
ExtUtils::CBuilder 0.280212
ExtUtils::Command 1.17
ExtUtils::Install 1.58
ExtUtils::MakeMaker 6.92
ExtUtils::Manifest 1.61
ExtUtils::ParseXS 3.22
File::Spec 3.40
JSON 2.90
JSON::PP 2.27203
Module::Build 0.4205
Module::Signature n/a
Parse::CPAN::Meta 1.4414
Test::Harness 3.30
Test::More 1.001003
YAML n/a
YAML::Syck 1.27
version 0.99
--
Summary of my perl5 (revision 5 version 16 subversion 3) configuration:
Platform:
osname=freebsd, osvers=9.1-release, archname=i386-freebsd-thread-multi
uname='freebsd amber 9.1-release freebsd 9.1-release #0 r243826: tue dec 4 06:55:39 utc 2012 root@obrian.cse.buffalo.edu:usrobjusrsrcsysgeneric i386 '
config_args='-de -Dprefix=/home/njh/perl5/perlbrew/perls/perl-5.16.3 -Duseithreads -Dusemultiplicity -Accflags=-O2 -W -Wformat=2 -Wswitch -Wshadow -Wwrite-strings -Wuninitialized -Wall -pipe -mtune=native -march=native -fomit-frame-pointer -msse2 -msse -mmmx -mfpmath=sse -pedantic -D_FORTIFY_SOURCE=2 -Wpointer-arith -Wstrict-prototypes -fstack-protector -Wstack-protector -Wextra -Wbad-function-cast -Wcast-align -Wcast-qual -Wdisabled-optimization -Wendif-labels -Wfloat-equal -Wformat-nonliteral -Winline -Wmissing-declarations -Wmissing-prototypes -Wnested-externs -Wpointer-arith -Wundef -Wformat-security -ftree-vectorize -ftree-vectorizer-verbose=2 -Aeval:scriptdir=/home/njh/perl5/perlbrew/perls/perl-5.16.3/bin'
hint=recommended, useposix=true, d_sigaction=define
useithreads=define, usemultiplicity=define
useperlio=define, d_sfio=undef, uselargefiles=define, usesocks=undef
use64bitint=undef, use64bitall=undef, uselongdouble=undef
usemymalloc=n, bincompat5005=undef
Compiler:
cc='cc', ccflags ='-DHAS_FPSETMASK -DHAS_FLOATINGPOINT_H -O2 -W -Wformat=2 -Wswitch -Wshadow -Wwrite-strings -Wuninitialized -Wall -pipe -mtune=native -march=native -fomit-frame-pointer -msse2 -msse -mmmx -mfpmath=sse -pedantic -D_FORTIFY_SOURCE=2 -Wpointer-arith -Wstrict-prototypes -fstack-protector -Wstack-protector -Wextra -Wbad-function-cast -Wcast-align -Wcast-qual -Wdisabled-optimization -Wendif-labels -Wfloat-equal -Wformat-nonliteral -Winline -Wmissing-declarations -Wmissing-prototypes -Wnested-externs -Wpointer-arith -Wundef -Wformat-security -ftree-vectorize -ftree-vectorizer-verbose=2 -fno-strict-aliasing -I/usr/local/include',
optimize='-O',
cppflags='-DHAS_FPSETMASK -DHAS_FLOATINGPOINT_H -O2 -W -Wformat=2 -Wswitch -Wshadow -Wwrite-strings -Wuninitialized -Wall -pipe -mtune=native -march=native -fomit-frame-pointer -msse2 -msse -mmmx -mfpmath=sse -pedantic -D_FORTIFY_SOURCE=2 -Wpointer-arith -Wstrict-prototypes -fstack-protector -Wstack-protector -Wextra -Wbad-function-cast -Wcast-align -Wcast-qual -Wdisabled-optimization -Wendif-labels -Wfloat-equal -Wformat-nonliteral -Winline -Wmissing-declarations -Wmissing-prototypes -Wnested-externs -Wpointer-arith -Wundef -Wformat-security -ftree-vectorize -ftree-vectorizer-verbose=2 -fno-strict-aliasing -I/usr/local/include'
ccversion='', gccversion='4.2.1 20070831 patched [FreeBSD]', gccosandvers=''
intsize=4, longsize=4, ptrsize=4, doublesize=8, byteorder=1234
d_longlong=define, longlongsize=8, d_longdbl=define, longdblsize=12
ivtype='long', ivsize=4, nvtype='double', nvsize=8, Off_t='off_t', lseeksize=8
alignbytes=4, prototype=define
Linker and Libraries:
ld='cc', ldflags ='-pthread -Wl,-E -fstack-protector -L/usr/local/lib'
libpth=/usr/lib /usr/local/lib
libs=-lm -lcrypt
perllibs=-lm -lcrypt
libc=, so=so, useshrplib=false, libperl=libperl.a
gnulibc_version=''
Dynamic Linking:
dlsrc=dl_dlopen.xs, dlext=so, d_dlsymun=undef, ccdlflags=' '
cccdlflags='-DPIC -fPIC', lddlflags='-shared -L/usr/local/lib -fstack-protector'
Characteristics of this binary (from libperl):
Compile-time options: HAS_TIMES MULTIPLICITY PERLIO_LAYERS
PERL_DONT_CREATE_GVSV PERL_IMPLICIT_CONTEXT
PERL_MALLOC_WRAP PERL_PRESERVE_IVUV USE_ITHREADS
USE_LARGE_FILES USE_LOCALE USE_LOCALE_COLLATE
USE_LOCALE_CTYPE USE_LOCALE_NUMERIC USE_PERLIO
USE_PERL_ATOF USE_REENTRANT_API
Built under freebsd
Compiled at Jul 22 2013 18:46:22
%ENV:
PERL5LIB="/home/njh/.cpan/build/AnyEvent-HTTP-2.15-MWIqpc/blib/arch:/home/njh/.cpan/build/AnyEvent-HTTP-2.15-MWIqpc/blib/lib:/home/njh/.cpan/build/AnyEvent-7.07-IuNHMl/blib/arch:/home/njh/.cpan/build/AnyEvent-7.07-IuNHMl/blib/lib:/home/njh/.cpan/build/Test-TCP-2.02-cF16OU/blib/arch:/home/njh/.cpan/build/Test-TCP-2.02-cF16OU/blib/lib:/home/njh/.cpan/build/Test-SharedFork-0.24-R_ggew/blib/arch:/home/njh/.cpan/build/Test-SharedFork-0.24-R_ggew/blib/lib:/home/njh/.cpan/build/Module-Build-Tiny-0.035-EzsvsD/blib/arch:/home/njh/.cpan/build/Module-Build-Tiny-0.035-EzsvsD/blib/lib:/home/njh/.cpan/build/ExtUtils-InstallPaths-0.010-EzAik9/blib/arch:/home/njh/.cpan/build/ExtUtils-InstallPaths-0.010-EzAik9/blib/lib:/home/njh/.cpan/build/ExtUtils-Config-0.007-4KGQV5/blib/arch:/home/njh/.cpan/build/ExtUtils-Config-0.007-4KGQV5/blib/lib:/home/njh/.cpan/build/ExtUtils-Helpers-0.022-vUpws1/blib/arch:/home/njh/.cpan/build/ExtUtils-Helpers-0.022-vUpws1/blib/lib:/home/njh/.cpan/build/Test-Harness-3.30-cjzKuX/blib/arch:/home/njh/.cpan/build/Test-Harness-3.30-cjzKuX/blib/lib"
PERL5OPT=""
PERL5_CPANPLUS_IS_RUNNING="35989"
PERL5_CPAN_IS_RUNNING="35989"
PERL5_MINISMOKEBOX="0.58"
PERLBREW_BASHRC_VERSION="0.67"
PERLBREW_HOME="/home/njh/.perlbrew"
PERLBREW_MANPATH="/home/njh/perl5/perlbrew/perls/perl-5.16.3/man"
PERLBREW_PATH="/home/njh/perl5/perlbrew/bin:/home/njh/perl5/perlbrew/perls/perl-5.16.3/bin"
PERLBREW_PERL="perl-5.16.3"
PERLBREW_ROOT="/home/njh/perl5/perlbrew"
PERLBREW_VERSION="0.67"
PERL_EXTUTILS_AUTOINSTALL="--defaultdeps"
PERL_MM_USE_DEFAULT="1"
@INC:
/home/njh/.cpan/build/AnyEvent-HTTP-2.15-MWIqpc/blib/arch
/home/njh/.cpan/build/AnyEvent-HTTP-2.15-MWIqpc/blib/lib
/home/njh/.cpan/build/AnyEvent-7.07-IuNHMl/blib/arch
/home/njh/.cpan/build/AnyEvent-7.07-IuNHMl/blib/lib
/home/njh/.cpan/build/Test-TCP-2.02-cF16OU/blib/arch
/home/njh/.cpan/build/Test-TCP-2.02-cF16OU/blib/lib
/home/njh/.cpan/build/Test-SharedFork-0.24-R_ggew/blib/arch
/home/njh/.cpan/build/Test-SharedFork-0.24-R_ggew/blib/lib
/home/njh/.cpan/build/Module-Build-Tiny-0.035-EzsvsD/blib/arch
/home/njh/.cpan/build/Module-Build-Tiny-0.035-EzsvsD/blib/lib
/home/njh/.cpan/build/ExtUtils-InstallPaths-0.010-EzAik9/blib/arch
/home/njh/.cpan/build/ExtUtils-InstallPaths-0.010-EzAik9/blib/lib
/home/njh/.cpan/build/ExtUtils-Config-0.007-4KGQV5/blib/arch
/home/njh/.cpan/build/ExtUtils-Config-0.007-4KGQV5/blib/lib
/home/njh/.cpan/build/ExtUtils-Helpers-0.022-vUpws1/blib/arch
/home/njh/.cpan/build/ExtUtils-Helpers-0.022-vUpws1/blib/lib
/home/njh/.cpan/build/Test-Harness-3.30-cjzKuX/blib/arch
/home/njh/.cpan/build/Test-Harness-3.30-cjzKuX/blib/lib
/home/njh/perl5/perlbrew/perls/perl-5.16.3/lib/site_perl/5.16.3/i386-freebsd-thread-multi
/home/njh/perl5/perlbrew/perls/perl-5.16.3/lib/site_perl/5.16.3
/home/njh/perl5/perlbrew/perls/perl-5.16.3/lib/5.16.3/i386-freebsd-thread-multi
/home/njh/perl5/perlbrew/perls/perl-5.16.3/lib/5.16.3
.