HTML-Parser v3.72 Perl 5 v5.18.4 OpenBSD.amd64-openbsd-multi
- Status
- Pass
- From
- Nigel Horne
- Dist
-
HTML-Parser v3.72
- Platform
- Perl 5 v5.18.4 OpenBSD.amd64-openbsd-multi
- Date
- 2018-03-13 15:37:03
- ID
- 612bad04-26d4-11e8-91ce-d3e3deac0b3f
This distribution has been tested as part of the CPAN Testers
project, supporting the Perl programming language. See
http://wiki.cpantesters.org/ for more information or email
questions to cpan-testers-discuss@perl.org
--
Dear Gisle Aas,
This is a computer-generated report for HTML-Parser-3.72
on perl 5.18.4, created by CPAN-Reporter-1.2018.
Thank you for uploading your work to CPAN. Congratulations!
All tests were successful.
Sections of this report:
* Tester comments
* Program output
* Prerequisites
* Environment and other context
------------------------------
TESTER COMMENTS
------------------------------
Additional comments from tester:
none provided
------------------------------
PROGRAM OUTPUT
------------------------------
Output from '/usr/bin/make test':
"/home/njh/perl5/perlbrew/perls/perl-5.18.4-multi/bin/perl5.18.4" -MExtUtils::Command::MM -e 'cp_nonempty' -- Parser.bs blib/arch/auto/HTML/Parser/Parser.bs 644
PERL_DL_NONLAZY=1 "/home/njh/perl5/perlbrew/perls/perl-5.18.4-multi/bin/perl5.18.4" "-MExtUtils::Command::MM" "-MTest::Harness" "-e" "undef *Test::Harness::Switches; test_harness(0, 'blib/lib', 'blib/arch')" t/*.t
t/api_version.t ...... ok
t/argspec-bad.t ...... ok
t/argspec.t .......... ok
t/argspec2.t ......... ok
t/attr-encoded.t ..... ok
t/callback.t ......... ok
t/case-sensitive.t ... ok
t/cases.t ............ ok
t/comment.t .......... ok
t/declaration.t ...... ok
t/default.t .......... ok
t/document.t ......... ok
t/dtext.t ............ ok
t/entities.t ......... ok
t/crashme.t .......... ok
t/entities2.t ........ ok
t/filter-methods.t ... ok
t/filter.t ........... ok
t/handler-eof.t ...... ok
t/handler.t .......... ok
t/headparser-http.t .. ok
t/headparser.t ....... ok
t/ignore.t ........... ok
t/largetags.t ........ ok
t/linkextor-base.t ... ok
t/linkextor-rel.t .... ok
t/magic.t ............ ok
t/marked-sect.t ...... ok
t/msie-compat.t ...... ok
t/offset.t ........... ok
t/options.t .......... ok
t/parsefile.t ........ ok
t/parser.t ........... ok
t/plaintext.t ........ ok
t/pod.t .............. skipped: Test::Pod 1.00 required for testing POD
t/process.t .......... ok
t/script.t ........... ok
t/pullparser.t ....... ok
t/skipped-text.t ..... ok
t/stack-realloc.t .... ok
t/textarea.t ......... ok
t/threads.t .......... skipped: Not configured for threads
t/uentities.t ........ ok
t/tokeparser.t ....... ok
t/unbroken-text.t .... ok
t/unicode-bom.t ...... ok
t/unicode.t .......... ok
t/xml-mode.t ......... ok
All tests successful.
Files=48, Tests=450, 11 wallclock secs ( 0.77 usr 0.71 sys + 15.99 cusr 4.16 csys = 21.63 CPU)
Result: PASS
------------------------------
PREREQUISITES
------------------------------
Prerequisite modules loaded:
requires:
Module Need Have
------------------- ----- --------
HTML::Tagset 3 3.20
perl 5.008 5.018004
XSLoader 0 0.16
build_requires:
Module Need Have
------------------- ----- --------
ExtUtils::MakeMaker 0 7.30
configure_requires:
Module Need Have
------------------- ----- --------
ExtUtils::MakeMaker 0 7.30
------------------------------
ENVIRONMENT AND OTHER CONTEXT
------------------------------
Environment variables:
HARNESS_OPTIONS = j2:c
PATH = /home/njh/perl5/perlbrew/bin:/home/njh/perl5/perlbrew/perls/perl-5.18.4-multi/bin:/home/njh/bin:/bin:/sbin:/usr/bin:/usr/sbin:/usr/X11R6/bin:/usr/local/bin:/usr/local/sbin:/usr/games:.
PERL5LIB =
PERL5OPT =
PERL5_CPANPLUS_IS_RUNNING = 42375
PERL5_CPAN_IS_RUNNING = 42375
PERLBREW_HOME = /home/njh/.perlbrew
PERLBREW_MANPATH = /home/njh/perl5/perlbrew/perls/perl-5.18.4-multi/man
PERLBREW_PATH = /home/njh/perl5/perlbrew/bin:/home/njh/perl5/perlbrew/perls/perl-5.18.4-multi/bin
PERLBREW_PERL = perl-5.18.4-multi
PERLBREW_ROOT = /home/njh/perl5/perlbrew
PERLBREW_SHELLRC_VERSION = 0.82
PERLBREW_VERSION = 0.82
SHELL = /usr/local/bin/bash
TERM = xterm-256color
TMPDIR = /tmp
Perl special variables (and OS-specific diagnostics, for MSWin32):
$^X = /home/njh/perl5/perlbrew/perls/perl-5.18.4-multi/bin/perl5.18.4
$UID/$EUID = 1000 / 1000
$GID = 1000 1000 0
$EGID = 1000 1000 0
Perl module toolchain versions installed:
Module Have
------------------- --------
CPAN 2.16
CPAN::Meta 2.143240
Cwd 3.62
ExtUtils::CBuilder 0.280210
ExtUtils::Command 7.30
ExtUtils::Install 2.06
ExtUtils::MakeMaker 7.30
ExtUtils::Manifest 1.70
ExtUtils::ParseXS 3.18
File::Spec 3.62
JSON n/a
JSON::PP 2.27203
Module::Build 0.4003
Module::Signature n/a
Parse::CPAN::Meta 1.4414
Test::Harness 3.39
Test::More 1.302120
YAML 1.24
YAML::Syck 1.30
version 0.9902
--
Summary of my perl5 (revision 5 version 18 subversion 4) configuration:
Platform:
osname=openbsd, osvers=6.2, archname=OpenBSD.amd64-openbsd-multi
uname='openbsd netgate1.bandsman.co.uk 6.2 generic.mp#2 amd64 '
config_args='-de -Dprefix=/home/njh/perl5/perlbrew/perls/perl-5.18.4-multi -Dusedevel -Dusemultiplicity -Accflags= -Aeval:scriptdir=/home/njh/perl5/perlbrew/perls/perl-5.18.4-multi/bin'
hint=recommended, useposix=true, d_sigaction=define
useithreads=undef, usemultiplicity=define
useperlio=define, d_sfio=undef, uselargefiles=define, usesocks=undef
use64bitint=define, use64bitall=define, uselongdouble=undef
usemymalloc=n, bincompat5005=undef
Compiler:
cc='cc', ccflags ='-fno-strict-aliasing -pipe -fstack-protector -I/usr/local/include',
optimize='-O2',
cppflags='-fno-strict-aliasing -pipe -fstack-protector -I/usr/local/include'
ccversion='', gccversion='4.2.1 Compatible OpenBSD Clang 4.0.0 (tags/RELEASE_400/final)', gccosandvers=''
intsize=4, longsize=8, ptrsize=8, doublesize=8, byteorder=12345678
d_longlong=define, longlongsize=8, d_longdbl=define, longdblsize=16
ivtype='long', ivsize=8, nvtype='double', nvsize=8, Off_t='off_t', lseeksize=8
alignbytes=8, prototype=define
Linker and Libraries:
ld='cc', ldflags ='-Wl,-E -fstack-protector -L/usr/local/lib'
libpth=/usr/local/lib /usr/lib
libs=-lm -lutil -lc
perllibs=-lm -lutil -lc
libc=/usr/lib/libc.so.90.0, so=so, useshrplib=false, libperl=libperl.a
gnulibc_version=''
Dynamic Linking:
dlsrc=dl_dlopen.xs, dlext=so, d_dlsymun=undef, ccdlflags=' '
cccdlflags='-DPIC -fPIC ', lddlflags='-shared -fPIC -L/usr/local/lib -fstack-protector'
Characteristics of this binary (from libperl):
Compile-time options: HAS_TIMES MULTIPLICITY PERLIO_LAYERS
PERL_DONT_CREATE_GVSV
PERL_HASH_FUNC_ONE_AT_A_TIME_HARD
PERL_IMPLICIT_CONTEXT PERL_MALLOC_WRAP
PERL_PRESERVE_IVUV PERL_SAWAMPERSAND PERL_USE_DEVEL
USE_64_BIT_ALL USE_64_BIT_INT USE_LARGE_FILES
USE_LOCALE USE_LOCALE_COLLATE USE_LOCALE_CTYPE
USE_LOCALE_NUMERIC USE_PERLIO USE_PERL_ATOF
Locally applied patches:
Devel::PatchPerl 1.48
Built under openbsd
Compiled at Jan 21 2018 14:38:04
%ENV:
PERL5LIB=""
PERL5OPT=""
PERL5_CPANPLUS_IS_RUNNING="42375"
PERL5_CPAN_IS_RUNNING="42375"
PERLBREW_HOME="/home/njh/.perlbrew"
PERLBREW_MANPATH="/home/njh/perl5/perlbrew/perls/perl-5.18.4-multi/man"
PERLBREW_PATH="/home/njh/perl5/perlbrew/bin:/home/njh/perl5/perlbrew/perls/perl-5.18.4-multi/bin"
PERLBREW_PERL="perl-5.18.4-multi"
PERLBREW_ROOT="/home/njh/perl5/perlbrew"
PERLBREW_SHELLRC_VERSION="0.82"
PERLBREW_VERSION="0.82"
@INC:
/home/njh/perl5/perlbrew/perls/perl-5.18.4-multi/lib/site_perl/5.18.4/OpenBSD.amd64-openbsd-multi
/home/njh/perl5/perlbrew/perls/perl-5.18.4-multi/lib/site_perl/5.18.4
/home/njh/perl5/perlbrew/perls/perl-5.18.4-multi/lib/5.18.4/OpenBSD.amd64-openbsd-multi
/home/njh/perl5/perlbrew/perls/perl-5.18.4-multi/lib/5.18.4
.