Back
From: metabase:user:b53c7f44-4c0e-11e4-9ced-a04ade49192c
Subject: PASS Crypt-SSLeay-0.72 v5.21.9 GNU/Linux
Date: 2015-02-22T11:53:13Z
This distribution has been tested as part of the CPAN Testers
project, supporting the Perl programming language. See
http://wiki.cpantesters.org/ for more information or email
questions to cpan-testers-discuss@perl.org
--
Dear A. Sinan Unur,
This is a computer-generated report for Crypt-SSLeay-0.72
on perl 5.21.9, created by CPAN-Reporter-1.2011.
Thank you for uploading your work to CPAN. Congratulations!
All tests were successful.
Sections of this report:
* Tester comments
* Program output
* Prerequisites
* Environment and other context
------------------------------
TESTER COMMENTS
------------------------------
Additional comments from tester:
this report is from an automated smoke testing program
and was not reviewed by a human for accuracy
------------------------------
PROGRAM OUTPUT
------------------------------
Output from '/usr/bin/make test':
Running Mkbootstrap for Crypt::SSLeay ()
chmod 644 "SSLeay.bs"
PERL_DL_NONLAZY=1 "/opt/perl492-32-O0-5.21.9/bin/perl" "-MExtUtils::Command::MM" "-MTest::Harness" "-e" "undef *Test::Harness::Switches; test_harness(0, 'blib/lib', 'blib/arch')" t/*.t
t/00-basic.t ..... ok
t/01-connect.t ... ok
# Reading configuration from 'test.config' on linux
# network_tests : 0
t/02-live.t ...... skipped: Network tests disabled
t/03-version.t ... ok
t/boilerplate.t .. ok
t/manifest.t ..... skipped: Author tests not required for installation
All tests successful.
Files=6, Tests=43, 6 wallclock secs ( 0.26 usr 0.03 sys + 2.74 cusr 0.20 csys = 3.23 CPU)
Result: PASS
------------------------------
PREREQUISITES
------------------------------
Prerequisite modules loaded:
requires:
Module Need Have
-------------------- -------- --------
LWP::Protocol::https 6.02 6.06
MIME::Base64 0 3.15
perl 5.006 5.021009
build_requires:
Module Need Have
-------------------- -------- --------
ExtUtils::MakeMaker 0 7.04
Test::More 0.19 1.001014
Try::Tiny 0.19 0.22
configure_requires:
Module Need Have
-------------------- -------- --------
ExtUtils::CBuilder 0.280205 0.280220
Getopt::Long 0 2.44
Path::Class 0.26 0.35
Try::Tiny 0.19 0.22
------------------------------
ENVIRONMENT AND OTHER CONTEXT
------------------------------
Environment variables:
AUTOMATED_TESTING = 1
LANG = en_US.utf8
MB_TEST_EXPERIMENTAL = 1
NONINTERACTIVE_TESTING = 1
PATH = /usr/lib/qt-3.3/bin:/usr/kerberos/sbin:/usr/kerberos/bin:/usr/lib/ccache:/usr/local/sbin:/usr/sbin:/sbin:/usr/local/bin:/usr/bin:/bin:/usr/lib/firebird/bin:/opt/real/RealPlayer:/root/bin:/usr/lib/firebird/bin:/opt/real/RealPlayer
PERL5LIB =
PERL5OPT =
PERL5_CPANPLUS_IS_RUNNING = 30541
PERL5_CPAN_IS_RUNNING = 30541
PERL_ANYEVENT_MODEL = POE
PERL_EXTUTILS_AUTOINSTALL = --defaultdeps
PERL_MM_USE_DEFAULT = 1
SHELL = /bin/bash
TERM = xterm
Perl special variables (and OS-specific diagnostics, for MSWin32):
$^X = /opt/perl492-32-O0-5.21.9/bin/perl
$UID/$EUID = 0 / 0
$GID = 0 0 1 2 3 4 6 10
$EGID = 0 0 1 2 3 4 6 10
Perl module toolchain versions installed:
Module Have
------------------- --------
CPAN 2.05
CPAN::Meta 2.143240
Cwd 3.47
ExtUtils::CBuilder 0.280220
ExtUtils::Command 1.20
ExtUtils::Install 2.04
ExtUtils::MakeMaker 7.04
ExtUtils::Manifest 1.70
ExtUtils::ParseXS 3.24
File::Spec 3.47
JSON 2.90
JSON::PP 2.27300
Module::Build 0.4211
Module::Signature 0.73
Parse::CPAN::Meta 1.4414
Test::Harness 3.35
Test::More 1.001014
YAML 1.14
YAML::Syck 1.29
version 0.9912
--
Summary of my perl5 (revision 5 version 21 subversion 9) configuration:
Platform:
osname=linux, osvers=2.6.32.63, archname=i686-linux-thread-multi-64int-ld
uname='linux localhost.localdomain 2.6.32.63 #2 smp fri jan 30 10:45:01 pst 2015 i686 i686 i386 gnulinux '
config_args='-Dcc=/opt/492/bin/gcc -Dprefix=/opt/perl492-32-O0-5.21.9 -DDEBUGGING'
hint=recommended, useposix=true, d_sigaction=define
useithreads=define, usemultiplicity=define
use64bitint=define, use64bitall=undef, uselongdouble=define
usemymalloc=y, bincompat5005=undef
Compiler:
cc='/opt/492/bin/gcc', ccflags ='-D_REENTRANT -D_GNU_SOURCE -fwrapv -DDEBUGGING -fno-strict-aliasing -pipe -fstack-protector-strong -I/usr/local/include -D_LARGEFILE_SOURCE -D_FILE_OFFSET_BITS=64 -D_FORTIFY_SOURCE=2',
optimize='-O0 -g',
cppflags='-D_REENTRANT -D_GNU_SOURCE -fwrapv -DDEBUGGING -fno-strict-aliasing -pipe -fstack-protector-strong -I/usr/local/include'
ccversion='', gccversion='4.9.2', gccosandvers=''
intsize=4, longsize=4, ptrsize=4, doublesize=8, byteorder=12345678, doublekind=3
d_longlong=define, longlongsize=8, d_longdbl=define, longdblsize=12, longdblkind=3
ivtype='long long', ivsize=8, nvtype='long double', nvsize=12, Off_t='off_t', lseeksize=8
alignbytes=4, prototype=define
Linker and Libraries:
ld='/opt/492/bin/gcc', ldflags =' -fstack-protector-strong -L/usr/local/lib'
libpth=/usr/local/lib /opt/492/lib /opt/492/lib/gcc/i686-pc-linux-gnu/4.9.2/include-fixed /usr/lib /lib
libs=-lpthread -lnsl -lgdbm -ldb -ldl -lm -lcrypt -lutil -lc
perllibs=-lpthread -lnsl -ldl -lm -lcrypt -lutil -lc
libc=libc-2.8.so, so=so, useshrplib=true, libperl=libperl.so
gnulibc_version='2.8'
Dynamic Linking:
dlsrc=dl_dlopen.xs, dlext=so, d_dlsymun=undef, ccdlflags='-Wl,-E -Wl,-rpath,/opt/perl492-32-O0-5.21.9/lib/5.21.9/i686-linux-thread-multi-64int-ld/CORE'
cccdlflags='-fPIC', lddlflags='-shared -O0 -g -L/usr/local/lib -fstack-protector-strong'
Characteristics of this binary (from libperl):
Compile-time options: DEBUGGING HAS_TIMES MULTIPLICITY MYMALLOC
PERLIO_LAYERS PERL_DONT_CREATE_GVSV
PERL_HASH_FUNC_ONE_AT_A_TIME_HARD
PERL_IMPLICIT_CONTEXT PERL_MALLOC_WRAP
PERL_NEW_COPY_ON_WRITE PERL_PRESERVE_IVUV
PERL_TRACK_MEMPOOL USE_64_BIT_INT USE_FAST_STDIO
USE_ITHREADS USE_LARGE_FILES USE_LOCALE
USE_LOCALE_COLLATE USE_LOCALE_CTYPE
USE_LOCALE_NUMERIC USE_LOCALE_TIME USE_LONG_DOUBLE
USE_PERLIO USE_PERL_ATOF USE_REENTRANT_API
Built under linux
Compiled at Feb 21 2015 00:12:44
%ENV:
PERL5LIB=""
PERL5OPT=""
PERL5_CPANPLUS_IS_RUNNING="30541"
PERL5_CPAN_IS_RUNNING="30541"
PERL_ANYEVENT_MODEL="POE"
PERL_EXTUTILS_AUTOINSTALL="--defaultdeps"
PERL_MM_USE_DEFAULT="1"
@INC:
/opt/perl492-32-O0-5.21.9/lib/site_perl/5.21.9/i686-linux-thread-multi-64int-ld
/opt/perl492-32-O0-5.21.9/lib/site_perl/5.21.9
/opt/perl492-32-O0-5.21.9/lib/5.21.9/i686-linux-thread-multi-64int-ld
/opt/perl492-32-O0-5.21.9/lib/5.21.9
.