Back
From: metabase:user:d2c9f356-b46f-11df-9a90-20a83c0b7757
Subject: PASS MozRepl-0.06 v5.17.9 SunOS/Solaris
Date: 2013-03-27T11:13:40Z
This distribution has been tested as part of the CPAN Testers
project, supporting the Perl programming language. See
http://wiki.cpantesters.org/ for more information or email
questions to cpan-testers-discuss@perl.org
--
Dear Toru Yamaguchi,
This is a computer-generated report for MozRepl-0.06
on perl 5.17.9, created by CPAN-Reporter-1.2009.
Thank you for uploading your work to CPAN. Congratulations!
All tests were successful.
Sections of this report:
* Tester comments
* Program output
* Prerequisites
* Environment and other context
------------------------------
TESTER COMMENTS
------------------------------
Additional comments from tester:
this report is from an automated smoke testing program
and was not reviewed by a human for accuracy
------------------------------
PROGRAM OUTPUT
------------------------------
Output from '/usr/local/bin/make test':
/export/home/cpant5/perl5/perlbrew/perls/perl-5.17.9/bin/perl5.17.9 "-Iinc" Makefile.PL --config= --installdeps=Data::JavaScript::Anon,0,Module::Pluggable::Fast,0,Net::Telnet,0,Template::Provider::FromDATA,0,Text::SimpleTable,0,UNIVERSAL::require,0
PERL_DL_NONLAZY=1 /export/home/cpant5/perl5/perlbrew/perls/perl-5.17.9/bin/perl5.17.9 "-MExtUtils::Command::MM" "-e" "test_harness(0, 'inc', 'blib/lib', 'blib/arch')" t/00-load.t t/10-plugin-repl-enter.t t/11-plugin-repl-search.t t/12-plugin-repl-inspect.t t/13-plugin-repl-load.t t/14-plugin-repl-rename.t t/15-plugin-repl-print.t t/16-plugin-repl-home.t t/17-plugin-repl-back.t t/18-plugin-repl-util-help_url_for.t t/19-plugin-repl-util-doc_for.t t/20-plugin-json.t t/pod-coverage.t t/pod.t
# Testing MozRepl 0.06
t/00-load.t ........................... ok
[DEBUG] MozRepl logging enabled
[DEBUG]
---- Client arguments ----
.----------------------+------------------------------------------.
| client_arg_name | client_arg_value |
+----------------------+------------------------------------------+
| host | localhost |
| port | 4242 |
| timeout | 10 |
| extra_client_args | {} |
'----------------------+------------------------------------------'
t/10-plugin-repl-enter.t .............. ok
[DEBUG] MozRepl logging enabled
[DEBUG]
---- Client arguments ----
.----------------------+------------------------------------------.
| client_arg_name | client_arg_value |
+----------------------+------------------------------------------+
| host | localhost |
| port | 4242 |
| timeout | 10 |
| extra_client_args | {} |
'----------------------+------------------------------------------'
t/11-plugin-repl-search.t ............. ok
[DEBUG] MozRepl logging enabled
[DEBUG]
---- Client arguments ----
.----------------------+------------------------------------------.
| client_arg_name | client_arg_value |
+----------------------+------------------------------------------+
| host | localhost |
| port | 4242 |
| timeout | 10 |
| extra_client_args | {} |
'----------------------+------------------------------------------'
t/12-plugin-repl-inspect.t ............ ok
[DEBUG] MozRepl logging enabled
[DEBUG]
---- Client arguments ----
.----------------------+------------------------------------------.
| client_arg_name | client_arg_value |
+----------------------+------------------------------------------+
| host | localhost |
| port | 4242 |
| timeout | 10 |
| extra_client_args | {} |
'----------------------+------------------------------------------'
t/13-plugin-repl-load.t ............... ok
[DEBUG] MozRepl logging enabled
[DEBUG]
---- Client arguments ----
.----------------------+------------------------------------------.
| client_arg_name | client_arg_value |
+----------------------+------------------------------------------+
| host | localhost |
| port | 4242 |
| timeout | 10 |
| extra_client_args | {} |
'----------------------+------------------------------------------'
t/14-plugin-repl-rename.t ............. ok
[DEBUG] MozRepl logging enabled
[DEBUG]
---- Client arguments ----
.----------------------+------------------------------------------.
| client_arg_name | client_arg_value |
+----------------------+------------------------------------------+
| host | localhost |
| port | 4242 |
| timeout | 10 |
| extra_client_args | {} |
'----------------------+------------------------------------------'
t/15-plugin-repl-print.t .............. ok
[DEBUG] MozRepl logging enabled
[DEBUG]
---- Client arguments ----
.----------------------+------------------------------------------.
| client_arg_name | client_arg_value |
+----------------------+------------------------------------------+
| host | localhost |
| port | 4242 |
| timeout | 10 |
| extra_client_args | {} |
'----------------------+------------------------------------------'
t/16-plugin-repl-home.t ............... ok
[DEBUG] MozRepl logging enabled
[DEBUG]
---- Client arguments ----
.----------------------+------------------------------------------.
| client_arg_name | client_arg_value |
+----------------------+------------------------------------------+
| host | localhost |
| port | 4242 |
| timeout | 10 |
| extra_client_args | {} |
'----------------------+------------------------------------------'
t/17-plugin-repl-back.t ............... ok
[DEBUG] MozRepl logging enabled
[DEBUG]
---- Client arguments ----
.----------------------+------------------------------------------.
| client_arg_name | client_arg_value |
+----------------------+------------------------------------------+
| host | localhost |
| port | 4242 |
| timeout | 10 |
| extra_client_args | {} |
'----------------------+------------------------------------------'
t/18-plugin-repl-util-help_url_for.t .. ok
[DEBUG] MozRepl logging enabled
[DEBUG]
---- Client arguments ----
.----------------------+------------------------------------------.
| client_arg_name | client_arg_value |
+----------------------+------------------------------------------+
| host | localhost |
| port | 4242 |
| timeout | 10 |
| extra_client_args | {} |
'----------------------+------------------------------------------'
t/19-plugin-repl-util-doc_for.t ....... ok
[DEBUG] MozRepl logging enabled
[DEBUG]
---- Client arguments ----
.----------------------+------------------------------------------.
| client_arg_name | client_arg_value |
+----------------------+------------------------------------------+
| host | localhost |
| port | 4242 |
| timeout | 10 |
| extra_client_args | {} |
'----------------------+------------------------------------------'
t/20-plugin-json.t .................... ok
t/pod-coverage.t ...................... skipped: Test::Pod::Coverage 1.04 required for testing POD coverage
t/pod.t ............................... ok
All tests successful.
Files=14, Tests=58, 2 wallclock secs ( 0.19 usr 0.12 sys + 1.79 cusr 0.62 csys = 2.72 CPU)
Result: PASS
------------------------------
PREREQUISITES
------------------------------
Prerequisite modules loaded:
requires:
Module Need Have
---------------------------- ---- ----
Carp::Clan 0 6.04
Class::Accessor::Fast 0 0.34
Class::Data::Inheritable 0 0.08
Data::Dump 0 1.21
Data::JavaScript::Anon 0 1.03
File::Spec 0 3.40
Module::Pluggable::Fast 0 0.19
Net::Telnet 0 3.03
Template 0 2.24
Template::Provider::FromDATA 0 0.13
Text::SimpleTable 0 2.03
UNIVERSAL::require 0 0.13
URI 0 1.60
build_requires:
Module Need Have
---------------------------- ---- ----
ExtUtils::MakeMaker 0 6.64
------------------------------
ENVIRONMENT AND OTHER CONTEXT
------------------------------
Environment variables:
AUTOMATED_TESTING = 1
LANG = C
LD_LIBRARY_PATH = /usr/local/lib:
MANPATH_WITHOUT_PERLBREW =
PATH = /export/home/cpant5/perl5/perlbrew/bin:/export/home/cpant5/perl5/perlbrew/perls/perl-5.17.9/bin:/export/home/cpant5/perl5/bin:/usr/local/bin:/usr/bin
PATH_WITHOUT_PERLBREW = /export/home/cpant5/perl5/bin:/usr/local/bin:/usr/bin
PERL5LIB = /export/home/cpant5/.cpan/build/Data-JavaScript-Anon-1.03-Oa7uuP/blib/arch:/export/home/cpant5/.cpan/build/Data-JavaScript-Anon-1.03-Oa7uuP/blib/lib:/export/home/cpant5/.cpan/build/Class-Default-1.51-Lr0Cj_/blib/arch:/export/home/cpant5/.cpan/build/Class-Default-1.51-Lr0Cj_/blib/lib:/export/home/cpant5/.cpan/build/Module-Pluggable-Fast-0.19-CWsJZD/blib/arch:/export/home/cpant5/.cpan/build/Module-Pluggable-Fast-0.19-CWsJZD/blib/lib:/export/home/cpant5/.cpan/build/Text-SimpleTable-2.03-ELC2Yj/blib/arch:/export/home/cpant5/.cpan/build/Text-SimpleTable-2.03-ELC2Yj/blib/lib:/export/home/cpant5/.cpan/build/Net-Telnet-3.03-hx3pcA/blib/arch:/export/home/cpant5/.cpan/build/Net-Telnet-3.03-hx3pcA/blib/lib:/export/home/cpant5/.cpan/build/Template-Provider-FromDATA-0.13-eiT2ah/blib/arch:/export/home/cpant5/.cpan/build/Template-Provider-FromDATA-0.13-eiT2ah/blib/lib:/export/home/cpant5/.cpan/build/UNIVERSAL-require-0.13-jQZlwS/blib/arch:/export/home/cpant5/.cpan/build/UNIVERSAL-require-0.13-jQZlwS/blib/lib:/export/home/cpant5/.cpan/build/Shell-Command-0.06-rzLL3U/blib/arch:/export/home/cpant5/.cpan/build/Shell-Command-0.06-rzLL3U/blib/lib:/export/home/cpant5/.cpan/build/HTML-Selector-XPath-0.15-KZr6n0/blib/arch:/export/home/cpant5/.cpan/build/HTML-Selector-XPath-0.15-KZr6n0/blib/lib:/export/home/cpant5/.cpan/build/Test-Base-0.60-XgnPem/blib/arch:/export/home/cpant5/.cpan/build/Test-Base-0.60-XgnPem/blib/lib:/export/home/cpant5/.cpan/build/Spiffy-0.31-J3O0MQ/blib/arch:/export/home/cpant5/.cpan/build/Spiffy-0.31-J3O0MQ/blib/lib:/export/home/cpant5/.cpan/build/WWW-Mechanize-1.72-LcL1Eg/blib/arch:/export/home/cpant5/.cpan/build/WWW-Mechanize-1.72-LcL1Eg/blib/lib
PERL5OPT =
PERL5_CPANPLUS_IS_RUNNING = 1688
PERL5_CPAN_IS_RUNNING = 1688
PERL5_CPAN_IS_RUNNING_IN_RECURSION = 5207,1688
PERLBREW_BASHRC_VERSION = 0.44
PERLBREW_HOME = /export/home/cpant5/.perlbrew
PERLBREW_MANPATH = /export/home/cpant5/perl5/perlbrew/perls/perl-5.17.9/man
PERLBREW_PATH = /export/home/cpant5/perl5/perlbrew/bin:/export/home/cpant5/perl5/perlbrew/perls/perl-5.17.9/bin
PERLBREW_PERL = perl-5.17.9
PERLBREW_ROOT = /export/home/cpant5/perl5/perlbrew
PERLBREW_VERSION = 0.44
PERL_CR_SMOKER_CURRENT = WWW-Mechanize-Firefox-0.71
PERL_EXTUTILS_AUTOINSTALL = --defaultdeps
PERL_MM_USE_DEFAULT = 1
SHELL = /bin/bash
TERM = xterm
Perl special variables (and OS-specific diagnostics, for MSWin32):
$^X = /export/home/cpant5/perl5/perlbrew/perls/perl-5.17.9/bin/perl5.17.9
$UID/$EUID = 105 / 105
$GID = 1 1
$EGID = 1 1
Perl module toolchain versions installed:
Module Have
------------------- --------
CPAN 2.00
CPAN::Meta 2.120921
Cwd 3.40
ExtUtils::CBuilder 0.280209
ExtUtils::Command 1.17
ExtUtils::Install 1.59
ExtUtils::MakeMaker 6.64
ExtUtils::Manifest 1.63
ExtUtils::ParseXS 3.18
File::Spec 3.40
JSON 2.53
JSON::PP 2.27202
Module::Build 0.4003
Module::Signature n/a
Parse::CPAN::Meta 1.4404
Test::Harness 3.26
Test::More 0.98
YAML 0.84
YAML::Syck 1.25
version 0.9902
--
Summary of my perl5 (revision 5 version 17 subversion 9) configuration:
Platform:
osname=solaris, osvers=2.10, archname=i86pc-solaris-64int
uname='sunos vmrz0046 5.10 generic_141445-09 i86pc i386 i86pc solaris '
config_args='-de -Dprefix=/export/home/cpant5/perl5/perlbrew/perls/perl-5.17.9 -Dcc=gcc -Duse64bitint -Dusedevel -Dusedevel -Aeval:scriptdir=/export/home/cpant5/perl5/perlbrew/perls/perl-5.17.9/bin'
hint=recommended, useposix=true, d_sigaction=define
useithreads=undef, usemultiplicity=undef
useperlio=define, d_sfio=undef, uselargefiles=define, usesocks=undef
use64bitint=define, use64bitall=undef, uselongdouble=undef
usemymalloc=n, bincompat5005=undef
Compiler:
cc='gcc', ccflags ='-DPTR_IS_LONG -fno-strict-aliasing -pipe -I/usr/local/include -D_LARGEFILE_SOURCE -D_FILE_OFFSET_BITS=64 -DPERL_USE_SAFE_PUTENV',
optimize='-O',
cppflags='-DPTR_IS_LONG -fno-strict-aliasing -pipe -I/usr/local/include'
ccversion='', gccversion='3.4.6', gccosandvers='solaris2.10'
intsize=4, longsize=4, ptrsize=4, doublesize=8, byteorder=12345678
d_longlong=define, longlongsize=8, d_longdbl=define, longdblsize=12
ivtype='long long', ivsize=8, nvtype='double', nvsize=8, Off_t='off_t', lseeksize=8
alignbytes=4, prototype=define
Linker and Libraries:
ld='gcc', ldflags =' -L/usr/local/lib '
libpth=/usr/local/lib /usr/lib /usr/ccs/lib
libs=-lsocket -lnsl -lgdbm -ldl -lm -lc
perllibs=-lsocket -lnsl -ldl -lm -lc
libc=/lib/libc.so, so=so, useshrplib=false, libperl=libperl.a
gnulibc_version=''
Dynamic Linking:
dlsrc=dl_dlopen.xs, dlext=so, d_dlsymun=undef, ccdlflags=' '
cccdlflags='-fPIC', lddlflags='-G -L/usr/local/lib'
Characteristics of this binary (from libperl):
Compile-time options: HAS_TIMES PERLIO_LAYERS PERL_DONT_CREATE_GVSV
PERL_MALLOC_WRAP PERL_NEW_COPY_ON_WRITE
PERL_PRESERVE_IVUV PERL_USE_DEVEL
PERL_USE_SAFE_PUTENV USE_64_BIT_INT USE_LARGE_FILES
USE_LOCALE USE_LOCALE_COLLATE USE_LOCALE_CTYPE
USE_LOCALE_NUMERIC USE_PERLIO USE_PERL_ATOF
Built under solaris
Compiled at Mar 18 2013 15:10:42
%ENV:
PERL5LIB="/export/home/cpant5/.cpan/build/Data-JavaScript-Anon-1.03-Oa7uuP/blib/arch:/export/home/cpant5/.cpan/build/Data-JavaScript-Anon-1.03-Oa7uuP/blib/lib:/export/home/cpant5/.cpan/build/Class-Default-1.51-Lr0Cj_/blib/arch:/export/home/cpant5/.cpan/build/Class-Default-1.51-Lr0Cj_/blib/lib:/export/home/cpant5/.cpan/build/Module-Pluggable-Fast-0.19-CWsJZD/blib/arch:/export/home/cpant5/.cpan/build/Module-Pluggable-Fast-0.19-CWsJZD/blib/lib:/export/home/cpant5/.cpan/build/Text-SimpleTable-2.03-ELC2Yj/blib/arch:/export/home/cpant5/.cpan/build/Text-SimpleTable-2.03-ELC2Yj/blib/lib:/export/home/cpant5/.cpan/build/Net-Telnet-3.03-hx3pcA/blib/arch:/export/home/cpant5/.cpan/build/Net-Telnet-3.03-hx3pcA/blib/lib:/export/home/cpant5/.cpan/build/Template-Provider-FromDATA-0.13-eiT2ah/blib/arch:/export/home/cpant5/.cpan/build/Template-Provider-FromDATA-0.13-eiT2ah/blib/lib:/export/home/cpant5/.cpan/build/UNIVERSAL-require-0.13-jQZlwS/blib/arch:/export/home/cpant5/.cpan/build/UNIVERSAL-require-0.13-jQZlwS/blib/lib:/export/home/cpant5/.cpan/build/Shell-Command-0.06-rzLL3U/blib/arch:/export/home/cpant5/.cpan/build/Shell-Command-0.06-rzLL3U/blib/lib:/export/home/cpant5/.cpan/build/HTML-Selector-XPath-0.15-KZr6n0/blib/arch:/export/home/cpant5/.cpan/build/HTML-Selector-XPath-0.15-KZr6n0/blib/lib:/export/home/cpant5/.cpan/build/Test-Base-0.60-XgnPem/blib/arch:/export/home/cpant5/.cpan/build/Test-Base-0.60-XgnPem/blib/lib:/export/home/cpant5/.cpan/build/Spiffy-0.31-J3O0MQ/blib/arch:/export/home/cpant5/.cpan/build/Spiffy-0.31-J3O0MQ/blib/lib:/export/home/cpant5/.cpan/build/WWW-Mechanize-1.72-LcL1Eg/blib/arch:/export/home/cpant5/.cpan/build/WWW-Mechanize-1.72-LcL1Eg/blib/lib"
PERL5OPT=""
PERL5_CPANPLUS_IS_RUNNING="1688"
PERL5_CPAN_IS_RUNNING="1688"
PERL5_CPAN_IS_RUNNING_IN_RECURSION="5207,1688"
PERLBREW_BASHRC_VERSION="0.44"
PERLBREW_HOME="/export/home/cpant5/.perlbrew"
PERLBREW_MANPATH="/export/home/cpant5/perl5/perlbrew/perls/perl-5.17.9/man"
PERLBREW_PATH="/export/home/cpant5/perl5/perlbrew/bin:/export/home/cpant5/perl5/perlbrew/perls/perl-5.17.9/bin"
PERLBREW_PERL="perl-5.17.9"
PERLBREW_ROOT="/export/home/cpant5/perl5/perlbrew"
PERLBREW_VERSION="0.44"
PERL_CR_SMOKER_CURRENT="WWW-Mechanize-Firefox-0.71"
PERL_EXTUTILS_AUTOINSTALL="--defaultdeps"
PERL_MM_USE_DEFAULT="1"
@INC:
/export/home/cpant5/.cpan/build/Data-JavaScript-Anon-1.03-Oa7uuP/blib/arch
/export/home/cpant5/.cpan/build/Data-JavaScript-Anon-1.03-Oa7uuP/blib/lib
/export/home/cpant5/.cpan/build/Class-Default-1.51-Lr0Cj_/blib/arch
/export/home/cpant5/.cpan/build/Class-Default-1.51-Lr0Cj_/blib/lib
/export/home/cpant5/.cpan/build/Module-Pluggable-Fast-0.19-CWsJZD/blib/arch
/export/home/cpant5/.cpan/build/Module-Pluggable-Fast-0.19-CWsJZD/blib/lib
/export/home/cpant5/.cpan/build/Text-SimpleTable-2.03-ELC2Yj/blib/arch
/export/home/cpant5/.cpan/build/Text-SimpleTable-2.03-ELC2Yj/blib/lib
/export/home/cpant5/.cpan/build/Net-Telnet-3.03-hx3pcA/blib/arch
/export/home/cpant5/.cpan/build/Net-Telnet-3.03-hx3pcA/blib/lib
/export/home/cpant5/.cpan/build/Template-Provider-FromDATA-0.13-eiT2ah/blib/arch
/export/home/cpant5/.cpan/build/Template-Provider-FromDATA-0.13-eiT2ah/blib/lib
/export/home/cpant5/.cpan/build/UNIVERSAL-require-0.13-jQZlwS/blib/arch
/export/home/cpant5/.cpan/build/UNIVERSAL-require-0.13-jQZlwS/blib/lib
/export/home/cpant5/.cpan/build/Shell-Command-0.06-rzLL3U/blib/arch
/export/home/cpant5/.cpan/build/Shell-Command-0.06-rzLL3U/blib/lib
/export/home/cpant5/.cpan/build/HTML-Selector-XPath-0.15-KZr6n0/blib/arch
/export/home/cpant5/.cpan/build/HTML-Selector-XPath-0.15-KZr6n0/blib/lib
/export/home/cpant5/.cpan/build/Test-Base-0.60-XgnPem/blib/arch
/export/home/cpant5/.cpan/build/Test-Base-0.60-XgnPem/blib/lib
/export/home/cpant5/.cpan/build/Spiffy-0.31-J3O0MQ/blib/arch
/export/home/cpant5/.cpan/build/Spiffy-0.31-J3O0MQ/blib/lib
/export/home/cpant5/.cpan/build/WWW-Mechanize-1.72-LcL1Eg/blib/arch
/export/home/cpant5/.cpan/build/WWW-Mechanize-1.72-LcL1Eg/blib/lib
/export/home/cpant5/perl5/perlbrew/perls/perl-5.17.9/lib/site_perl/5.17.9/i86pc-solaris-64int
/export/home/cpant5/perl5/perlbrew/perls/perl-5.17.9/lib/site_perl/5.17.9
/export/home/cpant5/perl5/perlbrew/perls/perl-5.17.9/lib/5.17.9/i86pc-solaris-64int
/export/home/cpant5/perl5/perlbrew/perls/perl-5.17.9/lib/5.17.9
.