Report for Acme-CPANAuthors-You-re_using-0.08

Back
From: metabase:user:320bfe00-2aae-11df-837a-5e0a49663a4f
Subject: PASS Acme-CPANAuthors-You-re_using-0.08 v5.25.5 GNU/Linux
Date: 2016-08-23T19:04:12Z

This distribution has been tested as part of the CPAN Testers
project, supporting the Perl programming language.  See
http://wiki.cpantesters.org/ for more information or email
questions to cpan-testers-discuss@perl.org


--
Dear Vincent Pit,

This is a computer-generated report for Acme-CPANAuthors-You-re_using-0.08
on perl 5.25.5, created by CPAN-Reporter-1.2018.

Thank you for uploading your work to CPAN.  Congratulations!
All tests were successful.

Sections of this report:

    * Tester comments
    * Program output
    * Prerequisites
    * Environment and other context

------------------------------
TESTER COMMENTS
------------------------------

Additional comments from tester:

this report is from an automated smoke testing program
and was not reviewed by a human for accuracy

------------------------------
PROGRAM OUTPUT
------------------------------

Output from '/usr/bin/make test':

PERL_DL_NONLAZY=1 "/tmp/basesmoker-reloperl-uv9o/bin/perl" "-MExtUtils::Command::MM" "-MTest::Harness" "-e" "undef *Test::Harness::Switches; test_harness(0, 'blib/lib', 'blib/arch')" t/*.t
# Testing Acme::CPANAuthors::You're_using 0.08, Perl 5.025005, /tmp/basesmoker-reloperl-uv9o/bin/perl
t/00-load.t ............. ok
# Directories in @INC :
#   /tmp/loop_over_bdir-8429-ePfq03/Acme-CPANAuthors-You-re_using-0.08-0/blib/lib
#   /tmp/loop_over_bdir-8429-ePfq03/Acme-CPANAuthors-You-re_using-0.08-0/blib/arch
#   /home/sand/src/perl/repoperls/installed-perls/perl/v5.25.4-5-g92d73bf/f7bf/lib/site_perl/5.25.5/x86_64-linux-thread-multi
#   /home/sand/src/perl/repoperls/installed-perls/perl/v5.25.4-5-g92d73bf/f7bf/lib/site_perl/5.25.5
#   /home/sand/src/perl/repoperls/installed-perls/perl/v5.25.4-5-g92d73bf/f7bf/lib/5.25.5/x86_64-linux-thread-multi
#   /home/sand/src/perl/repoperls/installed-perls/perl/v5.25.4-5-g92d73bf/f7bf/lib/5.25.5
# Error evaling version line ' my $dummy = q#  Hide from _packages_inside()
#     #; package Module::Metadata::_version::p4321;
#     use version;
#     sub {
#       local $Attr::Trait::VERSION;
#       $Attr::Trait::VERSION = '0.40';use Mouse::Role;around _process_options=>sub{my$orig=shift;my$c=shift;my($n,$o)=@_;$o->{is}||='rw';$o->{lazy}||=1 if defined$o->{default}or defined$o->{builder};$c->$orig(@_)};$INC{'Attr/Trait.pm'}=1};
#       return $Attr::Trait::VERSION if defined $Attr::Trait::VERSION;
#       return $Module::Metadata::_version::p4321::Attr::Trait::VERSION;
#     };
#   ' in /home/sand/src/perl/repoperls/installed-perls/perl/v5.25.4-5-g92d73bf/f7bf/lib/site_perl/5.25.5/Mo/Mouse.pm: Unmatched right curly bracket at (eval 4352) line 9, at end of line
# syntax error at (eval 4352) line 9, near ";
#     }"
# 
# Error evaling version line ' my $dummy = q#  Hide from _packages_inside()
#     #; package Module::Metadata::_version::p4324;
#     use version;
#     sub {
#       local $Attr::Trait::VERSION;
#       $Attr::Trait::VERSION = '0.40';use Moose::Role;around _process_options=>sub{my$orig=shift;my$c=shift;my($n,$o)=@_;$o->{is}||='rw';$o->{lazy}||=1 if defined$o->{default}or defined$o->{builder};$c->$orig(@_)};$INC{'Attr/Trait.pm'}=1};
#       return $Attr::Trait::VERSION if defined $Attr::Trait::VERSION;
#       return $Module::Metadata::_version::p4324::Attr::Trait::VERSION;
#     };
#   ' in /home/sand/src/perl/repoperls/installed-perls/perl/v5.25.4-5-g92d73bf/f7bf/lib/site_perl/5.25.5/Mo/Moose.pm: Can't locate Moose/Role.pm in @INC (you may need to install the Moose::Role module) (@INC contains: lib /tmp/loop_over_bdir-8429-ePfq03/Acme-CPANAuthors-You-re_using-0.08-0/blib/lib /tmp/loop_over_bdir-8429-ePfq03/Acme-CPANAuthors-You-re_using-0.08-0/blib/arch /home/sand/src/perl/repoperls/installed-perls/perl/v5.25.4-5-g92d73bf/f7bf/lib/site_perl/5.25.5/x86_64-linux-thread-multi /home/sand/src/perl/repoperls/installed-perls/perl/v5.25.4-5-g92d73bf/f7bf/lib/site_perl/5.25.5 /home/sand/src/perl/repoperls/installed-perls/perl/v5.25.4-5-g92d73bf/f7bf/lib/5.25.5/x86_64-linux-thread-multi /home/sand/src/perl/repoperls/installed-perls/perl/v5.25.4-5-g92d73bf/f7bf/lib/5.25.5) at (eval 4357) line 6, <$handle> line 5.
# BEGIN failed--compilation aborted at (eval 4357) line 6, <$handle> line 5.
# 
# 870 authors found
t/10-base.t ............. ok
# Error evaling version line ' my $dummy = q#  Hide from _packages_inside()
#     #; package Module::Metadata::_version::p4322;
#     use version;
#     sub {
#       local $Attr::Trait::VERSION;
#       $Attr::Trait::VERSION = '0.40';use Mouse::Role;around _process_options=>sub{my$orig=shift;my$c=shift;my($n,$o)=@_;$o->{is}||='rw';$o->{lazy}||=1 if defined$o->{default}or defined$o->{builder};$c->$orig(@_)};$INC{'Attr/Trait.pm'}=1};
#       return $Attr::Trait::VERSION if defined $Attr::Trait::VERSION;
#       return $Module::Metadata::_version::p4322::Attr::Trait::VERSION;
#     };
#   ' in /home/sand/src/perl/repoperls/installed-perls/perl/v5.25.4-5-g92d73bf/f7bf/lib/site_perl/5.25.5/Mo/Mouse.pm: Unmatched right curly bracket at (eval 4353) line 9, at end of line
# syntax error at (eval 4353) line 9, near ";
#     }"
# 
# Error evaling version line ' my $dummy = q#  Hide from _packages_inside()
#     #; package Module::Metadata::_version::p4325;
#     use version;
#     sub {
#       local $Attr::Trait::VERSION;
#       $Attr::Trait::VERSION = '0.40';use Moose::Role;around _process_options=>sub{my$orig=shift;my$c=shift;my($n,$o)=@_;$o->{is}||='rw';$o->{lazy}||=1 if defined$o->{default}or defined$o->{builder};$c->$orig(@_)};$INC{'Attr/Trait.pm'}=1};
#       return $Attr::Trait::VERSION if defined $Attr::Trait::VERSION;
#       return $Module::Metadata::_version::p4325::Attr::Trait::VERSION;
#     };
#   ' in /home/sand/src/perl/repoperls/installed-perls/perl/v5.25.4-5-g92d73bf/f7bf/lib/site_perl/5.25.5/Mo/Moose.pm: Can't locate Moose/Role.pm in @INC (you may need to install the Moose::Role module) (@INC contains: lib t/lib /tmp/loop_over_bdir-8429-ePfq03/Acme-CPANAuthors-You-re_using-0.08-0/blib/lib /tmp/loop_over_bdir-8429-ePfq03/Acme-CPANAuthors-You-re_using-0.08-0/blib/arch /home/sand/src/perl/repoperls/installed-perls/perl/v5.25.4-5-g92d73bf/f7bf/lib/site_perl/5.25.5/x86_64-linux-thread-multi /home/sand/src/perl/repoperls/installed-perls/perl/v5.25.4-5-g92d73bf/f7bf/lib/site_perl/5.25.5 /home/sand/src/perl/repoperls/installed-perls/perl/v5.25.4-5-g92d73bf/f7bf/lib/5.25.5/x86_64-linux-thread-multi /home/sand/src/perl/repoperls/installed-perls/perl/v5.25.4-5-g92d73bf/f7bf/lib/5.25.5) at (eval 4358) line 6, <$handle> line 5.
# BEGIN failed--compilation aborted at (eval 4358) line 6, <$handle> line 5.
# 
t/11-naughty-version.t .. ok
All tests successful.
Files=3, Tests=8, 61 wallclock secs ( 0.03 usr  0.02 sys + 57.17 cusr  4.07 csys = 61.29 CPU)
Result: PASS

------------------------------
PREREQUISITES
------------------------------

Prerequisite modules loaded:

requires:

    Module              Need     Have    
    ------------------- -------- --------
    Acme::CPANAuthors   0.16     0.26    
    File::Find          0        1.34    
    Module::Metadata    1.000017 1.000033
    perl                5.006    5.025005

build_requires:

    Module              Need     Have    
    ------------------- -------- --------
    Acme::CPANAuthors   0.16     0.26    
    ExtUtils::MakeMaker 0        7.24    
    File::Find          0        1.34    
    lib                 0        0.63    
    Module::Metadata    1.000017 1.000033
    Test::More          0        1.302052

configure_requires:

    Module              Need     Have    
    ------------------- -------- --------
    ExtUtils::MakeMaker 0        7.24    


------------------------------
ENVIRONMENT AND OTHER CONTEXT
------------------------------

Environment variables:

    AUTOMATED_TESTING = 1
    LANG = en_US.UTF-8
    LANGUAGE = en_US:en
    PATH = /home/sand/bin:/usr/local/bin:/usr/lib/ccache:/usr/bin:/bin:/usr/games:/usr/local/perl/bin:/usr/X11/bin:/sbin:/usr/sbin
    PERL5LIB = 
    PERL5OPT = 
    PERL5_CPANPLUS_IS_RUNNING = 32025
    PERL5_CPAN_IS_RUNNING = 32025
    PERL_CANARY_STABILITY_NOPROMPT = 1
    PERL_MM_USE_DEFAULT = 1
    SHELL = /usr/bin/zsh
    TERM = screen

Perl special variables (and OS-specific diagnostics, for MSWin32):

    $^X = /tmp/basesmoker-reloperl-uv9o/bin/perl
    $UID/$EUID = 1005 / 1005
    $GID = 1005 1005
    $EGID = 1005 1005

Perl module toolchain versions installed:

    Module              Have      
    ------------------- ----------
    CPAN                2.15      
    CPAN::Meta          2.150010  
    Cwd                 3.65      
    ExtUtils::CBuilder  0.280225  
    ExtUtils::Command   7.24      
    ExtUtils::Install   2.04      
    ExtUtils::MakeMaker 7.24      
    ExtUtils::Manifest  1.70      
    ExtUtils::ParseXS   3.33      
    File::Spec          3.65      
    JSON                2.90      
    JSON::PP            2.27400_01
    Module::Build       0.4220    
    Module::Signature   0.80      
    Parse::CPAN::Meta   2.150010  
    Test::Harness       3.36_01   
    Test::More          1.302052  
    YAML                1.18      
    YAML::Syck          1.29      
    version             0.9917    


--

Summary of my perl5 (revision 5 version 25 subversion 5) configuration:
  Commit id: 92d73bfab7792718f9ad5c5dc54013176ed9c76b
  Platform:
    osname=linux
    osvers=4.3.0-1-amd64
    archname=x86_64-linux-thread-multi
    uname='linux k83 4.3.0-1-amd64 #1 smp debian 4.3.3-7 (2016-01-19) x86_64 gnulinux '
    config_args='-Dprefix=/home/sand/src/perl/repoperls/installed-perls/perl/v5.25.4-5-g92d73bf/f7bf -Dmyhostname=k83 -Dinstallusrbinperl=n -Uversiononly -Dusedevel -des -Ui_db -Dlibswanted=cl pthread socket inet nsl gdbm dbm malloc dl ld sun m crypt sec util c cposix posix ucb BSD gdbm_compat -Duseithreads -Uuselongdouble -DDEBUGGING=-g'
    hint=recommended
    useposix=true
    d_sigaction=define
    useithreads=define
    usemultiplicity=define
    use64bitint=define
    use64bitall=define
    uselongdouble=undef
    usemymalloc=n
    bincompat5005=undef
  Compiler:
    cc='cc'
    ccflags ='-D_REENTRANT -D_GNU_SOURCE -fwrapv -fno-strict-aliasing -pipe -fstack-protector-strong -I/usr/local/include -D_LARGEFILE_SOURCE -D_FILE_OFFSET_BITS=64 -D_FORTIFY_SOURCE=2'
    optimize='-O2 -g'
    cppflags='-D_REENTRANT -D_GNU_SOURCE -fwrapv -fno-strict-aliasing -pipe -fstack-protector-strong -I/usr/local/include'
    ccversion=''
    gccversion='5.3.1 20160121'
    gccosandvers=''
    intsize=4
    longsize=8
    ptrsize=8
    doublesize=8
    byteorder=12345678
    doublekind=3
    d_longlong=define
    longlongsize=8
    d_longdbl=define
    longdblsize=16
    longdblkind=3
    ivtype='long'
    ivsize=8
    nvtype='double'
    nvsize=8
    Off_t='off_t'
    lseeksize=8
    alignbytes=8
    prototype=define
  Linker and Libraries:
    ld='cc'
    ldflags =' -fstack-protector-strong -L/usr/local/lib'
    libpth=/usr/local/lib /usr/lib/gcc/x86_64-linux-gnu/5/include-fixed /usr/include/x86_64-linux-gnu /usr/lib /lib/x86_64-linux-gnu /lib/../lib /usr/lib/x86_64-linux-gnu /usr/lib/../lib /lib
    libs=-lpthread -lnsl -lgdbm -ldl -lm -lcrypt -lutil -lc -lgdbm_compat
    perllibs=-lpthread -lnsl -ldl -lm -lcrypt -lutil -lc
    libc=libc-2.21.so
    so=so
    useshrplib=false
    libperl=libperl.a
    gnulibc_version='2.21'
  Dynamic Linking:
    dlsrc=dl_dlopen.xs
    dlext=so
    d_dlsymun=undef
    ccdlflags='-Wl,-E'
    cccdlflags='-fPIC'
    lddlflags='-shared -O2 -g -L/usr/local/lib -fstack-protector-strong'


Characteristics of this binary (from libperl): 
  Compile-time options:
    HAS_TIMES
    MULTIPLICITY
    PERLIO_LAYERS
    PERL_COPY_ON_WRITE
    PERL_DONT_CREATE_GVSV
    PERL_HASH_FUNC_ONE_AT_A_TIME_HARD
    PERL_IMPLICIT_CONTEXT
    PERL_MALLOC_WRAP
    PERL_OP_PARENT
    PERL_PRESERVE_IVUV
    PERL_USE_DEVEL
    USE_64_BIT_ALL
    USE_64_BIT_INT
    USE_ITHREADS
    USE_LARGE_FILES
    USE_LOCALE
    USE_LOCALE_COLLATE
    USE_LOCALE_CTYPE
    USE_LOCALE_NUMERIC
    USE_LOCALE_TIME
    USE_PERLIO
    USE_PERL_ATOF
    USE_REENTRANT_API
  Built under linux
  Compiled at Aug 21 2016 22:37:44
  %ENV:
    PERL5LIB=""
    PERL5OPT=""
    PERL5_CPANPLUS_IS_RUNNING="32025"
    PERL5_CPAN_IS_RUNNING="32025"
    PERL_CANARY_STABILITY_NOPROMPT="1"
    PERL_MM_USE_DEFAULT="1"
  @INC:
    /home/sand/src/perl/repoperls/installed-perls/perl/v5.25.4-5-g92d73bf/f7bf/lib/site_perl/5.25.5/x86_64-linux-thread-multi
    /home/sand/src/perl/repoperls/installed-perls/perl/v5.25.4-5-g92d73bf/f7bf/lib/site_perl/5.25.5
    /home/sand/src/perl/repoperls/installed-perls/perl/v5.25.4-5-g92d73bf/f7bf/lib/5.25.5/x86_64-linux-thread-multi
    /home/sand/src/perl/repoperls/installed-perls/perl/v5.25.4-5-g92d73bf/f7bf/lib/5.25.5
    .