Report for Data-Section-0.200004

Back
From: metabase:user:323dcade-2aae-11df-837a-5e0a49663a4f
Subject: PASS Data-Section-0.200004 v5.18.1 GNU/Linux
Date: 2013-12-04T17:27:40Z

This distribution has been tested as part of the CPAN Testers
project, supporting the Perl programming language.  See
http://wiki.cpantesters.org/ for more information or email
questions to cpan-testers-discuss@perl.org


--
Dear Ricardo SIGNES,

This is a computer-generated report for Data-Section-0.200004
on perl 5.18.1, created by CPAN-Reporter-1.2010.

Thank you for uploading your work to CPAN.  Congratulations!
All tests were successful.

Sections of this report:

    * Tester comments
    * Program output
    * Prerequisites
    * Environment and other context

------------------------------
TESTER COMMENTS
------------------------------

Additional comments from tester:

none provided

------------------------------
PROGRAM OUTPUT
------------------------------

Output from '/usr/bin/make test':

PERL_DL_NONLAZY=1 /usr/local/bin/perl5.18.1d-nt "-MExtUtils::Command::MM" "-MTest::Harness" "-e" "undef *Test::Harness::Switches; test_harness(0, 'blib/lib', 'blib/arch')" t/*.t
# 
# 
# Generated by Dist::Zilla::Plugin::ReportVersions::Tiny v1.10
# perl: 5.018001 (wanted any version) on linux from /usr/local/bin/perl5.18.1d-nt
# 
# Encode                                        => 2.55       (want any version)
# ExtUtils::MakeMaker                           => 6.84       (want 6.30)   
# MRO::Compat                                   => 0.12       (want 0.09)   
# Sub::Exporter                                 => 0.987      (want 0.979)  
# Test::FailWarnings                            => 0.008      (want any version)
# Test::More                                    => 1.001002   (want 0.96)   
# base                                          => 2.18       (want any version)
# lib                                           => 0.63       (want any version)
# strict                                        => 1.07       (want any version)
# utf8                                          => 1.10       (want any version)
# warnings                                      => 1.18       (want any version)
# 
# Thanks for using my code.  I hope it works for you.
# If not, please try and include this output in the bug report.
# That will help me reproduce the issue and solve your problem.
# 
t/000-report-versions-tiny.t .. ok
t/basic.t ..................... ok
t/encodings.t ................. ok
All tests successful.
Files=3, Tests=40,  0 wallclock secs ( 0.06 usr  0.00 sys +  0.47 cusr  0.02 csys =  0.55 CPU)
Result: PASS

------------------------------
PREREQUISITES
------------------------------

Prerequisite modules loaded:

requires:

    Module              Need  Have    
    ------------------- ----- --------
    Encode              0     2.55    
    MRO::Compat         0.09  0.12    
    strict              0     1.07    
    Sub::Exporter       0.979 0.987   
    warnings            0     1.18    

build_requires:

    Module              Need  Have    
    ------------------- ----- --------
    base                0     2.18    
    lib                 0     0.63    
    Test::FailWarnings  0     0.008   
    Test::More          0.96  1.001002
    utf8                0     1.10    

configure_requires:

    Module              Need  Have    
    ------------------- ----- --------
    ExtUtils::MakeMaker 6.30  6.84    


------------------------------
ENVIRONMENT AND OTHER CONTEXT
------------------------------

Environment variables:

    LANG = en_US.UTF-8
    PATH = /home/rurban/bin:/usr/local/cpanel/bin:/usr/local/cpanel/3rdparty/bin:/usr/kerberos/bin:/usr/local/bin:/bin:/usr/bin
    PERL5LIB = 
    PERL5OPT = 
    PERL5_CPANPLUS_IS_RUNNING = 18170
    PERL5_CPAN_IS_RUNNING = 18170
    SHELL = /bin/bash
    TERM = xterm

Perl special variables (and OS-specific diagnostics, for MSWin32):

    $^X = /usr/local/bin/perl5.18.1d-nt
    $UID/$EUID = 500 / 500
    $GID = 500 10 500
    $EGID = 500 10 500

Perl module toolchain versions installed:

    Module              Have    
    ------------------- --------
    CPAN                2.00    
    CPAN::Meta          2.132830
    Cwd                 3.40    
    ExtUtils::CBuilder  0.280212
    ExtUtils::Command   1.17    
    ExtUtils::Install   1.59    
    ExtUtils::MakeMaker 6.84    
    ExtUtils::Manifest  1.63    
    ExtUtils::ParseXS   3.22    
    File::Spec          3.40    
    JSON                2.90    
    JSON::PP            2.27203 
    Module::Build       0.4203  
    Module::Signature   0.73    
    Parse::CPAN::Meta   1.4409  
    Test::Harness       3.30    
    Test::More          1.001002
    YAML                0.88    
    YAML::Syck          n/a     
    version             0.9904  


--

Summary of my perl5 (revision 5 version 18 subversion 1) configuration:
   
  Platform:
    osname=linux, osvers=2.6.18-348.4.1.el5, archname=x86_64-linux-debug
    uname='linux perl514.cpanel.net 2.6.18-348.4.1.el5 #1 smp tue apr 16 15:40:06 edt 2013 x86_64 x86_64 x86_64 gnulinux '
    config_args='-de -Dusedevel -Uversiononly -Dinstallman1dir=none -Dinstallman3dir=none -Dinstallsiteman1dir=none -Dinstallsiteman3dir=none -DEBUGGING -Doptimize=-g3 -Uuseithreads -Dcc='gcc' -Accflags='-fPIC' -Aldflags='-L/usr/local/cpanel/lib' -Dlibpth='/usr/local/cpanel/lib\ /usr/local/lib64\ /usr/local/lib\ /lib64\ /usr/lib64' -Duseshrplib='true''
    hint=recommended, useposix=true, d_sigaction=define
    useithreads=undef, usemultiplicity=undef
    useperlio=define, d_sfio=undef, uselargefiles=define, usesocks=undef
    use64bitint=define, use64bitall=define, uselongdouble=undef
    usemymalloc=n, bincompat5005=undef
  Compiler:
    cc='gcc', ccflags ='-fPIC -DDEBUGGING -fno-strict-aliasing -pipe -fstack-protector -I/usr/local/include -D_LARGEFILE_SOURCE -D_FILE_OFFSET_BITS=64',
    optimize='-g3',
    cppflags='-fPIC -DDEBUGGING -fno-strict-aliasing -pipe -fstack-protector -I/usr/local/include'
    ccversion='', gccversion='4.1.2 20080704 (Red Hat 4.1.2-54)', gccosandvers=''
    intsize=4, longsize=8, ptrsize=8, doublesize=8, byteorder=12345678
    d_longlong=define, longlongsize=8, d_longdbl=define, longdblsize=16
    ivtype='long', ivsize=8, nvtype='double', nvsize=8, Off_t='off_t', lseeksize=8
    alignbytes=8, prototype=define
  Linker and Libraries:
    ld='gcc', ldflags =' -L/usr/local/cpanel/lib -fstack-protector -L/usr/local/lib'
    libpth=/usr/local/cpanel/lib /usr/local/lib64 /usr/local/lib /lib64 /usr/lib64
    libs=-lnsl -lgdbm -ldb -ldl -lm -lcrypt -lutil -lc -lgdbm_compat
    perllibs=-lnsl -ldl -lm -lcrypt -lutil -lc
    libc=/lib/libc-2.5.so, so=so, useshrplib=true, libperl=libperl.so
    gnulibc_version='2.5'
  Dynamic Linking:
    dlsrc=dl_dlopen.xs, dlext=so, d_dlsymun=undef, ccdlflags='-Wl,-E -Wl,-rpath,/usr/local/lib/perl5/5.18.1/x86_64-linux-debug/CORE'
    cccdlflags='-fPIC', lddlflags='-shared -g3 -L/usr/local/cpanel/lib -L/usr/local/lib -fstack-protector'


Characteristics of this binary (from libperl): 
  Compile-time options: DEBUGGING HAS_TIMES PERLIO_LAYERS
                        PERL_DONT_CREATE_GVSV
                        PERL_HASH_FUNC_ONE_AT_A_TIME_HARD PERL_MALLOC_WRAP
                        PERL_PRESERVE_IVUV PERL_SAWAMPERSAND PERL_USE_DEVEL
                        USE_64_BIT_ALL USE_64_BIT_INT USE_LARGE_FILES
                        USE_LOCALE USE_LOCALE_COLLATE USE_LOCALE_CTYPE
                        USE_LOCALE_NUMERIC USE_PERLIO USE_PERL_ATOF
  Built under linux
  Compiled at Sep  6 2013 00:24:16
  %ENV:
    PERL5LIB=""
    PERL5OPT=""
    PERL5_CPANPLUS_IS_RUNNING="18170"
    PERL5_CPAN_IS_RUNNING="18170"
  @INC:
    /usr/local/lib/perl5/site_perl/5.18.1/x86_64-linux-debug
    /usr/local/lib/perl5/site_perl/5.18.1
    /usr/local/lib/perl5/5.18.1/x86_64-linux-debug
    /usr/local/lib/perl5/5.18.1
    /usr/local/lib/perl5/site_perl/5.18.0
    /usr/local/lib/perl5/site_perl/5.17.12
    /usr/local/lib/perl5/site_perl/5.17.11
    /usr/local/lib/perl5/site_perl/5.17.10
    /usr/local/lib/perl5/site_perl/5.17.9
    /usr/local/lib/perl5/site_perl/5.17.8
    /usr/local/lib/perl5/site_perl/5.17.7
    /usr/local/lib/perl5/site_perl/5.17.6
    /usr/local/lib/perl5/site_perl/5.17.5
    /usr/local/lib/perl5/site_perl/5.17.4
    /usr/local/lib/perl5/site_perl/5.17.3
    /usr/local/lib/perl5/site_perl/5.17.2
    /usr/local/lib/perl5/site_perl/5.17.0
    /usr/local/lib/perl5/site_perl/5.16.3
    /usr/local/lib/perl5/site_perl/5.16.2
    /usr/local/lib/perl5/site_perl/5.16.0
    /usr/local/lib/perl5/site_perl/5.15.9
    /usr/local/lib/perl5/site_perl/5.15.8
    /usr/local/lib/perl5/site_perl/5.15.7
    /usr/local/lib/perl5/site_perl/5.15.6
    /usr/local/lib/perl5/site_perl/5.15.5
    /usr/local/lib/perl5/site_perl/5.15.4
    /usr/local/lib/perl5/site_perl/5.15.3
    /usr/local/lib/perl5/site_perl/5.14.4
    /usr/local/lib/perl5/site_perl/5.14.3
    /usr/local/lib/perl5/site_perl/5.14.2
    /usr/local/lib/perl5/site_perl/5.14.1
    /usr/local/lib/perl5/site_perl/5.14.0
    /usr/local/lib/perl5/site_perl/5.12.4
    /usr/local/lib/perl5/site_perl/5.12.3
    /usr/local/lib/perl5/site_perl/5.10.1
    /usr/local/lib/perl5/site_perl/5.8.9
    /usr/local/lib/perl5/site_perl/5.8.8
    /usr/local/lib/perl5/site_perl/5.8.7
    /usr/local/lib/perl5/site_perl/5.8.6
    /usr/local/lib/perl5/site_perl/5.8.5
    /usr/local/lib/perl5/site_perl/5.8.4
    /usr/local/lib/perl5/site_perl/5.6.2
    /usr/local/lib/perl5/site_perl
    .