Report for Net-OSCAR-1.928

Back
From: metabase:user:323dcade-2aae-11df-837a-5e0a49663a4f
Subject: PASS Net-OSCAR-1.928 v5.25.0 GNU/Linux
Date: 2016-07-31T09:23:00Z

This distribution has been tested as part of the CPAN Testers
project, supporting the Perl programming language.  See
http://wiki.cpantesters.org/ for more information or email
questions to cpan-testers-discuss@perl.org


--
Dear Todd Rinaldo,

This is a computer-generated report for Net-OSCAR-1.928
on perl 5.25.0, created by CPAN-Reporter-1.2018.

Thank you for uploading your work to CPAN.  Congratulations!
All tests were successful.

Sections of this report:

    * Tester comments
    * Program output
    * Prerequisites
    * Environment and other context

------------------------------
TESTER COMMENTS
------------------------------

Additional comments from tester:

this report is from an automated smoke testing program
and was not reviewed by a human for accuracy

------------------------------
PROGRAM OUTPUT
------------------------------

Output from '/usr/bin/make test':

PERL_DL_NONLAZY=1 PERL_USE_UNSAFE_INC=1 "/usr/local/bin/cperl5.25.0-nt" "-MExtUtils::Command::MM" "-MTest::Harness" "-e" "undef *Test::Harness::Switches; test_harness(0, 'blib/lib', 'blib/arch')" t/*.t
t/01_basic.t ............. ok
t/02_connections.t ....... ok
t/03_callbacks.t ......... ok
t/04_server_callbacks.t .. ok
t/05_load_extras.t ....... ok
t/30_xml_parse.t ......... ok
t/40_xml_process.t ....... ok
t/41_xml_cornercases.t ... ok
t/release-pod-syntax.t ... skipped: these tests are for release candidate testing
All tests successful.
Files=9, Tests=190,  0 wallclock secs ( 0.05 usr  0.00 sys +  0.65 cusr  0.05 csys =  0.75 CPU)
Result: PASS

------------------------------
PREREQUISITES
------------------------------

Prerequisite modules loaded:

requires:

    Module              Need Have     
    ------------------- ---- ---------
    Carp                0    1.40c    
    constant            0    1.34     
    Data::Dumper        0    2.162    
    Digest::MD5         0    2.55_01  
    Exporter            0    5.72     
    Fcntl               0    1.13     
    List::Util          0    1.45_04  
    MIME::Base64        0    3.15     
    Net::SOCKS          0    0.03     
    overload            0    1.26     
    POSIX               0    1.65     
    Scalar::Util        0    1.45_04  
    Socket              0    2.021_02 
    Symbol              0    1.07     
    Time::HiRes         0    1.9739   
    vars                0    1.03_01c 
    XML::Parser         0    2.44     

build_requires:

    Module              Need Have     
    ------------------- ---- ---------
    File::Basename      0    2.85     
    Test::More          0    1.401014c

configure_requires:

    Module              Need Have     
    ------------------- ---- ---------
    ExtUtils::MakeMaker 6.31 8.04_03  


------------------------------
ENVIRONMENT AND OTHER CONTEXT
------------------------------

Environment variables:

    AUTOMATED_TESTING = 1
    LANG = en_US.UTF-8
    NONINTERACTIVE_TESTING = 1
    PATH = /home/rurban/bin:/usr/local/bin:/usr/bin:/bin:/usr/local/games:/usr/games
    PERL5LIB = 
    PERL5OPT = 
    PERL5_CPANPLUS_IS_RUNNING = 6052
    PERL5_CPAN_IS_RUNNING = 6052
    PERL_MM_USE_DEFAULT = 1
    PERL_USE_UNSAFE_INC = 1
    SHELL = /bin/bash
    TERM = xterm-256color

Perl special variables (and OS-specific diagnostics, for MSWin32):

    $^X = /usr/local/bin/cperl5.25.0-nt
    $UID/$EUID = 1000 / 1000
    $GID = 1000 27 124 125 1000
    $EGID = 1000 27 124 125 1000

Perl module toolchain versions installed:

    Module              Have     
    ------------------- ---------
    CPAN                3.11c    
    CPAN::Meta          2.150006c
    Cwd                 4.64c    
    ExtUtils::CBuilder  0.280225 
    ExtUtils::Command   7.10     
    ExtUtils::Install   2.04     
    ExtUtils::MakeMaker 8.04_03  
    ExtUtils::Manifest  1.70     
    ExtUtils::ParseXS   3.32     
    File::Spec          4.64c    
    JSON                2.90     
    JSON::PP            2.27400  
    Module::Build       n/a      
    Module::Signature   0.80     
    Parse::CPAN::Meta   1.5000c  
    Test::Harness       3.36     
    Test::More          1.401014c
    YAML                1.18     
    YAML::Syck          n/a      
    version             0.9917   


--

Summary of my cperl (revision 5 version 25 subversion 0) configuration:
  Commit id: c221dd104a7311c49d905f0589e28958848c8c81
  Platform:
    osname=linux, osvers=4.6.0-1-amd64, archname=x86_64-linux@c221dd1
    uname='linux reini 4.6.0-1-amd64 #1 smp debian 4.6.4-1 (2016-07-18) x86_64 gnulinux '
    config_args='-sder -Dusedevel -Dcc=ccache gcc-6 -Accflags=-msse4.2 -march=native -DPERL_FAKE_SIGNATURE -Dinstallman1dir=none -Dinstallman3dir=none -Dinstallsiteman1dir=none -Dinstallsiteman3dir=none -Darchname=x86_64-linux@c221dd1 -Darchlib=/usr/local/lib/cperl/5.25.0/x86_64-linux@c221dd1 -Dsitearch=/usr/local/lib/cperl/site_cperl/5.25.0/x86_64-linux@c221dd1 -Dperlpath=/usr/local/bin/cperl5.25.0-nt -Dstartperl=#!/usr/local/bin/cperl5.25.0-nt -Dcf_email=rurban@cpanel.net -Doptimize=-O3 -g'
    hint=recommended, useposix=true, d_sigaction=define
    useithreads=undef, usemultiplicity=undef
    use64bitint=define, use64bitall=define, uselongdouble=undef
    usemymalloc=n, bincompat5005=undef
  Compiler:
    cc='ccache gcc-6', ccflags ='-msse4.2 -march=native -DPERL_FAKE_SIGNATURE -fwrapv -fno-strict-aliasing -pipe -fstack-protector -I/usr/local/include -D_LARGEFILE_SOURCE -D_FILE_OFFSET_BITS=64 -D_FORTIFY_SOURCE=2',
    optimize='-O3 -g',
    cppflags='-msse4.2 -march=native -DPERL_FAKE_SIGNATURE -fwrapv -fno-strict-aliasing -pipe -fstack-protector -I/usr/local/include'
    ccversion='', gccversion='6.1.1 20160705', gccosandvers=''
    intsize=4, longsize=8, ptrsize=8, doublesize=8, byteorder=12345678, doublekind=3
    d_longlong=define, longlongsize=8, d_longdbl=define, longdblsize=16, longdblkind=3
    ivtype='long', ivsize=8, nvtype='double', nvsize=8, Off_t='off_t', lseeksize=8
    alignbytes=8, prototype=define
  Linker and Libraries:
    ld='ccache gcc-6', ldflags =' -fstack-protector -L/usr/local/lib'
    libpth=/usr/local/lib /usr/lib/gcc/x86_64-linux-gnu/6/include-fixed /usr/include/x86_64-linux-gnu /usr/lib /lib/x86_64-linux-gnu /lib/../lib /usr/lib/x86_64-linux-gnu /usr/lib/../lib /lib /lib64 /usr/lib64 /usr/local/lib64
    libs=-lpthread -lnsl -ldl -lm -lcrypt -lutil -lc
    perllibs=-lpthread -lnsl -ldl -lm -lcrypt -lutil -lc
    libc=libc-2.23.so, so=so, useshrplib=false, libperl=libperl.a
    gnulibc_version='2.23'
  Dynamic Linking:
    dlsrc=dl_dlopen.xs, dlext=so, d_dlsymun=undef, ccdlflags='-Wl,-E'
    cccdlflags='-fPIC', lddlflags='-shared -O3 -g -L/usr/local/lib -fstack-protector'


Characteristics of this binary (from libperl): 
  Compile-time options: HAS_TIMES PERLIO_LAYERS PERL_COPY_ON_WRITE
                        PERL_DONT_CREATE_GVSV PERL_HASH_FUNC_FNV1A
                        PERL_MALLOC_WRAP PERL_PERTURB_KEYS_TOP
                        PERL_PRESERVE_IVUV PERL_USE_DEVEL USE_64_BIT_ALL
                        USE_64_BIT_INT USE_CPERL USE_LARGE_FILES USE_LOCALE
                        USE_LOCALE_COLLATE USE_LOCALE_CTYPE
                        USE_LOCALE_NUMERIC USE_LOCALE_TIME USE_PERLIO
                        USE_PERL_ATOF
  Built under linux
  Compiled at Jul 30 2016 19:49:23
  %ENV:
    PERL5LIB=""
    PERL5OPT=""
    PERL5_CPANPLUS_IS_RUNNING="6052"
    PERL5_CPAN_IS_RUNNING="6052"
    PERL_MM_USE_DEFAULT="1"
    PERL_USE_UNSAFE_INC="1"
  @INC:
    /usr/local/lib/cperl/site_cperl/5.25.0/x86_64-linux@c221dd1
    /usr/local/lib/cperl/site_cperl/5.25.0
    /usr/local/lib/cperl/5.25.0/x86_64-linux@c221dd1
    /usr/local/lib/cperl/5.25.0
    /usr/local/lib/cperl/site_cperl
    .